{"text_format":"1","workbook":"xlsx","n_sheets":13,"sheets":["Index","All hospitals","Brown snake","Tiger snake","Polyvalent","Funnel-web spider","Snake detection kit","Red back spider","Black snake","Death adder snake","Taipan snake","Sea snake","Stone fish"],"not_rendered":{"charts":0,"images":1,"macros":0,"external_links":0,"defined_names":0,"comments":0,"pivot_tables":0},"unopened":[],"bounds":{"document_bytes":16777216,"sheet_cells":100000,"rows_first":2000,"rows_last":500,"rows_between":2000,"halvings":0,"cell_chars":16384,"cell_head_chars":4096},"cells_cut":0,"cells_raw":0,"read":"whole","date_system":"1900"}

{"sheet":"Index","index":0,"n_rows":257,"n_cols":11,"rows_kept":257,"cut":false,"hidden":false,"merged":[[27,1,27,8],[30,1,32,3],[29,1,29,3],[37,1,39,3],[33,1,33,3],[34,1,34,3],[35,1,35,3],[36,1,36,3],[43,1,43,3],[33,5,33,8],[42,5,42,8],[195,5,195,8],[50,1,50,3],[54,1,54,3],[44,1,44,3],[45,1,45,3],[46,1,46,3],[40,1,40,3],[41,1,41,3],[42,1,42,3],[36,5,36,8],[39,5,39,8],[53,5,53,8],[92,5,92,8],[103,5,103,8],[248,5,248,8],[206,5,206,8],[143,5,143,8],[148,5,148,8],[161,5,161,8],[168,5,168,8],[182,5,182,8],[175,5,175,8],[202,5,202,8],[197,5,197,8],[111,5,111,8],[0,1,0,8],[29,5,29,8],[30,5,32,5],[30,6,32,6],[30,7,32,7],[30,8,32,8],[23,1,23,8],[4,1,8,8],[18,1,18,8],[2,1,2,8],[3,1,3,8],[9,1,17,8],[19,1,21,4],[19,5,21,8],[22,1,22,8],[25,1,25,8]]}
[null,{"$f":"'All hospitals'!$B$1","v":"Last modified: 14/01/2021"},null,null,null,null,null,null,null,null,"."]
[]
[null,"ANTIVENOM STOCK REGISTER "]
[null,"2020 December"]
[null,"Background: The NSW Therapeutic Advisory Group (NSW TAG) has managed a Life-Saving Drug Register (LSDR) for NSW and ACT hospitals since 1999. For the purposes of the LSDR, life-saving drugs (LSDs) are antidotes, antivenoms and other drugs that may treat infrequent and potentially fatal illnesses (such as hereditary angioedema) that would not be normally stocked as formulary items (such as naloxone, benzodiazepines). NSW and ACT hospitals keep variable amounts of LSDs depending on the facility’s status within the health system and local needs. The register does not mandate the LSDs that should be stocked by each hospital. Each hospital is expected to evaluate their requirements for LSDs and stock accordingly. The LSDR is not exclusive and hospitals may stock other LSDs that are not listed in the register.\n"]
[]
[]
[]
[]
[null,"Disclaimer: The NSW TAG LSDR is maintained by NSW Therapeutic Advisory Group Inc. as a service to member hospitals. It is intended only as a mechanism for information sharing. It does not provide recommendations about either appropriate stock levels or clinical management for emergency situations. Details have been provided by hospitals in NSW and ACT and are usually updated annually, however, updates may also occur when information is provided by a hospital. \n*Please note that those hopsitals with the label \"Stock data TBC\" indicates that they have not provided an update to the stockholding data)\n\nStock levels quoted in the register are based on reports received from hospitals. These stock levels will not necessarily be actually held at all times. For more detailed information about actual stock holdings at a particular time, and access to stock in emergency situations, please contact individual hospitals.\n\nFor LSDs not on the register: The Commonwealth Department of Health holds a small range of life saving drugs for public health emergencies (e.g. botulinum antitoxin) which can be accessed through the NSW Ministry of Health – for more information, please contact your local Public Health Unit on 1300 066 055.\n"]
[]
[]
[]
[]
[]
[]
[]
[]
[null,"Other information: Taronga Zoo and Australian Reptile Park in NSW keep some antivenom for rare exotic venomous species. Information about exotic antivenom holdings can be directed to:"]
[null,"Taronga Zoo, Mosman, NSW\nPh: (02) 9969 2777\nMichael McFadden (0412 227 732) or Trent Russell (0414 634 462)\nor if after-hours, the Security Office ((02) 9978 4650)",null,null,null,"The Australian Reptile Park, Somersby, NSW\nPh: (02) 4340 1022\nZac Bower (0477 648 719) "]
[]
[]
[null,"Contacting the Poisons Information Centre (13 11 26) is also recommended.\n"]
[null,"Contact the NSW Poisons Information Centre on 13 11 26 for 24/7 toxicology advice on the management of poisoned and envenomed patients."]
[]
[null,"To find which hospital stocks a certain antivenom, click on the antivenom name in the left hand column below."]
[]
[null,"Click here to see overall antivenom holdings for NSW and ACT hospitals."]
[]
[null,"ANTIVENOMS",null,null,null,"HOSPITAL DETAILS"]
[null,"ANTIVENOMS THAT SHOULD BE IMMEDIATELY AVAILABLE IN NSW & ACT HOSPITALS",null,null,null,"Hospital name:                                          ","Town/city","Phone number (business hours)","Phone number (after hours)"]
[]
[]
[null,"Brown snake",null,null,null,{"$f":"'All hospitals'!B31","v":"ACT"}]
[null,"Tiger snake",null,null,null,{"$f":"'All hospitals'!B32","v":"Calvary Public Hospital "},{"$f":"'All hospitals'!C32","v":"Canberra"},{"$f":"'All hospitals'!E32","v":"02 6201 6265 "},{"$f":"'All hospitals'!E32","v":"02 6201 6265 "}]
[null,"Polyvalent",null,null,null,{"$f":"'All hospitals'!B33","v":"The Canberra Hospital"},{"$f":"'All hospitals'!C33","v":"Canberra"},{"$f":"'All hospitals'!E33","v":"02 5124 0000"},{"$f":"'All hospitals'!F33","v":"0401 710 831"}]
[null,"Funnel-web spider",null,null,null,{"$f":"'All hospitals'!B35","v":"ALBURY WODONGA HEALTH"}]
[null,"OTHER ANTIVENOMS THAT MAY BE AVAILABLE IN NSW & ACT HOSPITALS",null,null,null,{"$f":"'All hospitals'!B36","v":"Albury Hospital"},{"$f":"'All hospitals'!C36","v":"Albury"},{"$f":"'All hospitals'!E36","v":"02 6058 4665"},{"$f":"'All hospitals'!F36","v":"02 6058 4444"}]
[null,null,null,null,null,{"$f":"'All hospitals'!B37","v":"Wodonga Hospital"},{"$f":"'All hospitals'!C37","v":"Wodonga"},{"$f":"'All hospitals'!E37","v":"02 6051 7485"},{"$f":"'All hospitals'!F37","v":"02 6051 7111"}]
[null,null,null,null,null,{"$f":"'All hospitals'!B39","v":"CENTRAL COAST LHD"}]
[null,"Snake detection kit",null,null,null,{"$f":"'All hospitals'!B40","v":"Gosford Hospital"},{"$f":"'All hospitals'!C40","v":"Gosford "},{"$f":"'All hospitals'!E40","v":"02 4320 2111"},{"$f":"'All hospitals'!F40","v":"02 4320 2111 (page on-call pharmacist)"}]
[null,"Red back spider",null,null,null,{"$f":"'All hospitals'!B41","v":"Wyong Hospital"},{"$f":"'All hospitals'!C41","v":"Wyong"},{"$f":"'All hospitals'!E41","v":"02 4394 7930"},{"$f":"'All hospitals'!F41","v":"02 4394 8000 (page on-call pharmacist)"}]
[null,"Black snake",null,null,null,{"$f":"'All hospitals'!B43","v":"FAR WEST LHD"}]
[null,"Death adder snake",null,null,null,{"$f":"'All hospitals'!B44","v":"Balranald Multi Purpose Service "},{"$f":"'All hospitals'!C44","v":"Balranald"},{"$f":"'All hospitals'!E44","v":"03 5071 9800"},{"$f":"'All hospitals'!F44","v":"03 5071 9800"}]
[null,"Taipan snake",null,null,null,{"$f":"'All hospitals'!B45","v":"Broken Hill Health Service"},{"$f":"'All hospitals'!C45","v":"Broken Hill"},{"$f":"'All hospitals'!E45","v":"08 8080 1466  "},{"$f":"'All hospitals'!F45","v":"08 8080 1333 "}]
[null,"Sea snake",null,null,null,{"$f":"'All hospitals'!B46","v":"Dareton Primary Health Service (No ED services)"},{"$f":"'All hospitals'!C46","v":"Dareton"},{"$f":"'All hospitals'!E46","v":"03 5021 7200"},{"$f":"'All hospitals'!F46","v":"BH only"}]
[null,"Stone fish",null,null,null,{"$f":"'All hospitals'!B47","v":"Ivanhoe Health Service"},{"$f":"'All hospitals'!C47","v":"Ivanhoe"},{"$f":"'All hospitals'!E47","v":"02 6990 2200"},{"$f":"'All hospitals'!F47","v":"02 6990 2200"}]
[null,null,null,null,null,{"$f":"'All hospitals'!B48","v":"Menindee Health Service "},{"$f":"'All hospitals'!C48","v":"Menindee"},{"$f":"'All hospitals'!E48","v":"08 8091 4209"},{"$f":"'All hospitals'!F48","v":"08 8091 4209"}]
[null,null,null,null,null,{"$f":"'All hospitals'!B49","v":"Royal Flying Doctor Service Broken Hill"},{"$f":"'All hospitals'!C49","v":"Broken Hill"},{"$f":"'All hospitals'!E49","v":"08 8080 3780"},{"$f":"'All hospitals'!F49","v":"0437 370 702"}]
[null,null,null,null,null,{"$f":"'All hospitals'!B50","v":"Tibooburra Health Service"},{"$f":"'All hospitals'!C50","v":"Tibooburra"},{"$f":"'All hospitals'!E50","v":"08 8091 3302 "},{"$f":"'All hospitals'!F50","v":"08 8091 3302"}]
[null,"Pharmaceutical Wholesaler After Hours Emergency Contacts Numbers",null,null,null,{"$f":"'All hospitals'!B51","v":"Wentworth District Hospital (No ED services)"},{"$f":"'All hospitals'!C51","v":"Wentworth"},{"$f":"'All hospitals'!E51","v":"03 5027 2345"},{"$f":"'All hospitals'!F51","v":"03 5027 2345"}]
[null,null,null,null,null,{"$f":"'All hospitals'!B52","v":"White Cliffs Health Service"},{"$f":"'All hospitals'!C52","v":"White Cliffs"},{"$f":"'All hospitals'!E52","v":"08 8091 6605 "},{"$f":"'All hospitals'!F52","v":"08 80916605"}]
[null,null,null,null,null,{"$f":"'All hospitals'!B53","v":"Wilcannia Multi Purpose Service"},{"$f":"'All hospitals'!C53","v":"Wilcannia"},{"$f":"'All hospitals'!E53","v":"08 8083 8777"},{"$f":"'All hospitals'!F53","v":"08 8083 8777"}]
[null,"Seqirus Australia (A CSL company) for all antivenoms in this register",null,null,null,{"$f":"'All hospitals'!B55","v":"HUNTER NEW ENGLAND LHD"}]
[null,"24 telephone contact via Seqirus Medical Information telephone number: 1800 642 864 (after hours mobile phone number: 0413 027 298)",null,null,null,{"$f":"'All hospitals'!B56","v":"Armidale Rural Referral Hospital"},{"$f":"'All hospitals'!C56","v":"Armidale"},{"$f":"'All hospitals'!E56","v":"02 6776 9500"},{"$f":"'All hospitals'!F56","v":"02 6776 9500     "}]
[null,null,null,null,null,{"$f":"'All hospitals'!B57","v":"Barraba Multi Purpose Service"},{"$f":"'All hospitals'!C57","v":"Barraba"},{"$f":"'All hospitals'!E57","v":"02 6782 2500"},{"$f":"'All hospitals'!F57","v":"02 6782 2522"}]
[null,null,null,null,null,{"$f":"'All hospitals'!B58","v":"Belmont Hospital "},{"$f":"'All hospitals'!C58","v":"Belmont"},{"$f":"'All hospitals'!E58","v":"02 4923 2249"},{"$f":"'All hospitals'!F58","v":"02 4923 2000"}]
[null,null,null,null,null,{"$f":"'All hospitals'!B59","v":"Bingara Multi Purpose Service"},{"$f":"'All hospitals'!C59","v":"Bingara"},{"$f":"'All hospitals'!E59","v":"02 6728 0100"},{"$f":"'All hospitals'!F59","v":"02 6728 0100"}]
[null,null,null,null,null,{"$f":"'All hospitals'!B60","v":"Boggabri Multi Purpose Service"},{"$f":"'All hospitals'!C60","v":"Boggabri"},{"$f":"'All hospitals'!E60","v":"02 6749 7000"},{"$f":"'All hospitals'!F60","v":"02 67497000"}]
[null,null,null,null,null,{"$f":"'All hospitals'!B61","v":"Bulahdelah Hospital NO STOCKS HELD"},{"$f":"'All hospitals'!C61","v":"Bulahdelah"},{"$f":"'All hospitals'!E61","v":"02 4987 9900"},{"$f":"'All hospitals'!F61","v":"02 4987 9900"}]
[null,null,null,null,null,{"$f":"'All hospitals'!B62","v":"Calvary Mater Hospital Newcastle "},{"$f":"'All hospitals'!C62","v":"Newcastle"},{"$f":"'All hospitals'!E62","v":"02 4921 1211"},{"$f":"'All hospitals'!F62","v":"02 4921 1211"}]
[null,null,null,null,null,{"$f":"'All hospitals'!B63","v":"Cessnock District Hospital"},{"$f":"'All hospitals'!C63","v":"Cessnock"},{"$f":"'All hospitals'!E63","v":"02 4991 0555(hospital)\n02 4991 0456(pharmacy)"},{"$f":"'All hospitals'!F63","v":"0438 212 862"}]
[null,null,null,null,null,{"$f":"'All hospitals'!B64","v":"Denman Multi Purpose Service (Stock data TBC)"},{"$f":"'All hospitals'!C64","v":"Denman"},{"$f":"'All hospitals'!E64","v":"02 6547 3999"},{"$f":"'All hospitals'!F64","v":"02 6547 3905 "}]
[null,null,null,null,null,{"$f":"'All hospitals'!B65","v":"Dungog Community Hospital"},{"$f":"'All hospitals'!C65","v":"Dungog"},{"$f":"'All hospitals'!E65","v":"02 4939 2226"},{"$f":"'All hospitals'!F65","v":"02 4992 1266"}]
[null,null,null,null,null,{"$f":"'All hospitals'!B66","v":"Glen Innes District Hospital "},{"$f":"'All hospitals'!C66","v":"Glen Innes"},{"$f":"'All hospitals'!E66","v":"02 6739 0200"},{"$f":"'All hospitals'!F66","v":"02 6739 0200"}]
[null,null,null,null,null,{"$f":"'All hospitals'!B67","v":"Gloucester Soldiers Memorial Hospital (Stock data TBC)"},{"$f":"'All hospitals'!C67","v":"Gloucester"},{"$f":"'All hospitals'!E67","v":"02 6538 5000"},{"$f":"'All hospitals'!F67","v":"02 6538 5000"}]
[null,null,null,null,null,{"$f":"'All hospitals'!B68","v":"Gunnedah Hospital"},{"$f":"'All hospitals'!C68","v":"Gunnedah"},{"$f":"'All hospitals'!E68","v":"02 6741 8000"},{"$f":"'All hospitals'!F68","v":"02 6741 8031"}]
[null,null,null,null,null,{"$f":"'All hospitals'!B69","v":"Guyra Multi Purpose Service "},{"$f":"'All hospitals'!C69","v":"Guyra"},{"$f":"'All hospitals'!E69","v":"02 6738 4000"},{"$f":"'All hospitals'!F69","v":"02 6738 4000"}]
[null,null,null,null,null,{"$f":"'All hospitals'!B70","v":"Inverell Hospital "},{"$f":"'All hospitals'!C70","v":"Inverell"},{"$f":"'All hospitals'!E70","v":"02 6721 9500"},{"$f":"'All hospitals'!F70","v":"02 6721 9540"}]
[null,null,null,null,null,{"$f":"'All hospitals'!B71","v":"John Hunter Hospital "},{"$f":"'All hospitals'!C71","v":"Newcastle"},{"$f":"'All hospitals'!E71","v":"02 4921 3635"},{"$f":"'All hospitals'!F71","v":"0408 263 586"}]
[null,null,null,null,null,{"$f":"'All hospitals'!B72","v":"Kurri Kurri Hospital"},{"$f":"'All hospitals'!C72","v":"Kurri Kurri"},{"$f":"'All hospitals'!E72","v":"02 4936 3234"},{"$f":"'All hospitals'!F72","v":"02 4936 3200"}]
[null,null,null,null,null,{"$f":"'All hospitals'!B73","v":"Manning Base Hospital"},{"$f":"'All hospitals'!C73","v":"Taree"},{"$f":"'All hospitals'!E73","v":"02 6592 9244"},{"$f":"'All hospitals'!F73","v":"02 6592 9014"}]
[null,null,null,null,null,{"$f":"'All hospitals'!B74","v":"Manilla Hospital"},{"$f":"'All hospitals'!C74","v":"Manilla"},{"$f":"'All hospitals'!E74","v":"02 6785 4000"},{"$f":"'All hospitals'!F74","v":"02 6785 4000"}]
[null,null,null,null,null,{"$f":"'All hospitals'!B75","v":"Merriwa Multi Purpose Service (Stock data TBC)"},{"$f":"'All hospitals'!C75","v":"Merriwa"},{"$f":"'All hospitals'!E75","v":"02 6532 5000"},{"$f":"'All hospitals'!F75","v":"02 6532 5000"}]
[null,null,null,null,null,{"$f":"'All hospitals'!B76","v":"Moree Hospital "},{"$f":"'All hospitals'!C76","v":"Moree"},{"$f":"'All hospitals'!E76","v":"02 6757 0031"},{"$f":"'All hospitals'!F76","v":"02 6757 0031"}]
[null,null,null,null,null,{"$f":"'All hospitals'!B77","v":"Muswellbrook Hospital (Stock data TBC)"},{"$f":"'All hospitals'!C77","v":"Muswellbrook"},{"$f":"'All hospitals'!E77","v":"02 6542 2000"},{"$f":"'All hospitals'!F77","v":"02 6542 2000"}]
[null,null,null,null,null,{"$f":"'All hospitals'!B78","v":"Narrabri Hospital"},{"$f":"'All hospitals'!C78","v":"Narrabri"},{"$f":"'All hospitals'!E78","v":"02 6799 2800"},{"$f":"'All hospitals'!F78","v":"02 6799 2105"}]
[null,null,null,null,null,{"$f":"'All hospitals'!B79","v":"Quirindi Hospital"},{"$f":"'All hospitals'!C79","v":"Quirindi"},{"$f":"'All hospitals'!E79","v":"02 6746 0200"},{"$f":"'All hospitals'!F79","v":"02 6746 0200"}]
[null,null,null,null,null,{"$f":"'All hospitals'!B80","v":"Scott Memorial Hospital (Stock data TBC)"},{"$f":"'All hospitals'!C80","v":"Scone"},{"$f":"'All hospitals'!E80","v":"02 6540 2100"},{"$f":"'All hospitals'!F80","v":"02 6540 2100"}]
[null,null,null,null,null,{"$f":"'All hospitals'!B81","v":"Singleton District Hospital (Stock data TBC)"},{"$f":"'All hospitals'!C81","v":"Singleton"},{"$f":"'All hospitals'!E81","v":"02 6571 9222"},{"$f":"'All hospitals'!F81","v":"02 6571 9222"}]
[null,null,null,null,null,{"$f":"'All hospitals'!B82","v":"Tamworth Rural Referral Hospital "},{"$f":"'All hospitals'!C82","v":"Tamworth"},{"$f":"'All hospitals'!E82","v":"02 6727 7370 "},{"$f":"'All hospitals'!F82","v":"02 6767 7700"}]
[null,null,null,null,null,{"$f":"'All hospitals'!B83","v":"Tenterfield/Prince Albert Hospital "},{"$f":"'All hospitals'!C83","v":"Tenterfield"},{"$f":"'All hospitals'!E83","v":"02 6739 5200"},{"$f":"'All hospitals'!F83","v":"02 6739 5200"}]
[null,null,null,null,null,{"$f":"'All hospitals'!B84","v":"The Maitland Hospital"},{"$f":"'All hospitals'!C84","v":"Maitland"},{"$f":"'All hospitals'!E84","v":"02 4939 2226"},{"$f":"'All hospitals'!F84","v":"02 4939 2000"}]
[null,null,null,null,null,{"$f":"'All hospitals'!B85","v":"Tingha Multi Purpose Service NO STOCKS HELD"},{"$f":"'All hospitals'!C85","v":"Tingha"},{"$f":"'All hospitals'!E85","v":"02 6723 3900"},{"$f":"'All hospitals'!F85","v":"02 6723 9000"}]
[null,null,null,null,null,{"$f":"'All hospitals'!B86","v":"Tomaree Community Hospital (Stock data TBC)"},{"$f":"'All hospitals'!C86","v":"Tomaree"},{"$f":"'All hospitals'!E86","v":"02 4923 2249"},{"$f":"'All hospitals'!F86","v":"02 4923 2000"}]
[null,null,null,null,null,{"$f":"'All hospitals'!B87","v":"Vegetable Creek Multipurpose Service"},{"$f":"'All hospitals'!C87","v":"Emmaville"},{"$f":"'All hospitals'!E87","v":"02 6734  7900"},{"$f":"'All hospitals'!F87","v":"02 6734 7900"}]
[null,null,null,null,null,{"$f":"'All hospitals'!B88","v":"Walcha Multi Purpose Service "},{"$f":"'All hospitals'!C88","v":"Walcha"},{"$f":"'All hospitals'!E88","v":"02 6777 4200"},{"$f":"'All hospitals'!F88","v":"02 6777 4200"}]
[null,null,null,null,null,{"$f":"'All hospitals'!B89","v":"Warialda Multi Purpose Service "},{"$f":"'All hospitals'!C89","v":"Warialda"},{"$f":"'All hospitals'!E89","v":"02 6728 9000"},{"$f":"'All hospitals'!F89","v":"0428 753 175"}]
[null,null,null,null,null,{"$f":"'All hospitals'!B90","v":"Wee Waa Community Hospital"},{"$f":"'All hospitals'!C90","v":"Wee Waa"},{"$f":"'All hospitals'!E90","v":"02 6795 0400"},{"$f":"'All hospitals'!F90","v":"02 6795 0400"}]
[null,null,null,null,null,{"$f":"'All hospitals'!B91","v":"Werris Creek Multi Purpose Service NO STOCKS HELD"},{"$f":"'All hospitals'!C91","v":"Werris Creek"},{"$f":"'All hospitals'!E91","v":"02 6768 6600"},{"$f":"'All hospitals'!F91","v":"02 6768 6600"}]
[null,null,null,null,null,{"$f":"'All hospitals'!B92","v":"Westpac Rescue Helicopter Service"},{"$f":"'All hospitals'!C92","v":"Belmont Helicopter Base"},{"$f":"'All hospitals'!E92","v":"02 4952 0000"},{"$f":"'All hospitals'!F92","v":"02 4952 0055"}]
[null,null,null,null,null,{"$f":"'All hospitals'!B93","v":"Wilson Memorial Hospital - Murrurundi (Stock data TBC)"},{"$f":"'All hospitals'!C93","v":"Murrurundi"},{"$f":"'All hospitals'!E93","v":"02 6546 9000"},{"$f":"'All hospitals'!F93","v":"02 6546 9000"}]
[null,null,null,null,null,{"$f":"'All hospitals'!B95","v":"ILLAWARRA SHOALHAVEN LHD"}]
[null,null,null,null,null,{"$f":"'All hospitals'!B96","v":"Bulli Hospital NO STOCKS HELD"},{"$f":"'All hospitals'!C96","v":"Bulli"},{"$f":"'All hospitals'!E96","v":"02 4284 4344"},{"$f":"'All hospitals'!F96","v":"02 4222 5000 (request Wollongong Hospital on-call pharmacist)"}]
[null,null,null,null,null,{"$f":"'All hospitals'!B97","v":"Coledale Hospital NO STOCKS HELD"},{"$f":"'All hospitals'!C97","v":"Thirroul"},{"$f":"'All hospitals'!E97","v":"02 4267 0111"},{"$f":"'All hospitals'!F97","v":"02 4222 5000 (request Wollongong Hospital on-call pharmacist)"}]
[null,null,null,null,null,{"$f":"'All hospitals'!B98","v":"David Berry Hospital NO STOCKS HELD"},{"$f":"'All hospitals'!C98","v":"Berry"},{"$f":"'All hospitals'!E98","v":"02 4464 1001"},{"$f":"'All hospitals'!F98","v":" -"}]
[null,null,null,null,null,{"$f":"'All hospitals'!B99","v":"Kiama Hospital & Community Health Service NO STOCKS HELD"},{"$f":"'All hospitals'!C99","v":"Kiama"},{"$f":"'All hospitals'!E99","v":"02 4233 1033"},{"$f":"'All hospitals'!F99","v":" -"}]
[null,null,null,null,null,{"$f":"'All hospitals'!B100","v":"Milton Ulladulla Hospital"},{"$f":"'All hospitals'!C100","v":"Milton"},{"$f":"'All hospitals'!E100","v":"02 4454 9100"},{"$f":"'All hospitals'!F100","v":"02 4454 9133 (ED)"}]
[]
[null,null,null,null,null,{"$f":"'All hospitals'!B102","v":"Port Kembla Hospital - NO STOCKS HELD"},{"$f":"'All hospitals'!C102","v":"Warrawong"},{"$f":"'All hospitals'!E102","v":"02 4223 8000"},{"$f":"'All hospitals'!F102","v":"02 4222 5000 (request Wollongong Hospital on-call pharmacist)"}]
[null,null,null,null,null,{"$f":"'All hospitals'!B103","v":"Shellharbour Hospital"},{"$f":"'All hospitals'!C103","v":"Mt Warrigal"},{"$f":"'All hospitals'!E103","v":"02 4295 2516"},{"$f":"'All hospitals'!F103","v":"02 4295 2500 (switch) - ask to page ADON"}]
[null,null,null,null,null,{"$f":"'All hospitals'!B104","v":"Shoalhaven Hospital "},{"$f":"'All hospitals'!C104","v":"Nowra"},{"$f":"'All hospitals'!E104","v":"02 4423 9734"},{"$f":"'All hospitals'!F104","v":"02 4423 9738/ 0427400177 (after hours patient flow manager)"}]
[null,null,null,null,null,{"$f":"'All hospitals'!B105","v":"Wollongong Hospital"},{"$f":"'All hospitals'!C105","v":"Wollongong "},{"$f":"'All hospitals'!E105","v":"02 4222 5340"},{"$f":"'All hospitals'!F105","v":"02 4222 5000"}]
[null,null,null,null,null,{"$f":"'All hospitals'!B107","v":"MID NORTH COAST LHD"}]
[null,null,null,null,null,{"$f":"'All hospitals'!B108","v":"Bellingen River District Hospital "},{"$f":"'All hospitals'!C108","v":"Bellingen"},{"$f":"'All hospitals'!E108","v":"02 6659 5800"},{"$f":"'All hospitals'!F108","v":"02 6656 7324"}]
[null,null,null,null,null,{"$f":"'All hospitals'!B109","v":"Coffs Harbour Health Campus "},{"$f":"'All hospitals'!C109","v":"Coffs Harbour"},{"$f":"'All hospitals'!E109","v":"02 6656 7000"},{"$f":"'All hospitals'!F109","v":"02 6656 7324"}]
[null,null,null,null,null,{"$f":"'All hospitals'!B110","v":"Dorrigo Multi Purpose Service"},{"$f":"'All hospitals'!C110","v":"Dorrigo"},{"$f":"'All hospitals'!E110","v":"02 6692 7700"},{"$f":"'All hospitals'!F110","v":"02 6656 7324"}]
[null,null,null,null,null,{"$f":"'All hospitals'!B111","v":"Kempsey District Hospital"},{"$f":"'All hospitals'!C111","v":"Kempsey"},{"$f":"'All hospitals'!E111","v":"02 6561 2600"},{"$f":"'All hospitals'!F111","v":"02 5524 2000"}]
[null,null,null,null,null,{"$f":"'All hospitals'!B112","v":"Macksville District Hospital "},{"$f":"'All hospitals'!C112","v":"Macksville"},{"$f":"'All hospitals'!E112","v":"02 6568 0666"},{"$f":"'All hospitals'!F112","v":"02 6656 7324"}]
[null,null,null,null,null,{"$f":"'All hospitals'!B113","v":"Port Macquarie Base Hospital"},{"$f":"'All hospitals'!C113","v":"Port Macquarie"},{"$f":"'All hospitals'!E113","v":"02 5524 2206"},{"$f":"'All hospitals'!F113","v":"02 5524 2000"}]
[null,null,null,null,null,{"$f":"'All hospitals'!B114","v":"Wauchope Hospital (Stock data TBC)"},{"$f":"'All hospitals'!C114","v":"Wauchope"},{"$f":"'All hospitals'!E114","v":"02 5524 2206"},{"$f":"'All hospitals'!F114","v":"02 5524 2000"}]
[null,null,null,null,null,{"$f":"'All hospitals'!B116","v":"MURRUMBIDGEE LHD"}]
[null,null,null,null,null,{"$f":"'All hospitals'!B117","v":"Barham Koondrook Health Service"},{"$f":"'All hospitals'!C117","v":"Barham"},{"$f":"'All hospitals'!E117","v":"03 5451 1000"},{"$f":"'All hospitals'!F117","v":"03 5451 1000"}]
[null,null,null,null,null,{"$f":"'All hospitals'!B118","v":"Batlow Adelong Multi Purpose Service"},{"$f":"'All hospitals'!C118","v":"Batlow"},{"$f":"'All hospitals'!E118","v":"02 6941 4333"},{"$f":"'All hospitals'!F118","v":"02 6941 4333"}]
[null,null,null,null,null,{"$f":"'All hospitals'!B119","v":"Berrigan Multi Purpose Service"},{"$f":"'All hospitals'!C119","v":"Berrigan"},{"$f":"'All hospitals'!E119","v":"03 5888 5300"},{"$f":"'All hospitals'!F119","v":"03 5888 5300"}]
[null,null,null,null,null,{"$f":"'All hospitals'!B120","v":"Boorowa Multi Purpose Service Hospital"},{"$f":"'All hospitals'!C120","v":"Boorowa"},{"$f":"'All hospitals'!E120","v":"02 6380 2100"},{"$f":"'All hospitals'!F120","v":"02 6380 2100"}]
[null,null,null,null,null,{"$f":"'All hospitals'!B121","v":"Coolamon-Ganmain Multi Purpose Service"},{"$f":"'All hospitals'!C121","v":"Coolamon"},{"$f":"'All hospitals'!E121","v":"02 6927 3303"},{"$f":"'All hospitals'!F121","v":"02 6927 3303"}]
[null,null,null,null,null,{"$f":"'All hospitals'!B122","v":"Cootamundra District Hospital"},{"$f":"'All hospitals'!C122","v":"Cootamundra"},{"$f":"'All hospitals'!E122","v":"02 6942 0444"},{"$f":"'All hospitals'!F122","v":"02 6942 0444"}]
[null,null,null,null,null,{"$f":"'All hospitals'!B123","v":"Corowa District Hospital"},{"$f":"'All hospitals'!C123","v":"Corowa"},{"$f":"'All hospitals'!E123","v":"02 6033 7555"},{"$f":"'All hospitals'!F123","v":"02 6033 7555"}]
[null,null,null,null,null,{"$f":"'All hospitals'!B124","v":"Culcairn Multi Purpose Service"},{"$f":"'All hospitals'!C124","v":"Culcairn"},{"$f":"'All hospitals'!E124","v":"02 6029 8203"},{"$f":"'All hospitals'!F124","v":"02 6029 8203"}]
[null,null,null,null,null,{"$f":"'All hospitals'!B125","v":"Deniliquin Hospital"},{"$f":"'All hospitals'!C125","v":"Deniliquin"},{"$f":"'All hospitals'!E125","v":"03 5882 2843"},{"$f":"'All hospitals'!F125","v":"03 5882 2834"}]
[null,null,null,null,null,{"$f":"'All hospitals'!B126","v":"Finley Hospital"},{"$f":"'All hospitals'!C126","v":"Finley"},{"$f":"'All hospitals'!E126","v":"03 5883 1133"},{"$f":"'All hospitals'!F126","v":"03 5883 1133"}]
[null,null,null,null,null,{"$f":"'All hospitals'!B127","v":"Griffith Base Hospital"},{"$f":"'All hospitals'!C127","v":"Griffith NSW"},{"$f":"'All hospitals'!E127","v":"02 6969 5550"},{"$f":"'All hospitals'!F127","v":"02 6969 5600"}]
[null,null,null,null,null,{"$f":"'All hospitals'!B128","v":"Gundagai Multi Purpose Service"},{"$f":"'All hospitals'!C128","v":"Gundagai"},{"$f":"'All hospitals'!E128","v":"02 6950 6300"},{"$f":"'All hospitals'!F128","v":"02 6950 6300"}]
[null,null,null,null,null,{"$f":"'All hospitals'!B129","v":"Hay Hospital"},{"$f":"'All hospitals'!C129","v":"Hay"},{"$f":"'All hospitals'!E129","v":"02 6990 8700"},{"$f":"'All hospitals'!F129","v":"02 6990 8700"}]
[null,null,null,null,null,{"$f":"'All hospitals'!B130","v":"Henty Multi Purpose Service"},{"$f":"'All hospitals'!C130","v":"Henty"},{"$f":"'All hospitals'!E130","v":"02 6929 4999"},{"$f":"'All hospitals'!F130","v":"02 6929 4999"}]
[null,null,null,null,null,{"$f":"'All hospitals'!B131","v":"Hillston Multi Purpose Service"},{"$f":"'All hospitals'!C131","v":"Hillston, NSW"},{"$f":"'All hospitals'!E131","v":"02 6961 7200"},{"$f":"'All hospitals'!F131","v":"02 6961 7200"}]
[null,null,null,null,null,{"$f":"'All hospitals'!B132","v":"Holbrook Hospital"},{"$f":"'All hospitals'!C132","v":"Holbrook"},{"$f":"'All hospitals'!E132","v":"02 6036 2522"},{"$f":"'All hospitals'!F132","v":"02 6036 2522"}]
[null,null,null,null,null,{"$f":"'All hospitals'!B133","v":"Jerilderie Multi Purpose Service"},{"$f":"'All hospitals'!C133","v":"Jerilderie"},{"$f":"'All hospitals'!E133","v":"03 5886 1300"},{"$f":"'All hospitals'!F133","v":"03 5886 1300"}]
[null,null,null,null,null,{"$f":"'All hospitals'!B134","v":"Junee Multi Purpose Service"},{"$f":"'All hospitals'!C134","v":"Junee"},{"$f":"'All hospitals'!E134","v":"02 6924 8200"},{"$f":"'All hospitals'!F134","v":"02 6924 8200"}]
[null,null,null,null,null,{"$f":"'All hospitals'!B135","v":"Lake Cargelligo Multi Purpose Service"},{"$f":"'All hospitals'!C135","v":"Lake Cargelligo"},{"$f":"'All hospitals'!E135","v":"02 6898 0200"},{"$f":"'All hospitals'!F135","v":"02 6898 0200"}]
[null,null,null,null,null,{"$f":"'All hospitals'!B136","v":"Leeton District Hospital"},{"$f":"'All hospitals'!C136","v":"Leeton"},{"$f":"'All hospitals'!E136","v":"02 6953 1111"},{"$f":"'All hospitals'!F136","v":"02 6953 1111"}]
[null,null,null,null,null,{"$f":"'All hospitals'!B137","v":"Lockhart Hospital"},{"$f":"'All hospitals'!C137","v":"Lockhart"},{"$f":"'All hospitals'!E137","v":"02 6930 7100"},{"$f":"'All hospitals'!F137","v":"02 6930 7100"}]
[null,null,null,null,null,{"$f":"'All hospitals'!B138","v":"Murrumburrah-Harden Hospital"},{"$f":"'All hospitals'!C138","v":"Harden"},{"$f":"'All hospitals'!E138","v":"02 6386 2200"},{"$f":"'All hospitals'!F138","v":"02 6386 2200"}]
[null,null,null,null,null,{"$f":"'All hospitals'!B139","v":"Narrandera District Hospital"},{"$f":"'All hospitals'!C139","v":"Narrandera"},{"$f":"'All hospitals'!E139","v":"02 6951 0200"},{"$f":"'All hospitals'!F139","v":"02 6951 0200"}]
[null,null,null,null,null,{"$f":"'All hospitals'!B140","v":"Temora District Hospital "},{"$f":"'All hospitals'!C140","v":"Temora"},{"$f":"'All hospitals'!E140","v":"02 6980 0200"},{"$f":"'All hospitals'!F140","v":"02 6980 0200"}]
[null,null,null,null,null,{"$f":"'All hospitals'!B141","v":"Tocumwal Hospital"},{"$f":"'All hospitals'!C141","v":"Tocumwal"},{"$f":"'All hospitals'!E141","v":"03 5874 2166"},{"$f":"'All hospitals'!F141","v":"03 5874 2166"}]
[null,null,null,null,null,{"$f":"'All hospitals'!B142","v":"Tumbarumba Multi Purpose Service"},{"$f":"'All hospitals'!C142","v":"Tumbarumba"},{"$f":"'All hospitals'!E142","v":"02 6948 9600"},{"$f":"'All hospitals'!F142","v":"02 6948 9600"}]
[null,null,null,null,null,{"$f":"'All hospitals'!B143","v":"Tumut District Hospital"},{"$f":"'All hospitals'!C143","v":"Tumut"},{"$f":"'All hospitals'!E143","v":"02 6947 0800"},{"$f":"'All hospitals'!F143","v":"02 6947 0800"}]
[null,null,null,null,null,{"$f":"'All hospitals'!B144","v":"Urana Multi Purpose Service"},{"$f":"'All hospitals'!C144","v":"Urana"},{"$f":"'All hospitals'!E144","v":"02 6920 8106"},{"$f":"'All hospitals'!F144","v":"02 6920 8106"}]
[null,null,null,null,null,{"$f":"'All hospitals'!B145","v":"Wagga Wagga Base Hospital "},{"$f":"'All hospitals'!C145","v":"Wagga Wagga"},{"$f":"'All hospitals'!E145","v":"02 5943 1000"},{"$f":"'All hospitals'!F145","v":"0429 306 566"}]
[null,null,null,null,null,{"$f":"'All hospitals'!B146","v":"Wyalong Hospital"},{"$f":"'All hospitals'!C146","v":"West Wyalong"},{"$f":"'All hospitals'!E146","v":"02 6979 0000"},{"$f":"'All hospitals'!F146","v":"02 6979 0000"}]
[null,null,null,null,null,{"$f":"'All hospitals'!B147","v":"Young District Hospital"},{"$f":"'All hospitals'!C147","v":"Young"},{"$f":"'All hospitals'!E147","v":"02 6382 8888"},{"$f":"'All hospitals'!F147","v":"02 6382 8888"}]
[null,null,null,null,null,{"$f":"'All hospitals'!B149","v":"NEPEAN BLUE MOUNTAINS LHD & OTHER"}]
[null,null,null,null,null,{"$f":"'All hospitals'!B150","v":"Blue Mountains District Hospital "},{"$f":"'All hospitals'!C150","v":"Katoomba"},{"$f":"'All hospitals'!E150","v":"02 4784 6500"},{"$f":"'All hospitals'!F150","v":"0412 117 269"}]
[null,null,null,null,null,{"$f":"'All hospitals'!B151","v":"Hawkesbury District Health Service"},{"$f":"'All hospitals'!C151","v":"Windsor"},{"$f":"'All hospitals'!E151","v":"02 4560 5529"},{"$f":"'All hospitals'!F151","v":"02 4560 5555 (Ask for AHNM)"}]
[null,null,null,null,null,{"$f":"'All hospitals'!B152","v":"Lithgow Hospital"},{"$f":"'All hospitals'!C152","v":"Lithgow"},{"$f":"'All hospitals'!E152","v":"02 6350 2370"},{"$f":"'All hospitals'!F152","v":"02 6350 2300 (switch)"}]
[null,null,null,null,null,{"$f":"'All hospitals'!B153","v":"Nepean Hospital "},{"$f":"'All hospitals'!C153","v":"Penrith"},{"$f":"'All hospitals'!E153","v":"02 4734 2256"},{"$f":"'All hospitals'!F153","v":" 0412 235 766"}]
[null,null,null,null,null,{"$f":"'All hospitals'!B155","v":"NORTHERN NSW LHD"}]
[null,null,null,null,null,{"$f":"'All hospitals'!B156","v":"Ballina Hospital "},{"$f":"'All hospitals'!C156","v":"Ballina"},{"$f":"'All hospitals'!E156","v":"02 6620 6400"},{"$f":"'All hospitals'!F156","v":"02 6620 6202"}]
[null,null,null,null,null,{"$f":"'All hospitals'!B157","v":"Bonalbo Hospital "},{"$f":"'All hospitals'!C157","v":"Bonalbo"},{"$f":"'All hospitals'!E157","v":"02 6665 4100"},{"$f":"'All hospitals'!F157","v":"02 6665 4100"}]
[null,null,null,null,null,{"$f":"'All hospitals'!B158","v":"Byron Central Hospital (Stock data TBC)"},{"$f":"'All hospitals'!C158","v":"Byron Bay"},{"$f":"'All hospitals'!E158","v":"02 6639 9400"},{"$f":"'All hospitals'!F158","v":"02 6639 9400"}]
[null,null,null,null,null,{"$f":"'All hospitals'!B159","v":"Casino Hospital"},{"$f":"'All hospitals'!C159","v":"Casino"},{"$f":"'All hospitals'!E159","v":"02 6660 0642"},{"$f":"'All hospitals'!F159","v":"02 6660 0642"}]
[null,null,null,null,null,{"$f":"'All hospitals'!B160","v":"Grafton Base Hospital (Stock data TBC)"},{"$f":"'All hospitals'!C160","v":"Grafton"},{"$f":"'All hospitals'!E160","v":"02 6640 2222"},{"$f":"'All hospitals'!F160","v":"02 6640 2299    "}]
[null,null,null,null,null,{"$f":"'All hospitals'!B161","v":"Kyogle Multi Purpose Service"},{"$f":"'All hospitals'!C161","v":"Kyogle"},{"$f":"'All hospitals'!E161","v":"02 6630 0400"},{"$f":"'All hospitals'!F161","v":"02 6630 0400"}]
[null,null,null,null,null,{"$f":"'All hospitals'!B162","v":"Lismore Base Hospital "},{"$f":"'All hospitals'!C162","v":"Lismore"},{"$f":"'All hospitals'!E162","v":"02 6624 0200"},{"$f":"'All hospitals'!F162","v":"02 6624 0200"}]
[null,null,null,null,null,{"$f":"'All hospitals'!B163","v":"Maclean District Hospital (Stock data TBC)"},{"$f":"'All hospitals'!C163","v":"Maclean"},{"$f":"'All hospitals'!E163","v":"02 6640 0111"},{"$f":"'All hospitals'!F163","v":"02 6640 0111"}]
[null,null,null,null,null,{"$f":"'All hospitals'!B164","v":"Murwillumbah District Hospital (Stock data TBC)"},{"$f":"'All hospitals'!C164","v":"Murwillumbah"},{"$f":"'All hospitals'!E164","v":"02 6672 0237"},{"$f":"'All hospitals'!F164","v":"02 6672 0230"}]
[null,null,null,null,null,{"$f":"'All hospitals'!B165","v":"Nimbin Multi Purpose Service"},{"$f":"'All hospitals'!C165","v":"Nimbin"},{"$f":"'All hospitals'!E165","v":"02 6689 1400"},{"$f":"'All hospitals'!F165","v":"02 6689 1400"}]
[null,null,null,null,null,{"$f":"'All hospitals'!B166","v":"The Tweed Hospital"},{"$f":"'All hospitals'!C166","v":"Tweed Heads"},{"$f":"'All hospitals'!E166","v":"07 5506 7420"},{"$f":"'All hospitals'!F166","v":"07 5506 7667"}]
[null,null,null,null,null,{"$f":"'All hospitals'!B167","v":"Urbenville Multi Purpose Service "},{"$f":"'All hospitals'!C167","v":"Urbenville"},{"$f":"'All hospitals'!E167","v":"02 66341600"},{"$f":"'All hospitals'!F167","v":"02 66341600"}]
[null,null,null,null,null,{"$f":"'All hospitals'!B169","v":"NORTHERN SYDNEY LHD & OTHER"}]
[null,null,null,null,null,{"$f":"'All hospitals'!B170","v":"Hornsby Hospital"},{"$f":"'All hospitals'!C170","v":"Hornsby"},{"$f":"'All hospitals'!E170","v":"02 9485 6455"},{"$f":"'All hospitals'!F170","v":"02 9485 6600 (ED)"}]
[null,null,null,null,null,{"$f":"'All hospitals'!B172","v":"Manly Hospital (closed 30th Oct 2018 - See Northern Beaches Health Service)"},{"$f":"'All hospitals'!C172","v":"-"},{"$f":"'All hospitals'!E172","v":"-"},{"$f":"'All hospitals'!E172","v":"-"}]
[null,null,null,null,null,{"$f":"'All hospitals'!B173","v":"Mona Vale Hospital (Subacute hospital overseen by Hornsby Hospital; some antivenoms available on imprest)"},{"$f":"'All hospitals'!C173","v":"Mona Vale "},{"$f":"'All hospitals'!E172","v":"-"},{"$f":"'All hospitals'!E173","v":"02 9998 6040"}]
[null,null,null,null,null,{"$f":"'All hospitals'!B174","v":"Northern Beaches Health Service (replaces Manly Hospital) "},{"$f":"'All hospitals'!C174","v":"Frenchs Forest"},{"$f":"'All hospitals'!E173","v":"02 9998 6040"},{"$f":"'All hospitals'!E174","v":"02 9105 5000"}]
[null,null,null,null,null,{"$f":"'All hospitals'!B175","v":"Royal North Shore Hospital"},{"$f":"'All hospitals'!C175","v":"St Leonards"},{"$f":"'All hospitals'!E174","v":"02 9105 5000"},{"$f":"'All hospitals'!E175","v":"02 9463 1140"}]
[null,null,null,null,null,{"$f":"'All hospitals'!B176","v":"Ryde Hospital"},{"$f":"'All hospitals'!C176","v":"Eastwood"},{"$f":"'All hospitals'!E175","v":"02 9463 1140"},"Oncall Pharmacist (0472 809 062) AHNM (0402 990 158)"]
[null,null,null,null,null,{"$f":"'All hospitals'!B178","v":"SOUTH EASTERN SYDNEY LHD"}]
[null,null,null,null,null,{"$f":"'All hospitals'!B179","v":"Calvary Hospital  (Stock data TBC)"},{"$f":"'All hospitals'!C179","v":"Kogarah"},{"$f":"'All hospitals'!E179","v":"-"},{"$f":"'All hospitals'!F179","v":"-"}]
[null,null,null,null,null,{"$f":"'All hospitals'!B180","v":"Prince of Wales Hospital "},{"$f":"'All hospitals'!C180","v":"Randwick, Sydney"},{"$f":"'All hospitals'!E180","v":"02 9382 2222"},{"$f":"'All hospitals'!F180","v":"oncall pharmacist via switchboard 02 9382 2222 "}]
[null,null,null,null,null,{"$f":"'All hospitals'!B181","v":"Royal Hospital for Women NO STOCKS HELD"},{"$f":"'All hospitals'!C181","v":"Sydney"},{"$f":"'All hospitals'!E181","v":"02 9382 6716"},{"$f":"'All hospitals'!F181","v":"02 9382 2222 on call pharmacist"}]
[null,null,null,null,null,{"$f":"'All hospitals'!B182","v":"St George Hospital"},{"$f":"'All hospitals'!C182","v":"Kogarah"},{"$f":"'All hospitals'!E182","v":"02 9113 3055"},{"$f":"'All hospitals'!F182","v":"Page AHNM via switchboard 02 9113 1111"}]
[null,null,null,null,null,{"$f":"'All hospitals'!B183","v":"Sydney Hospital and Sydney Eye Hospital"},{"$f":"'All hospitals'!C183","v":"Sydney"},{"$f":"'All hospitals'!E183","v":"02 9382 7379"},{"$f":"'All hospitals'!F183","v":"02 9382 7111  ask for Emergency Department"}]
[null,null,null,null,null,{"$f":"'All hospitals'!B184","v":"The Sutherland Hospital"},{"$f":"'All hospitals'!C184","v":"Sydney"},{"$f":"'All hospitals'!E184","v":"02 9540 7466 OR 02 9540 7467"},{"$f":"'All hospitals'!F184","v":"02 9540 7111"}]
[null,null,null,null,null,{"$f":"'All hospitals'!B186","v":"SOUTH WESTERN SYDNEY LHD"}]
[null,null,null,null,null,{"$f":"'All hospitals'!B187","v":"Bankstown-Lidcombe Hospital"},{"$f":"'All hospitals'!C187","v":"Sydney"},{"$f":"'All hospitals'!E187","v":"02 9722 8000"},{"$f":"'All hospitals'!F187","v":"02 9722 8000"}]
[null,null,null,null,null,{"$f":"'All hospitals'!B188","v":"Bowral District Hospital"},{"$f":"'All hospitals'!C188","v":"Bowral"},{"$f":"'All hospitals'!E188","v":"02 4861 0274"},{"$f":"'All hospitals'!F188","v":"02 4861 0199"}]
[null,null,null,null,null,{"$f":"'All hospitals'!B189","v":"Camden Hospital "},{"$f":"'All hospitals'!C189","v":"Sydney"},{"$f":"'All hospitals'!E189","v":"02 4634 3000"},{"$f":"'All hospitals'!F189","v":"0408 662 394"}]
[null,null,null,null,null,{"$f":"'All hospitals'!B190","v":"Campbelltown Hospital "},{"$f":"'All hospitals'!C190","v":"Sydney"},{"$f":"'All hospitals'!E190","v":"02 4634 3000"},{"$f":"'All hospitals'!F190","v":"0408 662 394"}]
[null,null,null,null,null,{"$f":"'All hospitals'!B191","v":"Fairfield Hospital"},{"$f":"'All hospitals'!C191","v":"Fairfield"},{"$f":"'All hospitals'!E191","v":"02 9616 8322"},{"$f":"'All hospitals'!F191","v":"02 9616 8111"}]
[null,null,null,null,null,{"$f":"'All hospitals'!B192","v":"Liverpool Hospital"},{"$f":"'All hospitals'!C192","v":"Sydney"},{"$f":"'All hospitals'!E192","v":"02 8738 3000"},{"$f":"'All hospitals'!F192","v":"02 8738 3000"}]
[null,null,null,null,null,{"$f":"'All hospitals'!B194","v":"SOUTHERN NSW"}]
[null,null,null,null,null,{"$f":"'All hospitals'!B195","v":"Bateman's Bay District Hospital "},{"$f":"'All hospitals'!C195","v":"Bateman's Bay"},{"$f":"'All hospitals'!E195","v":"02 4475 1500"},{"$f":"'All hospitals'!F195","v":"0419 421 411"}]
[null,null,null,null,null,{"$f":"'All hospitals'!B196","v":"South East Regional Hospital (SERH / Bega District Hospital)"},{"$f":"'All hospitals'!C196","v":"Bega"},{"$f":"'All hospitals'!E196","v":"02 6492 9111"},{"$f":"'All hospitals'!F196","v":"0419 421 411"}]
[null,null,null,null,null,{"$f":"'All hospitals'!B197","v":"Bombala Hospital "},{"$f":"'All hospitals'!C197","v":"Bombala"},{"$f":"'All hospitals'!E197","v":"02 6458 5777"},{"$f":"'All hospitals'!F197","v":"0419 421 411"}]
[null,null,null,null,null,{"$f":"'All hospitals'!B198","v":"Braidwood Hospital "},{"$f":"'All hospitals'!C198","v":"Braidwood"},{"$f":"'All hospitals'!E198","v":"02 4842 2566"},{"$f":"'All hospitals'!F198","v":"0419 421 411"}]
[null,null,null,null,null,{"$f":"'All hospitals'!B199","v":"Cooma District Hospital "},{"$f":"'All hospitals'!C199","v":"Cooma"},{"$f":"'All hospitals'!E199","v":"02 6455 3222"},{"$f":"'All hospitals'!F199","v":"0419 421 411"}]
[null,null,null,null,null,{"$f":"'All hospitals'!B200","v":"Crookwell District Hospital "},{"$f":"'All hospitals'!C200","v":"Crookwell NSW"},{"$f":"'All hospitals'!E200","v":"02 4832 1300"},{"$f":"'All hospitals'!F200","v":"0419 421 411"}]
[null,null,null,null,null,{"$f":"'All hospitals'!B201","v":"Delegate Hospital "},{"$f":"'All hospitals'!C201","v":"Delegate"},{"$f":"'All hospitals'!E201","v":"02 6459 8000"},{"$f":"'All hospitals'!F201","v":"0419 421 411"}]
[null,null,null,null,null,{"$f":"'All hospitals'!B202","v":"Goulburn Base Hospital "},{"$f":"'All hospitals'!C202","v":"Goulburn"},{"$f":"'All hospitals'!E202","v":"02 4827 3111"},{"$f":"'All hospitals'!F202","v":"02 4827 3111"}]
[null,null,null,null,null,{"$f":"'All hospitals'!B203","v":"Moruya District Hospital "},{"$f":"'All hospitals'!C203","v":"Moruya"},{"$f":"'All hospitals'!E203","v":"02 4474 2666"},{"$f":"'All hospitals'!F203","v":"0419 421 411"}]
[null,null,null,null,null,{"$f":"'All hospitals'!B204","v":"Pambula District Hospital "},{"$f":"'All hospitals'!C204","v":"Pambula"},{"$f":"'All hospitals'!E204","v":"02 6495 8200"},{"$f":"'All hospitals'!F204","v":"0419 421 411"}]
[null,null,null,null,null,{"$f":"'All hospitals'!B205","v":"Queanbeyan Hospital "},{"$f":"'All hospitals'!C205","v":"Queanbeyan"},{"$f":"'All hospitals'!E205","v":"02 6150 7000"},{"$f":"'All hospitals'!F205","v":"0419 421 411"}]
[null,null,null,null,null,{"$f":"'All hospitals'!B206","v":"Yass District Hospital "},{"$f":"'All hospitals'!C206","v":"Yass"},{"$f":"'All hospitals'!E206","v":"02 6220 2000"},{"$f":"'All hospitals'!F206","v":"0419 421 411"}]
[null,null,null,null,null,{"$f":"'All hospitals'!B208","v":"ST VINCENT'S HEALTH"}]
[null,null,null,null,null,{"$f":"'All hospitals'!B209","v":"St Vincent's Hospital"},{"$f":"'All hospitals'!C209","v":"Darlinghurst"},{"$f":"'All hospitals'!E209","v":"02 8282 2125"},{"$f":"'All hospitals'!F209","v":"02 8382 1111 (on call pharmacist via switchboard)"}]
[null,null,null,null,null,{"$f":"'All hospitals'!B211","v":"SYDNEY LHD"}]
[null,null,null,null,null,{"$f":"'All hospitals'!B212","v":"Balmain Hospital (No ED services) NO STOCKS HELD"},{"$f":"'All hospitals'!C212","v":"Balmain"},{"$f":"'All hospitals'!E212","v":"02 9395 2111"},{"$f":"'All hospitals'!F212","v":" -"}]
[null,null,null,null,null,{"$f":"'All hospitals'!B213","v":"Canterbury Hospital "},{"$f":"'All hospitals'!C213","v":"Campsie"},{"$f":"'All hospitals'!E213","v":"02 9787 0219"},{"$f":"'All hospitals'!F213","v":"02 9787 0000"}]
[null,null,null,null,null,{"$f":"'All hospitals'!B214","v":"Concord Hospital"},{"$f":"'All hospitals'!C214","v":"Concord"},{"$f":"'All hospitals'!E214","v":"02 9767 6214"},{"$f":"'All hospitals'!F214","v":"02 9767 5000"}]
[null,null,null,null,null,{"$f":"'All hospitals'!B215","v":"Royal Prince Alfred Hospital"},{"$f":"'All hospitals'!C215","v":"Camperdown"},{"$f":"'All hospitals'!E215","v":"02 9515 6111"},{"$f":"'All hospitals'!F215","v":"02 9515 6111"}]
[null,null,null,null,null,{"$f":"'All hospitals'!B217","v":"SYDNEY CHILDREN'S HOSPITALS NETWORK"}]
[null,null,null,null,null,{"$f":"'All hospitals'!B218","v":"Sydney Children's Hospital Randwick (SCH) (see also stocks kept at Prince of Wales (adjacent hospital))"},{"$f":"'All hospitals'!C218","v":"Randwick"},{"$f":"'All hospitals'!E218","v":"02 9382 1111"},{"$f":"'All hospitals'!F218","v":"029382 2222  Pharmacist on call "}]
[null,null,null,null,null,{"$f":"'All hospitals'!B219","v":"The Children's Hospital Westmead (CHW)"},{"$f":"'All hospitals'!C219","v":"Westmead"},{"$f":"'All hospitals'!E219","v":"02 9845 0000"},{"$f":"'All hospitals'!F219","v":"02 9845 0000 (on call pharmacist via switchboard)"}]
[null,null,null,null,null,{"$f":"'All hospitals'!B220","v":" Newborn & Paediatric Emergency Transport Service (NETS)"},{"$f":"'All hospitals'!C220","v":"Bankstown Aerodrome"},{"$f":"'All hospitals'!E220","v":1300362730},{"$f":"'All hospitals'!F220","v":1300362730}]
[null,null,null,null,null,{"$f":"'All hospitals'!B222","v":"WESTERN NSW LHD"}]
[null,null,null,null,null,{"$f":"'All hospitals'!B223","v":"Baradine Multi Purpose Service"},{"$f":"'All hospitals'!C223","v":"Baradine, NSW"},{"$f":"'All hospitals'!E223","v":"02 6843 1605"},{"$f":"'All hospitals'!F223","v":"02 6843 4100"}]
[null,null,null,null,null,{"$f":"'All hospitals'!B224","v":"Bathurst Hospital"},{"$f":"'All hospitals'!C224","v":"Bathurst"},{"$f":"'All hospitals'!E224","v":"02 6330 5304"},{"$f":"'All hospitals'!F224","v":"02 6330 5308"}]
[null,null,null,null,null,{"$f":"'All hospitals'!B225","v":"Blayney Multi Purpose Service"},{"$f":"'All hospitals'!C225","v":"Blayney"},{"$f":"'All hospitals'!E225","v":"02 6368 9029 "},{"$f":"'All hospitals'!F225","v":"02 6368 9029 "}]
[null,null,null,null,null,{"$f":"'All hospitals'!B226","v":"Bourke Multi Purpose Service "},{"$f":"'All hospitals'!C226","v":"Bourke"},{"$f":"'All hospitals'!E226","v":"02 6870 8888"},{"$f":"'All hospitals'!F226","v":"02 6870 8888"}]
[null,null,null,null,null,{"$f":"'All hospitals'!B227","v":"Brewarrina Multi Purpose Service "},{"$f":"'All hospitals'!C227","v":"Brewarrina"},{"$f":"'All hospitals'!E227","v":"02 6830 5000"},{"$f":"'All hospitals'!F227","v":"02 6830 5000"}]
[null,null,null,null,null,{"$f":"'All hospitals'!B228","v":"Canowindra Soldiers Memorial Hospital (Stock data TBC)"},{"$f":"'All hospitals'!C228","v":"Canowindra"},{"$f":"'All hospitals'!E228","v":"02 6364 4300"},{"$f":"'All hospitals'!F228","v":"02 6340 3033"}]
[null,null,null,null,null,{"$f":"'All hospitals'!B229","v":"Cobar District Hospital (Stock data TBC)"},{"$f":"'All hospitals'!C229","v":"Cobar"},{"$f":"'All hospitals'!E229","v":"02 6836 2406"},{"$f":"'All hospitals'!F229","v":"02 6830 2111"}]
[null,null,null,null,null,{"$f":"'All hospitals'!B230","v":"Collarenebri Multi Purpose Service "},{"$f":"'All hospitals'!C230","v":"Collarenebri"},{"$f":"'All hospitals'!E230","v":"02 6756 4800"},{"$f":"'All hospitals'!F230","v":"02 6756 4800"}]
[null,null,null,null,null,{"$f":"'All hospitals'!B231","v":"Condobolin District Hospital"},{"$f":"'All hospitals'!C231","v":"Condobolin"},{"$f":"'All hospitals'!E231","v":"02 6890 1500"},{"$f":"'All hospitals'!F231","v":"02 6890 1500"}]
[null,null,null,null,null,{"$f":"'All hospitals'!B232","v":"Coolah Multi Purpose Service (Stock data TBC)"},{"$f":"'All hospitals'!C232","v":"Coolah"},{"$f":"'All hospitals'!E232","v":"02 6377 9100"},{"$f":"'All hospitals'!F232","v":"02 6377 9100"}]
[null,null,null,null,null,{"$f":"'All hospitals'!B233","v":"Coonabarabran District Hospital"},{"$f":"'All hospitals'!C233","v":"Coonabarabran"},{"$f":"'All hospitals'!E233","v":"02 6849 1600"},{"$f":"'All hospitals'!F233","v":"02 6849 1600"}]
[null,null,null,null,null,{"$f":"'All hospitals'!B234","v":"Coonamble Multi Purpose Service (Stock data TBC)"},{"$f":"'All hospitals'!C234","v":"Coonamble"},{"$f":"'All hospitals'!E234","v":"02 6827 1100"},{"$f":"'All hospitals'!F234","v":"02 6827 1100"}]
[null,null,null,null,null,{"$f":"'All hospitals'!B235","v":"Cowra Hospital (Stock data TBC)"},{"$f":"'All hospitals'!C235","v":"Cowra"},{"$f":"'All hospitals'!E235","v":"02 6340 9000"},{"$f":"'All hospitals'!F235","v":"02 6340 9000"}]
[null,null,null,null,null,{"$f":"'All hospitals'!B236","v":"Cudal Health Service NO STOCKS HELD"},{"$f":"'All hospitals'!C236","v":"Cudal"},{"$f":"'All hospitals'!E236","v":"02 6392 3400"},{"$f":"'All hospitals'!F236","v":" -"}]
[null,null,null,null,null,{"$f":"'All hospitals'!B237","v":"Dubbo Base Hospital"},{"$f":"'All hospitals'!C237","v":"Dubbo"},{"$f":"'All hospitals'!E237","v":"02 6809 8150"},{"$f":"'All hospitals'!F237","v":"02 6809 6809"}]
[null,null,null,null,null,{"$f":"'All hospitals'!B238","v":"Dunedoo Multi Purpose Service (Stock data TBC)"},{"$f":"'All hospitals'!C238","v":"Dunedoo"},{"$f":"'All hospitals'!E238","v":"02 6375 1408"},{"$f":"'All hospitals'!F238","v":"02 6370 3000"}]
[null,null,null,null,null,{"$f":"'All hospitals'!B239","v":"Eugowra Multi Purpose Service (Stock data TBC)"},{"$f":"'All hospitals'!C239","v":"Eugowra"},{"$f":"'All hospitals'!E239","v":"02 6850 4000"},{"$f":"'All hospitals'!F239","v":"02 6850 4000"}]
[null,null,null,null,null,{"$f":"'All hospitals'!B240","v":"Forbes District Hospital "},{"$f":"'All hospitals'!C240","v":"Forbes"},{"$f":"'All hospitals'!E240","v":"02 6850 7100"},{"$f":"'All hospitals'!F240","v":"02 6850 7100"}]
[null,null,null,null,null,{"$f":"'All hospitals'!B241","v":"Gilgandra Multi Purpose Service (Stock data TBC)"},{"$f":"'All hospitals'!C241","v":"Gilgandra"},{"$f":"'All hospitals'!E241","v":"02 6880 5900"},{"$f":"'All hospitals'!F241","v":"02 6880 5900"}]
[null,null,null,null,null,{"$f":"'All hospitals'!B242","v":"Goodooga Health Service "},{"$f":"'All hospitals'!C242","v":"Goodooga"},{"$f":"'All hospitals'!E242","v":"02 6829 5600"},{"$f":"'All hospitals'!F242","v":" - "}]
[null,null,null,null,null,{"$f":"'All hospitals'!B243","v":"Grenfell Multi Purpose Service (Stock data TBC)"},{"$f":"'All hospitals'!C243","v":"Grenfell"},{"$f":"'All hospitals'!E243","v":"02 6349 1700"},{"$f":"'All hospitals'!F243","v":"02 6349 1700"}]
[null,null,null,null,null,{"$f":"'All hospitals'!B244","v":"Gulargambone NO STOCKS HELD"},{"$f":"'All hospitals'!C244","v":"Gulargambone"},{"$f":"'All hospitals'!E244","v":"02 6825 1201"},{"$f":"'All hospitals'!F244","v":"-"}]
[null,null,null,null,null,{"$f":"'All hospitals'!B245","v":"Gulgong Health Service "},{"$f":"'All hospitals'!C245","v":"Gulgong"},{"$f":"'All hospitals'!E245","v":"02 6374 3400"},{"$f":"'All hospitals'!F245","v":"02 6374 1200"}]
[null,null,null,null,null,{"$f":"'All hospitals'!B246","v":"Lightning Ridge Multi Purpose Service "},{"$f":"'All hospitals'!C246","v":"Lightning Ridge"},{"$f":"'All hospitals'!E246","v":"02 6820 5700"},{"$f":"'All hospitals'!F246","v":"02 6820 5700"}]
[null,null,null,null,null,{"$f":"'All hospitals'!B247","v":"Molong Hospital (Stock data TBC)"},{"$f":"'All hospitals'!C247","v":"Molong"},{"$f":"'All hospitals'!E247","v":"02 6392 3300"},{"$f":"'All hospitals'!F247","v":" -"}]
[null,null,null,null,null,{"$f":"'All hospitals'!B248","v":"Mudgee Hospital "},{"$f":"'All hospitals'!C248","v":"Mudgee"},{"$f":"'All hospitals'!E248","v":"02 6371 9751"},{"$f":"'All hospitals'!F248","v":"02 6371 9700"}]
[null,null,null,null,null,{"$f":"'All hospitals'!B249","v":"Narromine Health Service "},{"$f":"'All hospitals'!C249","v":"Narromine"},{"$f":"'All hospitals'!E249","v":"02 6889 9600"},{"$f":"'All hospitals'!F249","v":"02 6889 9600"}]
[null,null,null,null,null,{"$f":"'All hospitals'!B250","v":"Nyngan Multi Purpose Service (Stock data TBC)"},{"$f":"'All hospitals'!C250","v":"Nyngan"},{"$f":"'All hospitals'!E250","v":"02 6832 1707"},{"$f":"'All hospitals'!F250","v":"02 6835 1700"}]
[null,null,null,null,null,{"$f":"'All hospitals'!B251","v":"Oberon Multi Purpose Service"},{"$f":"'All hospitals'!C251","v":"Oberon"},{"$f":"'All hospitals'!E251","v":"02 6336 7200"},{"$f":"'All hospitals'!F251","v":"02 6336 7200"}]
[null,null,null,null,null,{"$f":"'All hospitals'!B252","v":"Orange Health Service "},{"$f":"'All hospitals'!C252","v":"Orange"},{"$f":"'All hospitals'!E252","v":"02 6369 3740"},{"$f":"'All hospitals'!F252","v":"02 6369 3222"}]
[null,null,null,null,null,{"$f":"'All hospitals'!B253","v":"Parkes District Hospital "},{"$f":"'All hospitals'!C253","v":"Parkes"},{"$f":"'All hospitals'!E253","v":"02 6861 2400"},{"$f":"'All hospitals'!F253","v":"02 6861 2440"}]
[null,null,null,null,null,{"$f":"'All hospitals'!B254","v":"Peak Hill Multi Purpose Service "},{"$f":"'All hospitals'!C254","v":"Peak Hill"},{"$f":"'All hospitals'!E254","v":"02 6869 5200"},{"$f":"'All hospitals'!F254","v":"02 6869 5200"}]
[null,null,null,null,null,{"$f":"'All hospitals'!B255","v":"Rylstone Multi Purpose Service "},{"$f":"'All hospitals'!C255","v":"Rylstone"},{"$f":"'All hospitals'!E255","v":"02 6357 6100"},{"$f":"'All hospitals'!F255","v":"02 6357 6100"}]
[null,null,null,null,null,{"$f":"'All hospitals'!B256","v":"Tottenham Multi Purpose Service "},{"$f":"'All hospitals'!C256","v":"Tottenham"},{"$f":"'All hospitals'!E256","v":"02 6891  6200"},{"$f":"'All hospitals'!F256","v":"02 6891  6200"}]
[null,null,null,null,null,{"$f":"'All hospitals'!B257","v":"Trangie Multi Purpose Service (Stock data TBC)"},{"$f":"'All hospitals'!C257","v":"Trangie"},{"$f":"'All hospitals'!E257","v":" -"},{"$f":"'All hospitals'!F257","v":"02 6880 8200"}]
[null,null,null,null,null,{"$f":"'All hospitals'!B258","v":"Trundle Multi Purpose Service "},{"$f":"'All hospitals'!C258","v":"Trundle"},{"$f":"'All hospitals'!E258","v":"02 6892 1900"},{"$f":"'All hospitals'!F258","v":"02 6892 1900"}]
[null,null,null,null,null,{"$f":"'All hospitals'!B259","v":"Tullamore Multi Purpose Service "},{"$f":"'All hospitals'!C259","v":"Tullamore"},{"$f":"'All hospitals'!E259","v":"02 6892 6400"},{"$f":"'All hospitals'!F259","v":"02 6892 6400"}]
[null,null,null,null,null,{"$f":"'All hospitals'!B260","v":"Walgett District Hospital "},{"$f":"'All hospitals'!C260","v":"Walgett"},{"$f":"'All hospitals'!E260","v":"02 6817 9400"},{"$f":"'All hospitals'!F260","v":"02 6817 9400"}]
[null,null,null,null,null,{"$f":"'All hospitals'!B261","v":"Wanaaring Health Service NO STOCKS HELD"},{"$f":"'All hospitals'!C261","v":"Wanaaring"},{"$f":"'All hospitals'!E261","v":"02 6874 7721"},{"$f":"'All hospitals'!F261","v":"02 6874 7721"}]
[null,null,null,null,null,{"$f":"'All hospitals'!B262","v":"Warren Multi Purpose Service (Stock data TBC)"},{"$f":"'All hospitals'!C262","v":"Warren"},{"$f":"'All hospitals'!E262","v":"02 6847 4303"},{"$f":"'All hospitals'!F262","v":"02 6847 5400"}]
[null,null,null,null,null,{"$f":"'All hospitals'!B263","v":"Wellington Health Service"},{"$f":"'All hospitals'!C263","v":"Wellington"},{"$f":"'All hospitals'!E263","v":"02 6840 7200"},{"$f":"'All hospitals'!F263","v":"02 6840 8200"}]
[null,null,null,null,null,{"$f":"'All hospitals'!B265","v":"WESTERN SYDNEY LHD & OTHER"}]
[null,null,null,null,null,{"$f":"'All hospitals'!B266","v":"Auburn Hospital"},{"$f":"'All hospitals'!C266","v":"Auburn"},{"$f":"'All hospitals'!E266","v":"02 8759 3302"},{"$f":"'All hospitals'!F266","v":"02 8759 3000"}]
[null,null,null,null,null,{"$f":"'All hospitals'!B267","v":"Blacktown Hospital "},{"$f":"'All hospitals'!C267","v":"Blacktown"},{"$f":"'All hospitals'!E267","v":"02 9881 8142"},{"$f":"'All hospitals'!F267","v":"02 9881 8000 (afterhours nurse manager via switch)"}]
[null,null,null,null,null,{"$f":"'All hospitals'!B268","v":"Mount Druitt Hospital "},{"$f":"'All hospitals'!C268","v":"Mount Druitt NSW"},{"$f":"'All hospitals'!E268","v":"02 9881 1581"},{"$f":"'All hospitals'!F268","v":"02 9881 1555  (afterhours nurse manager via switch)"}]
[null,null,null,null,null,{"$f":"'All hospitals'!B269","v":"Westmead Hospital "},{"$f":"'All hospitals'!C269","v":"Westmead"},{"$f":"'All hospitals'!E269","v":"02 8890 5555"},{"$f":"'All hospitals'!F269","v":"02 8890 5555 (on call pharmacist via switch)"}]
[null,null,null,null,null,{"$f":"'All hospitals'!B270","v":"-"},{"$f":"'All hospitals'!C270","v":"-"},{"$f":"'All hospitals'!E270","v":"-"},{"$f":"'All hospitals'!F270","v":"-"}]
[null,null,null,null,null,{"$f":"'All hospitals'!B271","v":"PRIVATE HOSPITALS & OTHER"}]
[null,null,null,null,null,{"$f":"'All hospitals'!B272","v":"Macquarie University Hospital NO STOCKS HELD"},{"$f":"'All hospitals'!C272","v":"North Ryde"},{"$f":"'All hospitals'!E272","v":"02 98875500"},{"$f":"'All hospitals'!F272","v":"NA"}]
[null,null,null,null,null,{"$f":"'All hospitals'!B273","v":"Norwest Private Hospital (Stock data TBC)"},{"$f":"'All hospitals'!C273","v":"Bella Vista"},{"$f":"'All hospitals'!E273","v":"02 8882 8555"},{"$f":"'All hospitals'!F273","v":"02 8882 8555"}]

{"sheet":"All hospitals","index":1,"n_rows":277,"n_cols":47,"rows_kept":277,"cut":false,"hidden":false,"merged":[[19,6,19,8],[20,6,20,8],[21,6,21,8],[22,6,22,8],[2,1,2,5],[3,1,3,5],[9,6,9,8],[10,6,10,8],[12,6,12,8],[13,6,15,8],[16,6,16,8],[17,6,17,8],[18,6,18,8],[11,6,11,8],[0,1,0,5],[5,6,5,8],[6,6,8,8],[27,42,27,43],[26,1,26,5],[26,6,26,21],[26,22,26,43],[27,6,27,9],[27,10,27,13],[27,14,27,17],[27,18,27,21],[27,22,27,25],[27,26,27,29],[27,30,27,33],[27,34,27,37],[27,38,27,39],[27,40,27,41],[27,1,29,1],[27,2,29,2],[28,6,28,9],[27,3,29,3],[27,4,29,4],[27,5,29,5],[28,34,28,37],[28,10,28,13],[28,14,28,17],[28,18,28,21],[28,22,28,25],[28,26,28,29],[28,30,28,33]]}
[null,"Last modified: 14/01/2021"]
[]
[null,"ANTIVENOM STOCK REGISTER "]
[null,"2020 December"]
[]
[null,"Click to jump to LHD or network",null,null,null,"Back to Index","CLICK BELOW TO GO TO INDIVIDUAL ANTIVENOM"]
[null,"ACT",null,null,null,null,"ANTIVENOMS THAT SHOULD BE IMMEDIATELY AVAILABLE IN NSW & ACT HOSPITALS"]
[null,"ALBURY WODONGA HEALTH"]
[null,"CENTRAL COAST LHD"]
[null,"FAR WEST LHD",null,null,null,null,"Brown snake"]
[null,"HUNTER NEW ENGLAND LHD",null,null,null,null,"Tiger snake"]
[null,"ILLAWARRA SHOALHAVEN LHD",null,null,null,null,"Polyvalent"]
[null,"MID NORTH COAST LHD",null,null,null,null,"Funnel-web spider"]
[null,"MURRUMBIDGEE LHD",null,null,null,null,"OTHER ANTIVENOMS THAT MAY BE AVAILABLE IN NSW & ACT HOSPITALS"]
[null,"NEPEAN BLUE MOUNTAINS LHD"]
[null,"NORTHERN NSW LHD"]
[null,"NORTHERN SYDNEY LHD",null,null,null,null,"Snake detection kit"]
[null,"SOUTH EASTERN SYDNEY LHD",null,null,null,null,"Red back spider"]
[null,"SOUTH WESTERN SYDNEY LHD",null,null,null,null,"Black snake"]
[null,"SOUTHERN NSW",null,null,null,null,"Death adder snake"]
[null,"ST VINCENT'S HEALTH",null,null,null,null,"Taipan snake"]
[null,"SYDNEY LHD",null,null,null,null,"Sea snake"]
[null,"SYDNEY CHILDREN'S HOSPITALS NETWORK",null,null,null,null,"Stone fish"]
[null,"WESTERN NSW LHD"]
[null,"WESTERN SYDNEY LHD"]
[null,"PRIVATE HOSPITALS AND OTHERS"]
[null,"HOSPITAL DETAILS",null,null,null,null,"ANTIVENOMS THAT SHOULD BE IMMEDIATELY AVAILABLE IN NSW & ACT HOSPITALS",null,null,null,null,null,null,null,null,null,null,null,null,null,null,null,"OTHER ANTIVENOMS THAT MAY BE AVAILABLE AT NSW & ACT HOSPITALS",null,null,null,null,null,null,null,null,null,null,null,null,null,null,null,null,null,null,null,null,null,"Last updated on"]
[null,"Hospital name:\n\n\"Stock data TBC\" indicates that the hospital has not provided an update to the stockholding data.                                          ","Town/city","Local Health District or Network","Phone number (business hours)","Phone number (after hours)","BROWN SNAKE",null,null,null,"TIGER SNAKE",null,null,null,"POLYVALENT",null,null,null,"FUNNEL-WEB SPIDER ",null,null,null,"SNAKE DETECTION KIT   ",null,null,null,"RED BACK SPIDER  ",null,null,null,"BLACK SNAKE",null,null,null,"DEATH ADDER SNAKE",null,null,null,"TAIPAN SNAKE",null,"SEA SNAKE ",null,"STONE FISH"]
[null,null,null,null,null,null,"Only one (1) vial of snake antivenom is required to treat both children and adults for all terrestrial snake envenomings.",null,null,null,"Only one (1) vial of snake antivenom is required to treat both children and adults for all terrestrial snake envenomings.",null,null,null," Only one (1) vial of snake antivenom is required to treat both children and adults for all terrestrial snake envenomings.",null,null,null,"Two (2) vials of funnel-web spider antivenom should be kept in all hospitals of areas where the spider occurs.",null,null,null,"Use of the snake venom detection kit is no longer recommended for the treatment of snake bite in Australia. ",null,null,null,"Red back spider antivenom is not recommended. Analgesia is the mainstay of therapy.",null,null,null,"Rarely used - tiger snake antivenom is recommended for red bellied black snake bites and polyvalent recommended for mulga snakes. Clinical toxicologist advice recommended. ",null,null,null,"Rarely used, polyvalent antivenom can be used instead. ",null,null,null,".",null,".",null,"."]
[null,null,null,null,null,null,"Number of vials","Location 1","Number of vials","Location 2","Number of vials","Location 1","Number of vials","Location 2","Number of vials","Location 1","Number of vials","Location 2","Number of vials","Location 1","Number of vials","Location 2","Number of kits","Location 1","Number of kits","Location 2","Number of vials","Location 1","Number of vials","Location 2","Number of vials","Location 1","Number of vials","Location 2","Number of vials","Location 1","Number of vials","Location 2","Number","Location","Number","Location","Number","Location"]
[null,"ACT"]
[null,"Calvary Public Hospital ","Canberra","ACT","02 6201 6265 ","0413 611 319",2,"After Hours Cupboard Fridge"," -"," -",2,"After Hours Cupboard Fridge"," -"," -",1,"After Hours Cupboard Fridge"," -"," -",2,"After Hours Cupboard Fridge"," -"," -",1,"After Hours Cupboard Fridge"," -"," -",4,"After Hours Cupboard Fridge"," -"," -",0," -"," -"," -",0," -"," -"," -",0," -",0," -",0," -","2020-11-25"]
[null,"The Canberra Hospital","Canberra","ACT","02 5124 0000","0401 710 831",2,"Pharmacy",6,"ED ",5,"Pharmacy",4,"ED ",2,"Pharmacy",1,"ED ",1,"Pharmacy",2,"ED "," -  "," - "," -"," - ",2,"Pharmacy",4,"ED ",1,"Pharmacy",1,"ED ",1,"Pharmacy",1,"ED",0," -",0," -",0," -","2020-12-02"]
[null,"-","-",null,"-","-","-","-","-","-","-","-","-","-","-","-","-","-","-","-","-","-","-","-","-","-","-","-","-","-","-","-","-","-","-","-","-","-","-","-","-","-","-","-"]
[null,"ALBURY WODONGA HEALTH"]
[null,"Albury Hospital","Albury","N/A","02 6058 4665","02 6058 4444",2,"ED -Trauma/Resus Room"," -"," -",2,"ED - Trauma/Resus Room"," -"," -",1,"ED - Trauma/Resus Room"," -"," -",0," -"," -"," -",0," -"," -"," -",6,"ED - Trauma/Resus Room",0,"-",0," -"," -"," -",0," -"," -"," -",0," -",0," -",0," -","2020-12-02"]
[null,"Wodonga Hospital","Wodonga","N/A","02 6051 7485","02 6051 7111",2,"ED Fridge"," -"," -",2,"ED Fridge"," -"," -",0," -"," -"," -",0," -"," -"," -",0," -"," -"," -",6,"ED Fridge"," -"," -",0," -"," -"," -",0," -"," -"," -",0," -",0," -",0," -","2020-12-02"]
[null,"-","-",null,"-","-","-","-","-","-","-","-","-","-","-","-","-","-","-","-","-","-","-","-","-","-","-","-","-","-","-","-","-","-","-","-","-","-","-","-","-","-","-","-"]
[null,"CENTRAL COAST LHD"]
[null,"Gosford Hospital","Gosford ","Central Coast","02 4320 2111","02 4320 2111 (page on-call pharmacist)",1,"ED ",2,"Pharmacy",1,"ED ",2,"Pharmacy",1,"ED ",1,"Pharmacy ",6,"ED",6,"Pharmacy",1,"ED",1,"Pharmacy ",1,"ED  ",1,"Pharmacy ",1,"ED",1,"Pharmacy ",1,"ED  ",1,"Pharmacy ",0," -",0," -",0," -","2020-12-10"]
[null,"Wyong Hospital","Wyong","Central Coast","02 4394 7930","02 4394 8000 (page on-call pharmacist)",2,"ED ",2,"Pharmacy  ",1,"ED ",1,"Pharmacy ",1,"ED ",1,"Pharmacy ",6,"ED ",6,"Pharmacy ",1,"ED",1,"Pharmacy ",3,"ED ",1,"Pharmacy ",1,"ED ",2,"Pharmacy ",1,"ED ",1,"Pharmacy ",0," -",0," -",0," -","2020-12-10"]
[null,"-","-",null,"-","-","-","-","-","-","-","-","-","-","-","-","-","-","-","-","-","-","-","-","-","-","-","-","-","-","-","-","-","-","-","-","-","-","-","-","-","-","-","-"]
[null,"FAR WEST LHD"]
[null,"Balranald Multi Purpose Service ","Balranald","Far West ","03 5071 9800","03 5071 9800",1,"Medication Room"," -"," -",1,"Medication Room"," -"," -",0," -"," -"," -",0," -"," -"," -",0," -"," -"," -",0," -"," -"," -",0," -"," -"," -",0," -"," -"," -",0," -",0," -",0," -","2020-12-09"]
[null,"Broken Hill Health Service","Broken Hill","Far West ","08 8080 1466  ","08 8080 1333 ",1,"ED"," - "," - ",0," -"," -"," -",1,"ED"," - "," - ",0," -"," -"," -",0," - "," -"," -",2,"ED"," - "," - ",0," - "," -"," -",0," -"," -"," -",0," -",0," -",0," -","2020-12-09"]
[null,"Dareton Primary Health Service (No ED services)","Dareton","Far West ","03 5021 7200","BH only",0," -"," -"," -",0," -"," -"," -",0," -"," -"," -",0," -"," -"," -",0," -"," -"," -",0," -"," -"," -",0," -"," -"," -",0," -"," -"," -",0," -",0," -",0," -","2020-12-09"]
[null,"Ivanhoe Health Service","Ivanhoe","Far West ","02 6990 2200","02 6990 2200",1,"Medication Room"," -"," -",0," -"," -"," -",1,"Medication Room"," -"," -",0," -"," -"," -",0," -"," -"," -",1,"Medication Room"," -"," -",0," -"," -"," -",0," -"," -"," -",0," -",0," -",0," -","2020-12-09"]
[null,"Menindee Health Service ","Menindee","Far West ","08 8091 4209","08 8091 4209",0," -"," -"," -",0," -"," -"," -",0," -"," -"," -",0," -"," -"," -",0," -"," -"," -",0," -"," -"," -",0," -"," -"," -",0," -"," -"," -",0," -",0," -",0," -","2020-12-09"]
[null,"Royal Flying Doctor Service Broken Hill","Broken Hill","Far West ","08 8080 3780","0437 370 702",0,"Medication Room"," -"," -",0," -"," -"," -",1,"Medication Room"," -"," -",0," -"," -"," -",0," -"," -"," -",0," -"," -"," -",0," -"," -"," -",0," -"," -"," -",0," -",0," -",0," -","2020-12-09"]
[null,"Tibooburra Health Service","Tibooburra","Far West ","08 8091 3302 ","08 8091 3302",1,"Medication Room"," -"," -",0," -"," -"," -",1,"Medication Room"," -"," -",0," -"," -"," -",0," -"," -"," -",0," -"," -"," -",0," -"," -"," -",0," -"," -"," -",0," -",0," -",0," -","2020-12-09"]
[null,"Wentworth District Hospital (No ED services)","Wentworth","Far West ","03 5027 2345","03 5027 2345",1," -"," -"," -",0," -"," -"," -",0," -"," -"," -",0," -"," -"," -",0," -"," -"," -",0," -"," -"," -",0," -"," -"," -",0," -"," -"," -",0," -",0," -",0," -","2020-12-09"]
[null,"White Cliffs Health Service","White Cliffs","Far West ","08 8091 6605 ","08 80916605",1,"Medication Room"," -"," -",0," -"," -"," -",1,"Medication Room"," -"," -",0," -"," -"," -",0," -"," -"," -",0," -"," -"," -",0," -"," -"," -",0," -"," -"," -",0," -",0," -",0," -","2020-12-09"]
[null,"Wilcannia Multi Purpose Service","Wilcannia","Far West ","08 8083 8777","08 8083 8777",1,"Medication Room"," -"," -",0," -"," -"," -",1,"Medication Room"," -"," -",0," -"," -"," -",0," -"," -"," -",1,"Medication Room",0,"-",0," -"," -"," -",0," -"," -"," -",0," -",0," -",0," -","2020-12-09"]
[null,"-","-","-","-","-","-","-","-","-","-","-","-","-","-","-","-","-","-","-","-","-","-","-","-","-","-","-","-","-","-","-","-","-","-","-","-","-","-","-","-","-","-","-"]
[null,"HUNTER NEW ENGLAND LHD"]
[null,"Armidale Rural Referral Hospital","Armidale","Hunter New England","02 6776 9500","02 6776 9500     ",1,"ED",0,"Pharmacy",1,"ED ",0,"Pharmacy",1," -"," -"," -",1,"ED",1,"Pharmacy",0," -"," -"," -",2,"ED ",1,"Pharmacy",0," -"," -"," -",0," -"," -"," -",0," -",0," -",0," -","2020-11-26"]
[null,"Barraba Multi Purpose Service","Barraba","Hunter New England","02 6782 2500","02 6782 2522",2,"ED "," -"," -",2,"ED "," -"," -",0," -"," -"," -",0," -"," -"," -",0," -"," -"," -",1,"ED"," -"," -",0," -"," -"," -",0," -"," -"," -",0," -",0," -",0," -","2020-12-09"]
[null,"Belmont Hospital ","Belmont","Hunter New England","02 4923 2249","02 4923 2000",1,"ED"," -"," -",1,"ED"," -"," -",0," -"," -"," -",4,"ED"," -"," -",0," -"," -"," -",0," -"," -"," -",0," -"," -"," -",0," -"," -"," -",0," -",0," -",0," -","2020-11-19"]
[null,"Bingara Multi Purpose Service","Bingara","Hunter New England","02 6728 0100","02 6728 0100",1,"Medication Room"," -"," -",1,"Medication room"," -"," -",0," -"," -"," -",0," -"," -"," -",0,"-"," -"," -",0," - "," -"," -",0," -"," -"," -",0," -"," -"," -",0," -",0," -",0," -","2020-12-09"]
[null,"Boggabri Multi Purpose Service","Boggabri","Hunter New England","02 6749 7000","02 67497000",1,"ED"," -"," -",1,"ED"," -"," -",0," -"," -"," -",0," -"," -"," -",0," -"," -"," -",0," - "," -"," -",0," -"," -"," -",0," -"," -"," -",0," -",0," -",0," -","2020-12-09"]
[null,"Bulahdelah Hospital NO STOCKS HELD","Bulahdelah","Hunter New England","02 4987 9900","02 4987 9900",0," -"," -"," -",0," -"," -"," -",0," -"," -"," -",0," -"," -"," -",0," -"," -"," -",0," -"," -"," -",0," -"," -"," -",0," -"," -"," -",0," -",0," -",0," -","n/a"]
[null,"Calvary Mater Hospital Newcastle ","Newcastle","Hunter New England","02 4921 1211","02 4921 1211",2,"ED",4,"Satellite Pharmacy",2,"ED",2,"Satellite Pharmacy",1,"ED",1,"Satellite Pharmacy",4,"ED",2,"Satellite Pharmacy",0," -"," -"," -",0," -"," -"," -",0," -"," -"," -",0," -"," -"," -",0," -",0," -",0," -","2020-12-02"]
[null,"Cessnock District Hospital","Cessnock","Hunter New England","02 4991 0555(hospital)\n02 4991 0456(pharmacy)","0438 212 862",1,"ED"," -"," -",1,"ED"," -"," -",0," -"," -"," -",2,"ED"," -"," -",0," -"," -"," -",0," -"," -"," -",0," -"," -"," -",0," -"," -"," -",0," -",0," -",0," -","2020-11-25"]
[null,"Denman Multi Purpose Service (Stock data TBC)","Denman","Hunter New England","02 6547 3999","02 6547 3905 ",1,"ED"," -"," -",1,"ED"," -"," -",0," -"," -"," -",0," -"," -"," -",0," -"," -"," -",0," -"," -"," -",0," -"," -"," -",0," -"," -"," -",0," -",0," -",0," -"]
[null,"Dungog Community Hospital","Dungog","Hunter New England","02 4939 2226","02 4992 1266",1,"ED"," -"," -",1,"ED"," -"," -",0," -"," -"," -",0," -"," -"," -",0," -"," -"," -",0," -"," -"," -",0," -"," -"," -",0," -"," -"," -",0," -",0," -",0," -","2020-11-25"]
[null,"Glen Innes District Hospital ","Glen Innes","Hunter New England","02 6739 0200","02 6739 0200",1,"ED"," -"," -",1,"ED"," -"," -",0," -"," -"," -",2,"ED"," -"," -",0," -"," -"," -",0,"ED"," -"," -",0," -"," -"," -",0," -"," -"," -",0," -",0," -",0," -","2020-11-26"]
[null,"Gloucester Soldiers Memorial Hospital (Stock data TBC)","Gloucester","Hunter New England","02 6538 5000","02 6538 5000",2,"ED"," -"," -",2,"ED"," -"," -",1,"ED"," -"," -",0," -"," -"," -",0," -"," -"," -",0," -"," -"," -",0," -"," -"," -",0," -"," -"," -",0," -",0," -",0," -"]
[null,"Gunnedah Hospital","Gunnedah","Hunter New England","02 6741 8000","02 6741 8031",2,"ED","-","-",2,"General Ward","-","-",0,"-","-","-",0,"-","-","-",0,"-","-","-",0," - ","-","-",0,"-","-","-",0,"-","-","-",0,"-",0,"-",0,"-","2020-12-09"]
[null,"Guyra Multi Purpose Service ","Guyra","Hunter New England","02 6738 4000","02 6738 4000",1,"General Ward"," -"," -",1,"General Ward"," -"," -",0," -"," -"," -",1,"General Ward"," -"," -",0," -"," -"," -",0,"General Ward"," -"," -",0," -"," -"," -",0," -"," -"," -",0," -",0," -",0," -","2020-11-26"]
[null,"Inverell Hospital ","Inverell","Hunter New England","02 6721 9500","02 6721 9540",1,"ED"," -"," -",1,"ED"," -"," -",1,"ED"," -"," -",2,"ED"," -"," -",0," -"," -"," -",2,"ED"," -"," -",0," -"," -"," -",0," -"," -"," -",0," -",0," -",0," -","2020-12-09"]
[null,"John Hunter Hospital ","Newcastle","Hunter New England","02 4921 3635","0408 263 586",2,"ED",1,"Primary Retrieval Team Pelican",2,"ED",1,"Primary Retrieval Team Pelican ",1,"ED",1,"Primary Retrieval Team Pelican ",4,"ED",2,"Primary Retrieval Team Pelican",0,"-","-","-",0,"-","-","-",0,"-","-","-",0,"-","-","-",0,"-",0,"-",0,"-","2020-11-17"]
[null,"Kurri Kurri Hospital","Kurri Kurri","Hunter New England","02 4936 3234","02 4936 3200",1,"ED"," -"," -",1,"ED"," -"," -",0," -"," -"," -",0,"ED"," -"," -",0," -"," -"," -",0," -"," -"," -",0," -"," -"," -",0," -"," -"," -",0," -",0," -",0," -","2020-11-25"]
[null,"Manning Base Hospital","Taree","Hunter New England","02 6592 9244","02 6592 9014",2,"ED"," -"," -",2,"ED"," -"," -",2,"ED"," -"," -",2,"ED"," -"," -",2,"ED"," -"," -",0," -"," -"," -",0,"-"," -"," -",0," -"," -"," -",0," -",0," -",0," -","2020-12-15"]
[null,"Manilla Hospital","Manilla","Hunter New England","02 6785 4000","02 6785 4000",1,"ED"," -"," -",1,"ED"," -"," -",0," -"," -"," -",0," -"," -"," -",0," -"," -"," -",0," - "," -"," -",0," -"," -"," -",0," -"," -"," -",0," -",0," -",0," -","2020-12-09"]
[null,"Merriwa Multi Purpose Service (Stock data TBC)","Merriwa","Hunter New England","02 6532 5000","02 6532 5000",1,"ED"," -"," -",1,"ED"," -"," -",0," -"," -"," -",0," -"," -"," -",0," -"," -"," -",0," -"," -"," -",0," -"," -"," -",0," -"," -"," -",0," -",0," -",0," -"]
[null,"Moree Hospital ","Moree","Hunter New England","02 6757 0031","02 6757 0031",1,"ED","-","-",1,"ED","-","-",1,"ED","-","-",2,"ED","-","-",0,"ED","-","-",2,"ED","-","-",1,"ED","-","-",0,"-","-","-",0,"-",0,"-",0,"-","2020-12-09"]
[null,"Muswellbrook Hospital (Stock data TBC)","Muswellbrook","Hunter New England","02 6542 2000","02 6542 2000",2,"ED"," -"," -",2,"ED"," -"," -",0," -"," -"," -",1,"ED"," -"," -",0," -"," -"," -",0," -"," -"," -",0," -"," -","-",0," -"," -","-",0," -",0," -",0," -"]
[null,"Narrabri Hospital","Narrabri","Hunter New England","02 6799 2800","02 6799 2105",1,"ED","-","-",1,"ED","-","-",0,"-","-","-",0,"-","-","-",0,"-","-","-",2,"ED","-","-",1,"ED","-","-",0,"-","-","-",0,"-",0,"-",0,"-","2020-12-09"]
[null,"Quirindi Hospital","Quirindi","Hunter New England","02 6746 0200","02 6746 0200",2,"ED "," -"," -",2,"ED "," -"," -",0," -"," -"," -",0," -"," -"," -",0," -"," -"," -",0," - "," -"," -",0," -"," -"," -",0," -"," -"," -",0," -",0," -",0," -","2020-12-09"]
[null,"Scott Memorial Hospital (Stock data TBC)","Scone","Hunter New England","02 6540 2100","02 6540 2100",1,"ED",1,"Pharmacy",1,"ED",1,"Pharmacy",1,"ED"," -"," -",0," -"," -"," -",0," -"," -"," -",0," -"," -"," -",0," -"," -"," -",0," -"," -"," -",0," -",0," -",0," -"]
[null,"Singleton District Hospital (Stock data TBC)","Singleton","Hunter New England","02 6571 9222","02 6571 9222",1,"ED"," -"," -",1,"ED"," -"," -",0," -"," -"," -",2,"ED"," -"," -",0," -"," -"," -",0," -"," -"," -",0," -"," -"," -",0," -"," -"," -",0," -",0," -",0," -","2019-12-03"]
[null,"Tamworth Rural Referral Hospital ","Tamworth","Hunter New England","02 6727 7370 ","02 6767 7700",4,"ED Resus  ",2,"Pharmacy",1,"ED Resus  ",2,"Pharmacy",1,"ED Resus  ",1,"Pharmacy",4,"ED Resus  ",1,"Pharmacy",0,"-","-","-",2,"ED Resus",1,"Pharmacy",1,"ED Resus",1,"Pharmacy",0,"-","-","-",0,"-",0,"-",0,"-","2020-12-09"]
[null,"Tenterfield/Prince Albert Hospital ","Tenterfield","Hunter New England","02 6739 5200","02 6739 5200",1,"General Ward"," -"," -",1,"General Ward"," -"," -",1," -"," -"," -",2," -"," -"," -",0," -"," -"," -",2,"General Ward"," -"," -",0," -"," -"," -",0," -"," -"," -",0," -",0," -",0," -","2020-11-26"]
[null,"The Maitland Hospital","Maitland","Hunter New England","02 4939 2226","02 4939 2000",1,"ED"," -"," -",1,"ED"," -"," -",0," -"," -"," -",2,"ED",0," -",0," -"," -"," -",0," -"," -"," -",0," -"," -"," -",0," -"," -"," -",0," -",0," -",0," -","2020-11-25"]
[null,"Tingha Multi Purpose Service NO STOCKS HELD","Tingha","Hunter New England","02 6723 3900","02 6723 9000",0," -"," -"," -",0," -"," -"," -",0," -"," -"," -",0," -"," -"," -",0," -"," -"," -",0," -"," -"," -",0," -"," -"," -",0," -"," -"," -",0," -",0," -",0," -","2020-11-26"]
[null,"Tomaree Community Hospital (Stock data TBC)","Tomaree","Hunter New England","02 4923 2249","02 4923 2000",1,"ED"," -"," -",1,"ED"," -"," -",0," -"," -"," -",2,"ED"," -"," -",0," -"," -"," -",0," -"," -"," -",0," -"," -"," -",0," -"," -"," -",0," -",0," -",0," -"]
[null,"Vegetable Creek Multipurpose Service","Emmaville","Hunter New England","02 6734  7900","02 6734 7900",1,"General Ward"," -"," -",1,"General Ward"," -"," -",0," -"," -"," -",2," -"," -"," -",0," -"," -"," -",0," -"," -"," -",0," -"," -"," -",0," -"," -"," -",0," -",0," -",0," -","2020-11-26"]
[null,"Walcha Multi Purpose Service ","Walcha","Hunter New England","02 6777 4200","02 6777 4200",1,"Medication Room"," -"," -",1,"Medication Room"," -"," -",0," -"," -"," -",2,"Medication Room"," -"," -",0," -"," -"," -",1,"Medication Room"," -"," -",0," -"," -"," -",0," -"," -"," -",0," -",0," -",0," -","2020-12-09"]
[null,"Warialda Multi Purpose Service ","Warialda","Hunter New England","02 6728 9000","0428 753 175",1,"ED ","-","-",1,"ED ","-","-",0,"-","-","-",0,"-","-","-",0,"-","-","-",0,"ED ","-","-",0,"-","-","-",0,"-","-","-",0,"-",0,"-",0,"-","2020-12-09"]
[null,"Wee Waa Community Hospital","Wee Waa","Hunter New England","02 6795 0400","02 6795 0400",2,"Medication Room","-","-",1,"Medication Room","-","-",0,"-","-","-",0,"-","-","-",0,"-","-","-",2,"Medication Room","-","-",0,"-","-","-",0,"-","-","-",0,"-",0,"-",0,"-","2020-12-09"]
[null,"Werris Creek Multi Purpose Service NO STOCKS HELD","Werris Creek","Hunter New England","02 6768 6600","02 6768 6600",0," -"," -"," -",0," -"," -"," -",0," -"," -"," -",0," -"," -"," -",0," -"," -","-",0," -"," -"," -",0," -"," -"," -",0," -"," -","-",0,"-",0,"-",0," -","2020-12-09"]
[null,"Westpac Rescue Helicopter Service","Belmont Helicopter Base","Hunter New England","02 4952 0000","02 4952 0055",1,"Primary retrieval team Pelican"," -"," -",1,"Primary retrieval team Pelican"," -"," -",1,"Primary retrieval team Pelican"," -"," -",2,"Primary retrieval team Pelican"," -"," -",0," -"," -"," -",0," -"," -"," -",0," -"," -"," -",0," -"," -"," -",0," -",0," -",0," -","2020-12-29"]
[null,"Wilson Memorial Hospital - Murrurundi (Stock data TBC)","Murrurundi","Hunter New England","02 6546 9000","02 6546 9000",1,"ED"," -"," -",1,"ED"," -"," -",0," -"," -"," -",1,"ED"," -"," -",0," -"," -"," -",0," -"," -"," -",0," -"," -"," -",0," -"," -"," -",0," -",0," -",0," -"]
[null,"-","-",null,"-","-","-","-","-","-","-","-","-","-","-","-","-","-","-","-","-","-","-","-","-","-","-","-","-","-","-","-","-","-","-","-","-","-","-","-","-","-","-","-"]
[null,"ILLAWARRA SHOALHAVEN LHD"]
[null,"Bulli Hospital NO STOCKS HELD","Bulli","Illawarra Shoalhaven","02 4284 4344","02 4222 5000 (request Wollongong Hospital on-call pharmacist)",0," -"," -"," -",0," -"," -"," -",0," -"," -"," -",0," -"," -"," -",0," -"," -"," -",0," -"," -"," -",0," -"," -"," -",0," -"," -"," -",0," -",0," -",0," -","2019-12-06"]
[null,"Coledale Hospital NO STOCKS HELD","Thirroul","Illawarra Shoalhaven","02 4267 0111","02 4222 5000 (request Wollongong Hospital on-call pharmacist)"," -"," -"," -"," -"," -"," -"," -"," -"," -"," -"," -"," -"," -"," -"," -"," -"," -"," -"," -"," -"," -"," -"," -"," -"," -"," -"," -"," -"," -"," -"," -"," -"," -"," -"," -"," -"," -"," -","2019-12-06"]
[null,"David Berry Hospital NO STOCKS HELD","Berry","Illawarra Shoalhaven","02 4464 1001"," -"," -"," -"," -"," -"," -"," -"," -"," -"," -"," -"," -"," -"," -"," -"," -"," -"," -"," -"," -"," -"," -"," -"," -"," -"," -"," -"," -"," -"," -"," -"," -"," -"," -"," -"," -"," -"," -"," -"]
[null,"Kiama Hospital & Community Health Service NO STOCKS HELD","Kiama","Illawarra Shoalhaven","02 4233 1033"," -"," -"," -"," -"," -"," -"," -"," -"," -"," -"," -"," -"," -"," -"," -"," -"," -"," -"," -"," -"," -"," -"," -"," -"," -"," -"," -"," -"," -"," -"," -"," -"," -"," -"," -"," -"," -"," -"," -"]
[null,"Milton Ulladulla Hospital","Milton","Illawarra Shoalhaven","02 4454 9100","02 4454 9133 (ED)",2,"ED"," -"," -",2,"ED"," -"," -",1,"ED"," -"," -",4,"ED"," -"," -",1,"ED"," -"," -",4,"ED"," -"," -",0," -"," -"," -",0," -"," -"," -",0," -",0," -",0," -","2020-12-04"]
[]
[null,"Port Kembla Hospital - NO STOCKS HELD","Warrawong","Illawarra Shoalhaven","02 4223 8000","02 4222 5000 (request Wollongong Hospital on-call pharmacist)"," -"," -"," -"," -"," -"," -"," -"," -"," -"," -"," -"," -"," -"," -"," -"," -"," -"," -"," -"," -"," -"," -"," -"," -"," -"," -"," -"," -"," -"," -"," -"," -"," -"," -"," -"," -"," -"," -","2019-12-06"]
[null,"Shellharbour Hospital","Mt Warrigal","Illawarra Shoalhaven","02 4295 2516","02 4295 2500 (switch) - ask to page ADON",1,"After Hours Cupboard"," -"," -",1,"After Hours Cupboard"," -"," -",1,"After Hours Cupboard"," -"," -",2,"After Hours Cupboard"," -"," -",1,"After Hours Cupboard"," -"," -",2,"After Hours Cupboard"," -"," -",0," -"," -"," -",0," -"," -"," -",0," -",0," -",0," -","2020-11-19"]
[null,"Shoalhaven Hospital ","Nowra","Illawarra Shoalhaven","02 4423 9734","02 4423 9738/ 0427400177 (after hours patient flow manager)",2,"ED",2,"Pharmacy ",3,"ED",2,"Pharmacy ",1,"ED"," -"," -",2,"ED",2,"Pharmacy",1,"ED",1,"Pharmacy",2,"ED",2,"Pharmacy ",0," -"," -"," -",1,"ED"," -"," -",0," -",0," -",0," -","2020-12-04"]
[null,"Wollongong Hospital","Wollongong ","Illawarra Shoalhaven","02 4222 5340","02 4222 5000",1,"ED",1,"AHDC",1,"ED",1,"AHDC",1,"ED",1,"AHDC",2,"ED",2,"AHDC",0," -"," -"," -","-","-",2,"Pharmacy ",0," -",0," -",0," -"," -"," -",0," -",0," -",0," -","2021-01-13"]
[null,"-","-",null,"-","-","-","-","-","-","-","-","-","-","-","-","-","-","-","-","-","-","-","-","-","-","-","-","-","-","-","-","-","-","-","-","-","-","-","-","-","-","-","-"]
[null,"MID NORTH COAST LHD"]
[null,"Bellingen River District Hospital ","Bellingen","Mid North Coast","02 6659 5800","02 6656 7324",1,"ED"," -"," -",1,"ED"," -"," -",2,"ED"," -"," -",2,"ED"," -"," -",0," - "," -"," -",2,"ED"," -"," -",0," -"," -"," -",0," -"," -"," -",0," -",0," -",0," -","2020-12-10"]
[null,"Coffs Harbour Health Campus ","Coffs Harbour","Mid North Coast","02 6656 7000","02 6656 7324",3,"ED Resus Fridge"," -"," -",3,"ED Resus Fridge"," -"," -",3,"ED Resus Fridge ",1,"Pharmacy",8,"ED Resus Fridge",0,"Pharmacy",0," - "," - "," - ",6,"ED Resus Fridge",1,"Pharmacy",1,"ED Resus Fridge"," -"," -",2,"ED Resus Fridge"," -"," -",0," -",1,"ED Resus Fridge",2,"ED Resus Fridge","2020-12-10"]
[null,"Dorrigo Multi Purpose Service","Dorrigo","Mid North Coast","02 6692 7700","02 6656 7324",1,"General Ward "," -"," -",1,"General Ward "," -"," -",2,"General Ward"," -"," -",3,"General ward"," -"," -",0," -"," -"," -",2,"General Ward"," -","-",0," -"," -"," -",0," -"," -"," -",0," -",0," -",0," -","2020-12-10"]
[null,"Kempsey District Hospital","Kempsey","Mid North Coast","02 6561 2600","02 5524 2000",1,"ED Resus Fridge"," -"," -",1,"ED Resus Fridge"," -"," -",1,"ED Resus Fridge"," -"," -",4,"ED"," -"," -",0," -"," -"," -",2,"ED Resus Fridge",1,"Pharmacy",0," -"," -"," -",1,"Pharmacy"," -"," -",0," -",0," -",0," -","2020-12-09"]
[null,"Macksville District Hospital ","Macksville","Mid North Coast","02 6568 0666","02 6656 7324",1,"ED"," -"," -",1,"ED"," -"," -",2,"ED"," -"," -",2,"ED"," -"," -",0," -"," -"," -",2,"ED"," -"," -",0," -"," -"," -",0," -"," -"," -",0," -",0," -",0," -","2020-12-10"]
[null,"Port Macquarie Base Hospital","Port Macquarie","Mid North Coast","02 5524 2206","02 5524 2000",2,"After Hours Cupboard"," -"," -",2,"After Hours Cupboard"," -"," -",2,"After Hours Cupboard"," -"," -",2,"ED"," -"," -",0," -"," -"," -",2,"After Hours Cupboard"," -"," -",1,"After Hours Cupboard"," -"," -",1,"After Hours Cupboard"," -"," -",0," -",0," -",0," -","2020-12-09"]
[null,"Wauchope Hospital (Stock data TBC)","Wauchope","Mid North Coast","02 5524 2206","02 5524 2000",0," -"," -"," -",0," -"," -"," -",0," -"," -"," -",0," -"," -"," -",0," -"," -"," -",1,"General Ward Fridge"," -"," -",0," -"," -"," -",0," -"," -"," -",0," -",0," -",0," -","2019-12-18"]
[null,"-","-",null,"-","-","-","-","-","-","-","-","-","-","-","-","-","-","-","-","-","-","-","-","-","-","-","-","-","-","-","-","-","-","-","-","-","-","-","-","-","-","-","-"]
[null,"MURRUMBIDGEE LHD"]
[null,"Barham Koondrook Health Service","Barham","Murrumbidgee","03 5451 1000","03 5451 1000",1,"ED Fridge"," -"," -",1,"ED Fridge"," -"," -",0," -"," -"," -",0," -"," -"," -",0," -"," -"," -",0,"-"," -"," -",0," -"," -"," -",0," -"," -"," -",0," -",0," -",0," -","2020-12-10"]
[null,"Batlow Adelong Multi Purpose Service","Batlow","Murrumbidgee","02 6941 4333","02 6941 4333",1,"ED Fridge"," -"," -",1,"ED Fridge"," -"," -",0," -"," -"," -",0,"-"," -"," -",0," -"," -"," -",0," - "," -"," -",0," -"," -"," -",0," -"," -"," -",0," -",0," -",0," -","2020-12-10"]
[null,"Berrigan Multi Purpose Service","Berrigan","Murrumbidgee","03 5888 5300","03 5888 5300",1,"ED Fridge"," -"," -",1,"ED Fridge"," -"," -",0," -"," -"," -",0," -"," -"," -",0," -"," -"," -",0,"-"," -"," -",0," -"," -"," -",0," -"," -"," -",0," -",0," -",0," -","2020-12-10"]
[null,"Boorowa Multi Purpose Service Hospital","Boorowa","Murrumbidgee","02 6380 2100","02 6380 2100",1,"ED"," -"," -",1,"ED Fridge"," -"," -",0," -"," -"," -",0," -"," -"," -",0," -"," -"," -",0," - "," -"," -",0," -"," -"," -",0," -"," -"," -",0," -",0," -",0," -","2020-12-10"]
[null,"Coolamon-Ganmain Multi Purpose Service","Coolamon","Murrumbidgee","02 6927 3303","02 6927 3303",1,"ED"," -"," -",1,"ED Fridge"," -"," -",0," -"," -"," -",0," -"," -"," -",0," -"," -"," -",0,"-"," -"," -",0," -"," -"," -",0," -"," -"," -",0," -",0," -",0," -","2020-12-10"]
[null,"Cootamundra District Hospital","Cootamundra","Murrumbidgee","02 6942 0444","02 6942 0444",1,"General ward medication fridge"," -"," -",1,"General ward medication fridge"," -"," -",0," -"," -"," -",0," -"," -"," -",0," -"," -"," -",0," - "," -"," -",0," -"," -"," -",0," -"," -"," -",0," -",0," -",0," -","2020-12-10"]
[null,"Corowa District Hospital","Corowa","Murrumbidgee","02 6033 7555","02 6033 7555",1,"ED Fridge"," - "," - ",1,"ED Fridge"," - "," - ",0," -"," -"," -",0," -"," -"," -",0," -"," -"," -",0,"-",2,"Pharmacy Fridge",0," -"," -"," -",0," -"," -"," -",0," -",0," -",0," -","2020-12-10"]
[null,"Culcairn Multi Purpose Service","Culcairn","Murrumbidgee","02 6029 8203","02 6029 8203",1,"ED Treatment Room Fridge"," -"," -",1,"ED Fridge"," -"," -",0," -"," -"," -",0," -"," -"," -",0," -"," -"," -",0,"-"," -"," -",0," -"," -"," -",0," -"," -"," -",0," -",0," -",0," -","2020-12-10"]
[null,"Deniliquin Hospital","Deniliquin","Murrumbidgee","03 5882 2843","03 5882 2834",2,"ED"," -"," -",2,"ED Fridge"," -"," -",1,"ED Fridge"," -"," -",0," -"," -"," -",0,"-"," -"," -",2,"ED Fridge"," -"," -",0," -"," -"," -",0," -"," -"," -",0," -",0," -",0," -","2020-12-10"]
[null,"Finley Hospital","Finley","Murrumbidgee","03 5883 1133","03 5883 1133",1,"ED"," -"," -",1,"ED Fridge"," -"," -",0," -"," -"," -",0," -"," -"," -",0," -"," -"," -",0,"-"," -"," -",0," -"," -"," -",0," -"," -"," -",0," -",0," -",0," -","2020-12-10"]
[null,"Griffith Base Hospital","Griffith NSW","Murrumbidgee","02 6969 5550","02 6969 5600",2,"ED Fridge",1," Pharmacy",2,"ED Fridge",1,"Pharmacy Fridge",1,"ED Fridge",1,"Pharmacy Fridge",0,"-"," -"," -",0,"-"," -"," -",2,"ED Fridge",2,"Pharmacy Fridge",0," -"," -"," -",0," -"," -"," -",0," -",0," -",0," -","2020-12-10"]
[null,"Gundagai Multi Purpose Service","Gundagai","Murrumbidgee","02 6950 6300","02 6950 6300",1,"ED Fridge"," -"," -",1,"ED Fridge"," -"," -",0," -"," -"," -",0," -"," -"," -",0," -"," -"," -",0,"-"," -"," -",0," -"," -"," -",0," -"," -"," -",0," -",0," -",0," -","2020-12-10"]
[null,"Hay Hospital","Hay","Murrumbidgee","02 6990 8700","02 6990 8700",1,"ED Fridge"," -"," -",1,"ED Fridge"," -"," -",0," -"," -"," -",0," -"," -"," -",0," -"," -"," -",0,"ED Fridge - data changed to zero after stock expired 04/20"," -"," -",0," -"," -"," -",0," -"," -"," -",0," -",0," -",0," -","2020-12-10"]
[null,"Henty Multi Purpose Service","Henty","Murrumbidgee","02 6929 4999","02 6929 4999",1,"ED Fridge"," -"," -",1,"ED Fridge"," -"," -",0," -"," -"," -",0," -"," -"," -",0," -"," -"," -",0,"-"," -"," -",0," -"," -"," -",0," -"," -"," -",0," -",0," -",0," -","2020-12-10"]
[null,"Hillston Multi Purpose Service","Hillston, NSW","Murrumbidgee","02 6961 7200","02 6961 7200",1,"Treatment Room Fridge"," -"," -",1,"Treatment Room Fridge"," -"," -",0," -"," -"," -",0," -"," -"," -",0," -"," -"," -",0," - "," -"," -",0," -"," -"," -",0," -"," -"," -",0," -",0," -",0," -","2020-12-10"]
[null,"Holbrook Hospital","Holbrook","Murrumbidgee","02 6036 2522","02 6036 2522",1,"ED Fridge"," -"," -",1,"ED Fridge"," -"," -",0," -"," -"," -",0," -"," -"," -",0," -"," -"," -",0,"-"," -"," -",0," -"," -"," -",0," -"," -"," -",0," -",0," -",0," -","2020-12-10"]
[null,"Jerilderie Multi Purpose Service","Jerilderie","Murrumbidgee","03 5886 1300","03 5886 1300",1,"ED Fridge"," -"," -",1,"ED Fridge"," -"," -",0," -"," -"," -",0," -"," -"," -",0," -"," -"," -",0,"-"," -"," -",0," -"," -"," -",0," -"," -"," -",0," -",0," -",0," -","2020-12-10"]
[null,"Junee Multi Purpose Service","Junee","Murrumbidgee","02 6924 8200","02 6924 8200",1,"ED Fridge"," -"," -",1,"ED Fridge"," -"," -",0," -"," -"," -",0," -"," -"," -",0," -"," -"," -",0,"-"," -"," -",0," -"," -"," -",0," -"," -"," -",0," -",0," -",0," -","2020-12-10"]
[null,"Lake Cargelligo Multi Purpose Service","Lake Cargelligo","Murrumbidgee","02 6898 0200","02 6898 0200",2,"Treatment Room Fridge"," -"," -",1,"Treatment Room Fridge"," -"," -",1,"Treatment Room Fridge"," -"," -",0," -"," -"," -",0," -"," -"," -",0," - "," -"," -",0," -"," -"," -",0," -"," -"," -",0," -",0," -",0," -","2020-12-10"]
[null,"Leeton District Hospital","Leeton","Murrumbidgee","02 6953 1111","02 6953 1111",1,"ED Fridge"," -"," -",1,"ED Fridge"," -"," -",0," -"," -"," -",0," -"," -"," -",0," -"," -"," -",0,"-"," -"," -",0," -"," -"," -",0," -"," -"," -",0," -",0," -",0," -","2020-12-10"]
[null,"Lockhart Hospital","Lockhart","Murrumbidgee","02 6930 7100","02 6930 7100",1,"ED Fridge"," -"," -",1,"ED Fridge"," -"," -",0," -"," -"," -",0," -"," -"," -",0," -"," -"," -",0,"-"," -"," -",0," -"," -"," -",0," -"," -"," -",0," -",0," -",0," -","2020-12-10"]
[null,"Murrumburrah-Harden Hospital","Harden","Murrumbidgee","02 6386 2200","02 6386 2200",1,"ED Fridge"," -"," -",1,"ED Fridge"," -"," -",0," -"," -"," -",0," -"," -"," -",0," -"," -"," -",0," - "," -"," -",0," -"," -"," -",0," -"," -"," -",0," -",0," -",0," -","2020-12-10"]
[null,"Narrandera District Hospital","Narrandera","Murrumbidgee","02 6951 0200","02 6951 0200",1,"General ward medication fridge"," -"," -",1,"General ward medication fridge"," -"," -",0," -"," -"," -",0," -"," -"," -",0," -"," -"," -",0,"General ward medication fridge -  data changed to zero after stock expired 04/20"," -"," -",0," -"," -"," -",0," -"," -"," -",0," -",0," -",0," -","2020-12-10"]
[null,"Temora District Hospital ","Temora","Murrumbidgee","02 6980 0200","02 6980 0200",1,"ED Fridge"," -"," -",1,"ED Fridge"," -"," -",0," -"," -"," -",0," -"," -"," -",0," -"," -"," -",0," - "," -"," -",0," -"," -"," -",0," -"," -"," -",0," -",0," -",0," -","2020-12-10"]
[null,"Tocumwal Hospital","Tocumwal","Murrumbidgee","03 5874 2166","03 5874 2166",1,"General Ward Medication Fridge"," -"," -",1,"General Ward Medication Fridge"," -"," -",0," -"," -"," -",0," -"," -"," -",0," -"," -"," -",0,"General ward medication fridge"," -"," -",0," -"," -"," -",0," -"," -"," -",0," -",0," -",0," -","2020-12-10"]
[null,"Tumbarumba Multi Purpose Service","Tumbarumba","Murrumbidgee","02 6948 9600","02 6948 9600",1,"ED Fridge"," -"," -",1,"ED Fridge"," -"," -",0," -"," -"," -",0," -"," -"," -",0," -"," -"," -",0,"ED Fridge -  data changed to zero after stock expired 04/20"," -"," -",0," -"," -"," -",0," -"," -"," -",0," -",0," -",0," -","2020-12-10"]
[null,"Tumut District Hospital","Tumut","Murrumbidgee","02 6947 0800","02 6947 0800",1,"ED Fridge"," -"," -",1,"ED Fridge"," -"," -",0,"-"," -"," -",0," -"," -"," -",0," -"," -"," -",0,"ED Fridge -  data changed to zero after stock expired 04/20"," -"," -",0," -"," -"," -",0," -"," -"," -",0," -",0," -",0," -","2020-12-10"]
[null,"Urana Multi Purpose Service","Urana","Murrumbidgee","02 6920 8106","02 6920 8106",1,"ED Fridge"," -"," -",1,"ED Fridge"," -"," -",0," -"," -"," -",0," -"," -"," -",0," -"," -"," -",0,"ED Fridge"," -"," -",0," -"," -"," -",0," -"," -"," -",0," -",0," -",0," -","2020-12-10"]
[null,"Wagga Wagga Base Hospital ","Wagga Wagga","Murrumbidgee","02 5943 1000","0429 306 566",4,"After Hours Pharmacy Fridge"," -"," -",4,"After Hours Fridge"," -"," -",2,"After Hours Cupboard",0,"Pharmacy",2,"After Hours Pharmacy Fridge"," -"," -",0,"-"," -"," -",2,"ED",4,"After Hours Pharmacy Fridge",0," -"," -"," -",0," -"," -"," -",0," -",0," -",0," -","2020-12-10"]
[null,"Wyalong Hospital","West Wyalong","Murrumbidgee","02 6979 0000","02 6979 0000",1,"ED Fridge"," -"," -",1,"ED Fridge"," -"," -",0," -"," -"," -",0," -"," -"," -",0," -"," -"," -",0,"-"," -"," -",0," -"," -"," -",0," -"," -"," -",0," -",0," -",0," -","2020-12-10"]
[null,"Young District Hospital","Young","Murrumbidgee","02 6382 8888","02 6382 8888",1,"ED"," -"," -",1,"ED"," -"," -",1,"ED"," -"," -",0," -"," -"," -",0,"-"," -"," -",2,"ED"," -"," -",0," -"," -"," -",0," -"," -"," -",0," -",0," -",0," -","2020-12-10"]
[null,"-","-",null,"-","-","-","-","-","-","-","-","-","-","-","-","-","-","-","-","-","-","-","-","-","-","-","-","-","-","-","-","-","-","-","-","-","-","-","-","-","-","-","-"]
[null,"NEPEAN BLUE MOUNTAINS LHD & OTHER"]
[null,"Blue Mountains District Hospital ","Katoomba","Nepean Blue Mountains","02 4784 6500","0412 117 269",2,"ED"," -"," -",2,"ED"," -"," -",1,"ED"," -"," -",4,"ED"," -"," -",1,"Pathology"," -"," -",0," -"," -"," -",0," -"," -"," -",0," -"," -"," -",0," -",0," -",0," -","2020-12-02"]
[null,"Hawkesbury District Health Service","Windsor",null,"02 4560 5529","02 4560 5555 (Ask for AHNM)",5,"PHARMACY"," -"," -",4,"PHARMACY"," -"," -",1,"PHARMACY"," -"," -",4,"Pharmacy"," -"," -",1,"Pathology"," -"," -",4,"Pharmacy"," -"," -",0," -"," -"," -",0," -"," -"," -",0," -",0," -",0," -","2020-12-07"]
[null,"Lithgow Hospital","Lithgow","Nepean Blue Mountains","02 6350 2370","02 6350 2300 (switch)",2,"ED"," -"," -",2,"ED"," -"," -",1,"ED"," -"," -",2,"ED"," -"," -",1,"ED"," -"," -",4,"ED"," -"," -",1,"ED"," -"," -",0," -"," -"," -",0," -",0," -",0," -","2020-11-27"]
[null,"Nepean Hospital ","Penrith","Nepean Blue Mountains","02 4734 2256"," 0412 235 766",2,"ED-Resus",2,"Main Pharmacy",2,"ED-Resus",0,"Main Pharmacy",2,"ED-Resus",2,"Main Pharmacy",2,"ED-Resus",2,"Main Pharmacy",0," - ",0," - ",4,"ED-Resus",2,"Main Pharmacy",1,"ED-Resus",2,"Main Pharmacy",1,"ED-Resus",1,"Main Pharmacy",0," -",0," -",0," -","2020-11-24"]
[null,"-","-",null,"-","-","-","-","-","-","-","-","-","-","-","-","-","-","-","-","-","-","-","-","-","-","-","-","-","-","-","-","-","-","-","-","-","-","-","-","-","-","-","-"]
[null,"NORTHERN NSW LHD"]
[null,"Ballina Hospital ","Ballina","Northern NSW","02 6620 6400","02 6620 6202",1,"ED"," -"," -",1,"ED "," -"," -",0," -"," -"," -",0," -"," -"," -",0," -"," -"," -",3,"ED","-","-",0," -"," -"," -",0," -"," -"," -",0," -",0," -",0," -","2020-12-04"]
[null,"Bonalbo Hospital ","Bonalbo","Northern NSW","02 6665 4100","02 6665 4100",1,"ED fridge"," -"," -",1,"ED fridge"," -"," -",0," -"," -"," -",0," -"," -"," -",0," -"," -"," -",0,"(ED - not re-stocking after expiry 04/2020)"," -"," -",0," -"," -"," -",0," -"," -"," -",0," -",0," -",0," -","2020-11-17"]
[null,"Byron Central Hospital (Stock data TBC)","Byron Bay","Northern NSW","02 6639 9400","02 6639 9400",1,"ED"," -"," -",1,"ED"," -"," -",0," -"," -"," -",2,"ED"," -"," -",0," -"," -"," -",0,"-"," -"," -",0," -"," -"," -",0," -"," -"," -",0," -",0," -",0," -"]
[null,"Casino Hospital","Casino","Northern NSW","02 6660 0642","02 6660 0642",1,"ED"," -"," -",1,"ED"," -"," -",0," -"," -"," -",0,"ED"," -"," -",0," -"," -"," -",0,"-"," -"," -",0," -"," -"," -",0," -"," -"," -",0," -",0," -",0," -","2020-12-04"]
[null,"Grafton Base Hospital (Stock data TBC)","Grafton","Northern NSW","02 6640 2222","02 6640 2299    ","8 + 2","ED + M ED"," -"," -","3 + 2","ED + M ED"," -"," -",3,"M ED + ED"," -"," -",4,"ED (M ED)"," -"," -",0," -"," -"," -",12,"x 6 in ED & x6 in M ED"," -"," -",2,"ED"," -"," -",2,"ED"," -"," -",2,"ED  ",0," -",0," -"]
[null,"Kyogle Multi Purpose Service","Kyogle","Northern NSW","02 6630 0400","02 6630 0400",1,"ED "," -"," -",1,"ED "," -"," -",0," -"," -"," -",0," -"," -"," -",0," -"," -"," -",0," -"," -"," -",0," -"," -"," -",0," -"," -"," -",0," -",0," -",0," -","2020-11-23"]
[null,"Lismore Base Hospital ","Lismore","Northern NSW","02 6624 0200","02 6624 0200",6,"ED resus",2,"Bulk Pharmacy ",2,"ED resus",2,"Bulk Pharmacy ",2,"ED resus","-","-",2,"ED","-","-",0," -"," -"," -",2,"ED resus","-","-",4,"ED resus","-","-",1,"ED resus","-","-",2,"ED resus",1,"ED resus",1,"ED resus","2020-12-04"]
[null,"Maclean District Hospital (Stock data TBC)","Maclean","Northern NSW","02 6640 0111","02 6640 0111",0,"ED"," -"," -",0,"ED"," -"," -",1,"ED"," -"," -",2,"ED"," -"," -",0," -"," -"," -",0,"ED"," -"," -",0," -"," -"," -",0," -"," -"," -",0," -",0," -",0," -"]
[null,"Murwillumbah District Hospital (Stock data TBC)","Murwillumbah","Northern NSW","02 6672 0237","02 6672 0230",2,"ED"," -"," -",2,"ED"," -"," -",0," -"," -"," -",2,"ED"," -"," -",0," -"," -"," -",2,"ED"," -"," -",0," -"," -"," -",0," -"," -"," -",0," -",0," -",0," -"]
[null,"Nimbin Multi Purpose Service","Nimbin","Northern NSW","02 6689 1400","02 6689 1400",1,"ED "," -"," -",1,"ED "," -"," -",0," -"," -"," -",0," -"," -"," -",0," -"," -"," -",0," -"," -"," -",0," -"," -"," -",0," -"," -"," -",0," -",0," -",0," -","2020-11-23"]
[null,"The Tweed Hospital","Tweed Heads","Northern NSW","07 5506 7420","07 5506 7667",2,"ED Pyxis Fridge"," -"," -",2,"ED Pyxis Fridge"," -"," -",2,"ED Pyxis Fridge"," -"," -",2,"ED Pyxis Fridge"," -"," -"," -"," -",1,"Pathology",4,"ED Pyxis Fridge"," -"," -",0," "," -"," -",0," -"," -"," -",0," -",0," -",2,"ED Pyxis fridge","2020-11-19"]
[null,"Urbenville Multi Purpose Service ","Urbenville","Northern NSW","02 66341600","02 66341600",1,"ED fridge"," -"," -",1,"ED fridge"," -"," -",0," -"," -"," -",0," -"," -"," -",0," -"," -"," -",0,"(ED - not re-stocking after expiry 04/2020)",0," -",0," -"," -"," -",0," -"," -"," -",0," -",0," -",0," -","2020-11-23"]
[null,"-","-",null,"-","-","-","-","-","-","-","-","-","-","-","-","-","-","-","-","-","-","-","-","-","-","-","-","-","-","-","-","-","-","-","-","-","-","-","-","-","-","-","-"]
[null,"NORTHERN SYDNEY LHD & OTHER"]
[null,"Hornsby Hospital","Hornsby","Northern Sydney","02 9485 6455","02 9485 6600 (ED)",4,"ED "," -"," -",1,"ED "," -"," -",2,"ED "," -"," -",4,"ED "," -"," -",2,"ED & Triage area"," -"," -",3,"ED "," -"," -",2,"ED"," -"," -",1,"ED "," -"," -",0," -",0," -",0," -","2020-12-15"]
[]
[null,"Manly Hospital (closed 30th Oct 2018 - See Northern Beaches Health Service)","-"," -","-"," -"," -"," -"," -"," -"," -"," -"," -"," -"," -"," -"," -"," -"," -"," -"," -"," -"," -"," -"," -"," -"," -"," -"," -"," -"," -"," -"," -"," -"," -"," -"," -"," -"," -"," -"," -"," -"," -"," -"]
[null,"Mona Vale Hospital (Subacute hospital overseen by Hornsby Hospital; some antivenoms available on imprest)","Mona Vale ",{"$f":"+D172","v":" -"},"02 9998 6040","02 9998 6300",1,"Urgent Care Centre"," -"," -",1,"Urgent Care Centre"," -"," -",1,"Urgent Care Centre"," -"," -",2,"Urgent Care Centre"," -"," -"," -"," -"," -"," -",2,"Urgent Care Centre"," -"," -",0," -"," -"," -",1,"Urgent Care Centre"," -"," -",0," -",0," -",0," -","2020-12-15"]
[null,"Northern Beaches Health Service (replaces Manly Hospital) ","Frenchs Forest","Northern Sydney","02 9105 5000","0490 124 164",1,"ED fridge"," -"," -",1,"ED fridge"," -"," -",1,"ED Fridge"," -"," -",4,"ED fridge"," -"," -",0,"-"," -"," -",2,"ED fridge"," -"," -",0,"-"," -"," -","1 (will not keep on hand once this one expired on 08/2021 or used)","ED fridge"," -"," -",0," -",0," -",0," -","2020-12-18"]
[null,"Royal North Shore Hospital","St Leonards",{"$f":"+D173","v":" -"},"02 9463 1140","02 9926 7111 On-call pharmacist via switchboard",2,"ED Resus Room"," -"," -",2,"ED Resus Room"," -"," -",2,"ED Resus Room"," -"," -",4,"ED Resus Room"," -"," -",0,"ED Resus Room"," -"," -",2,"ED Resus Room"," -"," -",1,"ED Resus Room"," -"," -",1,"ED Resus Room"," -"," -",2,"ED Resus Room",0," -",4,"ED Resus Room","2020-12-01"]
[null,"Ryde Hospital","Eastwood","Northern Sydney","02 9858 7888","Oncall Pharmacist (0472 809 062) AHNM (0402 990 158)",2,"ED"," -"," -",2,"ED"," -"," -",1,"ED"," -"," -",2,"ED"," -"," -",1,"ED"," -"," -",4,"ED"," -"," -",0," -"," -"," -",0," -"," -"," -",0," -",0," -",0," -","2020-12-02"]
[null,"-","-",null,"-","-","-","-","-","-","-","-","-","-","-","-","-","-","-","-","-","-","-","-","-","-","-","-","-","-","-","-","-","-","-","-","-","-","-","-","-","-","-","-"]
[null,"SOUTH EASTERN SYDNEY LHD"]
[null,"Calvary Hospital  (Stock data TBC)","Kogarah",null,"-","-","-","-","-","-","-","-","-","-","-","-","-","-","-","-","-","-","-","-","-","-","-","-","-","-","-","-","-","-","-","-","-","-","-","-","-","-","-","-"]
[null,"Prince of Wales Hospital ","Randwick, Sydney","South Eastern Sydney","02 9382 2222","oncall pharmacist via switchboard 02 9382 2222 ",2,"ED",3,"Pharmacy",1,"ED",2,"Pharmacy",1,"ED",2,"Pharmacy",4,"ED",4,"Pharmacy",1,"ED",4,"Pharmacy",3,"ED ",3,"Pharmacy",2,"ED",3,"Pharmacy",2,"ED",3,"Pharmacy",0," -","1\n3","ED\nPharmacy ",0," -","2020-12-04"]
[null,"Royal Hospital for Women NO STOCKS HELD","Sydney","South Eastern Sydney","02 9382 6716","02 9382 2222 on call pharmacist",0," -"," -"," -",0," -"," -"," -",0," -"," -"," -",0," -"," -"," -",0," -"," -"," -",0," -"," -"," -",0," -"," -"," -",0," -"," -"," -",0," -",0," -",0," -","2019-12-12"]
[null,"St George Hospital","Kogarah","South Eastern Sydney","02 9113 3055","Page AHNM via switchboard 02 9113 1111",2,"ED resus"," -"," -",1,"ED resus"," -"," -",2,"ED resus"," -"," -",4,"ED resus"," -"," -",1,"ED resus","-","-",2,"ED resus"," -"," -",0," -"," -"," -",0," -"," -"," -",0," -",0," -",0," -","2020-11-30"]
[null,"Sydney Hospital and Sydney Eye Hospital","Sydney","South Eastern Sydney","02 9382 7379","02 9382 7111  ask for Emergency Department",2,"ED"," -"," -",2,"ED"," -"," -",2,"ED"," -"," -",0," -"," -"," -",3,"ED"," -"," -",2,"ED"," -"," -",0," -"," -"," -",0," -"," -"," -",0," -",0," -",0," -","2020-11-30"]
[null,"The Sutherland Hospital","Sydney","South Eastern Sydney","02 9540 7466 OR 02 9540 7467","02 9540 7111",8,"Pharmacy fridge 3","-","-",6,"Pharmacy fridge 3","-","-",6,"Pharmacy fridge 3","-","-",7,"Pharmacy fridge 3","-","-","-","-"," -"," -",5,"Pharmacy fridge 3","-","-",0," -"," -"," -",0," -"," -"," -",0," -",0," -",0," -","2020-12-07"]
[null,"-","-",null,"-","-","-","-","-","-","-","-","-","-","-","-","-","-","-","-","-","-","-","-","-","-","-","-","-","-","-","-","-","-","-","-","-","-","-","-","-","-","-","-"]
[null,"SOUTH WESTERN SYDNEY LHD"]
[null,"Bankstown-Lidcombe Hospital","Sydney","South Western Sydney","02 9722 8000","02 9722 8000",1,"ED"," -"," -",1,"ED"," -"," -",1,"ED"," -"," -",2,"ED"," -"," -",1,"Pathology"," -"," -",2,"ED"," -"," -",1,"ED"," -"," -",1,"ED"," -"," -",0," -",0," -",0," -","2020-12-07"]
[null,"Bowral District Hospital","Bowral","South Western Sydney","02 4861 0274","02 4861 0199",3,"Pharmacy"," -"," -",3,"Pharmacy"," -"," -",1,"Pharmacy"," -"," -",2,"Pharmacy"," -"," -",1,"Pathology"," -"," -",1,"Pharmacy"," -"," -",0," -"," -"," -",0," -"," -"," -",0," -",0," -",0," -","2020-11-30"]
[null,"Camden Hospital ","Sydney","South Western Sydney","02 4634 3000","0408 662 394",2,"ED"," -"," -",2,"ED"," -"," -",2,"ED"," -"," -",2,"ED",0,"-",1,"ED"," -"," -",2,"ED"," -"," -",0," -"," -"," -",0," -"," -"," -",0," -",0," -",0," -","2020-11-30"]
[null,"Campbelltown Hospital ","Sydney","South Western Sydney","02 4634 3000","0408 662 394",2,"ED"," -"," -",2,"ED"," -"," -",2,"ED"," -"," -",4,"ED",0,"-",1,"ED"," -"," -",2,"ED"," -"," -",0," -"," -"," -",0," -"," -"," -",0," -",0," -",0," -","2020-11-30"]
[null,"Fairfield Hospital","Fairfield","South Western Sydney","02 9616 8322","02 9616 8111",0," -"," -"," -",0," -"," -"," -",0," -"," -"," -",0," -"," -"," -",0," -"," -"," -",3,"ED"," -"," -",0," -"," -"," -",0," -"," -"," -",0," -",0," -",0," -","2021-01-11"]
[null,"Liverpool Hospital","Sydney","South Western Sydney","02 8738 3000","02 8738 3000",1,"ED",2,"Pharmacy",1,"ED",2,"Pharmacy",1,"ED",1,"Pharmacy",2,"ED",2,"Pharmacy",1,"Pathology (Expires Sep 2021, likely to be replaced)"," -"," -",3,"ED",2,"Pharmacy",0," -"," -"," -",0," -"," -"," -",0," -",0," -",0," -","2020-12-23"]
[null,"-","-",null,"-","-","-","-","-","-","-","-","-","-","-","-","-","-","-","-","-","-","-","-","-","-","-","-","-","-","-","-","-","-","-","-","-","-","-","-","-","-","-","-"]
[null,"SOUTHERN NSW"]
[null,"Bateman's Bay District Hospital ","Bateman's Bay","Southern NSW","02 4475 1500","0419 421 411",1,"ED",2,"Pharmacy ",1,"ED",1,"Pharmacy",1," -",1,"Pharmacy",4,"ED",0,"-",0," - "," -"," -",2,"ED"," -"," -",0," -"," -"," -",0," -"," -"," -",0," -",0," -",0," -","2020-12-04"]
[null,"South East Regional Hospital (SERH / Bega District Hospital)","Bega","Southern NSW","02 6492 9111","0419 421 411",2,"ED"," -"," -",2,"ED ",0,"-",1,"ED "," -"," -",4,"ED ","-","-",0,"-"," -"," -",2,"ED ",1,"Pharmacy",0," -"," -"," -",0," -"," -"," -",0," -",0," -",0," -","2020-12-04"]
[null,"Bombala Hospital ","Bombala","Southern NSW","02 6458 5777","0419 421 411",1,"Hospital Fridge "," -"," -",1,"Hospital Fridge"," -"," -",0," -"," -"," -",2,"Hospital Fridge",0,"-",0," - "," -"," -",2,"Hospital Fridge"," -"," -",0," -"," -"," -",0," -"," -"," -",0," -",0," -",0," -","2020-12-04"]
[null,"Braidwood Hospital ","Braidwood","Southern NSW","02 4842 2566","0419 421 411",2,"ED/general ward"," -"," -",2,"ED"," -"," -",0," -"," -"," -",0," -"," -"," -",0," - "," -"," -",2,"ED/general ward"," -"," -",0," -"," -"," -",0," -"," -"," -",0," -",0," -",0," -","2020-12-04"]
[null,"Cooma District Hospital ","Cooma","Southern NSW","02 6455 3222","0419 421 411",1,"ED",1,"Pharmacy",1,"ED",1,"Pharmacy",0," -"," -"," -",2,"ED ",2,"Pharmacy",0," -"," -"," -",2,"ED ",1,"Pharmacy",0," -"," -"," -",0," -"," -"," -",0," -",0," -",0," -","2020-12-04"]
[null,"Crookwell District Hospital ","Crookwell NSW","Southern NSW","02 4832 1300","0419 421 411",1,"ED"," -"," -",1,"ED"," -"," -",0," -"," -"," -",0," -"," -"," -",0," - "," -"," -",1,"ED "," -"," -",0," -"," -"," -",0," -"," -"," -",0," -",0," -",0," -","2020-12-04"]
[null,"Delegate Hospital ","Delegate","Southern NSW","02 6459 8000","0419 421 411",1,"Hospital Fridge "," -"," -",1,"Hospital Fridge"," -"," -",0," -"," -"," -",2,"Hospital Fridge"," -"," -",0," - "," -"," -",2,"ED Hospital Fridge"," -"," -",0," -"," -"," -",0," -"," -"," -",0," -",0," -",0," -","2020-12-04"]
[null,"Goulburn Base Hospital ","Goulburn","Southern NSW","02 4827 3111","02 4827 3111",2,"ED ",1,"Pharmacy",2,"ED ",1,"Pharmacy",1,"ED ",1," -",2,"ED ",4,"Pharmacy",0," -  ",0," - ",2,"ED ",0," -",0," -"," -"," -",0," -"," -"," -",0," -",0," -",0," -","2020-12-04"]
[null,"Moruya District Hospital ","Moruya","Southern NSW","02 4474 2666","0419 421 411",1,"ED",1,"Pharmacy",1,"ED",1,"Pharmacy",1,"ED ",2,"Pharmacy",4,"ED",0,"Pharmacy",0," - "," - "," - ",2,"ED",2,"Pharmacy",0," -"," -"," -",0," -"," -"," -",0," -",0," -",0," -","2020-12-04"]
[null,"Pambula District Hospital ","Pambula","Southern NSW","02 6495 8200","0419 421 411",1,"ED"," -"," -",1,"ED"," -"," -",0," -"," -"," -",4,"ED"," -"," -",0," -"," -"," -",2,"ED"," -"," -",0," -"," -"," -",0," -"," -"," -",0," -",0," -",0," -","2020-12-04"]
[null,"Queanbeyan Hospital ","Queanbeyan","Southern NSW","02 6150 7000","0419 421 411",1,"ED ",1,"Pharmacy ",1,"ED ",2,"Pharmacy",1,"ED ",1,"Pharmacy",0," -"," -"," -",0," - "," - "," - ",2,"ED ",1,"Pharmacy",0," -"," -"," -",0," -"," -"," -",0," -",0," -",0," -","2020-12-04"]
[null,"Yass District Hospital ","Yass","Southern NSW","02 6220 2000","0419 421 411",1,"ED "," -"," -",1,"ED "," -"," -",0," -"," -"," -",0," -"," -"," -",0," -"," -"," -",1,"ED"," -"," -",0," -"," -"," -",0," -"," -"," -",0," -",0," -",0," -","2020-12-04"]
[null,"-","-",null,"-","-","-","-","-","-","-","-","-","-","-","-","-","-","-","-","-","-","-","-","-","-","-","-","-","-","-","-","-","-","-","-","-","-","-","-","-","-","-","-"]
[null,"ST VINCENT'S HEALTH"]
[null,"St Vincent's Hospital","Darlinghurst","St Vincent's","02 8282 2125","02 8382 1111 (on call pharmacist via switchboard)",1,"After hours cupboard"," -"," -",2,"After hours cupboard"," -"," -",1,"After hours cupboard"," -"," -",2,"After hours cupboard"," -"," -",0," -"," -"," -",0," -"," -"," -",0," -"," -"," -",0," -"," -"," -",0," -",0," -",0," -","2020-11-19"]
[null,"-","-",null,"-","-","-","-","-","-","-","-","-","-","-","-","-","-","-","-","-","-","-","-","-","-","-","-","-","-","-","-","-","-","-","-","-","-","-","-","-","-","-","-"]
[null,"SYDNEY LHD"]
[null,"Balmain Hospital (No ED services) NO STOCKS HELD","Balmain","Sydney Children's","02 9395 2111"," -","-","-"," -"," -","-","-"," -"," -","-","-"," -"," -"," -"," -"," -"," -"," -"," -"," -"," -"," -"," -"," -"," -"," -"," -"," -"," -"," -"," -"," -"," -"," -"," -"," -"," -"," -"," -"]
[null,"Canterbury Hospital ","Campsie","Sydney","02 9787 0219","02 9787 0000",0," -"," -"," -",0," -"," -"," -",0," -"," -"," -",2,"ED"," -"," -",0," -"," -"," -",2,"ED"," -"," -",0," -"," -"," -",0," -"," -"," -",0," -",0," -",0," -","2020-12-08"]
[null,"Concord Hospital","Concord","Sydney","02 9767 6214","02 9767 5000",1,"After hours cupboard"," -"," -",1,"After Hours Cupboard"," -"," -",1,"After hours cupboard"," -"," -",2,"AHC"," -"," -",1,"ED"," -"," -",4,"AHC"," -"," -",0," -"," -"," -",0," - "," -"," -",0," -",0," -",0," -","2020-11-20"]
[null,"Royal Prince Alfred Hospital","Camperdown","Sydney","02 9515 6111","02 9515 6111",2,"ED "," -"," -",2,"ED ",0,"-",2,"ED",0," - ",4,"ED"," -"," -",0," -"," -"," -",2,"ED",0,"Pharmacy",0," -"," -"," -",0," -"," -"," -",0," -",0," -",0," -","2020-12-03"]
[null,"-","-",null,"-","-","-","-","-","-","-","-","-","-","-","-","-","-","-","-","-","-","-","-","-","-","-","-","-","-","-","-","-","-","-","-","-","-","-","-","-","-","-","-"]
[null,"SYDNEY CHILDREN'S HOSPITALS NETWORK"]
[null,"Sydney Children's Hospital Randwick (SCH) (see also stocks kept at Prince of Wales (adjacent hospital))","Randwick","Sydney Children's","02 9382 1111","029382 2222  Pharmacist on call ",1,"Paediatric after hours drug room "," -"," -",1,"Paediatric after hours drug room"," -"," -",1,"Paediatric after hours drug room "," -"," -"," -"," -"," -"," -",1,"Paediatric afterhours drug room"," -"," -"," -"," -"," -"," -"," -"," -"," -"," -",1,"Paediatric afterhours drug room"," -"," -"," -"," -",1,"Paediatric afterhours drug room"," -"," -","2021-01-14"]
[null,"The Children's Hospital Westmead (CHW)","Westmead","Sydney Children's","02 9845 0000","02 9845 0000 (on call pharmacist via switchboard)",1,"ED",2,"Pharmacy",1,"ED",3,"Pharmacy ",1,"ED",3,"Pharmacy",2,"ED",3,"Pharmacy "," -"," -",0,"-",4,"ED",1,"Pharmacy",0," -"," -"," -",0,"-"," -"," -",0," -",0,"-",0," -","2020-11-19"]
[null," Newborn & Paediatric Emergency Transport Service (NETS)","Bankstown Aerodrome"," Newborn & pædiatric Emergency Transport Service (NETS)",1300362730,1300362730,"-","-","-","-","-","-","-","-",1,"Drug fridge (Pharmacy Room)","-","-","-","-","-","-","-","-","-","-","-","-","-","-","-","-","-","-","-","-","-","-","-","-","-","-","-","-","2020-11-19"]
[null,"-","-",null,"-","-","-","-","-","-","-","-","-","-","-","-","-","-","-","-","-","-","-","-","-","-","-","-","-","-","-","-","-","-","-","-","-","-","-","-","-","-","-","-"]
[null,"WESTERN NSW LHD"]
[null,"Baradine Multi Purpose Service","Baradine, NSW","Western NSW","02 6843 1605","02 6843 4100",0," -"," -"," -",0," -"," -"," -",0," -"," -"," -",0," -"," -"," -",0," - "," -"," -",2,"Imprest Room Fridge"," -"," -",0," -"," -"," -",0," -"," -"," -",0," -",0," -",0," -","2020-12-14"]
[null,"Bathurst Hospital","Bathurst","Western NSW","02 6330 5304","02 6330 5308",3,"After Hours Cupboard"," -"," -",2,"After hours cupboard/antivenom fridge "," -"," -",1,"After Hours Cupboard"," -"," -",2,"After Hours Cupboard"," -"," -",0,"-",0,"After Hours Cupboard",2,"After Hours Cupboard"," -"," -",1,"After Hours Cupboard"," -"," -",0," -"," -"," -",0," -",0," -",0," -","2020-12-07"]
[null,"Blayney Multi Purpose Service","Blayney","Western NSW","02 6368 9029 ","02 6368 9029 ",1,"ED fridge"," -"," -",0," -"," -"," -",0," -"," -"," -",0," -"," -"," -",0," -"," -"," -",0,"-"," -"," -",0," -"," -"," -",0," -"," -"," -",0," -",0," -",0," -","2020-12-07"]
[null,"Bourke Multi Purpose Service ","Bourke","Western NSW","02 6870 8888","02 6870 8888",1,"ED Treatment Room Fridge"," -"," -",0," -"," -"," -",1,"Medication Room Fridge"," -"," -",0," -"," -"," -",0," -"," -"," -",0," -"," -"," -",0," -"," -"," -",0," -"," -"," -",0," -",0," -",0," -","2020-12-01"]
[null,"Brewarrina Multi Purpose Service ","Brewarrina","Western NSW","02 6830 5000","02 6830 5000",1,"ED Treatment Room Fridge"," -"," -",0," -"," -"," -",1,"Treatment Room Fridge"," -"," -",0," -"," -"," -",0," - "," -"," -",0," -"," -"," -",0," - "," -"," -",0," -"," -"," -",0," -",0," -",0," -","2020-12-01"]
[null,"Canowindra Soldiers Memorial Hospital (Stock data TBC)","Canowindra","Western NSW","02 6364 4300","02 6340 3033",1,"ED"," -"," -",1,"ED"," -"," -",1,"ED"," -"," -",0," -"," -"," -",0," -"," -"," -",1,"ED"," -"," -",0," -"," -"," -",0," -"," -"," -",0," -",0," -",0," -"]
[null,"Cobar District Hospital (Stock data TBC)","Cobar","Western NSW","02 6836 2406","02 6830 2111",1,"ED Treatment Room Fridge"," -"," -",0," -"," -"," -",0," -"," -"," -",0," -"," -"," -",0," -"," -"," -",0," -"," -"," -",0," -"," -"," -",0," -"," -"," -",0," -",0," -",0," -"]
[null,"Collarenebri Multi Purpose Service ","Collarenebri","Western NSW","02 6756 4800","02 6756 4800",1," Imprest Room Fridge"," -"," -",0," -"," -"," -",1,"Imprest Room Fridge"," -"," -",0," -"," -"," -",0,"  -"," -"," -",1,"Ward Imprest Room Fridge"," -"," -",0," - "," -"," -",0," -"," -"," -",0," -",0," -",0," -","2020-12-15"]
[null,"Condobolin District Hospital","Condobolin","Western","02 6890 1500","02 6890 1500",2,"ED"," -"," -",2,"ED"," -"," -",1,"ED"," -"," -",0," -"," -"," -",1,"ED"," -"," -",2,"ED"," -"," -",0," -"," -"," -",0," -"," -"," -",0," -",0," -",0," -","2020-12-02"]
[null,"Coolah Multi Purpose Service (Stock data TBC)","Coolah","Western NSW","02 6377 9100","02 6377 9100",1,"TBC"," -"," -",0," -"," -"," -",1,"TBC - Fridge-Antivenoms"," -"," -",0," -"," -"," -",0," -"," -"," -",2,"Ward Fridge-Antivenoms"," -"," -",0," -"," -"," -",0," -"," -"," -",0," -",0," -",0," -"]
[null,"Coonabarabran District Hospital","Coonabarabran","Western NSW","02 6849 1600","02 6849 1600",2,"ED Imprest Room Fridge"," -"," -",1,"TBC - Imprest Room Fridge"," -"," -",1,"TBC - Imprest Room Fridge"," -"," -",0," -"," -"," -",0," - "," -"," -",2,"Ward Imprest Room Fridge"," -"," -",0," -"," -"," -",0," -"," -"," -",0," -",0," -",0," -","2020-12-14"]
[null,"Coonamble Multi Purpose Service (Stock data TBC)","Coonamble","Western NSW","02 6827 1100","02 6827 1100",2,"ED Fridge-Antivenoms"," -"," -",0," -"," -"," -",0," -"," -"," -",0," -"," -"," -",0," -"," -"," -",2,"Ward Fridge-Antivenoms"," -"," -",0," -"," -"," -",0," -"," -"," -",0," -",0," -",0," -"]
[null,"Cowra Hospital (Stock data TBC)","Cowra","Western NSW","02 6340 9000","02 6340 9000",1,"ED"," -"," -",1,"ED"," -"," -",1,"ED"," -"," -",0," -"," -"," -",1,"ED"," -"," -",2,"ED",1,"TBC",0," -",0," -",0," -"," -"," -",0," -",0," -",0," -"]
[null,"Cudal Health Service NO STOCKS HELD","Cudal","Western NSW","02 6392 3400"," -",0," -"," -"," -",0," -"," -"," -",0," -"," -"," -",0," -"," -"," -",0," -"," -"," -",0," -"," -"," -",0," -"," -"," -",0," -"," -"," -",0," -",0," -",0," -"]
[null,"Dubbo Base Hospital","Dubbo","Western NSW","02 6809 8150","02 6809 6809",1,"ED","5 + 6","Pharmacy + after hours cupboard",1,"After Hours Pharmacy"," -"," -",1,"After Hours Cupboard",2,"pharmacy  ",1,"After Hours Pharmacy"," -"," -",0," - ",0," - ",1,"ED","8 + 2","x7 Pharmacy & x2 after hours cupboard ",1,"After Hours Pharmacy"," -"," -",0," -"," -"," -",0," -",0," -",0," -","2020-12-15"]
[null,"Dunedoo Multi Purpose Service (Stock data TBC)","Dunedoo","Western NSW","02 6375 1408","02 6370 3000",1,"ED Fridge-Antivenoms"," -"," -",0," -"," -"," -",1,"Fridge-Antivenoms"," -"," -",0," -"," -"," -",0," -"," -"," -",2,"Fridge-Antivenoms"," -"," -",0," -"," -"," -",0," -"," -"," -",0," -",0," -",0," -"]
[null,"Eugowra Multi Purpose Service (Stock data TBC)","Eugowra","Western NSW","02 6850 4000","02 6850 4000",1,"ED Fridge"," -"," -",1,"Fridge"," -"," -",1,"Fridge"," -"," -",0," -"," -"," -",0," -"," -"," -",0," -"," -"," -",0," -"," -"," -",0," -"," -"," -",0," -",0," -",0," -"]
[null,"Forbes District Hospital ","Forbes","Western NSW","02 6850 7100","02 6850 7100",2,"ED"," -"," -",2,"ED"," -"," -",1,"ED"," -"," -",0," -"," -"," -",1,"ED",0,"-",2,"ED"," -"," -",1,"ED"," -"," -",0," -"," -"," -",0," -",0," -",0," -","2020-12-02"]
[null,"Gilgandra Multi Purpose Service (Stock data TBC)","Gilgandra","Western NSW","02 6880 5900","02 6880 5900",1,"ED"," -"," -",0," -"," -"," -",0," -"," -"," -",0," -"," -"," -",0," -"," -"," -",0," -"," -"," -",0," -"," -"," -",0," -"," -"," -",0," -",0," -",0," -"]
[null,"Goodooga Health Service ","Goodooga","Western NSW","02 6829 5600"," - ",1,"Imprest Room Fridge"," -"," -",0," -"," -"," -",1,"Imprest Room Fridge"," -"," -",0," -"," -"," -",0," -"," -"," -",1," Imprest Room Fridge"," -"," -",0," -"," -"," -",0," -"," -"," -",0," -",0," -",0," -","2020-12-15"]
[null,"Grenfell Multi Purpose Service (Stock data TBC)","Grenfell","Western NSW","02 6349 1700","02 6349 1700",1,"TBC"," -"," -",0," -"," -"," -",0," -"," -"," -",0," -"," -"," -",0," -"," -"," -",0," -"," -"," -",0," -"," -"," -",0," -"," -"," -",0," -",0," -",0," -"]
[null,"Gulargambone NO STOCKS HELD","Gulargambone","Western NSW","02 6825 1201","-",0," -"," -"," -",0," -"," -"," -",0," -"," -"," -",0," -"," -"," -",0," -"," -"," -",0," -"," -"," -",0," -"," -"," -",0," -"," -"," -",0," -",0," -",0," -"]
[null,"Gulgong Health Service ","Gulgong","Western NSW","02 6374 3400","02 6374 1200",1,"Imprest Room Fridge"," -"," -",0," -"," -"," -",0," -"," -"," -",0," -"," -"," -",0," - "," -"," -",0," - "," -"," -",0," -"," -"," -",0," -"," -"," -",0," -",0," -",0," -","2020-12-02"]
[null,"Lightning Ridge Multi Purpose Service ","Lightning Ridge","Western NSW","02 6820 5700","02 6820 5700",1,"ED Imprest Room Fridge"," -"," -",0," -"," -"," -",1,"Imprest Room Fridge"," -"," -",0," -"," -"," -",0," - "," -"," -",1,"Imprest Room Fridge"," -"," -",0," -"," -"," -",0," -"," -"," -",0," -",0," -",0," -","2020-12-15"]
[null,"Molong Hospital (Stock data TBC)","Molong","Western NSW","02 6392 3300"," -",1," TBC "," -"," -",0," -"," -"," -",0," -"," -"," -",0," -"," -"," -",0," -"," -"," -",2,"TBC - Fridge"," -"," -",0," -"," -"," -",0," -"," -"," -",0," -",0," -",0," -"]
[null,"Mudgee Hospital ","Mudgee","Western NSW","02 6371 9751","02 6371 9700",1,"ED ",1,"Pharmacy ",1,"Pharmacy"," -"," -",1,"Pharmacy"," -"," -",2,"ED"," -"," -",0," - ",0," -",0," -",0," -",0," -"," -"," -",0," -"," -"," -",0," -",0," -",0," -","2020-12-02"]
[null,"Narromine Health Service ","Narromine","Western NSW","02 6889 9600","02 6889 9600",2,"Pharmacy Fridge"," -"," -",0," -"," -"," -",0," -"," -"," -",0," -"," -"," -",0," -"," -"," -",2,"Pharmacy Fridge "," -"," -",0," -"," -"," -",0," -"," -"," -",0," -",0," -",0," -","2020-12-14"]
[null,"Nyngan Multi Purpose Service (Stock data TBC)","Nyngan","Western NSW","02 6832 1707","02 6835 1700",2,"ED"," -"," -",0," -"," -"," -",1,"ED"," -"," -",0," -"," -"," -",0," -"," -"," -",1,"ED"," -"," -",0," -"," -"," -",0," -"," -"," -",0," -",0," -",0," -"]
[null,"Oberon Multi Purpose Service","Oberon","Western NSW","02 6336 7200","02 6336 7200",1,"ED treatment room fridge",1,"MEMI",0," -"," -"," -",0," -"," -"," -",2," Treatment room fridge "," -"," -",0," -"," -"," -",0," -"," -"," -",0," -"," -"," -",0," -"," -"," -",0," -",0," -",0," -","2020-12-07"]
[null,"Orange Health Service ","Orange","Western NSW","02 6369 3740","02 6369 3222","2 + 1","ED + emergency medication imprest","5 + 3","Afterhours drug cupboard + Pharmacy",1,"ED ","1 + 2","Pharmacy + After Hours Cupboard",1,"ED"," -"," -",1,"Pharmacy",2,"ED",0,"(stock no longer kept)",0,"(stock no longer kept)",4,"ED",10,"x 6 Pharmacy + x 4 After hours cupboard",1,"After Hours Cupboard"," -"," -",1,"After Hours Cupboard"," -"," -",0," -",0," -",0," -","2020-11-23"]
[null,"Parkes District Hospital ","Parkes","Western NSW ","02 6861 2400","02 6861 2440",2,"ED"," -"," -",2,"ED"," -"," -",1,"ED",0," - ",0," -"," -"," -",1,"ED",0,"-",2,"ED"," -"," -",1,"ED"," -"," -",0," -"," -"," -",0," -",0," -",0," -","2020-12-02"]
[null,"Peak Hill Multi Purpose Service ","Peak Hill","Western NSW","02 6869 5200","02 6869 5200",1,"ED Fridge"," -"," -",1,"Fridge TBC "," -"," -",0," -"," -"," -",0," -"," -"," -",0," -"," -"," -",2,"TBC - Fridge"," -"," -",0," -"," -"," -",0," -"," -"," -",0," -",0," -",0," -","2020-12-02"]
[null,"Rylstone Multi Purpose Service ","Rylstone","Western NSW","02 6357 6100","02 6357 6100",1,"ED fridge"," -"," -",1,"ED fridge"," -"," -",1,"ED fridge"," -"," -",1,"ED fridge"," -"," -",0,0," -"," -",0,"ED fridge"," -"," -",0," -"," -"," -",0," -"," -"," -",0," -",0," -",0," -","2020-12-02"]
[null,"Tottenham Multi Purpose Service ","Tottenham","Western NSW","02 6891  6200","02 6891  6200",1,"ED Drug room vaccination fridge"," -"," -",1,"Drug room vaccination fridge - TBC "," -"," -",1,"Drug room vaccination fridge - TBC"," -"," -",0," -"," -"," -",1,"Drug room vaccination fridge"," -"," -",2,"Drug room vaccination fridge"," -"," -",0," -"," -"," -",0," -"," -"," -",0," -",0," -",0," -","2020-12-02"]
[null,"Trangie Multi Purpose Service (Stock data TBC)","Trangie","Western NSW"," -","02 6880 8200",1,"TBC"," -"," -",0," -"," -"," -",0," -"," -"," -",0," -"," -"," -",0," -"," -"," -",0," -"," -"," -",0," -"," -"," -",0," -"," -"," -",0," -",0," -",0," -"]
[null,"Trundle Multi Purpose Service ","Trundle","Western NSW","02 6892 1900","02 6892 1900",1,"TBC"," -"," -",0," -"," -"," -",1,"TBC"," -"," -",0," -"," -"," -",0," - "," -"," -",2,"ED"," -"," -",0," -"," -"," -",0," -"," -"," -",0," -",0," -",0," -","2020-12-02"]
[null,"Tullamore Multi Purpose Service ","Tullamore","Western NSW","02 6892 6400","02 6892 6400",2,"ED Drug room vaccination fridge"," -"," -",1,"Drug room vaccination fridge TBC "," -"," -",1,"Drug room vaccination fridge - TBC"," -"," -",0," -"," -"," -",0," - "," -"," -",2,"TBC-Drug room vaccination fridge"," -"," -",0," -"," -"," -",0," -"," -"," -",0," -",0," -",0," -","2020-12-02"]
[null,"Walgett District Hospital ","Walgett","Western NSW","02 6817 9400","02 6817 9400",1,"Imprest Room Fridge"," -"," -",0," - "," -"," -",1,"Imprest Room Fridge - TBC"," -"," -",0," -"," -"," -",0," -"," -"," -",1,"TBC-Imprest Room Fridge"," -"," -",0," - "," -"," -",0," -"," -"," -",0," -",0," -",0," -","2020-12-15"]
[null,"Wanaaring Health Service NO STOCKS HELD","Wanaaring","Western NSW","02 6874 7721","02 6874 7721",0," -"," -"," -",0," -"," -"," -",0," -"," -"," -",0," -"," -"," -",0," -"," -"," -",0," -"," -"," -",0," -"," -"," -",0," -"," -"," -",0," -",0," -",0," -"]
[null,"Warren Multi Purpose Service (Stock data TBC)","Warren","Western NSW","02 6847 4303","02 6847 5400",2,"ED"," -"," -",0," -"," -"," -",1,"ED"," -"," -",0," -"," -"," -",1,"ED"," -"," -",1,"ED"," -"," -",0," -"," -"," -",0," -"," -"," -",0," -",0," -",0," -"]
[null,"Wellington Health Service","Wellington","Western NSW","02 6840 7200","02 6840 8200",1,"ED"," -"," -",0," -"," -"," -",0," -"," -"," -",0," -"," -"," -",0," - "," -"," -",1,"ED"," -"," -",0," -"," -"," -",0," -"," -"," -",0," -",0," -",0," -","2020-12-01"]
[null,"-","-",null,"-","-","-","-","-","-","-","-","-","-","-","-","-","-","-","-","-","-","-","-","-","-","-","-","-","-","-","-","-","-","-","-","-","-","-","-","-","-","-","-"]
[null,"WESTERN SYDNEY LHD & OTHER"]
[null,"Auburn Hospital","Auburn","Western Sydney","02 8759 3302","02 8759 3000",1,"After Hours Medication Room"," -"," -",1,"After Hours Medication Room"," -"," -",1,"After Hours Medication Room"," -"," -",2,"After Hours Medication Room"," -"," -",0," -"," -"," -",2,"After Hours Medication Room"," -"," -",0," -"," -"," -",0," -"," -"," -",0," -",0," -",0," -","2020-10-01"]
[null,"Blacktown Hospital ","Blacktown","Western Sydney","02 9881 8142","02 9881 8000 (afterhours nurse manager via switch)",2,"ED Resus Fridge"," -"," -",2,"ED Resus Fridge"," -"," -",1,"ED Resus Fridge"," -"," -",4,"ED Resus Fridge"," -"," -",0,"ED Resus Fridge"," -"," -",2,"ED Resus Fridge"," -"," -",1," -"," -"," -",1," -"," -"," -",0," -",0," -",0," -","2020-12-17"]
[null,"Mount Druitt Hospital ","Mount Druitt NSW","Western Sydney","02 9881 1581","02 9881 1555  (afterhours nurse manager via switch)",2,"ED Resus Fridge"," -"," -",2,"ED Resus Fridge"," -"," -",1,"ED Resus Fridge"," -"," -",2,"ED Resus Fridge "," -"," -",0,"ED Resus Fridge"," -"," -",2,"ED Resus Fridge "," -"," -",0," -"," -"," -",0," -"," -"," -",0," -",0," -",0," -","2020-12-17"]
[null,"Westmead Hospital ","Westmead","Western Sydney","02 8890 5555","02 8890 5555 (on call pharmacist via switch)",4,"ED",2,"Pharmacy Store",4,"ED",2,"Pharmacy Store",2,"ED",0,"-",6,"ED",4,"Pharmacy Store",1,"Transfusion Laboratory"," -"," -",4,"ED",2,"Pharmacy Store",1,"ED"," -"," -",2,"ED",0,"-",0," -",0," -",0," -","2020-11-23"]
[null,"-","-","-","-","-","-","-","-","-","-","-","-","-","-","-","-","-","-","-","-","-","-","-","-","-","-","-","-","-","-","-","-","-","-","-","-","-","-","-","-","-","-","-"]
[null,"PRIVATE HOSPITALS & OTHER"]
[null,"Macquarie University Hospital NO STOCKS HELD","North Ryde",null,"02 98875500","NA",0,"-",0,"-",0,"-",0,"-",0,"-",0,"-",0,"-",0,"-",0,"-",0,"-",0,"-",0,"-",0,"-",0,"-",0,"-",0,"-",0,"-",0,"-",0,"-","2019-11-29"]
[null,"Norwest Private Hospital (Stock data TBC)","Bella Vista",null,"02 8882 8555","02 8882 8555",2,"ED"," -"," -",1,"ED","-","-",1,"ED","-","-",1,"ED","-","-","-","-","-","-",2,"ED","-","-",0,"-","-","-",0,"-","-","-",0,"-",0,"-",0,"-","2019-04-16"]
[null,null,null,null,null,null,null,null,null,null,null,null,null,null,null,null,null,null,null,null,null,null,null,null,null,null,null,null,null,null,null,null,null,null,null,null,null,null,null,null,null,null,null,null,null,null,"Back to Index"]
[]
[]
[null,"Back to Index"]

{"sheet":"Brown snake","index":2,"n_rows":253,"n_cols":12,"rows_kept":253,"cut":false,"hidden":false,"merged":[[196,1,196,3],[201,1,201,3],[244,1,244,3],[7,4,9,4],[6,1,6,4],[157,1,157,3],[165,1,165,3],[173,1,173,3],[187,1,187,3],[190,1,190,3],[86,1,86,3],[95,1,95,3],[128,1,128,3],[134,1,134,3],[148,1,148,3],[14,1,14,3],[18,1,18,3],[22,1,22,3],[34,1,34,3],[74,1,74,3],[8,8,9,8],[8,5,9,5],[8,6,9,6],[8,7,9,7],[10,1,10,3],[3,1,3,8],[4,1,4,8],[2,1,2,8],[0,1,0,8],[6,5,7,8],[7,1,9,1],[7,2,9,2],[7,3,9,3]]}
[null,{"$f":"'All hospitals'!$B$1","v":"Last modified: 14/01/2021"}]
[]
[null,{"$f":"'All hospitals'!$G$28","v":"BROWN SNAKE"}]
[null,"IMMEDIATELY AVAILABLE ANTIVENOM"]
[null,{"$f":"'All hospitals'!$G$29","v":"Only one (1) vial of snake antivenom is required to treat both children and adults for all terrestrial snake envenomings."},null,null,null,null,null,null,null,null,"Back to Index","Back to 'All hospitals' tab"]
[]
[null,"HOSPITAL DETAILS",null,null,null,"AVAILABILITY"]
[null,"Hospital name:\n\"Stock data TBC\" indicates that the hospital has not provided an update to the stockholding data.                                          ","Town/city","Phone number (business hours)","Phone number (after hours)"]
[null,null,null,null,null,"Number of vials","Location 1","Number of vials","Location 2"]
[]
[null,{"$f":"'All hospitals'!B31","v":"ACT"},null,null,null,null,null,null,null,null,"Click to jump to LHD or network"]
[null,{"$f":"Index!F35","v":"Calvary Public Hospital "},{"$f":"'All hospitals'!C32","v":"Canberra"},{"$f":"'All hospitals'!E32","v":"02 6201 6265 "},{"$f":"'All hospitals'!F32","v":"0413 611 319"},{"$f":"'All hospitals'!G32","v":2},{"$f":"'All hospitals'!H32","v":"After Hours Cupboard Fridge"},{"$f":"'All hospitals'!I32","v":" -"},{"$f":"'All hospitals'!J32","v":" -"},null,"ACT"]
[null,{"$f":"'All hospitals'!B33","v":"The Canberra Hospital"},{"$f":"'All hospitals'!C33","v":"Canberra"},{"$f":"'All hospitals'!E33","v":"02 5124 0000"},{"$f":"'All hospitals'!F33","v":"0401 710 831"},{"$f":"'All hospitals'!G33","v":2},{"$f":"'All hospitals'!H33","v":"Pharmacy"},{"$f":"'All hospitals'!I33","v":6},{"$f":"'All hospitals'!J33","v":"ED "},null,"ALBURY WODONGA HEALTH"]
[null,{"$f":"'All hospitals'!B34","v":"-"},{"$f":"'All hospitals'!C34","v":"-"},{"$f":"'All hospitals'!E34","v":"-"},null,{"$f":"'All hospitals'!G34","v":"-"},{"$f":"'All hospitals'!H34","v":"-"},{"$f":"'All hospitals'!I34","v":"-"},{"$f":"'All hospitals'!J34","v":"-"},null,"CENTRAL COAST LHD"]
[null,{"$f":"'All hospitals'!B35","v":"ALBURY WODONGA HEALTH"},null,null,null,null,null,null,null,null,"FAR WEST LHD"]
[null,{"$f":"'All hospitals'!B36","v":"Albury Hospital"},{"$f":"'All hospitals'!C36","v":"Albury"},{"$f":"'All hospitals'!E36","v":"02 6058 4665"},{"$f":"'All hospitals'!F36","v":"02 6058 4444"},{"$f":"'All hospitals'!G36","v":2},{"$f":"'All hospitals'!H36","v":"ED -Trauma/Resus Room"},{"$f":"'All hospitals'!I36","v":" -"},{"$f":"'All hospitals'!J36","v":" -"},null,"HUNTER NEW ENGLAND LHD"]
[null,{"$f":"'All hospitals'!B37","v":"Wodonga Hospital"},{"$f":"'All hospitals'!C37","v":"Wodonga"},{"$f":"'All hospitals'!E37","v":"02 6051 7485"},{"$f":"'All hospitals'!F37","v":"02 6051 7111"},{"$f":"'All hospitals'!G37","v":2},{"$f":"'All hospitals'!H37","v":"ED Fridge"},{"$f":"'All hospitals'!I37","v":" -"},{"$f":"'All hospitals'!J37","v":" -"},null,"ILLAWARRA SHOALHAVEN LHD"]
[null,{"$f":"'All hospitals'!B38","v":"-"},{"$f":"'All hospitals'!C38","v":"-"},{"$f":"'All hospitals'!E38","v":"-"},null,{"$f":"'All hospitals'!G38","v":"-"},{"$f":"'All hospitals'!H38","v":"-"},{"$f":"'All hospitals'!I38","v":"-"},{"$f":"'All hospitals'!J38","v":"-"},null,"MID NORTH COAST LHD"]
[null,"CENTRAL COAST LHD",null,null,null,null,null,null,null,null,"MURRUMBIDGEE LHD"]
[null,{"$f":"'All hospitals'!B40","v":"Gosford Hospital"},{"$f":"'All hospitals'!C40","v":"Gosford "},{"$f":"'All hospitals'!E40","v":"02 4320 2111"},{"$f":"'All hospitals'!F40","v":"02 4320 2111 (page on-call pharmacist)"},{"$f":"'All hospitals'!G40","v":1},{"$f":"'All hospitals'!H40","v":"ED "},{"$f":"'All hospitals'!I40","v":2},{"$f":"'All hospitals'!J40","v":"Pharmacy"},null,"NEPEAN BLUE MOUNTAINS LHD"]
[null,{"$f":"'All hospitals'!B41","v":"Wyong Hospital"},{"$f":"'All hospitals'!C41","v":"Wyong"},{"$f":"'All hospitals'!E41","v":"02 4394 7930"},{"$f":"'All hospitals'!F41","v":"02 4394 8000 (page on-call pharmacist)"},{"$f":"'All hospitals'!G41","v":2},{"$f":"'All hospitals'!H41","v":"ED "},{"$f":"'All hospitals'!I41","v":2},{"$f":"'All hospitals'!J41","v":"Pharmacy  "},null,"NORTHERN NSW LHD"]
[null,{"$f":"'All hospitals'!B42","v":"-"},{"$f":"'All hospitals'!C42","v":"-"},{"$f":"'All hospitals'!E42","v":"-"},null,{"$f":"'All hospitals'!G42","v":"-"},{"$f":"'All hospitals'!H42","v":"-"},{"$f":"'All hospitals'!I42","v":"-"},{"$f":"'All hospitals'!J42","v":"-"},null,"NORTHERN SYDNEY LHD"]
[null,{"$f":"'All hospitals'!B43","v":"FAR WEST LHD"},null,null,null,null,null,null,null,null,"SOUTH EASTERN SYDNEY LHD"]
[null,{"$f":"'All hospitals'!B44","v":"Balranald Multi Purpose Service "},{"$f":"'All hospitals'!C44","v":"Balranald"},{"$f":"'All hospitals'!E44","v":"03 5071 9800"},{"$f":"'All hospitals'!F44","v":"03 5071 9800"},{"$f":"'All hospitals'!G44","v":1},{"$f":"'All hospitals'!H44","v":"Medication Room"},{"$f":"'All hospitals'!I44","v":" -"},{"$f":"'All hospitals'!J44","v":" -"},null,"SOUTH WESTERN SYDNEY LHD"]
[null,{"$f":"'All hospitals'!B45","v":"Broken Hill Health Service"},{"$f":"'All hospitals'!C45","v":"Broken Hill"},{"$f":"'All hospitals'!E45","v":"08 8080 1466  "},{"$f":"'All hospitals'!F45","v":"08 8080 1333 "},{"$f":"'All hospitals'!G45","v":1},{"$f":"'All hospitals'!H45","v":"ED"},{"$f":"'All hospitals'!I45","v":" - "},{"$f":"'All hospitals'!J45","v":" - "},null,"SOUTHERN NSW"]
[null,{"$f":"'All hospitals'!B46","v":"Dareton Primary Health Service (No ED services)"},{"$f":"'All hospitals'!C46","v":"Dareton"},{"$f":"'All hospitals'!E46","v":"03 5021 7200"},{"$f":"'All hospitals'!F46","v":"BH only"},{"$f":"'All hospitals'!G46","v":0},{"$f":"'All hospitals'!H46","v":" -"},{"$f":"'All hospitals'!I46","v":" -"},{"$f":"'All hospitals'!J46","v":" -"},null,"ST VINCENT'S HEALTH"]
[null,{"$f":"'All hospitals'!B47","v":"Ivanhoe Health Service"},{"$f":"'All hospitals'!C47","v":"Ivanhoe"},{"$f":"'All hospitals'!E47","v":"02 6990 2200"},{"$f":"'All hospitals'!F47","v":"02 6990 2200"},{"$f":"'All hospitals'!G47","v":1},{"$f":"'All hospitals'!H47","v":"Medication Room"},{"$f":"'All hospitals'!I47","v":" -"},{"$f":"'All hospitals'!J47","v":" -"},null,"SYDNEY LHD"]
[null,{"$f":"'All hospitals'!B48","v":"Menindee Health Service "},{"$f":"'All hospitals'!C48","v":"Menindee"},{"$f":"'All hospitals'!E48","v":"08 8091 4209"},{"$f":"'All hospitals'!F48","v":"08 8091 4209"},{"$f":"'All hospitals'!G48","v":0},{"$f":"'All hospitals'!H48","v":" -"},{"$f":"'All hospitals'!I48","v":" -"},{"$f":"'All hospitals'!J48","v":" -"},null,"SYDNEY CHILDREN'S HOSPITALS NETWORK"]
[null,{"$f":"'All hospitals'!B49","v":"Royal Flying Doctor Service Broken Hill"},{"$f":"'All hospitals'!C49","v":"Broken Hill"},{"$f":"'All hospitals'!E49","v":"08 8080 3780"},{"$f":"'All hospitals'!F49","v":"0437 370 702"},{"$f":"'All hospitals'!G49","v":0},{"$f":"'All hospitals'!H49","v":"Medication Room"},{"$f":"'All hospitals'!I49","v":" -"},{"$f":"'All hospitals'!J49","v":" -"},null,"WESTERN NSW LHD"]
[null,{"$f":"'All hospitals'!B50","v":"Tibooburra Health Service"},{"$f":"'All hospitals'!C50","v":"Tibooburra"},{"$f":"'All hospitals'!E50","v":"08 8091 3302 "},{"$f":"'All hospitals'!F50","v":"08 8091 3302"},{"$f":"'All hospitals'!G50","v":1},{"$f":"'All hospitals'!H50","v":"Medication Room"},{"$f":"'All hospitals'!I50","v":" -"},{"$f":"'All hospitals'!J50","v":" -"},null,"WESTERN SYDNEY LHD & OTHER"]
[null,{"$f":"'All hospitals'!B51","v":"Wentworth District Hospital (No ED services)"},{"$f":"'All hospitals'!C51","v":"Wentworth"},{"$f":"'All hospitals'!E51","v":"03 5027 2345"},{"$f":"'All hospitals'!F51","v":"03 5027 2345"},{"$f":"'All hospitals'!G51","v":1},{"$f":"'All hospitals'!H51","v":" -"},{"$f":"'All hospitals'!I51","v":" -"},{"$f":"'All hospitals'!J51","v":" -"},null,"PRIVATE HOSPITALS & OTHER"]
[null,{"$f":"'All hospitals'!B52","v":"White Cliffs Health Service"},{"$f":"'All hospitals'!C52","v":"White Cliffs"},{"$f":"'All hospitals'!E52","v":"08 8091 6605 "},{"$f":"'All hospitals'!F52","v":"08 80916605"},{"$f":"'All hospitals'!G52","v":1},{"$f":"'All hospitals'!H52","v":"Medication Room"},{"$f":"'All hospitals'!I52","v":" -"},{"$f":"'All hospitals'!J52","v":" -"}]
[null,{"$f":"'All hospitals'!B53","v":"Wilcannia Multi Purpose Service"},{"$f":"'All hospitals'!C53","v":"Wilcannia"},{"$f":"'All hospitals'!E53","v":"08 8083 8777"},{"$f":"'All hospitals'!F53","v":"08 8083 8777"},{"$f":"'All hospitals'!G53","v":1},{"$f":"'All hospitals'!H53","v":"Medication Room"},{"$f":"'All hospitals'!I53","v":" -"},{"$f":"'All hospitals'!J53","v":" -"}]
[null,{"$f":"'All hospitals'!B54","v":"-"},{"$f":"'All hospitals'!C54","v":"-"},{"$f":"'All hospitals'!D54","v":"-"},{"$f":"'All hospitals'!E54","v":"-"},{"$f":"'All hospitals'!G54","v":"-"},{"$f":"'All hospitals'!H54","v":"-"},{"$f":"'All hospitals'!I54","v":"-"},{"$f":"'All hospitals'!J54","v":"-"}]
[null,{"$f":"'All hospitals'!B55","v":"HUNTER NEW ENGLAND LHD"}]
[null,{"$f":"'All hospitals'!B56","v":"Armidale Rural Referral Hospital"},{"$f":"'All hospitals'!C56","v":"Armidale"},{"$f":"'All hospitals'!E56","v":"02 6776 9500"},{"$f":"'All hospitals'!F56","v":"02 6776 9500     "},{"$f":"'All hospitals'!G56","v":1},{"$f":"'All hospitals'!H56","v":"ED"},{"$f":"'All hospitals'!I56","v":0},{"$f":"'All hospitals'!J56","v":"Pharmacy"}]
[null,{"$f":"'All hospitals'!B57","v":"Barraba Multi Purpose Service"},{"$f":"'All hospitals'!C57","v":"Barraba"},{"$f":"'All hospitals'!E57","v":"02 6782 2500"},{"$f":"'All hospitals'!F57","v":"02 6782 2522"},{"$f":"'All hospitals'!G57","v":2},{"$f":"'All hospitals'!H57","v":"ED "},{"$f":"'All hospitals'!I57","v":" -"},{"$f":"'All hospitals'!J57","v":" -"}]
[null,{"$f":"'All hospitals'!B58","v":"Belmont Hospital "},{"$f":"'All hospitals'!C58","v":"Belmont"},{"$f":"'All hospitals'!E58","v":"02 4923 2249"},{"$f":"'All hospitals'!F58","v":"02 4923 2000"},{"$f":"'All hospitals'!G58","v":1},{"$f":"'All hospitals'!H58","v":"ED"},{"$f":"'All hospitals'!I58","v":" -"},{"$f":"'All hospitals'!J58","v":" -"}]
[null,{"$f":"'All hospitals'!B59","v":"Bingara Multi Purpose Service"},{"$f":"'All hospitals'!C59","v":"Bingara"},{"$f":"'All hospitals'!E59","v":"02 6728 0100"},{"$f":"'All hospitals'!F59","v":"02 6728 0100"},{"$f":"'All hospitals'!G59","v":1},{"$f":"'All hospitals'!H59","v":"Medication Room"},{"$f":"'All hospitals'!I59","v":" -"},{"$f":"'All hospitals'!J59","v":" -"}]
[null,{"$f":"'All hospitals'!B60","v":"Boggabri Multi Purpose Service"},{"$f":"'All hospitals'!C60","v":"Boggabri"},{"$f":"'All hospitals'!E60","v":"02 6749 7000"},{"$f":"'All hospitals'!F60","v":"02 67497000"},{"$f":"'All hospitals'!G60","v":1},{"$f":"'All hospitals'!H60","v":"ED"},{"$f":"'All hospitals'!I60","v":" -"},{"$f":"'All hospitals'!J60","v":" -"}]
[null,{"$f":"'All hospitals'!B61","v":"Bulahdelah Hospital NO STOCKS HELD"},{"$f":"'All hospitals'!C61","v":"Bulahdelah"},{"$f":"'All hospitals'!E61","v":"02 4987 9900"},{"$f":"'All hospitals'!F61","v":"02 4987 9900"},{"$f":"'All hospitals'!G61","v":0},{"$f":"'All hospitals'!H61","v":" -"},{"$f":"'All hospitals'!I61","v":" -"},{"$f":"'All hospitals'!J61","v":" -"}]
[null,{"$f":"'All hospitals'!B62","v":"Calvary Mater Hospital Newcastle "},{"$f":"'All hospitals'!C62","v":"Newcastle"},{"$f":"'All hospitals'!E62","v":"02 4921 1211"},{"$f":"'All hospitals'!F62","v":"02 4921 1211"},{"$f":"'All hospitals'!G62","v":2},{"$f":"'All hospitals'!H62","v":"ED"},{"$f":"'All hospitals'!I62","v":4},{"$f":"'All hospitals'!J62","v":"Satellite Pharmacy"}]
[null,{"$f":"'All hospitals'!B63","v":"Cessnock District Hospital"},{"$f":"'All hospitals'!C63","v":"Cessnock"},{"$f":"'All hospitals'!E63","v":"02 4991 0555(hospital)\n02 4991 0456(pharmacy)"},{"$f":"'All hospitals'!F63","v":"0438 212 862"},{"$f":"'All hospitals'!G63","v":1},{"$f":"'All hospitals'!H63","v":"ED"},{"$f":"'All hospitals'!I63","v":" -"},{"$f":"'All hospitals'!J63","v":" -"}]
[null,{"$f":"'All hospitals'!B64","v":"Denman Multi Purpose Service (Stock data TBC)"},{"$f":"'All hospitals'!C64","v":"Denman"},{"$f":"'All hospitals'!E64","v":"02 6547 3999"},{"$f":"'All hospitals'!F64","v":"02 6547 3905 "},{"$f":"'All hospitals'!G64","v":1},{"$f":"'All hospitals'!H64","v":"ED"},{"$f":"'All hospitals'!I64","v":" -"},{"$f":"'All hospitals'!J64","v":" -"}]
[null,{"$f":"'All hospitals'!B65","v":"Dungog Community Hospital"},{"$f":"'All hospitals'!C65","v":"Dungog"},{"$f":"'All hospitals'!E65","v":"02 4939 2226"},{"$f":"'All hospitals'!F65","v":"02 4992 1266"},{"$f":"'All hospitals'!G65","v":1},{"$f":"'All hospitals'!H65","v":"ED"},{"$f":"'All hospitals'!I65","v":" -"},{"$f":"'All hospitals'!J65","v":" -"}]
[null,{"$f":"'All hospitals'!B66","v":"Glen Innes District Hospital "},{"$f":"'All hospitals'!C66","v":"Glen Innes"},{"$f":"'All hospitals'!E66","v":"02 6739 0200"},{"$f":"'All hospitals'!F66","v":"02 6739 0200"},{"$f":"'All hospitals'!G66","v":1},{"$f":"'All hospitals'!H66","v":"ED"},{"$f":"'All hospitals'!I66","v":" -"},{"$f":"'All hospitals'!J66","v":" -"}]
[null,{"$f":"'All hospitals'!B67","v":"Gloucester Soldiers Memorial Hospital (Stock data TBC)"},{"$f":"'All hospitals'!C67","v":"Gloucester"},{"$f":"'All hospitals'!E67","v":"02 6538 5000"},{"$f":"'All hospitals'!F67","v":"02 6538 5000"},{"$f":"'All hospitals'!G67","v":2},{"$f":"'All hospitals'!H67","v":"ED"},{"$f":"'All hospitals'!I67","v":" -"},{"$f":"'All hospitals'!J67","v":" -"}]
[null,{"$f":"'All hospitals'!B68","v":"Gunnedah Hospital"},{"$f":"'All hospitals'!C68","v":"Gunnedah"},{"$f":"'All hospitals'!E68","v":"02 6741 8000"},{"$f":"'All hospitals'!F68","v":"02 6741 8031"},{"$f":"'All hospitals'!G68","v":2},{"$f":"'All hospitals'!H68","v":"ED"},{"$f":"'All hospitals'!I68","v":"-"},{"$f":"'All hospitals'!J68","v":"-"}]
[null,{"$f":"'All hospitals'!B69","v":"Guyra Multi Purpose Service "},{"$f":"'All hospitals'!C69","v":"Guyra"},{"$f":"'All hospitals'!E69","v":"02 6738 4000"},{"$f":"'All hospitals'!F69","v":"02 6738 4000"},{"$f":"'All hospitals'!G69","v":1},{"$f":"'All hospitals'!H69","v":"General Ward"},{"$f":"'All hospitals'!I69","v":" -"},{"$f":"'All hospitals'!J69","v":" -"}]
[null,{"$f":"'All hospitals'!B70","v":"Inverell Hospital "},{"$f":"'All hospitals'!C70","v":"Inverell"},{"$f":"'All hospitals'!E70","v":"02 6721 9500"},{"$f":"'All hospitals'!F70","v":"02 6721 9540"},{"$f":"'All hospitals'!G70","v":1},{"$f":"'All hospitals'!H70","v":"ED"},{"$f":"'All hospitals'!I70","v":" -"},{"$f":"'All hospitals'!J70","v":" -"}]
[null,{"$f":"'All hospitals'!B71","v":"John Hunter Hospital "},{"$f":"'All hospitals'!C71","v":"Newcastle"},{"$f":"'All hospitals'!E71","v":"02 4921 3635"},{"$f":"'All hospitals'!F71","v":"0408 263 586"},{"$f":"'All hospitals'!G71","v":2},{"$f":"'All hospitals'!H71","v":"ED"},{"$f":"'All hospitals'!I71","v":1},{"$f":"'All hospitals'!J71","v":"Primary Retrieval Team Pelican"}]
[null,{"$f":"'All hospitals'!B72","v":"Kurri Kurri Hospital"},{"$f":"'All hospitals'!C72","v":"Kurri Kurri"},{"$f":"'All hospitals'!E72","v":"02 4936 3234"},{"$f":"'All hospitals'!F72","v":"02 4936 3200"},{"$f":"'All hospitals'!G72","v":1},{"$f":"'All hospitals'!H72","v":"ED"},{"$f":"'All hospitals'!I72","v":" -"},{"$f":"'All hospitals'!J72","v":" -"}]
[null,{"$f":"'All hospitals'!B73","v":"Manning Base Hospital"},{"$f":"'All hospitals'!C73","v":"Taree"},{"$f":"'All hospitals'!E73","v":"02 6592 9244"},{"$f":"'All hospitals'!F73","v":"02 6592 9014"},{"$f":"'All hospitals'!G73","v":2},{"$f":"'All hospitals'!H73","v":"ED"},{"$f":"'All hospitals'!I73","v":" -"},{"$f":"'All hospitals'!J73","v":" -"}]
[null,{"$f":"'All hospitals'!B74","v":"Manilla Hospital"},{"$f":"'All hospitals'!C74","v":"Manilla"},{"$f":"'All hospitals'!E74","v":"02 6785 4000"},{"$f":"'All hospitals'!F74","v":"02 6785 4000"},{"$f":"'All hospitals'!G74","v":1},{"$f":"'All hospitals'!H74","v":"ED"},{"$f":"'All hospitals'!I74","v":" -"},{"$f":"'All hospitals'!J74","v":" -"}]
[null,{"$f":"'All hospitals'!B75","v":"Merriwa Multi Purpose Service (Stock data TBC)"},{"$f":"'All hospitals'!C75","v":"Merriwa"},{"$f":"'All hospitals'!E75","v":"02 6532 5000"},{"$f":"'All hospitals'!F75","v":"02 6532 5000"},{"$f":"'All hospitals'!G75","v":1},{"$f":"'All hospitals'!H75","v":"ED"},{"$f":"'All hospitals'!I75","v":" -"},{"$f":"'All hospitals'!J75","v":" -"}]
[null,{"$f":"'All hospitals'!B76","v":"Moree Hospital "},{"$f":"'All hospitals'!C76","v":"Moree"},{"$f":"'All hospitals'!E76","v":"02 6757 0031"},{"$f":"'All hospitals'!F76","v":"02 6757 0031"},{"$f":"'All hospitals'!G76","v":1},{"$f":"'All hospitals'!H76","v":"ED"},{"$f":"'All hospitals'!I76","v":"-"},{"$f":"'All hospitals'!J76","v":"-"}]
[null,{"$f":"'All hospitals'!B77","v":"Muswellbrook Hospital (Stock data TBC)"},{"$f":"'All hospitals'!C77","v":"Muswellbrook"},{"$f":"'All hospitals'!E77","v":"02 6542 2000"},{"$f":"'All hospitals'!F77","v":"02 6542 2000"},{"$f":"'All hospitals'!G77","v":2},{"$f":"'All hospitals'!H77","v":"ED"},{"$f":"'All hospitals'!I77","v":" -"},{"$f":"'All hospitals'!J77","v":" -"}]
[null,{"$f":"'All hospitals'!B78","v":"Narrabri Hospital"},{"$f":"'All hospitals'!C78","v":"Narrabri"},{"$f":"'All hospitals'!E78","v":"02 6799 2800"},{"$f":"'All hospitals'!F78","v":"02 6799 2105"},{"$f":"'All hospitals'!G78","v":1},{"$f":"'All hospitals'!H78","v":"ED"},{"$f":"'All hospitals'!I78","v":"-"},{"$f":"'All hospitals'!J78","v":"-"}]
[null,{"$f":"'All hospitals'!B79","v":"Quirindi Hospital"},{"$f":"'All hospitals'!C79","v":"Quirindi"},{"$f":"'All hospitals'!E79","v":"02 6746 0200"},{"$f":"'All hospitals'!F79","v":"02 6746 0200"},{"$f":"'All hospitals'!G79","v":2},{"$f":"'All hospitals'!H79","v":"ED "},{"$f":"'All hospitals'!I79","v":" -"},{"$f":"'All hospitals'!J79","v":" -"}]
[null,{"$f":"'All hospitals'!B80","v":"Scott Memorial Hospital (Stock data TBC)"},{"$f":"'All hospitals'!C80","v":"Scone"},{"$f":"'All hospitals'!E80","v":"02 6540 2100"},{"$f":"'All hospitals'!F80","v":"02 6540 2100"},{"$f":"'All hospitals'!G80","v":1},{"$f":"'All hospitals'!H80","v":"ED"},{"$f":"'All hospitals'!I80","v":1},{"$f":"'All hospitals'!J80","v":"Pharmacy"}]
[null,{"$f":"'All hospitals'!B81","v":"Singleton District Hospital (Stock data TBC)"},{"$f":"'All hospitals'!C81","v":"Singleton"},{"$f":"'All hospitals'!E81","v":"02 6571 9222"},{"$f":"'All hospitals'!F81","v":"02 6571 9222"},{"$f":"'All hospitals'!G81","v":1},{"$f":"'All hospitals'!H81","v":"ED"},{"$f":"'All hospitals'!I81","v":" -"},{"$f":"'All hospitals'!J81","v":" -"}]
[null,{"$f":"'All hospitals'!B82","v":"Tamworth Rural Referral Hospital "},{"$f":"'All hospitals'!C82","v":"Tamworth"},{"$f":"'All hospitals'!E82","v":"02 6727 7370 "},{"$f":"'All hospitals'!F82","v":"02 6767 7700"},{"$f":"'All hospitals'!G82","v":4},{"$f":"'All hospitals'!H82","v":"ED Resus  "},{"$f":"'All hospitals'!I82","v":2},{"$f":"'All hospitals'!J82","v":"Pharmacy"}]
[null,{"$f":"'All hospitals'!B83","v":"Tenterfield/Prince Albert Hospital "},{"$f":"'All hospitals'!C83","v":"Tenterfield"},{"$f":"'All hospitals'!E83","v":"02 6739 5200"},{"$f":"'All hospitals'!F83","v":"02 6739 5200"},{"$f":"'All hospitals'!G83","v":1},{"$f":"'All hospitals'!H83","v":"General Ward"},{"$f":"'All hospitals'!I83","v":" -"},{"$f":"'All hospitals'!J83","v":" -"}]
[null,{"$f":"'All hospitals'!B84","v":"The Maitland Hospital"},{"$f":"'All hospitals'!C84","v":"Maitland"},{"$f":"'All hospitals'!E84","v":"02 4939 2226"},{"$f":"'All hospitals'!F84","v":"02 4939 2000"},{"$f":"'All hospitals'!G84","v":1},{"$f":"'All hospitals'!H84","v":"ED"},{"$f":"'All hospitals'!I84","v":" -"},{"$f":"'All hospitals'!J84","v":" -"}]
[null,{"$f":"'All hospitals'!B85","v":"Tingha Multi Purpose Service NO STOCKS HELD"},{"$f":"'All hospitals'!C85","v":"Tingha"},{"$f":"'All hospitals'!E85","v":"02 6723 3900"},{"$f":"'All hospitals'!F85","v":"02 6723 9000"},{"$f":"'All hospitals'!G85","v":0},{"$f":"'All hospitals'!H85","v":" -"},{"$f":"'All hospitals'!I85","v":" -"},{"$f":"'All hospitals'!J85","v":" -"}]
[null,{"$f":"'All hospitals'!B86","v":"Tomaree Community Hospital (Stock data TBC)"},{"$f":"'All hospitals'!C86","v":"Tomaree"},{"$f":"'All hospitals'!E86","v":"02 4923 2249"},{"$f":"'All hospitals'!F86","v":"02 4923 2000"},{"$f":"'All hospitals'!G86","v":1},{"$f":"'All hospitals'!H86","v":"ED"},{"$f":"'All hospitals'!I86","v":" -"},{"$f":"'All hospitals'!J86","v":" -"}]
[null,{"$f":"'All hospitals'!B87","v":"Vegetable Creek Multipurpose Service"},{"$f":"'All hospitals'!C87","v":"Emmaville"},{"$f":"'All hospitals'!E87","v":"02 6734  7900"},{"$f":"'All hospitals'!F87","v":"02 6734 7900"},{"$f":"'All hospitals'!G87","v":1},{"$f":"'All hospitals'!H87","v":"General Ward"},{"$f":"'All hospitals'!I87","v":" -"},{"$f":"'All hospitals'!J87","v":" -"}]
[null,{"$f":"'All hospitals'!B88","v":"Walcha Multi Purpose Service "},{"$f":"'All hospitals'!C88","v":"Walcha"},{"$f":"'All hospitals'!E88","v":"02 6777 4200"},{"$f":"'All hospitals'!F88","v":"02 6777 4200"},{"$f":"'All hospitals'!G88","v":1},{"$f":"'All hospitals'!H88","v":"Medication Room"},{"$f":"'All hospitals'!I88","v":" -"},{"$f":"'All hospitals'!J88","v":" -"}]
[null,{"$f":"'All hospitals'!B89","v":"Warialda Multi Purpose Service "},{"$f":"'All hospitals'!C89","v":"Warialda"},{"$f":"'All hospitals'!E89","v":"02 6728 9000"},{"$f":"'All hospitals'!F89","v":"0428 753 175"},{"$f":"'All hospitals'!G89","v":1},{"$f":"'All hospitals'!H89","v":"ED "},{"$f":"'All hospitals'!I89","v":"-"},{"$f":"'All hospitals'!J89","v":"-"}]
[null,{"$f":"'All hospitals'!B90","v":"Wee Waa Community Hospital"},{"$f":"'All hospitals'!C90","v":"Wee Waa"},{"$f":"'All hospitals'!E90","v":"02 6795 0400"},{"$f":"'All hospitals'!F90","v":"02 6795 0400"},{"$f":"'All hospitals'!G90","v":2},{"$f":"'All hospitals'!H90","v":"Medication Room"},{"$f":"'All hospitals'!I90","v":"-"},{"$f":"'All hospitals'!J90","v":"-"}]
[null,{"$f":"'All hospitals'!B91","v":"Werris Creek Multi Purpose Service NO STOCKS HELD"},{"$f":"'All hospitals'!C91","v":"Werris Creek"},{"$f":"'All hospitals'!E91","v":"02 6768 6600"},{"$f":"'All hospitals'!F91","v":"02 6768 6600"},{"$f":"'All hospitals'!G91","v":0},{"$f":"'All hospitals'!H91","v":" -"},{"$f":"'All hospitals'!I91","v":" -"},{"$f":"'All hospitals'!J91","v":" -"}]
[null,{"$f":"'All hospitals'!B92","v":"Westpac Rescue Helicopter Service"},{"$f":"'All hospitals'!C92","v":"Belmont Helicopter Base"},{"$f":"'All hospitals'!E92","v":"02 4952 0000"},{"$f":"'All hospitals'!F92","v":"02 4952 0055"},{"$f":"'All hospitals'!G92","v":1},{"$f":"'All hospitals'!H92","v":"Primary retrieval team Pelican"},{"$f":"'All hospitals'!I92","v":" -"},{"$f":"'All hospitals'!J92","v":" -"}]
[null,{"$f":"'All hospitals'!B93","v":"Wilson Memorial Hospital - Murrurundi (Stock data TBC)"},{"$f":"'All hospitals'!C93","v":"Murrurundi"},{"$f":"'All hospitals'!E93","v":"02 6546 9000"},{"$f":"'All hospitals'!F93","v":"02 6546 9000"},{"$f":"'All hospitals'!G93","v":1},{"$f":"'All hospitals'!H93","v":"ED"},{"$f":"'All hospitals'!I93","v":" -"},{"$f":"'All hospitals'!J93","v":" -"}]
[null,{"$f":"'All hospitals'!B94","v":"-"},{"$f":"'All hospitals'!C94","v":"-"},{"$f":"'All hospitals'!E94","v":"-"},null,{"$f":"'All hospitals'!G94","v":"-"},{"$f":"'All hospitals'!H94","v":"-"},{"$f":"'All hospitals'!I94","v":"-"},{"$f":"'All hospitals'!J94","v":"-"}]
[null,{"$f":"'All hospitals'!B95","v":"ILLAWARRA SHOALHAVEN LHD"}]
[null,{"$f":"'All hospitals'!B96","v":"Bulli Hospital NO STOCKS HELD"},{"$f":"'All hospitals'!C96","v":"Bulli"},{"$f":"'All hospitals'!E96","v":"02 4284 4344"},{"$f":"'All hospitals'!F96","v":"02 4222 5000 (request Wollongong Hospital on-call pharmacist)"},{"$f":"'All hospitals'!G96","v":0},{"$f":"'All hospitals'!H96","v":" -"},{"$f":"'All hospitals'!I96","v":" -"},{"$f":"'All hospitals'!J96","v":" -"}]
[null,{"$f":"'All hospitals'!B97","v":"Coledale Hospital NO STOCKS HELD"},{"$f":"'All hospitals'!C97","v":"Thirroul"},{"$f":"'All hospitals'!E97","v":"02 4267 0111"},{"$f":"'All hospitals'!F97","v":"02 4222 5000 (request Wollongong Hospital on-call pharmacist)"},{"$f":"'All hospitals'!G97","v":" -"},{"$f":"'All hospitals'!H97","v":" -"},{"$f":"'All hospitals'!I97","v":" -"},{"$f":"'All hospitals'!J97","v":" -"}]
[null,{"$f":"'All hospitals'!B98","v":"David Berry Hospital NO STOCKS HELD"},{"$f":"'All hospitals'!C98","v":"Berry"},{"$f":"'All hospitals'!E98","v":"02 4464 1001"},{"$f":"'All hospitals'!F98","v":" -"},{"$f":"'All hospitals'!G98","v":" -"},{"$f":"'All hospitals'!H98","v":" -"},{"$f":"'All hospitals'!I98","v":" -"},{"$f":"'All hospitals'!J98","v":" -"}]
[null,{"$f":"'All hospitals'!B99","v":"Kiama Hospital & Community Health Service NO STOCKS HELD"},{"$f":"'All hospitals'!C99","v":"Kiama"},{"$f":"'All hospitals'!E99","v":"02 4233 1033"},{"$f":"'All hospitals'!F99","v":" -"},{"$f":"'All hospitals'!G99","v":" -"},{"$f":"'All hospitals'!H99","v":" -"},{"$f":"'All hospitals'!I99","v":" -"},{"$f":"'All hospitals'!J99","v":" -"}]
[null,{"$f":"'All hospitals'!B100","v":"Milton Ulladulla Hospital"},{"$f":"'All hospitals'!C100","v":"Milton"},{"$f":"'All hospitals'!E100","v":"02 4454 9100"},{"$f":"'All hospitals'!F100","v":"02 4454 9133 (ED)"},{"$f":"'All hospitals'!G100","v":2},{"$f":"'All hospitals'!H100","v":"ED"},{"$f":"'All hospitals'!I100","v":" -"},{"$f":"'All hospitals'!J100","v":" -"}]
[null,{"$f":"'All hospitals'!B274","v":0},{"$f":"'All hospitals'!C274","v":0},{"$f":"'All hospitals'!E274","v":0},{"$f":"'All hospitals'!F274","v":0},{"$f":"'All hospitals'!G274","v":0},{"$f":"'All hospitals'!H274","v":0},{"$f":"'All hospitals'!I274","v":0},{"$f":"'All hospitals'!J274","v":0}]
[null,{"$f":"'All hospitals'!B102","v":"Port Kembla Hospital - NO STOCKS HELD"},{"$f":"'All hospitals'!C102","v":"Warrawong"},{"$f":"'All hospitals'!E102","v":"02 4223 8000"},{"$f":"'All hospitals'!F102","v":"02 4222 5000 (request Wollongong Hospital on-call pharmacist)"},{"$f":"'All hospitals'!G102","v":" -"},{"$f":"'All hospitals'!H102","v":" -"},{"$f":"'All hospitals'!I102","v":" -"},{"$f":"'All hospitals'!J102","v":" -"}]
[null,{"$f":"'All hospitals'!B103","v":"Shellharbour Hospital"},{"$f":"'All hospitals'!C103","v":"Mt Warrigal"},{"$f":"'All hospitals'!E103","v":"02 4295 2516"},{"$f":"'All hospitals'!F103","v":"02 4295 2500 (switch) - ask to page ADON"},{"$f":"'All hospitals'!G103","v":1},{"$f":"'All hospitals'!H103","v":"After Hours Cupboard"},{"$f":"'All hospitals'!I103","v":" -"},{"$f":"'All hospitals'!J103","v":" -"}]
[null,{"$f":"'All hospitals'!B104","v":"Shoalhaven Hospital "},{"$f":"'All hospitals'!C104","v":"Nowra"},{"$f":"'All hospitals'!E104","v":"02 4423 9734"},{"$f":"'All hospitals'!F104","v":"02 4423 9738/ 0427400177 (after hours patient flow manager)"},{"$f":"'All hospitals'!G104","v":2},{"$f":"'All hospitals'!H104","v":"ED"},{"$f":"'All hospitals'!I104","v":2},{"$f":"'All hospitals'!J104","v":"Pharmacy "}]
[null,{"$f":"'All hospitals'!B105","v":"Wollongong Hospital"},{"$f":"'All hospitals'!C105","v":"Wollongong "},{"$f":"'All hospitals'!E105","v":"02 4222 5340"},{"$f":"'All hospitals'!F105","v":"02 4222 5000"},{"$f":"'All hospitals'!G105","v":1},{"$f":"'All hospitals'!H105","v":"ED"},{"$f":"'All hospitals'!I105","v":1},{"$f":"'All hospitals'!J105","v":"AHDC"}]
[null,{"$f":"'All hospitals'!B106","v":"-"},{"$f":"'All hospitals'!C106","v":"-"},{"$f":"'All hospitals'!E106","v":"-"},{"$f":"'All hospitals'!F106","v":"-"},{"$f":"'All hospitals'!G106","v":"-"},{"$f":"'All hospitals'!H106","v":"-"},{"$f":"'All hospitals'!I106","v":"-"},{"$f":"'All hospitals'!J106","v":"-"}]
[null,{"$f":"'All hospitals'!B107","v":"MID NORTH COAST LHD"}]
[null,{"$f":"'All hospitals'!B108","v":"Bellingen River District Hospital "},{"$f":"'All hospitals'!C108","v":"Bellingen"},{"$f":"'All hospitals'!E108","v":"02 6659 5800"},{"$f":"'All hospitals'!F108","v":"02 6656 7324"},{"$f":"'All hospitals'!G108","v":1},{"$f":"'All hospitals'!H108","v":"ED"},{"$f":"'All hospitals'!I108","v":" -"},{"$f":"'All hospitals'!J108","v":" -"}]
[null,{"$f":"'All hospitals'!B109","v":"Coffs Harbour Health Campus "},{"$f":"'All hospitals'!C109","v":"Coffs Harbour"},{"$f":"'All hospitals'!E109","v":"02 6656 7000"},{"$f":"'All hospitals'!F109","v":"02 6656 7324"},{"$f":"'All hospitals'!G109","v":3},{"$f":"'All hospitals'!H109","v":"ED Resus Fridge"},{"$f":"'All hospitals'!I109","v":" -"},{"$f":"'All hospitals'!J109","v":" -"}]
[null,{"$f":"'All hospitals'!B110","v":"Dorrigo Multi Purpose Service"},{"$f":"'All hospitals'!C110","v":"Dorrigo"},{"$f":"'All hospitals'!E110","v":"02 6692 7700"},{"$f":"'All hospitals'!F110","v":"02 6656 7324"},{"$f":"'All hospitals'!G110","v":1},{"$f":"'All hospitals'!H110","v":"General Ward "},{"$f":"'All hospitals'!I110","v":" -"},{"$f":"'All hospitals'!J110","v":" -"}]
[null,{"$f":"'All hospitals'!B111","v":"Kempsey District Hospital"},{"$f":"'All hospitals'!C111","v":"Kempsey"},{"$f":"'All hospitals'!E111","v":"02 6561 2600"},{"$f":"'All hospitals'!F111","v":"02 5524 2000"},{"$f":"'All hospitals'!G111","v":1},{"$f":"'All hospitals'!H111","v":"ED Resus Fridge"},{"$f":"'All hospitals'!I111","v":" -"},{"$f":"'All hospitals'!J111","v":" -"}]
[null,{"$f":"'All hospitals'!B112","v":"Macksville District Hospital "},{"$f":"'All hospitals'!C112","v":"Macksville"},{"$f":"'All hospitals'!E112","v":"02 6568 0666"},{"$f":"'All hospitals'!F112","v":"02 6656 7324"},{"$f":"'All hospitals'!G112","v":1},{"$f":"'All hospitals'!H112","v":"ED"},{"$f":"'All hospitals'!I112","v":" -"},{"$f":"'All hospitals'!J112","v":" -"}]
[null,{"$f":"'All hospitals'!B113","v":"Port Macquarie Base Hospital"},{"$f":"'All hospitals'!C113","v":"Port Macquarie"},{"$f":"'All hospitals'!E113","v":"02 5524 2206"},{"$f":"'All hospitals'!F113","v":"02 5524 2000"},{"$f":"'All hospitals'!G113","v":2},{"$f":"'All hospitals'!H113","v":"After Hours Cupboard"},{"$f":"'All hospitals'!I113","v":" -"},{"$f":"'All hospitals'!J113","v":" -"}]
[null,{"$f":"'All hospitals'!B114","v":"Wauchope Hospital (Stock data TBC)"},{"$f":"'All hospitals'!C114","v":"Wauchope"},{"$f":"'All hospitals'!E114","v":"02 5524 2206"},{"$f":"'All hospitals'!F114","v":"02 5524 2000"},{"$f":"'All hospitals'!G114","v":0},{"$f":"'All hospitals'!H114","v":" -"},{"$f":"'All hospitals'!I114","v":" -"},{"$f":"'All hospitals'!J114","v":" -"}]
[null,{"$f":"'All hospitals'!B115","v":"-"},{"$f":"'All hospitals'!C115","v":"-"},{"$f":"'All hospitals'!E115","v":"-"},{"$f":"'All hospitals'!F115","v":"-"},{"$f":"'All hospitals'!G115","v":"-"},{"$f":"'All hospitals'!H115","v":"-"},{"$f":"'All hospitals'!I115","v":"-"},{"$f":"'All hospitals'!J115","v":"-"}]
[null,{"$f":"'All hospitals'!B116","v":"MURRUMBIDGEE LHD"}]
[null,{"$f":"'All hospitals'!B117","v":"Barham Koondrook Health Service"},{"$f":"'All hospitals'!C117","v":"Barham"},{"$f":"'All hospitals'!E117","v":"03 5451 1000"},{"$f":"'All hospitals'!F117","v":"03 5451 1000"},{"$f":"'All hospitals'!G117","v":1},{"$f":"'All hospitals'!H117","v":"ED Fridge"},{"$f":"'All hospitals'!I117","v":" -"},{"$f":"'All hospitals'!J117","v":" -"}]
[null,{"$f":"'All hospitals'!B118","v":"Batlow Adelong Multi Purpose Service"},{"$f":"'All hospitals'!C118","v":"Batlow"},{"$f":"'All hospitals'!E118","v":"02 6941 4333"},{"$f":"'All hospitals'!F118","v":"02 6941 4333"},{"$f":"'All hospitals'!G118","v":1},{"$f":"'All hospitals'!H118","v":"ED Fridge"},{"$f":"'All hospitals'!I118","v":" -"},{"$f":"'All hospitals'!J118","v":" -"}]
[null,{"$f":"'All hospitals'!B119","v":"Berrigan Multi Purpose Service"},{"$f":"'All hospitals'!C119","v":"Berrigan"},{"$f":"'All hospitals'!E119","v":"03 5888 5300"},{"$f":"'All hospitals'!F119","v":"03 5888 5300"},{"$f":"'All hospitals'!G119","v":1},{"$f":"'All hospitals'!H119","v":"ED Fridge"},{"$f":"'All hospitals'!I119","v":" -"},{"$f":"'All hospitals'!J119","v":" -"}]
[null,{"$f":"'All hospitals'!B120","v":"Boorowa Multi Purpose Service Hospital"},{"$f":"'All hospitals'!C120","v":"Boorowa"},{"$f":"'All hospitals'!E120","v":"02 6380 2100"},{"$f":"'All hospitals'!F120","v":"02 6380 2100"},{"$f":"'All hospitals'!G120","v":1},{"$f":"'All hospitals'!H120","v":"ED"},{"$f":"'All hospitals'!I120","v":" -"},{"$f":"'All hospitals'!J120","v":" -"}]
[null,{"$f":"'All hospitals'!B121","v":"Coolamon-Ganmain Multi Purpose Service"},{"$f":"'All hospitals'!C121","v":"Coolamon"},{"$f":"'All hospitals'!E121","v":"02 6927 3303"},{"$f":"'All hospitals'!F121","v":"02 6927 3303"},{"$f":"'All hospitals'!G121","v":1},{"$f":"'All hospitals'!H121","v":"ED"},{"$f":"'All hospitals'!I121","v":" -"},{"$f":"'All hospitals'!J121","v":" -"}]
[null,{"$f":"'All hospitals'!B122","v":"Cootamundra District Hospital"},{"$f":"'All hospitals'!C122","v":"Cootamundra"},{"$f":"'All hospitals'!E122","v":"02 6942 0444"},{"$f":"'All hospitals'!F122","v":"02 6942 0444"},{"$f":"'All hospitals'!G122","v":1},{"$f":"'All hospitals'!H122","v":"General ward medication fridge"},{"$f":"'All hospitals'!I122","v":" -"},{"$f":"'All hospitals'!J122","v":" -"}]
[null,{"$f":"'All hospitals'!B123","v":"Corowa District Hospital"},{"$f":"'All hospitals'!C123","v":"Corowa"},{"$f":"'All hospitals'!E123","v":"02 6033 7555"},{"$f":"'All hospitals'!F123","v":"02 6033 7555"},{"$f":"'All hospitals'!G123","v":1},{"$f":"'All hospitals'!H123","v":"ED Fridge"},{"$f":"'All hospitals'!I123","v":" - "},{"$f":"'All hospitals'!J123","v":" - "}]
[null,{"$f":"'All hospitals'!B124","v":"Culcairn Multi Purpose Service"},{"$f":"'All hospitals'!C124","v":"Culcairn"},{"$f":"'All hospitals'!E124","v":"02 6029 8203"},{"$f":"'All hospitals'!F124","v":"02 6029 8203"},{"$f":"'All hospitals'!G124","v":1},{"$f":"'All hospitals'!H124","v":"ED Treatment Room Fridge"},{"$f":"'All hospitals'!I124","v":" -"},{"$f":"'All hospitals'!J124","v":" -"}]
[null,{"$f":"'All hospitals'!B125","v":"Deniliquin Hospital"},{"$f":"'All hospitals'!C125","v":"Deniliquin"},{"$f":"'All hospitals'!E125","v":"03 5882 2843"},{"$f":"'All hospitals'!F125","v":"03 5882 2834"},{"$f":"'All hospitals'!G125","v":2},{"$f":"'All hospitals'!H125","v":"ED"},{"$f":"'All hospitals'!I125","v":" -"},{"$f":"'All hospitals'!J125","v":" -"}]
[null,{"$f":"'All hospitals'!B126","v":"Finley Hospital"},{"$f":"'All hospitals'!C126","v":"Finley"},{"$f":"'All hospitals'!E126","v":"03 5883 1133"},{"$f":"'All hospitals'!F126","v":"03 5883 1133"},{"$f":"'All hospitals'!G126","v":1},{"$f":"'All hospitals'!H126","v":"ED"},{"$f":"'All hospitals'!I126","v":" -"},{"$f":"'All hospitals'!J126","v":" -"}]
[null,{"$f":"'All hospitals'!B127","v":"Griffith Base Hospital"},{"$f":"'All hospitals'!C127","v":"Griffith NSW"},{"$f":"'All hospitals'!E127","v":"02 6969 5550"},{"$f":"'All hospitals'!F127","v":"02 6969 5600"},{"$f":"'All hospitals'!G127","v":2},{"$f":"'All hospitals'!H127","v":"ED Fridge"},{"$f":"'All hospitals'!I127","v":1},{"$f":"'All hospitals'!J127","v":" Pharmacy"}]
[null,{"$f":"'All hospitals'!B128","v":"Gundagai Multi Purpose Service"},{"$f":"'All hospitals'!C128","v":"Gundagai"},{"$f":"'All hospitals'!E128","v":"02 6950 6300"},{"$f":"'All hospitals'!F128","v":"02 6950 6300"},{"$f":"'All hospitals'!G128","v":1},{"$f":"'All hospitals'!H128","v":"ED Fridge"},{"$f":"'All hospitals'!I128","v":" -"},{"$f":"'All hospitals'!J128","v":" -"}]
[null,{"$f":"'All hospitals'!B129","v":"Hay Hospital"},{"$f":"'All hospitals'!C129","v":"Hay"},{"$f":"'All hospitals'!E129","v":"02 6990 8700"},{"$f":"'All hospitals'!F129","v":"02 6990 8700"},{"$f":"'All hospitals'!G129","v":1},{"$f":"'All hospitals'!H129","v":"ED Fridge"},{"$f":"'All hospitals'!I129","v":" -"},{"$f":"'All hospitals'!J129","v":" -"}]
[null,{"$f":"'All hospitals'!B130","v":"Henty Multi Purpose Service"},{"$f":"'All hospitals'!C130","v":"Henty"},{"$f":"'All hospitals'!E130","v":"02 6929 4999"},{"$f":"'All hospitals'!F130","v":"02 6929 4999"},{"$f":"'All hospitals'!G130","v":1},{"$f":"'All hospitals'!H130","v":"ED Fridge"},{"$f":"'All hospitals'!I130","v":" -"},{"$f":"'All hospitals'!J130","v":" -"}]
[null,{"$f":"'All hospitals'!B131","v":"Hillston Multi Purpose Service"},{"$f":"'All hospitals'!C131","v":"Hillston, NSW"},{"$f":"'All hospitals'!E131","v":"02 6961 7200"},{"$f":"'All hospitals'!F131","v":"02 6961 7200"},{"$f":"'All hospitals'!G131","v":1},{"$f":"'All hospitals'!H131","v":"Treatment Room Fridge"},{"$f":"'All hospitals'!I131","v":" -"},{"$f":"'All hospitals'!J131","v":" -"}]
[null,{"$f":"'All hospitals'!B132","v":"Holbrook Hospital"},{"$f":"'All hospitals'!C132","v":"Holbrook"},{"$f":"'All hospitals'!E132","v":"02 6036 2522"},{"$f":"'All hospitals'!F132","v":"02 6036 2522"},{"$f":"'All hospitals'!G132","v":1},{"$f":"'All hospitals'!H132","v":"ED Fridge"},{"$f":"'All hospitals'!I132","v":" -"},{"$f":"'All hospitals'!J132","v":" -"}]
[null,{"$f":"'All hospitals'!B133","v":"Jerilderie Multi Purpose Service"},{"$f":"'All hospitals'!C133","v":"Jerilderie"},{"$f":"'All hospitals'!E133","v":"03 5886 1300"},{"$f":"'All hospitals'!F133","v":"03 5886 1300"},{"$f":"'All hospitals'!G133","v":1},{"$f":"'All hospitals'!H133","v":"ED Fridge"},{"$f":"'All hospitals'!I133","v":" -"},{"$f":"'All hospitals'!J133","v":" -"}]
[null,{"$f":"'All hospitals'!B134","v":"Junee Multi Purpose Service"},{"$f":"'All hospitals'!C134","v":"Junee"},{"$f":"'All hospitals'!E134","v":"02 6924 8200"},{"$f":"'All hospitals'!F134","v":"02 6924 8200"},{"$f":"'All hospitals'!G134","v":1},{"$f":"'All hospitals'!H134","v":"ED Fridge"},{"$f":"'All hospitals'!I134","v":" -"},{"$f":"'All hospitals'!J134","v":" -"}]
[null,{"$f":"'All hospitals'!B135","v":"Lake Cargelligo Multi Purpose Service"},{"$f":"'All hospitals'!C135","v":"Lake Cargelligo"},{"$f":"'All hospitals'!E135","v":"02 6898 0200"},{"$f":"'All hospitals'!F135","v":"02 6898 0200"},{"$f":"'All hospitals'!G135","v":2},{"$f":"'All hospitals'!H135","v":"Treatment Room Fridge"},{"$f":"'All hospitals'!I135","v":" -"},{"$f":"'All hospitals'!J135","v":" -"}]
[null,{"$f":"'All hospitals'!B136","v":"Leeton District Hospital"},{"$f":"'All hospitals'!C136","v":"Leeton"},{"$f":"'All hospitals'!E136","v":"02 6953 1111"},{"$f":"'All hospitals'!F136","v":"02 6953 1111"},{"$f":"'All hospitals'!G136","v":1},{"$f":"'All hospitals'!H136","v":"ED Fridge"},{"$f":"'All hospitals'!I136","v":" -"},{"$f":"'All hospitals'!J136","v":" -"}]
[null,{"$f":"'All hospitals'!B137","v":"Lockhart Hospital"},{"$f":"'All hospitals'!C137","v":"Lockhart"},{"$f":"'All hospitals'!E137","v":"02 6930 7100"},{"$f":"'All hospitals'!F137","v":"02 6930 7100"},{"$f":"'All hospitals'!G137","v":1},{"$f":"'All hospitals'!H137","v":"ED Fridge"},{"$f":"'All hospitals'!I137","v":" -"},{"$f":"'All hospitals'!J137","v":" -"}]
[null,{"$f":"'All hospitals'!B138","v":"Murrumburrah-Harden Hospital"},{"$f":"'All hospitals'!C138","v":"Harden"},{"$f":"'All hospitals'!E138","v":"02 6386 2200"},{"$f":"'All hospitals'!F138","v":"02 6386 2200"},{"$f":"'All hospitals'!G138","v":1},{"$f":"'All hospitals'!H138","v":"ED Fridge"},{"$f":"'All hospitals'!I138","v":" -"},{"$f":"'All hospitals'!J138","v":" -"}]
[null,{"$f":"'All hospitals'!B139","v":"Narrandera District Hospital"},{"$f":"'All hospitals'!C139","v":"Narrandera"},{"$f":"'All hospitals'!E139","v":"02 6951 0200"},{"$f":"'All hospitals'!F139","v":"02 6951 0200"},{"$f":"'All hospitals'!G139","v":1},{"$f":"'All hospitals'!H139","v":"General ward medication fridge"},{"$f":"'All hospitals'!I139","v":" -"},{"$f":"'All hospitals'!J139","v":" -"}]
[null,{"$f":"'All hospitals'!B140","v":"Temora District Hospital "},{"$f":"'All hospitals'!C140","v":"Temora"},{"$f":"'All hospitals'!E140","v":"02 6980 0200"},{"$f":"'All hospitals'!F140","v":"02 6980 0200"},{"$f":"'All hospitals'!G140","v":1},{"$f":"'All hospitals'!H140","v":"ED Fridge"},{"$f":"'All hospitals'!I140","v":" -"},{"$f":"'All hospitals'!J140","v":" -"}]
[null,{"$f":"'All hospitals'!B141","v":"Tocumwal Hospital"},{"$f":"'All hospitals'!C141","v":"Tocumwal"},{"$f":"'All hospitals'!E141","v":"03 5874 2166"},{"$f":"'All hospitals'!F141","v":"03 5874 2166"},{"$f":"'All hospitals'!G141","v":1},{"$f":"'All hospitals'!H141","v":"General Ward Medication Fridge"},{"$f":"'All hospitals'!I141","v":" -"},{"$f":"'All hospitals'!J141","v":" -"}]
[null,{"$f":"'All hospitals'!B142","v":"Tumbarumba Multi Purpose Service"},{"$f":"'All hospitals'!C142","v":"Tumbarumba"},{"$f":"'All hospitals'!E142","v":"02 6948 9600"},{"$f":"'All hospitals'!F142","v":"02 6948 9600"},{"$f":"'All hospitals'!G142","v":1},{"$f":"'All hospitals'!H142","v":"ED Fridge"},{"$f":"'All hospitals'!I142","v":" -"},{"$f":"'All hospitals'!J142","v":" -"}]
[null,{"$f":"'All hospitals'!B143","v":"Tumut District Hospital"},{"$f":"'All hospitals'!C143","v":"Tumut"},{"$f":"'All hospitals'!E143","v":"02 6947 0800"},{"$f":"'All hospitals'!F143","v":"02 6947 0800"},{"$f":"'All hospitals'!G143","v":1},{"$f":"'All hospitals'!H143","v":"ED Fridge"},{"$f":"'All hospitals'!I143","v":" -"},{"$f":"'All hospitals'!J143","v":" -"}]
[null,{"$f":"'All hospitals'!B144","v":"Urana Multi Purpose Service"},{"$f":"'All hospitals'!C144","v":"Urana"},{"$f":"'All hospitals'!E144","v":"02 6920 8106"},{"$f":"'All hospitals'!F144","v":"02 6920 8106"},{"$f":"'All hospitals'!G144","v":1},{"$f":"'All hospitals'!H144","v":"ED Fridge"},{"$f":"'All hospitals'!I144","v":" -"},{"$f":"'All hospitals'!J144","v":" -"}]
[null,{"$f":"'All hospitals'!B145","v":"Wagga Wagga Base Hospital "},{"$f":"'All hospitals'!C145","v":"Wagga Wagga"},{"$f":"'All hospitals'!E145","v":"02 5943 1000"},{"$f":"'All hospitals'!F145","v":"0429 306 566"},{"$f":"'All hospitals'!G145","v":4},{"$f":"'All hospitals'!H145","v":"After Hours Pharmacy Fridge"},{"$f":"'All hospitals'!I145","v":" -"},{"$f":"'All hospitals'!J145","v":" -"}]
[null,{"$f":"'All hospitals'!B146","v":"Wyalong Hospital"},{"$f":"'All hospitals'!C146","v":"West Wyalong"},{"$f":"'All hospitals'!E146","v":"02 6979 0000"},{"$f":"'All hospitals'!F146","v":"02 6979 0000"},{"$f":"'All hospitals'!G146","v":1},{"$f":"'All hospitals'!H146","v":"ED Fridge"},{"$f":"'All hospitals'!I146","v":" -"},{"$f":"'All hospitals'!J146","v":" -"}]
[null,{"$f":"'All hospitals'!B147","v":"Young District Hospital"},{"$f":"'All hospitals'!C147","v":"Young"},{"$f":"'All hospitals'!E147","v":"02 6382 8888"},{"$f":"'All hospitals'!F147","v":"02 6382 8888"},{"$f":"'All hospitals'!G147","v":1},{"$f":"'All hospitals'!H147","v":"ED"},{"$f":"'All hospitals'!I147","v":" -"},{"$f":"'All hospitals'!J147","v":" -"}]
[null,{"$f":"'All hospitals'!B148","v":"-"},{"$f":"'All hospitals'!C148","v":"-"},{"$f":"'All hospitals'!E148","v":"-"},{"$f":"'All hospitals'!F148","v":"-"},{"$f":"'All hospitals'!G148","v":"-"},{"$f":"'All hospitals'!H148","v":"-"},{"$f":"'All hospitals'!I148","v":"-"},{"$f":"'All hospitals'!J148","v":"-"}]
[null,{"$f":"'All hospitals'!B149","v":"NEPEAN BLUE MOUNTAINS LHD & OTHER"}]
[null,{"$f":"'All hospitals'!B150","v":"Blue Mountains District Hospital "},{"$f":"'All hospitals'!C150","v":"Katoomba"},{"$f":"'All hospitals'!E150","v":"02 4784 6500"},{"$f":"'All hospitals'!F150","v":"0412 117 269"},{"$f":"'All hospitals'!G150","v":2},{"$f":"'All hospitals'!H150","v":"ED"},{"$f":"'All hospitals'!I150","v":" -"},{"$f":"'All hospitals'!J150","v":" -"}]
[null,{"$f":"'All hospitals'!B151","v":"Hawkesbury District Health Service"},{"$f":"'All hospitals'!C151","v":"Windsor"},{"$f":"'All hospitals'!E151","v":"02 4560 5529"},{"$f":"'All hospitals'!F151","v":"02 4560 5555 (Ask for AHNM)"},{"$f":"'All hospitals'!G151","v":5},{"$f":"'All hospitals'!H151","v":"PHARMACY"},{"$f":"'All hospitals'!I151","v":" -"},{"$f":"'All hospitals'!J151","v":" -"}]
[null,{"$f":"'All hospitals'!B152","v":"Lithgow Hospital"},{"$f":"'All hospitals'!C152","v":"Lithgow"},{"$f":"'All hospitals'!E152","v":"02 6350 2370"},{"$f":"'All hospitals'!F152","v":"02 6350 2300 (switch)"},{"$f":"'All hospitals'!G152","v":2},{"$f":"'All hospitals'!H152","v":"ED"},{"$f":"'All hospitals'!I152","v":" -"},{"$f":"'All hospitals'!J152","v":" -"}]
[null,{"$f":"'All hospitals'!B153","v":"Nepean Hospital "},{"$f":"'All hospitals'!C153","v":"Penrith"},{"$f":"'All hospitals'!E153","v":"02 4734 2256"},{"$f":"'All hospitals'!F153","v":" 0412 235 766"},{"$f":"'All hospitals'!G153","v":2},{"$f":"'All hospitals'!H153","v":"ED-Resus"},{"$f":"'All hospitals'!I153","v":2},{"$f":"'All hospitals'!J153","v":"Main Pharmacy"}]
[null,{"$f":"'All hospitals'!B154","v":"-"},{"$f":"'All hospitals'!C154","v":"-"},{"$f":"'All hospitals'!E154","v":"-"},{"$f":"'All hospitals'!F154","v":"-"},{"$f":"'All hospitals'!G154","v":"-"},{"$f":"'All hospitals'!H154","v":"-"},{"$f":"'All hospitals'!I154","v":"-"},{"$f":"'All hospitals'!J154","v":"-"}]
[null,{"$f":"'All hospitals'!B155","v":"NORTHERN NSW LHD"}]
[null,{"$f":"'All hospitals'!B156","v":"Ballina Hospital "},{"$f":"'All hospitals'!C156","v":"Ballina"},{"$f":"'All hospitals'!E156","v":"02 6620 6400"},{"$f":"'All hospitals'!F156","v":"02 6620 6202"},{"$f":"'All hospitals'!G156","v":1},{"$f":"'All hospitals'!H156","v":"ED"},{"$f":"'All hospitals'!I156","v":" -"},{"$f":"'All hospitals'!J156","v":" -"}]
[null,{"$f":"'All hospitals'!B157","v":"Bonalbo Hospital "},{"$f":"'All hospitals'!C157","v":"Bonalbo"},{"$f":"'All hospitals'!E157","v":"02 6665 4100"},{"$f":"'All hospitals'!F157","v":"02 6665 4100"},{"$f":"'All hospitals'!G157","v":1},{"$f":"'All hospitals'!H157","v":"ED fridge"},{"$f":"'All hospitals'!I157","v":" -"},{"$f":"'All hospitals'!J157","v":" -"}]
[null,{"$f":"'All hospitals'!B158","v":"Byron Central Hospital (Stock data TBC)"},{"$f":"'All hospitals'!C158","v":"Byron Bay"},{"$f":"'All hospitals'!E158","v":"02 6639 9400"},{"$f":"'All hospitals'!F158","v":"02 6639 9400"},{"$f":"'All hospitals'!G158","v":1},{"$f":"'All hospitals'!H158","v":"ED"},{"$f":"'All hospitals'!I158","v":" -"},{"$f":"'All hospitals'!J158","v":" -"}]
[null,{"$f":"'All hospitals'!B159","v":"Casino Hospital"},{"$f":"'All hospitals'!C159","v":"Casino"},{"$f":"'All hospitals'!E159","v":"02 6660 0642"},{"$f":"'All hospitals'!F159","v":"02 6660 0642"},{"$f":"'All hospitals'!G159","v":1},{"$f":"'All hospitals'!H159","v":"ED"},{"$f":"'All hospitals'!I159","v":" -"},{"$f":"'All hospitals'!J159","v":" -"}]
[null,{"$f":"'All hospitals'!B160","v":"Grafton Base Hospital (Stock data TBC)"},{"$f":"'All hospitals'!C160","v":"Grafton"},{"$f":"'All hospitals'!E160","v":"02 6640 2222"},{"$f":"'All hospitals'!F160","v":"02 6640 2299    "},{"$f":"'All hospitals'!G160","v":"8 + 2"},{"$f":"'All hospitals'!H160","v":"ED + M ED"},{"$f":"'All hospitals'!I160","v":" -"},{"$f":"'All hospitals'!J160","v":" -"}]
[null,{"$f":"'All hospitals'!B161","v":"Kyogle Multi Purpose Service"},{"$f":"'All hospitals'!C161","v":"Kyogle"},{"$f":"'All hospitals'!E161","v":"02 6630 0400"},{"$f":"'All hospitals'!F161","v":"02 6630 0400"},{"$f":"'All hospitals'!G161","v":1},{"$f":"'All hospitals'!H161","v":"ED "},{"$f":"'All hospitals'!I161","v":" -"},{"$f":"'All hospitals'!J161","v":" -"}]
[null,{"$f":"'All hospitals'!B162","v":"Lismore Base Hospital "},{"$f":"'All hospitals'!C162","v":"Lismore"},{"$f":"'All hospitals'!E162","v":"02 6624 0200"},{"$f":"'All hospitals'!F162","v":"02 6624 0200"},{"$f":"'All hospitals'!G162","v":6},{"$f":"'All hospitals'!H162","v":"ED resus"},{"$f":"'All hospitals'!I162","v":2},{"$f":"'All hospitals'!J162","v":"Bulk Pharmacy "}]
[null,{"$f":"'All hospitals'!B163","v":"Maclean District Hospital (Stock data TBC)"},{"$f":"'All hospitals'!C163","v":"Maclean"},{"$f":"'All hospitals'!E163","v":"02 6640 0111"},{"$f":"'All hospitals'!F163","v":"02 6640 0111"},{"$f":"'All hospitals'!G163","v":0},{"$f":"'All hospitals'!H163","v":"ED"},{"$f":"'All hospitals'!I163","v":" -"},{"$f":"'All hospitals'!J163","v":" -"}]
[null,{"$f":"'All hospitals'!B164","v":"Murwillumbah District Hospital (Stock data TBC)"},{"$f":"'All hospitals'!C164","v":"Murwillumbah"},{"$f":"'All hospitals'!E164","v":"02 6672 0237"},{"$f":"'All hospitals'!F164","v":"02 6672 0230"},{"$f":"'All hospitals'!G164","v":2},{"$f":"'All hospitals'!H164","v":"ED"},{"$f":"'All hospitals'!I164","v":" -"},{"$f":"'All hospitals'!J164","v":" -"}]
[null,{"$f":"'All hospitals'!B165","v":"Nimbin Multi Purpose Service"},{"$f":"'All hospitals'!C165","v":"Nimbin"},{"$f":"'All hospitals'!E165","v":"02 6689 1400"},{"$f":"'All hospitals'!F165","v":"02 6689 1400"},{"$f":"'All hospitals'!G165","v":1},{"$f":"'All hospitals'!H165","v":"ED "},{"$f":"'All hospitals'!I165","v":" -"},{"$f":"'All hospitals'!J165","v":" -"}]
[null,{"$f":"'All hospitals'!B166","v":"The Tweed Hospital"},{"$f":"'All hospitals'!C166","v":"Tweed Heads"},{"$f":"'All hospitals'!E166","v":"07 5506 7420"},{"$f":"'All hospitals'!F166","v":"07 5506 7667"},{"$f":"'All hospitals'!G166","v":2},{"$f":"'All hospitals'!H166","v":"ED Pyxis Fridge"},{"$f":"'All hospitals'!I166","v":" -"},{"$f":"'All hospitals'!J166","v":" -"}]
[null,{"$f":"'All hospitals'!B167","v":"Urbenville Multi Purpose Service "},{"$f":"'All hospitals'!C167","v":"Urbenville"},{"$f":"'All hospitals'!E167","v":"02 66341600"},{"$f":"'All hospitals'!F167","v":"02 66341600"},{"$f":"'All hospitals'!G167","v":1},{"$f":"'All hospitals'!H167","v":"ED fridge"},{"$f":"'All hospitals'!I167","v":" -"},{"$f":"'All hospitals'!J167","v":" -"}]
[null,{"$f":"'All hospitals'!B168","v":"-"},{"$f":"'All hospitals'!C168","v":"-"},{"$f":"'All hospitals'!E168","v":"-"},{"$f":"'All hospitals'!F168","v":"-"},{"$f":"'All hospitals'!G168","v":"-"},{"$f":"'All hospitals'!H168","v":"-"},{"$f":"'All hospitals'!I168","v":"-"},{"$f":"'All hospitals'!J168","v":"-"}]
[null,{"$f":"'All hospitals'!B169","v":"NORTHERN SYDNEY LHD & OTHER"}]
[null,{"$f":"'All hospitals'!B170","v":"Hornsby Hospital"},{"$f":"'All hospitals'!C170","v":"Hornsby"},{"$f":"'All hospitals'!E170","v":"02 9485 6455"},{"$f":"'All hospitals'!F170","v":"02 9485 6600 (ED)"},{"$f":"'All hospitals'!G170","v":4},{"$f":"'All hospitals'!H170","v":"ED "},{"$f":"'All hospitals'!I170","v":" -"},{"$f":"'All hospitals'!J170","v":" -"}]
[null,{"$f":"'All hospitals'!B172","v":"Manly Hospital (closed 30th Oct 2018 - See Northern Beaches Health Service)"},{"$f":"'All hospitals'!C172","v":"-"},{"$f":"'All hospitals'!E172","v":"-"},{"$f":"'All hospitals'!F172","v":" -"},{"$f":"'All hospitals'!G172","v":" -"},{"$f":"'All hospitals'!H172","v":" -"},{"$f":"'All hospitals'!I172","v":" -"},{"$f":"'All hospitals'!J172","v":" -"}]
[null,{"$f":"'All hospitals'!B173","v":"Mona Vale Hospital (Subacute hospital overseen by Hornsby Hospital; some antivenoms available on imprest)"},{"$f":"'All hospitals'!C173","v":"Mona Vale "},{"$f":"'All hospitals'!E173","v":"02 9998 6040"},{"$f":"'All hospitals'!F173","v":"02 9998 6300"},{"$f":"'All hospitals'!G173","v":1},{"$f":"'All hospitals'!H173","v":"Urgent Care Centre"},{"$f":"'All hospitals'!I173","v":" -"},{"$f":"'All hospitals'!J173","v":" -"}]
[null,{"$f":"'All hospitals'!B174","v":"Northern Beaches Health Service (replaces Manly Hospital) "},{"$f":"'All hospitals'!C174","v":"Frenchs Forest"},{"$f":"'All hospitals'!E174","v":"02 9105 5000"},{"$f":"'All hospitals'!F174","v":"0490 124 164"},{"$f":"'All hospitals'!G174","v":1},{"$f":"'All hospitals'!H174","v":"ED fridge"},{"$f":"'All hospitals'!I174","v":" -"},{"$f":"'All hospitals'!J174","v":" -"}]
[null,{"$f":"'All hospitals'!B175","v":"Royal North Shore Hospital"},{"$f":"'All hospitals'!C175","v":"St Leonards"},{"$f":"'All hospitals'!E175","v":"02 9463 1140"},{"$f":"'All hospitals'!F175","v":"02 9926 7111 On-call pharmacist via switchboard"},{"$f":"'All hospitals'!G175","v":2},{"$f":"'All hospitals'!H175","v":"ED Resus Room"},{"$f":"'All hospitals'!I175","v":" -"},{"$f":"'All hospitals'!J175","v":" -"}]
[null,{"$f":"'All hospitals'!B176","v":"Ryde Hospital"},{"$f":"'All hospitals'!C176","v":"Eastwood"},{"$f":"'All hospitals'!E176","v":"02 9858 7888"},{"$f":"'All hospitals'!F176","v":"Oncall Pharmacist (0472 809 062) AHNM (0402 990 158)"},{"$f":"'All hospitals'!G176","v":2},{"$f":"'All hospitals'!H176","v":"ED"},{"$f":"'All hospitals'!I176","v":" -"},{"$f":"'All hospitals'!J176","v":" -"}]
[null,{"$f":"'All hospitals'!B171","v":0},{"$f":"'All hospitals'!C171","v":0},{"$f":"'All hospitals'!E171","v":0},{"$f":"'All hospitals'!F171","v":0},{"$f":"'All hospitals'!G171","v":0},{"$f":"'All hospitals'!H171","v":0},{"$f":"'All hospitals'!I171","v":0},{"$f":"'All hospitals'!J171","v":0}]
[null,{"$f":"'All hospitals'!B177","v":"-"},{"$f":"'All hospitals'!C177","v":"-"},{"$f":"'All hospitals'!E177","v":"-"},{"$f":"'All hospitals'!F177","v":"-"},{"$f":"'All hospitals'!G177","v":"-"},{"$f":"'All hospitals'!H177","v":"-"},{"$f":"'All hospitals'!I177","v":"-"},{"$f":"'All hospitals'!J177","v":"-"}]
[null,{"$f":"'All hospitals'!B178","v":"SOUTH EASTERN SYDNEY LHD"}]
[null,{"$f":"'All hospitals'!B179","v":"Calvary Hospital  (Stock data TBC)"},{"$f":"'All hospitals'!C179","v":"Kogarah"},{"$f":"'All hospitals'!E179","v":"-"},{"$f":"'All hospitals'!F179","v":"-"},{"$f":"'All hospitals'!G179","v":"-"},{"$f":"'All hospitals'!H179","v":"-"},{"$f":"'All hospitals'!I179","v":"-"},{"$f":"'All hospitals'!J179","v":"-"}]
[null,{"$f":"'All hospitals'!B180","v":"Prince of Wales Hospital "},{"$f":"'All hospitals'!C180","v":"Randwick, Sydney"},{"$f":"'All hospitals'!E180","v":"02 9382 2222"},{"$f":"'All hospitals'!F180","v":"oncall pharmacist via switchboard 02 9382 2222 "},{"$f":"'All hospitals'!G180","v":2},{"$f":"'All hospitals'!H180","v":"ED"},{"$f":"'All hospitals'!I180","v":3},{"$f":"'All hospitals'!J180","v":"Pharmacy"}]
[null,{"$f":"'All hospitals'!B181","v":"Royal Hospital for Women NO STOCKS HELD"},{"$f":"'All hospitals'!C181","v":"Sydney"},{"$f":"'All hospitals'!E181","v":"02 9382 6716"},{"$f":"'All hospitals'!F181","v":"02 9382 2222 on call pharmacist"},{"$f":"'All hospitals'!G181","v":0},{"$f":"'All hospitals'!H181","v":" -"},{"$f":"'All hospitals'!I181","v":" -"},{"$f":"'All hospitals'!J181","v":" -"}]
[null,{"$f":"'All hospitals'!B182","v":"St George Hospital"},{"$f":"'All hospitals'!C182","v":"Kogarah"},{"$f":"'All hospitals'!E182","v":"02 9113 3055"},{"$f":"'All hospitals'!F182","v":"Page AHNM via switchboard 02 9113 1111"},{"$f":"'All hospitals'!G182","v":2},{"$f":"'All hospitals'!H182","v":"ED resus"},{"$f":"'All hospitals'!I182","v":" -"},{"$f":"'All hospitals'!J182","v":" -"}]
[null,{"$f":"'All hospitals'!B183","v":"Sydney Hospital and Sydney Eye Hospital"},{"$f":"'All hospitals'!C183","v":"Sydney"},{"$f":"'All hospitals'!E183","v":"02 9382 7379"},{"$f":"'All hospitals'!F183","v":"02 9382 7111  ask for Emergency Department"},{"$f":"'All hospitals'!G183","v":2},{"$f":"'All hospitals'!H183","v":"ED"},{"$f":"'All hospitals'!I183","v":" -"},{"$f":"'All hospitals'!J183","v":" -"}]
[null,{"$f":"'All hospitals'!B184","v":"The Sutherland Hospital"},{"$f":"'All hospitals'!C184","v":"Sydney"},{"$f":"'All hospitals'!E184","v":"02 9540 7466 OR 02 9540 7467"},{"$f":"'All hospitals'!F184","v":"02 9540 7111"},{"$f":"'All hospitals'!G184","v":8},{"$f":"'All hospitals'!H184","v":"Pharmacy fridge 3"},{"$f":"'All hospitals'!I184","v":"-"},{"$f":"'All hospitals'!J184","v":"-"}]
[null,{"$f":"'All hospitals'!B185","v":"-"},{"$f":"'All hospitals'!C185","v":"-"},{"$f":"'All hospitals'!E185","v":"-"},{"$f":"'All hospitals'!F185","v":"-"},{"$f":"'All hospitals'!G185","v":"-"},{"$f":"'All hospitals'!H185","v":"-"},{"$f":"'All hospitals'!I185","v":"-"},{"$f":"'All hospitals'!J185","v":"-"}]
[null,{"$f":"'All hospitals'!B186","v":"SOUTH WESTERN SYDNEY LHD"}]
[null,{"$f":"'All hospitals'!B187","v":"Bankstown-Lidcombe Hospital"},{"$f":"'All hospitals'!C187","v":"Sydney"},{"$f":"'All hospitals'!E187","v":"02 9722 8000"},{"$f":"'All hospitals'!F187","v":"02 9722 8000"},{"$f":"'All hospitals'!G187","v":1},{"$f":"'All hospitals'!H187","v":"ED"},{"$f":"'All hospitals'!I187","v":" -"},{"$f":"'All hospitals'!J187","v":" -"}]
[null,{"$f":"'All hospitals'!B188","v":"Bowral District Hospital"},{"$f":"'All hospitals'!C188","v":"Bowral"},{"$f":"'All hospitals'!E188","v":"02 4861 0274"},{"$f":"'All hospitals'!F188","v":"02 4861 0199"},{"$f":"'All hospitals'!G188","v":3},{"$f":"'All hospitals'!H188","v":"Pharmacy"},{"$f":"'All hospitals'!I188","v":" -"},{"$f":"'All hospitals'!J188","v":" -"}]
[null,{"$f":"'All hospitals'!B189","v":"Camden Hospital "},{"$f":"'All hospitals'!C189","v":"Sydney"},{"$f":"'All hospitals'!E189","v":"02 4634 3000"},{"$f":"'All hospitals'!F189","v":"0408 662 394"},{"$f":"'All hospitals'!G189","v":2},{"$f":"'All hospitals'!H189","v":"ED"},{"$f":"'All hospitals'!I189","v":" -"},{"$f":"'All hospitals'!J189","v":" -"}]
[null,{"$f":"'All hospitals'!B190","v":"Campbelltown Hospital "},{"$f":"'All hospitals'!C190","v":"Sydney"},{"$f":"'All hospitals'!E190","v":"02 4634 3000"},{"$f":"'All hospitals'!F190","v":"0408 662 394"},{"$f":"'All hospitals'!G190","v":2},{"$f":"'All hospitals'!H190","v":"ED"},{"$f":"'All hospitals'!I190","v":" -"},{"$f":"'All hospitals'!J190","v":" -"}]
[null,{"$f":"'All hospitals'!B191","v":"Fairfield Hospital"},{"$f":"'All hospitals'!C191","v":"Fairfield"},{"$f":"'All hospitals'!E191","v":"02 9616 8322"},{"$f":"'All hospitals'!F191","v":"02 9616 8111"},{"$f":"'All hospitals'!G191","v":0},{"$f":"'All hospitals'!H191","v":" -"},{"$f":"'All hospitals'!I191","v":" -"},{"$f":"'All hospitals'!J191","v":" -"}]
[null,{"$f":"'All hospitals'!B192","v":"Liverpool Hospital"},{"$f":"'All hospitals'!C192","v":"Sydney"},{"$f":"'All hospitals'!E192","v":"02 8738 3000"},{"$f":"'All hospitals'!F192","v":"02 8738 3000"},{"$f":"'All hospitals'!G192","v":1},{"$f":"'All hospitals'!H192","v":"ED"},{"$f":"'All hospitals'!I192","v":2},{"$f":"'All hospitals'!J192","v":"Pharmacy"}]
[null,{"$f":"'All hospitals'!B193","v":"-"},{"$f":"'All hospitals'!C193","v":"-"},{"$f":"'All hospitals'!E193","v":"-"},{"$f":"'All hospitals'!F193","v":"-"},{"$f":"'All hospitals'!G193","v":"-"},{"$f":"'All hospitals'!H193","v":"-"},{"$f":"'All hospitals'!I193","v":"-"},{"$f":"'All hospitals'!J193","v":"-"}]
[null,{"$f":"'All hospitals'!B194","v":"SOUTHERN NSW"}]
[null,{"$f":"'All hospitals'!B195","v":"Bateman's Bay District Hospital "},{"$f":"'All hospitals'!C195","v":"Bateman's Bay"},{"$f":"'All hospitals'!E195","v":"02 4475 1500"},{"$f":"'All hospitals'!F195","v":"0419 421 411"},{"$f":"'All hospitals'!G195","v":1},{"$f":"'All hospitals'!H195","v":"ED"},{"$f":"'All hospitals'!I195","v":2},{"$f":"'All hospitals'!J195","v":"Pharmacy "}]
[null,{"$f":"'All hospitals'!B196","v":"South East Regional Hospital (SERH / Bega District Hospital)"},{"$f":"'All hospitals'!C196","v":"Bega"},{"$f":"'All hospitals'!E196","v":"02 6492 9111"},{"$f":"'All hospitals'!F196","v":"0419 421 411"},{"$f":"'All hospitals'!G196","v":2},{"$f":"'All hospitals'!H196","v":"ED"},{"$f":"'All hospitals'!I196","v":" -"},{"$f":"'All hospitals'!J196","v":" -"}]
[null,{"$f":"'All hospitals'!B197","v":"Bombala Hospital "},{"$f":"'All hospitals'!C197","v":"Bombala"},{"$f":"'All hospitals'!E197","v":"02 6458 5777"},{"$f":"'All hospitals'!F197","v":"0419 421 411"},{"$f":"'All hospitals'!G197","v":1},{"$f":"'All hospitals'!H197","v":"Hospital Fridge "},{"$f":"'All hospitals'!I197","v":" -"},{"$f":"'All hospitals'!J197","v":" -"}]
[null,{"$f":"'All hospitals'!B198","v":"Braidwood Hospital "},{"$f":"'All hospitals'!C198","v":"Braidwood"},{"$f":"'All hospitals'!E198","v":"02 4842 2566"},{"$f":"'All hospitals'!F198","v":"0419 421 411"},{"$f":"'All hospitals'!G198","v":2},{"$f":"'All hospitals'!H198","v":"ED/general ward"},{"$f":"'All hospitals'!I198","v":" -"},{"$f":"'All hospitals'!J198","v":" -"}]
[null,{"$f":"'All hospitals'!B199","v":"Cooma District Hospital "},{"$f":"'All hospitals'!C199","v":"Cooma"},{"$f":"'All hospitals'!E199","v":"02 6455 3222"},{"$f":"'All hospitals'!F199","v":"0419 421 411"},{"$f":"'All hospitals'!G199","v":1},{"$f":"'All hospitals'!H199","v":"ED"},{"$f":"'All hospitals'!I199","v":1},{"$f":"'All hospitals'!J199","v":"Pharmacy"}]
[null,{"$f":"'All hospitals'!B200","v":"Crookwell District Hospital "},{"$f":"'All hospitals'!C200","v":"Crookwell NSW"},{"$f":"'All hospitals'!E200","v":"02 4832 1300"},{"$f":"'All hospitals'!F200","v":"0419 421 411"},{"$f":"'All hospitals'!G200","v":1},{"$f":"'All hospitals'!H200","v":"ED"},{"$f":"'All hospitals'!I200","v":" -"},{"$f":"'All hospitals'!J200","v":" -"}]
[null,{"$f":"'All hospitals'!B201","v":"Delegate Hospital "},{"$f":"'All hospitals'!C201","v":"Delegate"},{"$f":"'All hospitals'!E201","v":"02 6459 8000"},{"$f":"'All hospitals'!F201","v":"0419 421 411"},{"$f":"'All hospitals'!G201","v":1},{"$f":"'All hospitals'!H201","v":"Hospital Fridge "},{"$f":"'All hospitals'!I201","v":" -"},{"$f":"'All hospitals'!J201","v":" -"}]
[null,{"$f":"'All hospitals'!B202","v":"Goulburn Base Hospital "},{"$f":"'All hospitals'!C202","v":"Goulburn"},{"$f":"'All hospitals'!E202","v":"02 4827 3111"},{"$f":"'All hospitals'!F202","v":"02 4827 3111"},{"$f":"'All hospitals'!G202","v":2},{"$f":"'All hospitals'!H202","v":"ED "},{"$f":"'All hospitals'!I202","v":1},{"$f":"'All hospitals'!J202","v":"Pharmacy"}]
[null,{"$f":"'All hospitals'!B203","v":"Moruya District Hospital "},{"$f":"'All hospitals'!C203","v":"Moruya"},{"$f":"'All hospitals'!E203","v":"02 4474 2666"},{"$f":"'All hospitals'!F203","v":"0419 421 411"},{"$f":"'All hospitals'!G203","v":1},{"$f":"'All hospitals'!H203","v":"ED"},{"$f":"'All hospitals'!I203","v":1},{"$f":"'All hospitals'!J203","v":"Pharmacy"}]
[null,{"$f":"'All hospitals'!B204","v":"Pambula District Hospital "},{"$f":"'All hospitals'!C204","v":"Pambula"},{"$f":"'All hospitals'!E204","v":"02 6495 8200"},{"$f":"'All hospitals'!F204","v":"0419 421 411"},{"$f":"'All hospitals'!G204","v":1},{"$f":"'All hospitals'!H204","v":"ED"},{"$f":"'All hospitals'!I204","v":" -"},{"$f":"'All hospitals'!J204","v":" -"}]
[null,{"$f":"'All hospitals'!B205","v":"Queanbeyan Hospital "},{"$f":"'All hospitals'!C205","v":"Queanbeyan"},{"$f":"'All hospitals'!E205","v":"02 6150 7000"},{"$f":"'All hospitals'!F205","v":"0419 421 411"},{"$f":"'All hospitals'!G205","v":1},{"$f":"'All hospitals'!H205","v":"ED "},{"$f":"'All hospitals'!I205","v":1},{"$f":"'All hospitals'!J205","v":"Pharmacy "}]
[null,{"$f":"'All hospitals'!B206","v":"Yass District Hospital "},{"$f":"'All hospitals'!C206","v":"Yass"},{"$f":"'All hospitals'!E206","v":"02 6220 2000"},{"$f":"'All hospitals'!F206","v":"0419 421 411"},{"$f":"'All hospitals'!G206","v":1},{"$f":"'All hospitals'!H206","v":"ED "},{"$f":"'All hospitals'!I206","v":" -"},{"$f":"'All hospitals'!J206","v":" -"}]
[null,{"$f":"'All hospitals'!B207","v":"-"},{"$f":"'All hospitals'!C207","v":"-"},{"$f":"'All hospitals'!E207","v":"-"},{"$f":"'All hospitals'!F207","v":"-"},{"$f":"'All hospitals'!G207","v":"-"},{"$f":"'All hospitals'!H207","v":"-"},{"$f":"'All hospitals'!I207","v":"-"},{"$f":"'All hospitals'!J207","v":"-"}]
[null,{"$f":"'All hospitals'!B208","v":"ST VINCENT'S HEALTH"}]
[null,{"$f":"'All hospitals'!B209","v":"St Vincent's Hospital"},{"$f":"'All hospitals'!C209","v":"Darlinghurst"},{"$f":"'All hospitals'!E209","v":"02 8282 2125"},{"$f":"'All hospitals'!F209","v":"02 8382 1111 (on call pharmacist via switchboard)"},{"$f":"'All hospitals'!G209","v":1},{"$f":"'All hospitals'!H209","v":"After hours cupboard"},{"$f":"'All hospitals'!I209","v":" -"},{"$f":"'All hospitals'!J209","v":" -"}]
[null,{"$f":"'All hospitals'!B210","v":"-"},{"$f":"'All hospitals'!C210","v":"-"},{"$f":"'All hospitals'!E210","v":"-"},{"$f":"'All hospitals'!F210","v":"-"},{"$f":"'All hospitals'!G210","v":"-"},{"$f":"'All hospitals'!H210","v":"-"},{"$f":"'All hospitals'!I210","v":"-"},{"$f":"'All hospitals'!J210","v":"-"}]
[null,{"$f":"'All hospitals'!B211","v":"SYDNEY LHD"}]
[null,{"$f":"'All hospitals'!B212","v":"Balmain Hospital (No ED services) NO STOCKS HELD"},{"$f":"'All hospitals'!C212","v":"Balmain"},{"$f":"'All hospitals'!E212","v":"02 9395 2111"},{"$f":"'All hospitals'!F212","v":" -"},{"$f":"'All hospitals'!G212","v":"-"},{"$f":"'All hospitals'!H212","v":"-"},{"$f":"'All hospitals'!I212","v":" -"},{"$f":"'All hospitals'!J212","v":" -"}]
[null,{"$f":"'All hospitals'!B213","v":"Canterbury Hospital "},{"$f":"'All hospitals'!C213","v":"Campsie"},{"$f":"'All hospitals'!E213","v":"02 9787 0219"},{"$f":"'All hospitals'!F213","v":"02 9787 0000"},{"$f":"'All hospitals'!G213","v":0},{"$f":"'All hospitals'!H213","v":" -"},{"$f":"'All hospitals'!I213","v":" -"},{"$f":"'All hospitals'!J213","v":" -"}]
[null,{"$f":"'All hospitals'!B214","v":"Concord Hospital"},{"$f":"'All hospitals'!C214","v":"Concord"},{"$f":"'All hospitals'!E214","v":"02 9767 6214"},{"$f":"'All hospitals'!F214","v":"02 9767 5000"},{"$f":"'All hospitals'!G214","v":1},{"$f":"'All hospitals'!H214","v":"After hours cupboard"},{"$f":"'All hospitals'!I214","v":" -"},{"$f":"'All hospitals'!J214","v":" -"}]
[null,{"$f":"'All hospitals'!B215","v":"Royal Prince Alfred Hospital"},{"$f":"'All hospitals'!C215","v":"Camperdown"},{"$f":"'All hospitals'!E215","v":"02 9515 6111"},{"$f":"'All hospitals'!F215","v":"02 9515 6111"},{"$f":"'All hospitals'!G215","v":2},{"$f":"'All hospitals'!H215","v":"ED "},{"$f":"'All hospitals'!I215","v":" -"},{"$f":"'All hospitals'!J215","v":" -"}]
[null,{"$f":"'All hospitals'!B216","v":"-"},{"$f":"'All hospitals'!C216","v":"-"},{"$f":"'All hospitals'!E216","v":"-"},{"$f":"'All hospitals'!F216","v":"-"},{"$f":"'All hospitals'!G216","v":"-"},{"$f":"'All hospitals'!H216","v":"-"},{"$f":"'All hospitals'!I216","v":"-"},{"$f":"'All hospitals'!J216","v":"-"}]
[null,{"$f":"'All hospitals'!B217","v":"SYDNEY CHILDREN'S HOSPITALS NETWORK"}]
[null,{"$f":"'All hospitals'!B218","v":"Sydney Children's Hospital Randwick (SCH) (see also stocks kept at Prince of Wales (adjacent hospital))"},{"$f":"'All hospitals'!C218","v":"Randwick"},{"$f":"'All hospitals'!E218","v":"02 9382 1111"},{"$f":"'All hospitals'!F218","v":"029382 2222  Pharmacist on call "},{"$f":"'All hospitals'!G218","v":1},{"$f":"'All hospitals'!H218","v":"Paediatric after hours drug room "},{"$f":"'All hospitals'!I218","v":" -"},{"$f":"'All hospitals'!J218","v":" -"}]
[null,{"$f":"'All hospitals'!B219","v":"The Children's Hospital Westmead (CHW)"},{"$f":"'All hospitals'!C219","v":"Westmead"},{"$f":"'All hospitals'!E219","v":"02 9845 0000"},{"$f":"'All hospitals'!F219","v":"02 9845 0000 (on call pharmacist via switchboard)"},{"$f":"'All hospitals'!G219","v":1},{"$f":"'All hospitals'!H219","v":"ED"},{"$f":"'All hospitals'!I219","v":2},{"$f":"'All hospitals'!J219","v":"Pharmacy"}]
[null,{"$f":"'All hospitals'!B220","v":" Newborn & Paediatric Emergency Transport Service (NETS)"},{"$f":"'All hospitals'!C220","v":"Bankstown Aerodrome"},{"$f":"'All hospitals'!E220","v":1300362730},{"$f":"'All hospitals'!F220","v":1300362730},{"$f":"'All hospitals'!G220","v":"-"},{"$f":"'All hospitals'!H220","v":"-"},{"$f":"'All hospitals'!I220","v":"-"},{"$f":"'All hospitals'!J220","v":"-"}]
[null,{"$f":"'All hospitals'!B221","v":"-"},{"$f":"'All hospitals'!C221","v":"-"},{"$f":"'All hospitals'!E221","v":"-"},{"$f":"'All hospitals'!F221","v":"-"},{"$f":"'All hospitals'!G221","v":"-"},{"$f":"'All hospitals'!H221","v":"-"},{"$f":"'All hospitals'!I221","v":"-"},{"$f":"'All hospitals'!J221","v":"-"}]
[null,{"$f":"'All hospitals'!B222","v":"WESTERN NSW LHD"}]
[null,{"$f":"'All hospitals'!B223","v":"Baradine Multi Purpose Service"},{"$f":"'All hospitals'!C223","v":"Baradine, NSW"},{"$f":"'All hospitals'!E223","v":"02 6843 1605"},{"$f":"'All hospitals'!F223","v":"02 6843 4100"},{"$f":"'All hospitals'!G223","v":0},{"$f":"'All hospitals'!H223","v":" -"},{"$f":"'All hospitals'!I223","v":" -"},{"$f":"'All hospitals'!J223","v":" -"}]
[null,{"$f":"'All hospitals'!B224","v":"Bathurst Hospital"},{"$f":"'All hospitals'!C224","v":"Bathurst"},{"$f":"'All hospitals'!E224","v":"02 6330 5304"},{"$f":"'All hospitals'!F224","v":"02 6330 5308"},{"$f":"'All hospitals'!G224","v":3},{"$f":"'All hospitals'!H224","v":"After Hours Cupboard"},{"$f":"'All hospitals'!I224","v":" -"},{"$f":"'All hospitals'!J224","v":" -"}]
[null,{"$f":"'All hospitals'!B225","v":"Blayney Multi Purpose Service"},{"$f":"'All hospitals'!C225","v":"Blayney"},{"$f":"'All hospitals'!E225","v":"02 6368 9029 "},{"$f":"'All hospitals'!F225","v":"02 6368 9029 "},{"$f":"'All hospitals'!G225","v":1},{"$f":"'All hospitals'!H225","v":"ED fridge"},{"$f":"'All hospitals'!I225","v":" -"},{"$f":"'All hospitals'!J225","v":" -"}]
[null,{"$f":"'All hospitals'!B226","v":"Bourke Multi Purpose Service "},{"$f":"'All hospitals'!C226","v":"Bourke"},{"$f":"'All hospitals'!E226","v":"02 6870 8888"},{"$f":"'All hospitals'!F226","v":"02 6870 8888"},{"$f":"'All hospitals'!G226","v":1},{"$f":"'All hospitals'!H226","v":"ED Treatment Room Fridge"},{"$f":"'All hospitals'!I226","v":" -"},{"$f":"'All hospitals'!J226","v":" -"}]
[null,{"$f":"'All hospitals'!B227","v":"Brewarrina Multi Purpose Service "},{"$f":"'All hospitals'!C227","v":"Brewarrina"},{"$f":"'All hospitals'!E227","v":"02 6830 5000"},{"$f":"'All hospitals'!F227","v":"02 6830 5000"},{"$f":"'All hospitals'!G227","v":1},{"$f":"'All hospitals'!H227","v":"ED Treatment Room Fridge"},{"$f":"'All hospitals'!I227","v":" -"},{"$f":"'All hospitals'!J227","v":" -"}]
[null,{"$f":"'All hospitals'!B228","v":"Canowindra Soldiers Memorial Hospital (Stock data TBC)"},{"$f":"'All hospitals'!C228","v":"Canowindra"},{"$f":"'All hospitals'!E228","v":"02 6364 4300"},{"$f":"'All hospitals'!F228","v":"02 6340 3033"},{"$f":"'All hospitals'!G228","v":1},{"$f":"'All hospitals'!H228","v":"ED"},{"$f":"'All hospitals'!I228","v":" -"},{"$f":"'All hospitals'!J228","v":" -"}]
[null,{"$f":"'All hospitals'!B229","v":"Cobar District Hospital (Stock data TBC)"},{"$f":"'All hospitals'!C229","v":"Cobar"},{"$f":"'All hospitals'!E229","v":"02 6836 2406"},{"$f":"'All hospitals'!F229","v":"02 6830 2111"},{"$f":"'All hospitals'!G229","v":1},{"$f":"'All hospitals'!H229","v":"ED Treatment Room Fridge"},{"$f":"'All hospitals'!I229","v":" -"},{"$f":"'All hospitals'!J229","v":" -"}]
[null,{"$f":"'All hospitals'!B230","v":"Collarenebri Multi Purpose Service "},{"$f":"'All hospitals'!C230","v":"Collarenebri"},{"$f":"'All hospitals'!E230","v":"02 6756 4800"},{"$f":"'All hospitals'!F230","v":"02 6756 4800"},{"$f":"'All hospitals'!G230","v":1},{"$f":"'All hospitals'!H230","v":" Imprest Room Fridge"},{"$f":"'All hospitals'!I230","v":" -"},{"$f":"'All hospitals'!J230","v":" -"}]
[null,{"$f":"'All hospitals'!B231","v":"Condobolin District Hospital"},{"$f":"'All hospitals'!C231","v":"Condobolin"},{"$f":"'All hospitals'!E231","v":"02 6890 1500"},{"$f":"'All hospitals'!F231","v":"02 6890 1500"},{"$f":"'All hospitals'!G231","v":2},{"$f":"'All hospitals'!H231","v":"ED"},{"$f":"'All hospitals'!I231","v":" -"},{"$f":"'All hospitals'!J231","v":" -"}]
[null,{"$f":"'All hospitals'!B232","v":"Coolah Multi Purpose Service (Stock data TBC)"},{"$f":"'All hospitals'!C232","v":"Coolah"},{"$f":"'All hospitals'!E232","v":"02 6377 9100"},{"$f":"'All hospitals'!F232","v":"02 6377 9100"},{"$f":"'All hospitals'!G232","v":1},{"$f":"'All hospitals'!H232","v":"TBC"},{"$f":"'All hospitals'!I232","v":" -"},{"$f":"'All hospitals'!J232","v":" -"}]
[null,{"$f":"'All hospitals'!B233","v":"Coonabarabran District Hospital"},{"$f":"'All hospitals'!C233","v":"Coonabarabran"},{"$f":"'All hospitals'!E233","v":"02 6849 1600"},{"$f":"'All hospitals'!F233","v":"02 6849 1600"},{"$f":"'All hospitals'!G233","v":2},{"$f":"'All hospitals'!H233","v":"ED Imprest Room Fridge"},{"$f":"'All hospitals'!I233","v":" -"},{"$f":"'All hospitals'!J233","v":" -"}]
[null,{"$f":"'All hospitals'!B234","v":"Coonamble Multi Purpose Service (Stock data TBC)"},{"$f":"'All hospitals'!C234","v":"Coonamble"},{"$f":"'All hospitals'!E234","v":"02 6827 1100"},{"$f":"'All hospitals'!F234","v":"02 6827 1100"},{"$f":"'All hospitals'!G234","v":2},{"$f":"'All hospitals'!H234","v":"ED Fridge-Antivenoms"},{"$f":"'All hospitals'!I234","v":" -"},{"$f":"'All hospitals'!J234","v":" -"}]
[null,{"$f":"'All hospitals'!B235","v":"Cowra Hospital (Stock data TBC)"},{"$f":"'All hospitals'!C235","v":"Cowra"},{"$f":"'All hospitals'!E235","v":"02 6340 9000"},{"$f":"'All hospitals'!F235","v":"02 6340 9000"},{"$f":"'All hospitals'!G235","v":1},{"$f":"'All hospitals'!H235","v":"ED"},{"$f":"'All hospitals'!I235","v":" -"},{"$f":"'All hospitals'!J235","v":" -"}]
[null,{"$f":"'All hospitals'!B236","v":"Cudal Health Service NO STOCKS HELD"},{"$f":"'All hospitals'!C236","v":"Cudal"},{"$f":"'All hospitals'!E236","v":"02 6392 3400"},{"$f":"'All hospitals'!F236","v":" -"},{"$f":"'All hospitals'!G236","v":0},{"$f":"'All hospitals'!H236","v":" -"},{"$f":"'All hospitals'!I236","v":" -"},{"$f":"'All hospitals'!J236","v":" -"}]
[null,{"$f":"'All hospitals'!B237","v":"Dubbo Base Hospital"},{"$f":"'All hospitals'!C237","v":"Dubbo"},{"$f":"'All hospitals'!E237","v":"02 6809 8150"},{"$f":"'All hospitals'!F237","v":"02 6809 6809"},{"$f":"'All hospitals'!G237","v":1},{"$f":"'All hospitals'!H237","v":"ED"},{"$f":"'All hospitals'!I237","v":"5 + 6"},{"$f":"'All hospitals'!J237","v":"Pharmacy + after hours cupboard"}]
[null,{"$f":"'All hospitals'!B238","v":"Dunedoo Multi Purpose Service (Stock data TBC)"},{"$f":"'All hospitals'!C238","v":"Dunedoo"},{"$f":"'All hospitals'!E238","v":"02 6375 1408"},{"$f":"'All hospitals'!F238","v":"02 6370 3000"},{"$f":"'All hospitals'!G238","v":1},{"$f":"'All hospitals'!H238","v":"ED Fridge-Antivenoms"},{"$f":"'All hospitals'!I238","v":" -"},{"$f":"'All hospitals'!J238","v":" -"}]
[null,{"$f":"'All hospitals'!B239","v":"Eugowra Multi Purpose Service (Stock data TBC)"},{"$f":"'All hospitals'!C239","v":"Eugowra"},{"$f":"'All hospitals'!E239","v":"02 6850 4000"},{"$f":"'All hospitals'!F239","v":"02 6850 4000"},{"$f":"'All hospitals'!G239","v":1},{"$f":"'All hospitals'!H239","v":"ED Fridge"},{"$f":"'All hospitals'!I239","v":" -"},{"$f":"'All hospitals'!J239","v":" -"}]
[null,{"$f":"'All hospitals'!B240","v":"Forbes District Hospital "},{"$f":"'All hospitals'!C240","v":"Forbes"},{"$f":"'All hospitals'!E240","v":"02 6850 7100"},{"$f":"'All hospitals'!F240","v":"02 6850 7100"},{"$f":"'All hospitals'!G240","v":2},{"$f":"'All hospitals'!H240","v":"ED"},{"$f":"'All hospitals'!I240","v":" -"},{"$f":"'All hospitals'!J240","v":" -"}]
[null,{"$f":"'All hospitals'!B241","v":"Gilgandra Multi Purpose Service (Stock data TBC)"},{"$f":"'All hospitals'!C241","v":"Gilgandra"},{"$f":"'All hospitals'!E241","v":"02 6880 5900"},{"$f":"'All hospitals'!F241","v":"02 6880 5900"},{"$f":"'All hospitals'!G241","v":1},{"$f":"'All hospitals'!H241","v":"ED"},{"$f":"'All hospitals'!I241","v":" -"},{"$f":"'All hospitals'!J241","v":" -"}]
[null,{"$f":"'All hospitals'!B242","v":"Goodooga Health Service "},{"$f":"'All hospitals'!C242","v":"Goodooga"},{"$f":"'All hospitals'!E242","v":"02 6829 5600"},{"$f":"'All hospitals'!F242","v":" - "},{"$f":"'All hospitals'!G242","v":1},{"$f":"'All hospitals'!H242","v":"Imprest Room Fridge"},{"$f":"'All hospitals'!I242","v":" -"},{"$f":"'All hospitals'!J242","v":" -"}]
[null,{"$f":"'All hospitals'!B243","v":"Grenfell Multi Purpose Service (Stock data TBC)"},{"$f":"'All hospitals'!C243","v":"Grenfell"},{"$f":"'All hospitals'!E243","v":"02 6349 1700"},{"$f":"'All hospitals'!F243","v":"02 6349 1700"},{"$f":"'All hospitals'!G243","v":1},{"$f":"'All hospitals'!H243","v":"TBC"},{"$f":"'All hospitals'!I243","v":" -"},{"$f":"'All hospitals'!J243","v":" -"}]
[null,{"$f":"'All hospitals'!B244","v":"Gulargambone NO STOCKS HELD"},{"$f":"'All hospitals'!C244","v":"Gulargambone"},{"$f":"'All hospitals'!E244","v":"02 6825 1201"},{"$f":"'All hospitals'!F244","v":"-"},{"$f":"'All hospitals'!G244","v":0},{"$f":"'All hospitals'!H244","v":" -"},{"$f":"'All hospitals'!I244","v":" -"},{"$f":"'All hospitals'!J244","v":" -"}]
[null,{"$f":"'All hospitals'!B245","v":"Gulgong Health Service "},{"$f":"'All hospitals'!C245","v":"Gulgong"},{"$f":"'All hospitals'!E245","v":"02 6374 3400"},{"$f":"'All hospitals'!F245","v":"02 6374 1200"},{"$f":"'All hospitals'!G245","v":1},{"$f":"'All hospitals'!H245","v":"Imprest Room Fridge"},{"$f":"'All hospitals'!I245","v":" -"},{"$f":"'All hospitals'!J245","v":" -"}]
[null,{"$f":"'All hospitals'!B246","v":"Lightning Ridge Multi Purpose Service "},{"$f":"'All hospitals'!C246","v":"Lightning Ridge"},{"$f":"'All hospitals'!E246","v":"02 6820 5700"},{"$f":"'All hospitals'!F246","v":"02 6820 5700"},{"$f":"'All hospitals'!G246","v":1},{"$f":"'All hospitals'!H246","v":"ED Imprest Room Fridge"},{"$f":"'All hospitals'!I246","v":" -"},{"$f":"'All hospitals'!J246","v":" -"}]
[null,{"$f":"'All hospitals'!B247","v":"Molong Hospital (Stock data TBC)"},{"$f":"'All hospitals'!C247","v":"Molong"},{"$f":"'All hospitals'!E247","v":"02 6392 3300"},{"$f":"'All hospitals'!F247","v":" -"},{"$f":"'All hospitals'!G247","v":1},{"$f":"'All hospitals'!H247","v":" TBC "},{"$f":"'All hospitals'!I247","v":" -"},{"$f":"'All hospitals'!J247","v":" -"}]
[null,{"$f":"'All hospitals'!B248","v":"Mudgee Hospital "},{"$f":"'All hospitals'!C248","v":"Mudgee"},{"$f":"'All hospitals'!E248","v":"02 6371 9751"},{"$f":"'All hospitals'!F248","v":"02 6371 9700"},{"$f":"'All hospitals'!G248","v":1},{"$f":"'All hospitals'!H248","v":"ED "},{"$f":"'All hospitals'!I248","v":1},{"$f":"'All hospitals'!J248","v":"Pharmacy "}]
[null,{"$f":"'All hospitals'!B249","v":"Narromine Health Service "},{"$f":"'All hospitals'!C249","v":"Narromine"},{"$f":"'All hospitals'!E249","v":"02 6889 9600"},{"$f":"'All hospitals'!F249","v":"02 6889 9600"},{"$f":"'All hospitals'!G249","v":2},{"$f":"'All hospitals'!H249","v":"Pharmacy Fridge"},{"$f":"'All hospitals'!I249","v":" -"},{"$f":"'All hospitals'!J249","v":" -"}]
[null,{"$f":"'All hospitals'!B250","v":"Nyngan Multi Purpose Service (Stock data TBC)"},{"$f":"'All hospitals'!C250","v":"Nyngan"},{"$f":"'All hospitals'!E250","v":"02 6832 1707"},{"$f":"'All hospitals'!F250","v":"02 6835 1700"},{"$f":"'All hospitals'!G250","v":2},{"$f":"'All hospitals'!H250","v":"ED"},{"$f":"'All hospitals'!I250","v":" -"},{"$f":"'All hospitals'!J250","v":" -"}]
[null,{"$f":"'All hospitals'!B251","v":"Oberon Multi Purpose Service"},{"$f":"'All hospitals'!C251","v":"Oberon"},{"$f":"'All hospitals'!E251","v":"02 6336 7200"},{"$f":"'All hospitals'!F251","v":"02 6336 7200"},{"$f":"'All hospitals'!G251","v":1},{"$f":"'All hospitals'!H251","v":"ED treatment room fridge"},{"$f":"'All hospitals'!I251","v":1},{"$f":"'All hospitals'!J251","v":"MEMI"}]
[null,{"$f":"'All hospitals'!B252","v":"Orange Health Service "},{"$f":"'All hospitals'!C252","v":"Orange"},{"$f":"'All hospitals'!E252","v":"02 6369 3740"},{"$f":"'All hospitals'!F252","v":"02 6369 3222"},{"$f":"'All hospitals'!G252","v":"2 + 1"},{"$f":"'All hospitals'!H252","v":"ED + emergency medication imprest"},{"$f":"'All hospitals'!I252","v":"5 + 3"},{"$f":"'All hospitals'!J252","v":"Afterhours drug cupboard + Pharmacy"}]
[null,{"$f":"'All hospitals'!B253","v":"Parkes District Hospital "},{"$f":"'All hospitals'!C253","v":"Parkes"},{"$f":"'All hospitals'!E253","v":"02 6861 2400"},{"$f":"'All hospitals'!F253","v":"02 6861 2440"},{"$f":"'All hospitals'!G253","v":2},{"$f":"'All hospitals'!H253","v":"ED"},{"$f":"'All hospitals'!I253","v":" -"},{"$f":"'All hospitals'!J253","v":" -"}]
[null,{"$f":"'All hospitals'!B254","v":"Peak Hill Multi Purpose Service "},{"$f":"'All hospitals'!C254","v":"Peak Hill"},{"$f":"'All hospitals'!E254","v":"02 6869 5200"},{"$f":"'All hospitals'!F254","v":"02 6869 5200"},{"$f":"'All hospitals'!G254","v":1},{"$f":"'All hospitals'!H254","v":"ED Fridge"},{"$f":"'All hospitals'!I254","v":" -"},{"$f":"'All hospitals'!J254","v":" -"}]
[null,{"$f":"'All hospitals'!B255","v":"Rylstone Multi Purpose Service "},{"$f":"'All hospitals'!C255","v":"Rylstone"},{"$f":"'All hospitals'!E255","v":"02 6357 6100"},{"$f":"'All hospitals'!F255","v":"02 6357 6100"},{"$f":"'All hospitals'!G255","v":1},{"$f":"'All hospitals'!H255","v":"ED fridge"},{"$f":"'All hospitals'!I255","v":" -"},{"$f":"'All hospitals'!J255","v":" -"}]
[null,{"$f":"'All hospitals'!B256","v":"Tottenham Multi Purpose Service "},{"$f":"'All hospitals'!C256","v":"Tottenham"},{"$f":"'All hospitals'!E256","v":"02 6891  6200"},{"$f":"'All hospitals'!F256","v":"02 6891  6200"},{"$f":"'All hospitals'!G256","v":1},{"$f":"'All hospitals'!H256","v":"ED Drug room vaccination fridge"},{"$f":"'All hospitals'!I256","v":" -"},{"$f":"'All hospitals'!J256","v":" -"}]
[null,{"$f":"'All hospitals'!B257","v":"Trangie Multi Purpose Service (Stock data TBC)"},{"$f":"'All hospitals'!C257","v":"Trangie"},{"$f":"'All hospitals'!E257","v":" -"},{"$f":"'All hospitals'!F257","v":"02 6880 8200"},{"$f":"'All hospitals'!G257","v":1},{"$f":"'All hospitals'!H257","v":"TBC"},{"$f":"'All hospitals'!I257","v":" -"},{"$f":"'All hospitals'!J257","v":" -"}]
[null,{"$f":"'All hospitals'!B258","v":"Trundle Multi Purpose Service "},{"$f":"'All hospitals'!C258","v":"Trundle"},{"$f":"'All hospitals'!E258","v":"02 6892 1900"},{"$f":"'All hospitals'!F258","v":"02 6892 1900"},{"$f":"'All hospitals'!G258","v":1},{"$f":"'All hospitals'!H258","v":"TBC"},{"$f":"'All hospitals'!I258","v":" -"},{"$f":"'All hospitals'!J258","v":" -"}]
[null,{"$f":"'All hospitals'!B259","v":"Tullamore Multi Purpose Service "},{"$f":"'All hospitals'!C259","v":"Tullamore"},{"$f":"'All hospitals'!E259","v":"02 6892 6400"},{"$f":"'All hospitals'!F259","v":"02 6892 6400"},{"$f":"'All hospitals'!G259","v":2},{"$f":"'All hospitals'!H259","v":"ED Drug room vaccination fridge"},{"$f":"'All hospitals'!I259","v":" -"},{"$f":"'All hospitals'!J259","v":" -"}]
[null,{"$f":"'All hospitals'!B260","v":"Walgett District Hospital "},{"$f":"'All hospitals'!C260","v":"Walgett"},{"$f":"'All hospitals'!E260","v":"02 6817 9400"},{"$f":"'All hospitals'!F260","v":"02 6817 9400"},{"$f":"'All hospitals'!G260","v":1},{"$f":"'All hospitals'!H260","v":"Imprest Room Fridge"},{"$f":"'All hospitals'!I260","v":" -"},{"$f":"'All hospitals'!J260","v":" -"}]
[null,{"$f":"'All hospitals'!B261","v":"Wanaaring Health Service NO STOCKS HELD"},{"$f":"'All hospitals'!C261","v":"Wanaaring"},{"$f":"'All hospitals'!E261","v":"02 6874 7721"},{"$f":"'All hospitals'!F261","v":"02 6874 7721"},{"$f":"'All hospitals'!G261","v":0},{"$f":"'All hospitals'!H261","v":" -"},{"$f":"'All hospitals'!I261","v":" -"},{"$f":"'All hospitals'!J261","v":" -"}]
[null,{"$f":"'All hospitals'!B262","v":"Warren Multi Purpose Service (Stock data TBC)"},{"$f":"'All hospitals'!C262","v":"Warren"},{"$f":"'All hospitals'!E262","v":"02 6847 4303"},{"$f":"'All hospitals'!F262","v":"02 6847 5400"},{"$f":"'All hospitals'!G262","v":2},{"$f":"'All hospitals'!H262","v":"ED"},{"$f":"'All hospitals'!I262","v":" -"},{"$f":"'All hospitals'!J262","v":" -"}]
[null,{"$f":"'All hospitals'!B263","v":"Wellington Health Service"},{"$f":"'All hospitals'!C263","v":"Wellington"},{"$f":"'All hospitals'!E263","v":"02 6840 7200"},{"$f":"'All hospitals'!F263","v":"02 6840 8200"},{"$f":"'All hospitals'!G263","v":1},{"$f":"'All hospitals'!H263","v":"ED"},{"$f":"'All hospitals'!I263","v":" -"},{"$f":"'All hospitals'!J263","v":" -"}]
[null,{"$f":"'All hospitals'!B264","v":"-"},{"$f":"'All hospitals'!C264","v":"-"},{"$f":"'All hospitals'!E264","v":"-"},{"$f":"'All hospitals'!F264","v":"-"},{"$f":"'All hospitals'!G264","v":"-"},{"$f":"'All hospitals'!H264","v":"-"},{"$f":"'All hospitals'!I264","v":"-"},{"$f":"'All hospitals'!J264","v":"-"},null,"Back to Index","Back to 'All hospitals' tab"]
[null,{"$f":"'All hospitals'!B265","v":"WESTERN SYDNEY LHD & OTHER"}]
[null,{"$f":"'All hospitals'!B266","v":"Auburn Hospital"},{"$f":"'All hospitals'!C266","v":"Auburn"},{"$f":"'All hospitals'!E266","v":"02 8759 3302"},{"$f":"'All hospitals'!F266","v":"02 8759 3000"},{"$f":"'All hospitals'!G266","v":1},{"$f":"'All hospitals'!H266","v":"After Hours Medication Room"},{"$f":"'All hospitals'!I266","v":" -"},{"$f":"'All hospitals'!J266","v":" -"}]
[null,{"$f":"'All hospitals'!B267","v":"Blacktown Hospital "},{"$f":"'All hospitals'!C267","v":"Blacktown"},{"$f":"'All hospitals'!E267","v":"02 9881 8142"},{"$f":"'All hospitals'!F267","v":"02 9881 8000 (afterhours nurse manager via switch)"},{"$f":"'All hospitals'!G267","v":2},{"$f":"'All hospitals'!H267","v":"ED Resus Fridge"},{"$f":"'All hospitals'!I267","v":" -"},{"$f":"'All hospitals'!J267","v":" -"}]
[null,{"$f":"'All hospitals'!B268","v":"Mount Druitt Hospital "},{"$f":"'All hospitals'!C268","v":"Mount Druitt NSW"},{"$f":"'All hospitals'!E268","v":"02 9881 1581"},{"$f":"'All hospitals'!F268","v":"02 9881 1555  (afterhours nurse manager via switch)"},{"$f":"'All hospitals'!G268","v":2},{"$f":"'All hospitals'!H268","v":"ED Resus Fridge"},{"$f":"'All hospitals'!I268","v":" -"},{"$f":"'All hospitals'!J268","v":" -"}]
[null,{"$f":"'All hospitals'!B269","v":"Westmead Hospital "},{"$f":"'All hospitals'!C269","v":"Westmead"},{"$f":"'All hospitals'!E269","v":"02 8890 5555"},{"$f":"'All hospitals'!F269","v":"02 8890 5555 (on call pharmacist via switch)"},{"$f":"'All hospitals'!G269","v":4},{"$f":"'All hospitals'!H269","v":"ED"},{"$f":"'All hospitals'!I269","v":2},{"$f":"'All hospitals'!J269","v":"Pharmacy Store"}]
[null,{"$f":"'All hospitals'!B270","v":"-"},{"$f":"'All hospitals'!C270","v":"-"},{"$f":"'All hospitals'!E270","v":"-"},{"$f":"'All hospitals'!F270","v":"-"},{"$f":"'All hospitals'!G270","v":"-"},{"$f":"'All hospitals'!H270","v":"-"},{"$f":"'All hospitals'!I270","v":"-"},{"$f":"'All hospitals'!J270","v":"-"}]
[null,{"$f":"'All hospitals'!B271","v":"PRIVATE HOSPITALS & OTHER"}]
[null,{"$f":"'All hospitals'!B272","v":"Macquarie University Hospital NO STOCKS HELD"},{"$f":"'All hospitals'!C272","v":"North Ryde"},{"$f":"'All hospitals'!E272","v":"02 98875500"},{"$f":"'All hospitals'!F272","v":"NA"},{"$f":"'All hospitals'!G272","v":0},{"$f":"'All hospitals'!H272","v":"-"},{"$f":"'All hospitals'!I272","v":0},{"$f":"'All hospitals'!J272","v":"-"}]
[null,{"$f":"'All hospitals'!B273","v":"Norwest Private Hospital (Stock data TBC)"},{"$f":"'All hospitals'!C273","v":"Bella Vista"},{"$f":"'All hospitals'!E273","v":"02 8882 8555"},{"$f":"'All hospitals'!F273","v":"02 8882 8555"},{"$f":"'All hospitals'!G273","v":2},{"$f":"'All hospitals'!H273","v":"ED"},{"$f":"'All hospitals'!I273","v":" -"},{"$f":"'All hospitals'!J273","v":" -"}]

{"sheet":"Tiger snake","index":3,"n_rows":253,"n_cols":12,"rows_kept":253,"cut":false,"hidden":false,"merged":[[244,1,244,3],[4,1,4,8],[3,1,3,8],[2,1,2,8],[6,1,6,4],[165,1,165,3],[173,1,173,3],[187,1,187,3],[190,1,190,3],[196,1,196,3],[201,1,201,3],[86,1,86,3],[95,1,95,3],[128,1,128,3],[134,1,134,3],[148,1,148,3],[157,1,157,3],[10,1,10,3],[14,1,14,3],[18,1,18,3],[22,1,22,3],[34,1,34,3],[74,1,74,3],[7,1,9,1],[7,2,9,2],[7,3,9,3],[7,4,9,4],[6,5,7,8],[8,5,9,5],[8,6,9,6],[8,7,9,7],[8,8,9,8]]}
[null,{"$f":"'All hospitals'!$B$1","v":"Last modified: 14/01/2021"}]
[]
[null,{"$f":"'All hospitals'!$K$28","v":"TIGER SNAKE"}]
[null,"IMMEDIATELY AVAILABLE ANTIVENOM"]
[null,{"$f":"'All hospitals'!$K$29","v":"Only one (1) vial of snake antivenom is required to treat both children and adults for all terrestrial snake envenomings."},null,null,null,null,null,null,null,null,"Back to Index","Back to 'All hospitals' tab"]
[]
[null,"HOSPITAL DETAILS",null,null,null,"AVAILABILITY"]
[null,"Hospital name:\n\"Stock data TBC\" indicates that the hospital has not provided an update to the stockholding data.                                          ","Town/city","Phone number (business hours)","Phone number (after hours)"]
[null,null,null,null,null,"Number of vials","Location 1","Number of vials","Location 2"]
[]
[null,{"$f":"'All hospitals'!B31","v":"ACT"},null,null,null,null,null,null,null,null,"Click to jump to LHD or network"]
[null,{"$f":"'All hospitals'!B32","v":"Calvary Public Hospital "},{"$f":"'All hospitals'!C32","v":"Canberra"},{"$f":"'All hospitals'!E32","v":"02 6201 6265 "},{"$f":"'All hospitals'!F32","v":"0413 611 319"},{"$f":"'All hospitals'!K32","v":2},{"$f":"'All hospitals'!L32","v":"After Hours Cupboard Fridge"},{"$f":"'All hospitals'!M32","v":" -"},{"$f":"'All hospitals'!N32","v":" -"},null,"ACT"]
[null,{"$f":"'All hospitals'!B33","v":"The Canberra Hospital"},{"$f":"'All hospitals'!C33","v":"Canberra"},{"$f":"'All hospitals'!E33","v":"02 5124 0000"},{"$f":"'All hospitals'!F33","v":"0401 710 831"},{"$f":"'All hospitals'!K33","v":5},{"$f":"'All hospitals'!L33","v":"Pharmacy"},{"$f":"'All hospitals'!M33","v":4},{"$f":"'All hospitals'!N33","v":"ED "},null,"ALBURY WODONGA HEALTH"]
[null,{"$f":"'All hospitals'!B34","v":"-"},{"$f":"'All hospitals'!C34","v":"-"},{"$f":"'All hospitals'!E34","v":"-"},null,{"$f":"'All hospitals'!K34","v":"-"},{"$f":"'All hospitals'!L34","v":"-"},{"$f":"'All hospitals'!M34","v":"-"},{"$f":"'All hospitals'!N34","v":"-"},null,"CENTRAL COAST LHD"]
[null,{"$f":"'All hospitals'!B35","v":"ALBURY WODONGA HEALTH"},null,null,null,null,null,null,null,null,"FAR WEST LHD"]
[null,{"$f":"'All hospitals'!B36","v":"Albury Hospital"},{"$f":"'All hospitals'!C36","v":"Albury"},{"$f":"'All hospitals'!E36","v":"02 6058 4665"},{"$f":"'All hospitals'!F36","v":"02 6058 4444"},{"$f":"'All hospitals'!K36","v":2},{"$f":"'All hospitals'!L36","v":"ED - Trauma/Resus Room"},{"$f":"'All hospitals'!M36","v":" -"},{"$f":"'All hospitals'!N36","v":" -"},null,"HUNTER NEW ENGLAND LHD"]
[null,{"$f":"'All hospitals'!B37","v":"Wodonga Hospital"},{"$f":"'All hospitals'!C37","v":"Wodonga"},{"$f":"'All hospitals'!E37","v":"02 6051 7485"},{"$f":"'All hospitals'!F37","v":"02 6051 7111"},{"$f":"'All hospitals'!K37","v":2},{"$f":"'All hospitals'!L37","v":"ED Fridge"},{"$f":"'All hospitals'!M37","v":" -"},{"$f":"'All hospitals'!N37","v":" -"},null,"ILLAWARRA SHOALHAVEN LHD"]
[null,{"$f":"'All hospitals'!B38","v":"-"},{"$f":"'All hospitals'!C38","v":"-"},{"$f":"'All hospitals'!E38","v":"-"},null,{"$f":"'All hospitals'!K38","v":"-"},{"$f":"'All hospitals'!L38","v":"-"},{"$f":"'All hospitals'!M38","v":"-"},{"$f":"'All hospitals'!N38","v":"-"},null,"MID NORTH COAST LHD"]
[null,"CENTRAL COAST LHD",null,null,null,null,null,null,null,null,"MURRUMBIDGEE LHD"]
[null,{"$f":"'All hospitals'!B40","v":"Gosford Hospital"},{"$f":"'All hospitals'!C40","v":"Gosford "},{"$f":"'All hospitals'!E40","v":"02 4320 2111"},{"$f":"'All hospitals'!F40","v":"02 4320 2111 (page on-call pharmacist)"},{"$f":"'All hospitals'!K40","v":1},{"$f":"'All hospitals'!L40","v":"ED "},{"$f":"'All hospitals'!M40","v":2},{"$f":"'All hospitals'!N40","v":"Pharmacy"},null,"NEPEAN BLUE MOUNTAINS LHD"]
[null,{"$f":"'All hospitals'!B41","v":"Wyong Hospital"},{"$f":"'All hospitals'!C41","v":"Wyong"},{"$f":"'All hospitals'!E41","v":"02 4394 7930"},{"$f":"'All hospitals'!F41","v":"02 4394 8000 (page on-call pharmacist)"},{"$f":"'All hospitals'!K41","v":1},{"$f":"'All hospitals'!L41","v":"ED "},{"$f":"'All hospitals'!M41","v":1},{"$f":"'All hospitals'!N41","v":"Pharmacy "},null,"NORTHERN NSW LHD"]
[null,{"$f":"'All hospitals'!B42","v":"-"},{"$f":"'All hospitals'!C42","v":"-"},{"$f":"'All hospitals'!E42","v":"-"},null,{"$f":"'All hospitals'!K42","v":"-"},{"$f":"'All hospitals'!L42","v":"-"},{"$f":"'All hospitals'!M42","v":"-"},{"$f":"'All hospitals'!N42","v":"-"},null,"NORTHERN SYDNEY LHD"]
[null,{"$f":"'All hospitals'!B43","v":"FAR WEST LHD"},null,null,null,null,null,null,null,null,"SOUTH EASTERN SYDNEY LHD"]
[null,{"$f":"'All hospitals'!B44","v":"Balranald Multi Purpose Service "},{"$f":"'All hospitals'!C44","v":"Balranald"},{"$f":"'All hospitals'!E44","v":"03 5071 9800"},{"$f":"'All hospitals'!F44","v":"03 5071 9800"},{"$f":"'All hospitals'!K44","v":1},{"$f":"'All hospitals'!L44","v":"Medication Room"},{"$f":"'All hospitals'!M44","v":" -"},{"$f":"'All hospitals'!N44","v":" -"},null,"SOUTH WESTERN SYDNEY LHD"]
[null,{"$f":"'All hospitals'!B45","v":"Broken Hill Health Service"},{"$f":"'All hospitals'!C45","v":"Broken Hill"},{"$f":"'All hospitals'!E45","v":"08 8080 1466  "},{"$f":"'All hospitals'!F45","v":"08 8080 1333 "},{"$f":"'All hospitals'!K45","v":0},{"$f":"'All hospitals'!L45","v":" -"},{"$f":"'All hospitals'!M45","v":" -"},{"$f":"'All hospitals'!N45","v":" -"},null,"SOUTHERN NSW"]
[null,{"$f":"'All hospitals'!B46","v":"Dareton Primary Health Service (No ED services)"},{"$f":"'All hospitals'!C46","v":"Dareton"},{"$f":"'All hospitals'!E46","v":"03 5021 7200"},{"$f":"'All hospitals'!F46","v":"BH only"},{"$f":"'All hospitals'!K46","v":0},{"$f":"'All hospitals'!L46","v":" -"},{"$f":"'All hospitals'!M46","v":" -"},{"$f":"'All hospitals'!N46","v":" -"},null,"ST VINCENT'S HEALTH"]
[null,{"$f":"'All hospitals'!B47","v":"Ivanhoe Health Service"},{"$f":"'All hospitals'!C47","v":"Ivanhoe"},{"$f":"'All hospitals'!E47","v":"02 6990 2200"},{"$f":"'All hospitals'!F47","v":"02 6990 2200"},{"$f":"'All hospitals'!K47","v":0},{"$f":"'All hospitals'!L47","v":" -"},{"$f":"'All hospitals'!M47","v":" -"},{"$f":"'All hospitals'!N47","v":" -"},null,"SYDNEY LHD"]
[null,{"$f":"'All hospitals'!B48","v":"Menindee Health Service "},{"$f":"'All hospitals'!C48","v":"Menindee"},{"$f":"'All hospitals'!E48","v":"08 8091 4209"},{"$f":"'All hospitals'!F48","v":"08 8091 4209"},{"$f":"'All hospitals'!K48","v":0},{"$f":"'All hospitals'!L48","v":" -"},{"$f":"'All hospitals'!M48","v":" -"},{"$f":"'All hospitals'!N48","v":" -"},null,"SYDNEY CHILDREN'S HOSPITALS NETWORK"]
[null,{"$f":"'All hospitals'!B49","v":"Royal Flying Doctor Service Broken Hill"},{"$f":"'All hospitals'!C49","v":"Broken Hill"},{"$f":"'All hospitals'!E49","v":"08 8080 3780"},{"$f":"'All hospitals'!F49","v":"0437 370 702"},{"$f":"'All hospitals'!K49","v":0},{"$f":"'All hospitals'!L49","v":" -"},{"$f":"'All hospitals'!M49","v":" -"},{"$f":"'All hospitals'!N49","v":" -"},null,"WESTERN NSW LHD"]
[null,{"$f":"'All hospitals'!B50","v":"Tibooburra Health Service"},{"$f":"'All hospitals'!C50","v":"Tibooburra"},{"$f":"'All hospitals'!E50","v":"08 8091 3302 "},{"$f":"'All hospitals'!F50","v":"08 8091 3302"},{"$f":"'All hospitals'!K50","v":0},{"$f":"'All hospitals'!L50","v":" -"},{"$f":"'All hospitals'!M50","v":" -"},{"$f":"'All hospitals'!N50","v":" -"},null,"WESTERN SYDNEY LHD & OTHER"]
[null,{"$f":"'All hospitals'!B51","v":"Wentworth District Hospital (No ED services)"},{"$f":"'All hospitals'!C51","v":"Wentworth"},{"$f":"'All hospitals'!E51","v":"03 5027 2345"},{"$f":"'All hospitals'!F51","v":"03 5027 2345"},{"$f":"'All hospitals'!K51","v":0},{"$f":"'All hospitals'!L51","v":" -"},{"$f":"'All hospitals'!M51","v":" -"},{"$f":"'All hospitals'!N51","v":" -"},null,"PRIVATE HOSPITALS & OTHER"]
[null,{"$f":"'All hospitals'!B52","v":"White Cliffs Health Service"},{"$f":"'All hospitals'!C52","v":"White Cliffs"},{"$f":"'All hospitals'!E52","v":"08 8091 6605 "},{"$f":"'All hospitals'!F52","v":"08 80916605"},{"$f":"'All hospitals'!K52","v":0},{"$f":"'All hospitals'!L52","v":" -"},{"$f":"'All hospitals'!M52","v":" -"},{"$f":"'All hospitals'!N52","v":" -"}]
[null,{"$f":"'All hospitals'!B53","v":"Wilcannia Multi Purpose Service"},{"$f":"'All hospitals'!C53","v":"Wilcannia"},{"$f":"'All hospitals'!E53","v":"08 8083 8777"},{"$f":"'All hospitals'!F53","v":"08 8083 8777"},{"$f":"'All hospitals'!K53","v":0},{"$f":"'All hospitals'!L53","v":" -"},{"$f":"'All hospitals'!M53","v":" -"},{"$f":"'All hospitals'!N53","v":" -"}]
[null,{"$f":"'All hospitals'!B54","v":"-"},{"$f":"'All hospitals'!C54","v":"-"},{"$f":"'All hospitals'!D54","v":"-"},{"$f":"'All hospitals'!E54","v":"-"},{"$f":"'All hospitals'!K54","v":"-"},{"$f":"'All hospitals'!L54","v":"-"},{"$f":"'All hospitals'!M54","v":"-"},{"$f":"'All hospitals'!N54","v":"-"}]
[null,{"$f":"'All hospitals'!B55","v":"HUNTER NEW ENGLAND LHD"}]
[null,{"$f":"'All hospitals'!B56","v":"Armidale Rural Referral Hospital"},{"$f":"'All hospitals'!C56","v":"Armidale"},{"$f":"'All hospitals'!E56","v":"02 6776 9500"},{"$f":"'All hospitals'!F56","v":"02 6776 9500     "},{"$f":"'All hospitals'!K56","v":1},{"$f":"'All hospitals'!L56","v":"ED "},{"$f":"'All hospitals'!M56","v":0},{"$f":"'All hospitals'!N56","v":"Pharmacy"}]
[null,{"$f":"'All hospitals'!B57","v":"Barraba Multi Purpose Service"},{"$f":"'All hospitals'!C57","v":"Barraba"},{"$f":"'All hospitals'!E57","v":"02 6782 2500"},{"$f":"'All hospitals'!F57","v":"02 6782 2522"},{"$f":"'All hospitals'!K57","v":2},{"$f":"'All hospitals'!L57","v":"ED "},{"$f":"'All hospitals'!M57","v":" -"},{"$f":"'All hospitals'!N57","v":" -"}]
[null,{"$f":"'All hospitals'!B58","v":"Belmont Hospital "},{"$f":"'All hospitals'!C58","v":"Belmont"},{"$f":"'All hospitals'!E58","v":"02 4923 2249"},{"$f":"'All hospitals'!F58","v":"02 4923 2000"},{"$f":"'All hospitals'!K58","v":1},{"$f":"'All hospitals'!L58","v":"ED"},{"$f":"'All hospitals'!M58","v":" -"},{"$f":"'All hospitals'!N58","v":" -"}]
[null,{"$f":"'All hospitals'!B59","v":"Bingara Multi Purpose Service"},{"$f":"'All hospitals'!C59","v":"Bingara"},{"$f":"'All hospitals'!E59","v":"02 6728 0100"},{"$f":"'All hospitals'!F59","v":"02 6728 0100"},{"$f":"'All hospitals'!K59","v":1},{"$f":"'All hospitals'!L59","v":"Medication room"},{"$f":"'All hospitals'!M59","v":" -"},{"$f":"'All hospitals'!N59","v":" -"}]
[null,{"$f":"'All hospitals'!B60","v":"Boggabri Multi Purpose Service"},{"$f":"'All hospitals'!C60","v":"Boggabri"},{"$f":"'All hospitals'!E60","v":"02 6749 7000"},{"$f":"'All hospitals'!F60","v":"02 67497000"},{"$f":"'All hospitals'!K60","v":1},{"$f":"'All hospitals'!L60","v":"ED"},{"$f":"'All hospitals'!M60","v":" -"},{"$f":"'All hospitals'!N60","v":" -"}]
[null,{"$f":"'All hospitals'!B61","v":"Bulahdelah Hospital NO STOCKS HELD"},{"$f":"'All hospitals'!C61","v":"Bulahdelah"},{"$f":"'All hospitals'!E61","v":"02 4987 9900"},{"$f":"'All hospitals'!F61","v":"02 4987 9900"},{"$f":"'All hospitals'!K61","v":0},{"$f":"'All hospitals'!L61","v":" -"},{"$f":"'All hospitals'!M61","v":" -"},{"$f":"'All hospitals'!N61","v":" -"}]
[null,{"$f":"'All hospitals'!B62","v":"Calvary Mater Hospital Newcastle "},{"$f":"'All hospitals'!C62","v":"Newcastle"},{"$f":"'All hospitals'!E62","v":"02 4921 1211"},{"$f":"'All hospitals'!F62","v":"02 4921 1211"},{"$f":"'All hospitals'!K62","v":2},{"$f":"'All hospitals'!L62","v":"ED"},{"$f":"'All hospitals'!M62","v":2},{"$f":"'All hospitals'!N62","v":"Satellite Pharmacy"}]
[null,{"$f":"'All hospitals'!B63","v":"Cessnock District Hospital"},{"$f":"'All hospitals'!C63","v":"Cessnock"},{"$f":"'All hospitals'!E63","v":"02 4991 0555(hospital)\n02 4991 0456(pharmacy)"},{"$f":"'All hospitals'!F63","v":"0438 212 862"},{"$f":"'All hospitals'!K63","v":1},{"$f":"'All hospitals'!L63","v":"ED"},{"$f":"'All hospitals'!M63","v":" -"},{"$f":"'All hospitals'!N63","v":" -"}]
[null,{"$f":"'All hospitals'!B64","v":"Denman Multi Purpose Service (Stock data TBC)"},{"$f":"'All hospitals'!C64","v":"Denman"},{"$f":"'All hospitals'!E64","v":"02 6547 3999"},{"$f":"'All hospitals'!F64","v":"02 6547 3905 "},{"$f":"'All hospitals'!K64","v":1},{"$f":"'All hospitals'!L64","v":"ED"},{"$f":"'All hospitals'!M64","v":" -"},{"$f":"'All hospitals'!N64","v":" -"}]
[null,{"$f":"'All hospitals'!B65","v":"Dungog Community Hospital"},{"$f":"'All hospitals'!C65","v":"Dungog"},{"$f":"'All hospitals'!E65","v":"02 4939 2226"},{"$f":"'All hospitals'!F65","v":"02 4992 1266"},{"$f":"'All hospitals'!K65","v":1},{"$f":"'All hospitals'!L65","v":"ED"},{"$f":"'All hospitals'!M65","v":" -"},{"$f":"'All hospitals'!N65","v":" -"}]
[null,{"$f":"'All hospitals'!B66","v":"Glen Innes District Hospital "},{"$f":"'All hospitals'!C66","v":"Glen Innes"},{"$f":"'All hospitals'!E66","v":"02 6739 0200"},{"$f":"'All hospitals'!F66","v":"02 6739 0200"},{"$f":"'All hospitals'!K66","v":1},{"$f":"'All hospitals'!L66","v":"ED"},{"$f":"'All hospitals'!M66","v":" -"},{"$f":"'All hospitals'!N66","v":" -"}]
[null,{"$f":"'All hospitals'!B67","v":"Gloucester Soldiers Memorial Hospital (Stock data TBC)"},{"$f":"'All hospitals'!C67","v":"Gloucester"},{"$f":"'All hospitals'!E67","v":"02 6538 5000"},{"$f":"'All hospitals'!F67","v":"02 6538 5000"},{"$f":"'All hospitals'!K67","v":2},{"$f":"'All hospitals'!L67","v":"ED"},{"$f":"'All hospitals'!M67","v":" -"},{"$f":"'All hospitals'!N67","v":" -"}]
[null,{"$f":"'All hospitals'!B68","v":"Gunnedah Hospital"},{"$f":"'All hospitals'!C68","v":"Gunnedah"},{"$f":"'All hospitals'!E68","v":"02 6741 8000"},{"$f":"'All hospitals'!F68","v":"02 6741 8031"},{"$f":"'All hospitals'!K68","v":2},{"$f":"'All hospitals'!L68","v":"General Ward"},{"$f":"'All hospitals'!M68","v":"-"},{"$f":"'All hospitals'!N68","v":"-"}]
[null,{"$f":"'All hospitals'!B69","v":"Guyra Multi Purpose Service "},{"$f":"'All hospitals'!C69","v":"Guyra"},{"$f":"'All hospitals'!E69","v":"02 6738 4000"},{"$f":"'All hospitals'!F69","v":"02 6738 4000"},{"$f":"'All hospitals'!K69","v":1},{"$f":"'All hospitals'!L69","v":"General Ward"},{"$f":"'All hospitals'!M69","v":" -"},{"$f":"'All hospitals'!N69","v":" -"}]
[null,{"$f":"'All hospitals'!B70","v":"Inverell Hospital "},{"$f":"'All hospitals'!C70","v":"Inverell"},{"$f":"'All hospitals'!E70","v":"02 6721 9500"},{"$f":"'All hospitals'!F70","v":"02 6721 9540"},{"$f":"'All hospitals'!K70","v":1},{"$f":"'All hospitals'!L70","v":"ED"},{"$f":"'All hospitals'!M70","v":" -"},{"$f":"'All hospitals'!N70","v":" -"}]
[null,{"$f":"'All hospitals'!B71","v":"John Hunter Hospital "},{"$f":"'All hospitals'!C71","v":"Newcastle"},{"$f":"'All hospitals'!E71","v":"02 4921 3635"},{"$f":"'All hospitals'!F71","v":"0408 263 586"},{"$f":"'All hospitals'!K71","v":2},{"$f":"'All hospitals'!L71","v":"ED"},{"$f":"'All hospitals'!M71","v":1},{"$f":"'All hospitals'!N71","v":"Primary Retrieval Team Pelican "}]
[null,{"$f":"'All hospitals'!B72","v":"Kurri Kurri Hospital"},{"$f":"'All hospitals'!C72","v":"Kurri Kurri"},{"$f":"'All hospitals'!E72","v":"02 4936 3234"},{"$f":"'All hospitals'!F72","v":"02 4936 3200"},{"$f":"'All hospitals'!K72","v":1},{"$f":"'All hospitals'!L72","v":"ED"},{"$f":"'All hospitals'!M72","v":" -"},{"$f":"'All hospitals'!N72","v":" -"}]
[null,{"$f":"'All hospitals'!B73","v":"Manning Base Hospital"},{"$f":"'All hospitals'!C73","v":"Taree"},{"$f":"'All hospitals'!E73","v":"02 6592 9244"},{"$f":"'All hospitals'!F73","v":"02 6592 9014"},{"$f":"'All hospitals'!K73","v":2},{"$f":"'All hospitals'!L73","v":"ED"},{"$f":"'All hospitals'!M73","v":" -"},{"$f":"'All hospitals'!N73","v":" -"}]
[null,{"$f":"'All hospitals'!B74","v":"Manilla Hospital"},{"$f":"'All hospitals'!C74","v":"Manilla"},{"$f":"'All hospitals'!E74","v":"02 6785 4000"},{"$f":"'All hospitals'!F74","v":"02 6785 4000"},{"$f":"'All hospitals'!K74","v":1},{"$f":"'All hospitals'!L74","v":"ED"},{"$f":"'All hospitals'!M74","v":" -"},{"$f":"'All hospitals'!N74","v":" -"}]
[null,{"$f":"'All hospitals'!B75","v":"Merriwa Multi Purpose Service (Stock data TBC)"},{"$f":"'All hospitals'!C75","v":"Merriwa"},{"$f":"'All hospitals'!E75","v":"02 6532 5000"},{"$f":"'All hospitals'!F75","v":"02 6532 5000"},{"$f":"'All hospitals'!K75","v":1},{"$f":"'All hospitals'!L75","v":"ED"},{"$f":"'All hospitals'!M75","v":" -"},{"$f":"'All hospitals'!N75","v":" -"}]
[null,{"$f":"'All hospitals'!B76","v":"Moree Hospital "},{"$f":"'All hospitals'!C76","v":"Moree"},{"$f":"'All hospitals'!E76","v":"02 6757 0031"},{"$f":"'All hospitals'!F76","v":"02 6757 0031"},{"$f":"'All hospitals'!K76","v":1},{"$f":"'All hospitals'!L76","v":"ED"},{"$f":"'All hospitals'!M76","v":"-"},{"$f":"'All hospitals'!N76","v":"-"}]
[null,{"$f":"'All hospitals'!B77","v":"Muswellbrook Hospital (Stock data TBC)"},{"$f":"'All hospitals'!C77","v":"Muswellbrook"},{"$f":"'All hospitals'!E77","v":"02 6542 2000"},{"$f":"'All hospitals'!F77","v":"02 6542 2000"},{"$f":"'All hospitals'!K77","v":2},{"$f":"'All hospitals'!L77","v":"ED"},{"$f":"'All hospitals'!M77","v":" -"},{"$f":"'All hospitals'!N77","v":" -"}]
[null,{"$f":"'All hospitals'!B78","v":"Narrabri Hospital"},{"$f":"'All hospitals'!C78","v":"Narrabri"},{"$f":"'All hospitals'!E78","v":"02 6799 2800"},{"$f":"'All hospitals'!F78","v":"02 6799 2105"},{"$f":"'All hospitals'!K78","v":1},{"$f":"'All hospitals'!L78","v":"ED"},{"$f":"'All hospitals'!M78","v":"-"},{"$f":"'All hospitals'!N78","v":"-"}]
[null,{"$f":"'All hospitals'!B79","v":"Quirindi Hospital"},{"$f":"'All hospitals'!C79","v":"Quirindi"},{"$f":"'All hospitals'!E79","v":"02 6746 0200"},{"$f":"'All hospitals'!F79","v":"02 6746 0200"},{"$f":"'All hospitals'!K79","v":2},{"$f":"'All hospitals'!L79","v":"ED "},{"$f":"'All hospitals'!M79","v":" -"},{"$f":"'All hospitals'!N79","v":" -"}]
[null,{"$f":"'All hospitals'!B80","v":"Scott Memorial Hospital (Stock data TBC)"},{"$f":"'All hospitals'!C80","v":"Scone"},{"$f":"'All hospitals'!E80","v":"02 6540 2100"},{"$f":"'All hospitals'!F80","v":"02 6540 2100"},{"$f":"'All hospitals'!K80","v":1},{"$f":"'All hospitals'!L80","v":"ED"},{"$f":"'All hospitals'!M80","v":1},{"$f":"'All hospitals'!N80","v":"Pharmacy"}]
[null,{"$f":"'All hospitals'!B81","v":"Singleton District Hospital (Stock data TBC)"},{"$f":"'All hospitals'!C81","v":"Singleton"},{"$f":"'All hospitals'!E81","v":"02 6571 9222"},{"$f":"'All hospitals'!F81","v":"02 6571 9222"},{"$f":"'All hospitals'!K81","v":1},{"$f":"'All hospitals'!L81","v":"ED"},{"$f":"'All hospitals'!M81","v":" -"},{"$f":"'All hospitals'!N81","v":" -"}]
[null,{"$f":"'All hospitals'!B82","v":"Tamworth Rural Referral Hospital "},{"$f":"'All hospitals'!C82","v":"Tamworth"},{"$f":"'All hospitals'!E82","v":"02 6727 7370 "},{"$f":"'All hospitals'!F82","v":"02 6767 7700"},{"$f":"'All hospitals'!K82","v":1},{"$f":"'All hospitals'!L82","v":"ED Resus  "},{"$f":"'All hospitals'!M82","v":2},{"$f":"'All hospitals'!N82","v":"Pharmacy"}]
[null,{"$f":"'All hospitals'!B83","v":"Tenterfield/Prince Albert Hospital "},{"$f":"'All hospitals'!C83","v":"Tenterfield"},{"$f":"'All hospitals'!E83","v":"02 6739 5200"},{"$f":"'All hospitals'!F83","v":"02 6739 5200"},{"$f":"'All hospitals'!K83","v":1},{"$f":"'All hospitals'!L83","v":"General Ward"},{"$f":"'All hospitals'!M83","v":" -"},{"$f":"'All hospitals'!N83","v":" -"}]
[null,{"$f":"'All hospitals'!B84","v":"The Maitland Hospital"},{"$f":"'All hospitals'!C84","v":"Maitland"},{"$f":"'All hospitals'!E84","v":"02 4939 2226"},{"$f":"'All hospitals'!F84","v":"02 4939 2000"},{"$f":"'All hospitals'!K84","v":1},{"$f":"'All hospitals'!L84","v":"ED"},{"$f":"'All hospitals'!M84","v":" -"},{"$f":"'All hospitals'!N84","v":" -"}]
[null,{"$f":"'All hospitals'!B85","v":"Tingha Multi Purpose Service NO STOCKS HELD"},{"$f":"'All hospitals'!C85","v":"Tingha"},{"$f":"'All hospitals'!E85","v":"02 6723 3900"},{"$f":"'All hospitals'!F85","v":"02 6723 9000"},{"$f":"'All hospitals'!K85","v":0},{"$f":"'All hospitals'!L85","v":" -"},{"$f":"'All hospitals'!M85","v":" -"},{"$f":"'All hospitals'!N85","v":" -"}]
[null,{"$f":"'All hospitals'!B86","v":"Tomaree Community Hospital (Stock data TBC)"},{"$f":"'All hospitals'!C86","v":"Tomaree"},{"$f":"'All hospitals'!E86","v":"02 4923 2249"},{"$f":"'All hospitals'!F86","v":"02 4923 2000"},{"$f":"'All hospitals'!K86","v":1},{"$f":"'All hospitals'!L86","v":"ED"},{"$f":"'All hospitals'!M86","v":" -"},{"$f":"'All hospitals'!N86","v":" -"}]
[null,{"$f":"'All hospitals'!B87","v":"Vegetable Creek Multipurpose Service"},{"$f":"'All hospitals'!C87","v":"Emmaville"},{"$f":"'All hospitals'!E87","v":"02 6734  7900"},{"$f":"'All hospitals'!F87","v":"02 6734 7900"},{"$f":"'All hospitals'!K87","v":1},{"$f":"'All hospitals'!L87","v":"General Ward"},{"$f":"'All hospitals'!M87","v":" -"},{"$f":"'All hospitals'!N87","v":" -"}]
[null,{"$f":"'All hospitals'!B88","v":"Walcha Multi Purpose Service "},{"$f":"'All hospitals'!C88","v":"Walcha"},{"$f":"'All hospitals'!E88","v":"02 6777 4200"},{"$f":"'All hospitals'!F88","v":"02 6777 4200"},{"$f":"'All hospitals'!K88","v":1},{"$f":"'All hospitals'!L88","v":"Medication Room"},{"$f":"'All hospitals'!M88","v":" -"},{"$f":"'All hospitals'!N88","v":" -"}]
[null,{"$f":"'All hospitals'!B89","v":"Warialda Multi Purpose Service "},{"$f":"'All hospitals'!C89","v":"Warialda"},{"$f":"'All hospitals'!E89","v":"02 6728 9000"},{"$f":"'All hospitals'!F89","v":"0428 753 175"},{"$f":"'All hospitals'!K89","v":1},{"$f":"'All hospitals'!L89","v":"ED "},{"$f":"'All hospitals'!M89","v":"-"},{"$f":"'All hospitals'!N89","v":"-"}]
[null,{"$f":"'All hospitals'!B90","v":"Wee Waa Community Hospital"},{"$f":"'All hospitals'!C90","v":"Wee Waa"},{"$f":"'All hospitals'!E90","v":"02 6795 0400"},{"$f":"'All hospitals'!F90","v":"02 6795 0400"},{"$f":"'All hospitals'!K90","v":1},{"$f":"'All hospitals'!L90","v":"Medication Room"},{"$f":"'All hospitals'!M90","v":"-"},{"$f":"'All hospitals'!N90","v":"-"}]
[null,{"$f":"'All hospitals'!B91","v":"Werris Creek Multi Purpose Service NO STOCKS HELD"},{"$f":"'All hospitals'!C91","v":"Werris Creek"},{"$f":"'All hospitals'!E91","v":"02 6768 6600"},{"$f":"'All hospitals'!F91","v":"02 6768 6600"},{"$f":"'All hospitals'!K91","v":0},{"$f":"'All hospitals'!L91","v":" -"},{"$f":"'All hospitals'!M91","v":" -"},{"$f":"'All hospitals'!N91","v":" -"}]
[null,{"$f":"'All hospitals'!B92","v":"Westpac Rescue Helicopter Service"},{"$f":"'All hospitals'!C92","v":"Belmont Helicopter Base"},{"$f":"'All hospitals'!E92","v":"02 4952 0000"},{"$f":"'All hospitals'!F92","v":"02 4952 0055"},{"$f":"'All hospitals'!K92","v":1},{"$f":"'All hospitals'!L92","v":"Primary retrieval team Pelican"},{"$f":"'All hospitals'!M92","v":" -"},{"$f":"'All hospitals'!N92","v":" -"}]
[null,{"$f":"'All hospitals'!B93","v":"Wilson Memorial Hospital - Murrurundi (Stock data TBC)"},{"$f":"'All hospitals'!C93","v":"Murrurundi"},{"$f":"'All hospitals'!E93","v":"02 6546 9000"},{"$f":"'All hospitals'!F93","v":"02 6546 9000"},{"$f":"'All hospitals'!K93","v":1},{"$f":"'All hospitals'!L93","v":"ED"},{"$f":"'All hospitals'!M93","v":" -"},{"$f":"'All hospitals'!N93","v":" -"}]
[null,{"$f":"'All hospitals'!B94","v":"-"},{"$f":"'All hospitals'!C94","v":"-"},{"$f":"'All hospitals'!E94","v":"-"},null,{"$f":"'All hospitals'!K94","v":"-"},{"$f":"'All hospitals'!L94","v":"-"},{"$f":"'All hospitals'!M94","v":"-"},{"$f":"'All hospitals'!N94","v":"-"}]
[null,{"$f":"'All hospitals'!B95","v":"ILLAWARRA SHOALHAVEN LHD"}]
[null,{"$f":"'All hospitals'!B96","v":"Bulli Hospital NO STOCKS HELD"},{"$f":"'All hospitals'!C96","v":"Bulli"},{"$f":"'All hospitals'!E96","v":"02 4284 4344"},{"$f":"'All hospitals'!F96","v":"02 4222 5000 (request Wollongong Hospital on-call pharmacist)"},{"$f":"'All hospitals'!K96","v":0},{"$f":"'All hospitals'!L96","v":" -"},{"$f":"'All hospitals'!M96","v":" -"},{"$f":"'All hospitals'!N96","v":" -"}]
[null,{"$f":"'All hospitals'!B97","v":"Coledale Hospital NO STOCKS HELD"},{"$f":"'All hospitals'!C97","v":"Thirroul"},{"$f":"'All hospitals'!E97","v":"02 4267 0111"},{"$f":"'All hospitals'!F97","v":"02 4222 5000 (request Wollongong Hospital on-call pharmacist)"},{"$f":"'All hospitals'!K97","v":" -"},{"$f":"'All hospitals'!L97","v":" -"},{"$f":"'All hospitals'!M97","v":" -"},{"$f":"'All hospitals'!N97","v":" -"}]
[null,{"$f":"'All hospitals'!B98","v":"David Berry Hospital NO STOCKS HELD"},{"$f":"'All hospitals'!C98","v":"Berry"},{"$f":"'All hospitals'!E98","v":"02 4464 1001"},{"$f":"'All hospitals'!F98","v":" -"},{"$f":"'All hospitals'!K98","v":" -"},{"$f":"'All hospitals'!L98","v":" -"},{"$f":"'All hospitals'!M98","v":" -"},{"$f":"'All hospitals'!N98","v":" -"}]
[null,{"$f":"'All hospitals'!B99","v":"Kiama Hospital & Community Health Service NO STOCKS HELD"},{"$f":"'All hospitals'!C99","v":"Kiama"},{"$f":"'All hospitals'!E99","v":"02 4233 1033"},{"$f":"'All hospitals'!F99","v":" -"},{"$f":"'All hospitals'!K99","v":" -"},{"$f":"'All hospitals'!L99","v":" -"},{"$f":"'All hospitals'!M99","v":" -"},{"$f":"'All hospitals'!N99","v":" -"}]
[null,{"$f":"'All hospitals'!B100","v":"Milton Ulladulla Hospital"},{"$f":"'All hospitals'!C100","v":"Milton"},{"$f":"'All hospitals'!E100","v":"02 4454 9100"},{"$f":"'All hospitals'!F100","v":"02 4454 9133 (ED)"},{"$f":"'All hospitals'!K100","v":2},{"$f":"'All hospitals'!L100","v":"ED"},{"$f":"'All hospitals'!M100","v":" -"},{"$f":"'All hospitals'!N100","v":" -"}]
[null,{"$f":"'All hospitals'!B274","v":0},{"$f":"'All hospitals'!C274","v":0},{"$f":"'All hospitals'!E274","v":0},{"$f":"'All hospitals'!F274","v":0},{"$f":"'All hospitals'!K274","v":0},{"$f":"'All hospitals'!L274","v":0},{"$f":"'All hospitals'!M274","v":0},{"$f":"'All hospitals'!N274","v":0}]
[null,{"$f":"'All hospitals'!B102","v":"Port Kembla Hospital - NO STOCKS HELD"},{"$f":"'All hospitals'!C102","v":"Warrawong"},{"$f":"'All hospitals'!E102","v":"02 4223 8000"},{"$f":"'All hospitals'!F102","v":"02 4222 5000 (request Wollongong Hospital on-call pharmacist)"},{"$f":"'All hospitals'!K102","v":" -"},{"$f":"'All hospitals'!L102","v":" -"},{"$f":"'All hospitals'!M102","v":" -"},{"$f":"'All hospitals'!N102","v":" -"}]
[null,{"$f":"'All hospitals'!B103","v":"Shellharbour Hospital"},{"$f":"'All hospitals'!C103","v":"Mt Warrigal"},{"$f":"'All hospitals'!E103","v":"02 4295 2516"},{"$f":"'All hospitals'!F103","v":"02 4295 2500 (switch) - ask to page ADON"},{"$f":"'All hospitals'!K103","v":1},{"$f":"'All hospitals'!L103","v":"After Hours Cupboard"},{"$f":"'All hospitals'!M103","v":" -"},{"$f":"'All hospitals'!N103","v":" -"}]
[null,{"$f":"'All hospitals'!B104","v":"Shoalhaven Hospital "},{"$f":"'All hospitals'!C104","v":"Nowra"},{"$f":"'All hospitals'!E104","v":"02 4423 9734"},{"$f":"'All hospitals'!F104","v":"02 4423 9738/ 0427400177 (after hours patient flow manager)"},{"$f":"'All hospitals'!K104","v":3},{"$f":"'All hospitals'!L104","v":"ED"},{"$f":"'All hospitals'!M104","v":2},{"$f":"'All hospitals'!N104","v":"Pharmacy "}]
[null,{"$f":"'All hospitals'!B105","v":"Wollongong Hospital"},{"$f":"'All hospitals'!C105","v":"Wollongong "},{"$f":"'All hospitals'!E105","v":"02 4222 5340"},{"$f":"'All hospitals'!F105","v":"02 4222 5000"},{"$f":"'All hospitals'!K105","v":1},{"$f":"'All hospitals'!L105","v":"ED"},{"$f":"'All hospitals'!M105","v":1},{"$f":"'All hospitals'!N105","v":"AHDC"}]
[null,{"$f":"'All hospitals'!B106","v":"-"},{"$f":"'All hospitals'!C106","v":"-"},{"$f":"'All hospitals'!E106","v":"-"},{"$f":"'All hospitals'!F106","v":"-"},{"$f":"'All hospitals'!K106","v":"-"},{"$f":"'All hospitals'!L106","v":"-"},{"$f":"'All hospitals'!M106","v":"-"},{"$f":"'All hospitals'!N106","v":"-"}]
[null,{"$f":"'All hospitals'!B107","v":"MID NORTH COAST LHD"}]
[null,{"$f":"'All hospitals'!B108","v":"Bellingen River District Hospital "},{"$f":"'All hospitals'!C108","v":"Bellingen"},{"$f":"'All hospitals'!E108","v":"02 6659 5800"},{"$f":"'All hospitals'!F108","v":"02 6656 7324"},{"$f":"'All hospitals'!K108","v":1},{"$f":"'All hospitals'!L108","v":"ED"},{"$f":"'All hospitals'!M108","v":" -"},{"$f":"'All hospitals'!N108","v":" -"}]
[null,{"$f":"'All hospitals'!B109","v":"Coffs Harbour Health Campus "},{"$f":"'All hospitals'!C109","v":"Coffs Harbour"},{"$f":"'All hospitals'!E109","v":"02 6656 7000"},{"$f":"'All hospitals'!F109","v":"02 6656 7324"},{"$f":"'All hospitals'!K109","v":3},{"$f":"'All hospitals'!L109","v":"ED Resus Fridge"},{"$f":"'All hospitals'!M109","v":" -"},{"$f":"'All hospitals'!N109","v":" -"}]
[null,{"$f":"'All hospitals'!B110","v":"Dorrigo Multi Purpose Service"},{"$f":"'All hospitals'!C110","v":"Dorrigo"},{"$f":"'All hospitals'!E110","v":"02 6692 7700"},{"$f":"'All hospitals'!F110","v":"02 6656 7324"},{"$f":"'All hospitals'!K110","v":1},{"$f":"'All hospitals'!L110","v":"General Ward "},{"$f":"'All hospitals'!M110","v":" -"},{"$f":"'All hospitals'!N110","v":" -"}]
[null,{"$f":"'All hospitals'!B111","v":"Kempsey District Hospital"},{"$f":"'All hospitals'!C111","v":"Kempsey"},{"$f":"'All hospitals'!E111","v":"02 6561 2600"},{"$f":"'All hospitals'!F111","v":"02 5524 2000"},{"$f":"'All hospitals'!K111","v":1},{"$f":"'All hospitals'!L111","v":"ED Resus Fridge"},{"$f":"'All hospitals'!M111","v":" -"},{"$f":"'All hospitals'!N111","v":" -"}]
[null,{"$f":"'All hospitals'!B112","v":"Macksville District Hospital "},{"$f":"'All hospitals'!C112","v":"Macksville"},{"$f":"'All hospitals'!E112","v":"02 6568 0666"},{"$f":"'All hospitals'!F112","v":"02 6656 7324"},{"$f":"'All hospitals'!K112","v":1},{"$f":"'All hospitals'!L112","v":"ED"},{"$f":"'All hospitals'!M112","v":" -"},{"$f":"'All hospitals'!N112","v":" -"}]
[null,{"$f":"'All hospitals'!B113","v":"Port Macquarie Base Hospital"},{"$f":"'All hospitals'!C113","v":"Port Macquarie"},{"$f":"'All hospitals'!E113","v":"02 5524 2206"},{"$f":"'All hospitals'!F113","v":"02 5524 2000"},{"$f":"'All hospitals'!K113","v":2},{"$f":"'All hospitals'!L113","v":"After Hours Cupboard"},{"$f":"'All hospitals'!M113","v":" -"},{"$f":"'All hospitals'!N113","v":" -"}]
[null,{"$f":"'All hospitals'!B114","v":"Wauchope Hospital (Stock data TBC)"},{"$f":"'All hospitals'!C114","v":"Wauchope"},{"$f":"'All hospitals'!E114","v":"02 5524 2206"},{"$f":"'All hospitals'!F114","v":"02 5524 2000"},{"$f":"'All hospitals'!K114","v":0},{"$f":"'All hospitals'!L114","v":" -"},{"$f":"'All hospitals'!M114","v":" -"},{"$f":"'All hospitals'!N114","v":" -"}]
[null,{"$f":"'All hospitals'!B115","v":"-"},{"$f":"'All hospitals'!C115","v":"-"},{"$f":"'All hospitals'!E115","v":"-"},{"$f":"'All hospitals'!F115","v":"-"},{"$f":"'All hospitals'!K115","v":"-"},{"$f":"'All hospitals'!L115","v":"-"},{"$f":"'All hospitals'!M115","v":"-"},{"$f":"'All hospitals'!N115","v":"-"}]
[null,{"$f":"'All hospitals'!B116","v":"MURRUMBIDGEE LHD"}]
[null,{"$f":"'All hospitals'!B117","v":"Barham Koondrook Health Service"},{"$f":"'All hospitals'!C117","v":"Barham"},{"$f":"'All hospitals'!E117","v":"03 5451 1000"},{"$f":"'All hospitals'!F117","v":"03 5451 1000"},{"$f":"'All hospitals'!K117","v":1},{"$f":"'All hospitals'!L117","v":"ED Fridge"},{"$f":"'All hospitals'!M117","v":" -"},{"$f":"'All hospitals'!N117","v":" -"}]
[null,{"$f":"'All hospitals'!B118","v":"Batlow Adelong Multi Purpose Service"},{"$f":"'All hospitals'!C118","v":"Batlow"},{"$f":"'All hospitals'!E118","v":"02 6941 4333"},{"$f":"'All hospitals'!F118","v":"02 6941 4333"},{"$f":"'All hospitals'!K118","v":1},{"$f":"'All hospitals'!L118","v":"ED Fridge"},{"$f":"'All hospitals'!M118","v":" -"},{"$f":"'All hospitals'!N118","v":" -"}]
[null,{"$f":"'All hospitals'!B119","v":"Berrigan Multi Purpose Service"},{"$f":"'All hospitals'!C119","v":"Berrigan"},{"$f":"'All hospitals'!E119","v":"03 5888 5300"},{"$f":"'All hospitals'!F119","v":"03 5888 5300"},{"$f":"'All hospitals'!K119","v":1},{"$f":"'All hospitals'!L119","v":"ED Fridge"},{"$f":"'All hospitals'!M119","v":" -"},{"$f":"'All hospitals'!N119","v":" -"}]
[null,{"$f":"'All hospitals'!B120","v":"Boorowa Multi Purpose Service Hospital"},{"$f":"'All hospitals'!C120","v":"Boorowa"},{"$f":"'All hospitals'!E120","v":"02 6380 2100"},{"$f":"'All hospitals'!F120","v":"02 6380 2100"},{"$f":"'All hospitals'!K120","v":1},{"$f":"'All hospitals'!L120","v":"ED Fridge"},{"$f":"'All hospitals'!M120","v":" -"},{"$f":"'All hospitals'!N120","v":" -"}]
[null,{"$f":"'All hospitals'!B121","v":"Coolamon-Ganmain Multi Purpose Service"},{"$f":"'All hospitals'!C121","v":"Coolamon"},{"$f":"'All hospitals'!E121","v":"02 6927 3303"},{"$f":"'All hospitals'!F121","v":"02 6927 3303"},{"$f":"'All hospitals'!K121","v":1},{"$f":"'All hospitals'!L121","v":"ED Fridge"},{"$f":"'All hospitals'!M121","v":" -"},{"$f":"'All hospitals'!N121","v":" -"}]
[null,{"$f":"'All hospitals'!B122","v":"Cootamundra District Hospital"},{"$f":"'All hospitals'!C122","v":"Cootamundra"},{"$f":"'All hospitals'!E122","v":"02 6942 0444"},{"$f":"'All hospitals'!F122","v":"02 6942 0444"},{"$f":"'All hospitals'!K122","v":1},{"$f":"'All hospitals'!L122","v":"General ward medication fridge"},{"$f":"'All hospitals'!M122","v":" -"},{"$f":"'All hospitals'!N122","v":" -"}]
[null,{"$f":"'All hospitals'!B123","v":"Corowa District Hospital"},{"$f":"'All hospitals'!C123","v":"Corowa"},{"$f":"'All hospitals'!E123","v":"02 6033 7555"},{"$f":"'All hospitals'!F123","v":"02 6033 7555"},{"$f":"'All hospitals'!K123","v":1},{"$f":"'All hospitals'!L123","v":"ED Fridge"},{"$f":"'All hospitals'!M123","v":" - "},{"$f":"'All hospitals'!N123","v":" - "}]
[null,{"$f":"'All hospitals'!B124","v":"Culcairn Multi Purpose Service"},{"$f":"'All hospitals'!C124","v":"Culcairn"},{"$f":"'All hospitals'!E124","v":"02 6029 8203"},{"$f":"'All hospitals'!F124","v":"02 6029 8203"},{"$f":"'All hospitals'!K124","v":1},{"$f":"'All hospitals'!L124","v":"ED Fridge"},{"$f":"'All hospitals'!M124","v":" -"},{"$f":"'All hospitals'!N124","v":" -"}]
[null,{"$f":"'All hospitals'!B125","v":"Deniliquin Hospital"},{"$f":"'All hospitals'!C125","v":"Deniliquin"},{"$f":"'All hospitals'!E125","v":"03 5882 2843"},{"$f":"'All hospitals'!F125","v":"03 5882 2834"},{"$f":"'All hospitals'!K125","v":2},{"$f":"'All hospitals'!L125","v":"ED Fridge"},{"$f":"'All hospitals'!M125","v":" -"},{"$f":"'All hospitals'!N125","v":" -"}]
[null,{"$f":"'All hospitals'!B126","v":"Finley Hospital"},{"$f":"'All hospitals'!C126","v":"Finley"},{"$f":"'All hospitals'!E126","v":"03 5883 1133"},{"$f":"'All hospitals'!F126","v":"03 5883 1133"},{"$f":"'All hospitals'!K126","v":1},{"$f":"'All hospitals'!L126","v":"ED Fridge"},{"$f":"'All hospitals'!M126","v":" -"},{"$f":"'All hospitals'!N126","v":" -"}]
[null,{"$f":"'All hospitals'!B127","v":"Griffith Base Hospital"},{"$f":"'All hospitals'!C127","v":"Griffith NSW"},{"$f":"'All hospitals'!E127","v":"02 6969 5550"},{"$f":"'All hospitals'!F127","v":"02 6969 5600"},{"$f":"'All hospitals'!K127","v":2},{"$f":"'All hospitals'!L127","v":"ED Fridge"},{"$f":"'All hospitals'!M127","v":1},{"$f":"'All hospitals'!N127","v":"Pharmacy Fridge"}]
[null,{"$f":"'All hospitals'!B128","v":"Gundagai Multi Purpose Service"},{"$f":"'All hospitals'!C128","v":"Gundagai"},{"$f":"'All hospitals'!E128","v":"02 6950 6300"},{"$f":"'All hospitals'!F128","v":"02 6950 6300"},{"$f":"'All hospitals'!K128","v":1},{"$f":"'All hospitals'!L128","v":"ED Fridge"},{"$f":"'All hospitals'!M128","v":" -"},{"$f":"'All hospitals'!N128","v":" -"}]
[null,{"$f":"'All hospitals'!B129","v":"Hay Hospital"},{"$f":"'All hospitals'!C129","v":"Hay"},{"$f":"'All hospitals'!E129","v":"02 6990 8700"},{"$f":"'All hospitals'!F129","v":"02 6990 8700"},{"$f":"'All hospitals'!K129","v":1},{"$f":"'All hospitals'!L129","v":"ED Fridge"},{"$f":"'All hospitals'!M129","v":" -"},{"$f":"'All hospitals'!N129","v":" -"}]
[null,{"$f":"'All hospitals'!B130","v":"Henty Multi Purpose Service"},{"$f":"'All hospitals'!C130","v":"Henty"},{"$f":"'All hospitals'!E130","v":"02 6929 4999"},{"$f":"'All hospitals'!F130","v":"02 6929 4999"},{"$f":"'All hospitals'!K130","v":1},{"$f":"'All hospitals'!L130","v":"ED Fridge"},{"$f":"'All hospitals'!M130","v":" -"},{"$f":"'All hospitals'!N130","v":" -"}]
[null,{"$f":"'All hospitals'!B131","v":"Hillston Multi Purpose Service"},{"$f":"'All hospitals'!C131","v":"Hillston, NSW"},{"$f":"'All hospitals'!E131","v":"02 6961 7200"},{"$f":"'All hospitals'!F131","v":"02 6961 7200"},{"$f":"'All hospitals'!K131","v":1},{"$f":"'All hospitals'!L131","v":"Treatment Room Fridge"},{"$f":"'All hospitals'!M131","v":" -"},{"$f":"'All hospitals'!N131","v":" -"}]
[null,{"$f":"'All hospitals'!B132","v":"Holbrook Hospital"},{"$f":"'All hospitals'!C132","v":"Holbrook"},{"$f":"'All hospitals'!E132","v":"02 6036 2522"},{"$f":"'All hospitals'!F132","v":"02 6036 2522"},{"$f":"'All hospitals'!K132","v":1},{"$f":"'All hospitals'!L132","v":"ED Fridge"},{"$f":"'All hospitals'!M132","v":" -"},{"$f":"'All hospitals'!N132","v":" -"}]
[null,{"$f":"'All hospitals'!B133","v":"Jerilderie Multi Purpose Service"},{"$f":"'All hospitals'!C133","v":"Jerilderie"},{"$f":"'All hospitals'!E133","v":"03 5886 1300"},{"$f":"'All hospitals'!F133","v":"03 5886 1300"},{"$f":"'All hospitals'!K133","v":1},{"$f":"'All hospitals'!L133","v":"ED Fridge"},{"$f":"'All hospitals'!M133","v":" -"},{"$f":"'All hospitals'!N133","v":" -"}]
[null,{"$f":"'All hospitals'!B134","v":"Junee Multi Purpose Service"},{"$f":"'All hospitals'!C134","v":"Junee"},{"$f":"'All hospitals'!E134","v":"02 6924 8200"},{"$f":"'All hospitals'!F134","v":"02 6924 8200"},{"$f":"'All hospitals'!K134","v":1},{"$f":"'All hospitals'!L134","v":"ED Fridge"},{"$f":"'All hospitals'!M134","v":" -"},{"$f":"'All hospitals'!N134","v":" -"}]
[null,{"$f":"'All hospitals'!B135","v":"Lake Cargelligo Multi Purpose Service"},{"$f":"'All hospitals'!C135","v":"Lake Cargelligo"},{"$f":"'All hospitals'!E135","v":"02 6898 0200"},{"$f":"'All hospitals'!F135","v":"02 6898 0200"},{"$f":"'All hospitals'!K135","v":1},{"$f":"'All hospitals'!L135","v":"Treatment Room Fridge"},{"$f":"'All hospitals'!M135","v":" -"},{"$f":"'All hospitals'!N135","v":" -"}]
[null,{"$f":"'All hospitals'!B136","v":"Leeton District Hospital"},{"$f":"'All hospitals'!C136","v":"Leeton"},{"$f":"'All hospitals'!E136","v":"02 6953 1111"},{"$f":"'All hospitals'!F136","v":"02 6953 1111"},{"$f":"'All hospitals'!K136","v":1},{"$f":"'All hospitals'!L136","v":"ED Fridge"},{"$f":"'All hospitals'!M136","v":" -"},{"$f":"'All hospitals'!N136","v":" -"}]
[null,{"$f":"'All hospitals'!B137","v":"Lockhart Hospital"},{"$f":"'All hospitals'!C137","v":"Lockhart"},{"$f":"'All hospitals'!E137","v":"02 6930 7100"},{"$f":"'All hospitals'!F137","v":"02 6930 7100"},{"$f":"'All hospitals'!K137","v":1},{"$f":"'All hospitals'!L137","v":"ED Fridge"},{"$f":"'All hospitals'!M137","v":" -"},{"$f":"'All hospitals'!N137","v":" -"}]
[null,{"$f":"'All hospitals'!B138","v":"Murrumburrah-Harden Hospital"},{"$f":"'All hospitals'!C138","v":"Harden"},{"$f":"'All hospitals'!E138","v":"02 6386 2200"},{"$f":"'All hospitals'!F138","v":"02 6386 2200"},{"$f":"'All hospitals'!K138","v":1},{"$f":"'All hospitals'!L138","v":"ED Fridge"},{"$f":"'All hospitals'!M138","v":" -"},{"$f":"'All hospitals'!N138","v":" -"}]
[null,{"$f":"'All hospitals'!B139","v":"Narrandera District Hospital"},{"$f":"'All hospitals'!C139","v":"Narrandera"},{"$f":"'All hospitals'!E139","v":"02 6951 0200"},{"$f":"'All hospitals'!F139","v":"02 6951 0200"},{"$f":"'All hospitals'!K139","v":1},{"$f":"'All hospitals'!L139","v":"General ward medication fridge"},{"$f":"'All hospitals'!M139","v":" -"},{"$f":"'All hospitals'!N139","v":" -"}]
[null,{"$f":"'All hospitals'!B140","v":"Temora District Hospital "},{"$f":"'All hospitals'!C140","v":"Temora"},{"$f":"'All hospitals'!E140","v":"02 6980 0200"},{"$f":"'All hospitals'!F140","v":"02 6980 0200"},{"$f":"'All hospitals'!K140","v":1},{"$f":"'All hospitals'!L140","v":"ED Fridge"},{"$f":"'All hospitals'!M140","v":" -"},{"$f":"'All hospitals'!N140","v":" -"}]
[null,{"$f":"'All hospitals'!B141","v":"Tocumwal Hospital"},{"$f":"'All hospitals'!C141","v":"Tocumwal"},{"$f":"'All hospitals'!E141","v":"03 5874 2166"},{"$f":"'All hospitals'!F141","v":"03 5874 2166"},{"$f":"'All hospitals'!K141","v":1},{"$f":"'All hospitals'!L141","v":"General Ward Medication Fridge"},{"$f":"'All hospitals'!M141","v":" -"},{"$f":"'All hospitals'!N141","v":" -"}]
[null,{"$f":"'All hospitals'!B142","v":"Tumbarumba Multi Purpose Service"},{"$f":"'All hospitals'!C142","v":"Tumbarumba"},{"$f":"'All hospitals'!E142","v":"02 6948 9600"},{"$f":"'All hospitals'!F142","v":"02 6948 9600"},{"$f":"'All hospitals'!K142","v":1},{"$f":"'All hospitals'!L142","v":"ED Fridge"},{"$f":"'All hospitals'!M142","v":" -"},{"$f":"'All hospitals'!N142","v":" -"}]
[null,{"$f":"'All hospitals'!B143","v":"Tumut District Hospital"},{"$f":"'All hospitals'!C143","v":"Tumut"},{"$f":"'All hospitals'!E143","v":"02 6947 0800"},{"$f":"'All hospitals'!F143","v":"02 6947 0800"},{"$f":"'All hospitals'!K143","v":1},{"$f":"'All hospitals'!L143","v":"ED Fridge"},{"$f":"'All hospitals'!M143","v":" -"},{"$f":"'All hospitals'!N143","v":" -"}]
[null,{"$f":"'All hospitals'!B144","v":"Urana Multi Purpose Service"},{"$f":"'All hospitals'!C144","v":"Urana"},{"$f":"'All hospitals'!E144","v":"02 6920 8106"},{"$f":"'All hospitals'!F144","v":"02 6920 8106"},{"$f":"'All hospitals'!K144","v":1},{"$f":"'All hospitals'!L144","v":"ED Fridge"},{"$f":"'All hospitals'!M144","v":" -"},{"$f":"'All hospitals'!N144","v":" -"}]
[null,{"$f":"'All hospitals'!B145","v":"Wagga Wagga Base Hospital "},{"$f":"'All hospitals'!C145","v":"Wagga Wagga"},{"$f":"'All hospitals'!E145","v":"02 5943 1000"},{"$f":"'All hospitals'!F145","v":"0429 306 566"},{"$f":"'All hospitals'!K145","v":4},{"$f":"'All hospitals'!L145","v":"After Hours Fridge"},{"$f":"'All hospitals'!M145","v":" -"},{"$f":"'All hospitals'!N145","v":" -"}]
[null,{"$f":"'All hospitals'!B146","v":"Wyalong Hospital"},{"$f":"'All hospitals'!C146","v":"West Wyalong"},{"$f":"'All hospitals'!E146","v":"02 6979 0000"},{"$f":"'All hospitals'!F146","v":"02 6979 0000"},{"$f":"'All hospitals'!K146","v":1},{"$f":"'All hospitals'!L146","v":"ED Fridge"},{"$f":"'All hospitals'!M146","v":" -"},{"$f":"'All hospitals'!N146","v":" -"}]
[null,{"$f":"'All hospitals'!B147","v":"Young District Hospital"},{"$f":"'All hospitals'!C147","v":"Young"},{"$f":"'All hospitals'!E147","v":"02 6382 8888"},{"$f":"'All hospitals'!F147","v":"02 6382 8888"},{"$f":"'All hospitals'!K147","v":1},{"$f":"'All hospitals'!L147","v":"ED"},{"$f":"'All hospitals'!M147","v":" -"},{"$f":"'All hospitals'!N147","v":" -"}]
[null,{"$f":"'All hospitals'!B148","v":"-"},{"$f":"'All hospitals'!C148","v":"-"},{"$f":"'All hospitals'!E148","v":"-"},{"$f":"'All hospitals'!F148","v":"-"},{"$f":"'All hospitals'!K148","v":"-"},{"$f":"'All hospitals'!L148","v":"-"},{"$f":"'All hospitals'!M148","v":"-"},{"$f":"'All hospitals'!N148","v":"-"}]
[null,{"$f":"'All hospitals'!B149","v":"NEPEAN BLUE MOUNTAINS LHD & OTHER"}]
[null,{"$f":"'All hospitals'!B150","v":"Blue Mountains District Hospital "},{"$f":"'All hospitals'!C150","v":"Katoomba"},{"$f":"'All hospitals'!E150","v":"02 4784 6500"},{"$f":"'All hospitals'!F150","v":"0412 117 269"},{"$f":"'All hospitals'!K150","v":2},{"$f":"'All hospitals'!L150","v":"ED"},{"$f":"'All hospitals'!M150","v":" -"},{"$f":"'All hospitals'!N150","v":" -"}]
[null,{"$f":"'All hospitals'!B151","v":"Hawkesbury District Health Service"},{"$f":"'All hospitals'!C151","v":"Windsor"},{"$f":"'All hospitals'!E151","v":"02 4560 5529"},{"$f":"'All hospitals'!F151","v":"02 4560 5555 (Ask for AHNM)"},{"$f":"'All hospitals'!K151","v":4},{"$f":"'All hospitals'!L151","v":"PHARMACY"},{"$f":"'All hospitals'!M151","v":" -"},{"$f":"'All hospitals'!N151","v":" -"}]
[null,{"$f":"'All hospitals'!B152","v":"Lithgow Hospital"},{"$f":"'All hospitals'!C152","v":"Lithgow"},{"$f":"'All hospitals'!E152","v":"02 6350 2370"},{"$f":"'All hospitals'!F152","v":"02 6350 2300 (switch)"},{"$f":"'All hospitals'!K152","v":2},{"$f":"'All hospitals'!L152","v":"ED"},{"$f":"'All hospitals'!M152","v":" -"},{"$f":"'All hospitals'!N152","v":" -"}]
[null,{"$f":"'All hospitals'!B153","v":"Nepean Hospital "},{"$f":"'All hospitals'!C153","v":"Penrith"},{"$f":"'All hospitals'!E153","v":"02 4734 2256"},{"$f":"'All hospitals'!F153","v":" 0412 235 766"},{"$f":"'All hospitals'!K153","v":2},{"$f":"'All hospitals'!L153","v":"ED-Resus"},{"$f":"'All hospitals'!M153","v":0},{"$f":"'All hospitals'!N153","v":"Main Pharmacy"}]
[null,{"$f":"'All hospitals'!B154","v":"-"},{"$f":"'All hospitals'!C154","v":"-"},{"$f":"'All hospitals'!E154","v":"-"},{"$f":"'All hospitals'!F154","v":"-"},{"$f":"'All hospitals'!K154","v":"-"},{"$f":"'All hospitals'!L154","v":"-"},{"$f":"'All hospitals'!M154","v":"-"},{"$f":"'All hospitals'!N154","v":"-"}]
[null,{"$f":"'All hospitals'!B155","v":"NORTHERN NSW LHD"}]
[null,{"$f":"'All hospitals'!B156","v":"Ballina Hospital "},{"$f":"'All hospitals'!C156","v":"Ballina"},{"$f":"'All hospitals'!E156","v":"02 6620 6400"},{"$f":"'All hospitals'!F156","v":"02 6620 6202"},{"$f":"'All hospitals'!K156","v":1},{"$f":"'All hospitals'!L156","v":"ED "},{"$f":"'All hospitals'!M156","v":" -"},{"$f":"'All hospitals'!N156","v":" -"}]
[null,{"$f":"'All hospitals'!B157","v":"Bonalbo Hospital "},{"$f":"'All hospitals'!C157","v":"Bonalbo"},{"$f":"'All hospitals'!E157","v":"02 6665 4100"},{"$f":"'All hospitals'!F157","v":"02 6665 4100"},{"$f":"'All hospitals'!K157","v":1},{"$f":"'All hospitals'!L157","v":"ED fridge"},{"$f":"'All hospitals'!M157","v":" -"},{"$f":"'All hospitals'!N157","v":" -"}]
[null,{"$f":"'All hospitals'!B158","v":"Byron Central Hospital (Stock data TBC)"},{"$f":"'All hospitals'!C158","v":"Byron Bay"},{"$f":"'All hospitals'!E158","v":"02 6639 9400"},{"$f":"'All hospitals'!F158","v":"02 6639 9400"},{"$f":"'All hospitals'!K158","v":1},{"$f":"'All hospitals'!L158","v":"ED"},{"$f":"'All hospitals'!M158","v":" -"},{"$f":"'All hospitals'!N158","v":" -"}]
[null,{"$f":"'All hospitals'!B159","v":"Casino Hospital"},{"$f":"'All hospitals'!C159","v":"Casino"},{"$f":"'All hospitals'!E159","v":"02 6660 0642"},{"$f":"'All hospitals'!F159","v":"02 6660 0642"},{"$f":"'All hospitals'!K159","v":1},{"$f":"'All hospitals'!L159","v":"ED"},{"$f":"'All hospitals'!M159","v":" -"},{"$f":"'All hospitals'!N159","v":" -"}]
[null,{"$f":"'All hospitals'!B160","v":"Grafton Base Hospital (Stock data TBC)"},{"$f":"'All hospitals'!C160","v":"Grafton"},{"$f":"'All hospitals'!E160","v":"02 6640 2222"},{"$f":"'All hospitals'!F160","v":"02 6640 2299    "},{"$f":"'All hospitals'!K160","v":"3 + 2"},{"$f":"'All hospitals'!L160","v":"ED + M ED"},{"$f":"'All hospitals'!M160","v":" -"},{"$f":"'All hospitals'!N160","v":" -"}]
[null,{"$f":"'All hospitals'!B161","v":"Kyogle Multi Purpose Service"},{"$f":"'All hospitals'!C161","v":"Kyogle"},{"$f":"'All hospitals'!E161","v":"02 6630 0400"},{"$f":"'All hospitals'!F161","v":"02 6630 0400"},{"$f":"'All hospitals'!K161","v":1},{"$f":"'All hospitals'!L161","v":"ED "},{"$f":"'All hospitals'!M161","v":" -"},{"$f":"'All hospitals'!N161","v":" -"}]
[null,{"$f":"'All hospitals'!B162","v":"Lismore Base Hospital "},{"$f":"'All hospitals'!C162","v":"Lismore"},{"$f":"'All hospitals'!E162","v":"02 6624 0200"},{"$f":"'All hospitals'!F162","v":"02 6624 0200"},{"$f":"'All hospitals'!K162","v":2},{"$f":"'All hospitals'!L162","v":"ED resus"},{"$f":"'All hospitals'!M162","v":2},{"$f":"'All hospitals'!N162","v":"Bulk Pharmacy "}]
[null,{"$f":"'All hospitals'!B163","v":"Maclean District Hospital (Stock data TBC)"},{"$f":"'All hospitals'!C163","v":"Maclean"},{"$f":"'All hospitals'!E163","v":"02 6640 0111"},{"$f":"'All hospitals'!F163","v":"02 6640 0111"},{"$f":"'All hospitals'!K163","v":0},{"$f":"'All hospitals'!L163","v":"ED"},{"$f":"'All hospitals'!M163","v":" -"},{"$f":"'All hospitals'!N163","v":" -"}]
[null,{"$f":"'All hospitals'!B164","v":"Murwillumbah District Hospital (Stock data TBC)"},{"$f":"'All hospitals'!C164","v":"Murwillumbah"},{"$f":"'All hospitals'!E164","v":"02 6672 0237"},{"$f":"'All hospitals'!F164","v":"02 6672 0230"},{"$f":"'All hospitals'!K164","v":2},{"$f":"'All hospitals'!L164","v":"ED"},{"$f":"'All hospitals'!M164","v":" -"},{"$f":"'All hospitals'!N164","v":" -"}]
[null,{"$f":"'All hospitals'!B165","v":"Nimbin Multi Purpose Service"},{"$f":"'All hospitals'!C165","v":"Nimbin"},{"$f":"'All hospitals'!E165","v":"02 6689 1400"},{"$f":"'All hospitals'!F165","v":"02 6689 1400"},{"$f":"'All hospitals'!K165","v":1},{"$f":"'All hospitals'!L165","v":"ED "},{"$f":"'All hospitals'!M165","v":" -"},{"$f":"'All hospitals'!N165","v":" -"}]
[null,{"$f":"'All hospitals'!B166","v":"The Tweed Hospital"},{"$f":"'All hospitals'!C166","v":"Tweed Heads"},{"$f":"'All hospitals'!E166","v":"07 5506 7420"},{"$f":"'All hospitals'!F166","v":"07 5506 7667"},{"$f":"'All hospitals'!K166","v":2},{"$f":"'All hospitals'!L166","v":"ED Pyxis Fridge"},{"$f":"'All hospitals'!M166","v":" -"},{"$f":"'All hospitals'!N166","v":" -"}]
[null,{"$f":"'All hospitals'!B167","v":"Urbenville Multi Purpose Service "},{"$f":"'All hospitals'!C167","v":"Urbenville"},{"$f":"'All hospitals'!E167","v":"02 66341600"},{"$f":"'All hospitals'!F167","v":"02 66341600"},{"$f":"'All hospitals'!K167","v":1},{"$f":"'All hospitals'!L167","v":"ED fridge"},{"$f":"'All hospitals'!M167","v":" -"},{"$f":"'All hospitals'!N167","v":" -"}]
[null,{"$f":"'All hospitals'!B168","v":"-"},{"$f":"'All hospitals'!C168","v":"-"},{"$f":"'All hospitals'!E168","v":"-"},{"$f":"'All hospitals'!F168","v":"-"},{"$f":"'All hospitals'!K168","v":"-"},{"$f":"'All hospitals'!L168","v":"-"},{"$f":"'All hospitals'!M168","v":"-"},{"$f":"'All hospitals'!N168","v":"-"}]
[null,{"$f":"'All hospitals'!B169","v":"NORTHERN SYDNEY LHD & OTHER"}]
[null,{"$f":"'All hospitals'!B170","v":"Hornsby Hospital"},{"$f":"'All hospitals'!C170","v":"Hornsby"},{"$f":"'All hospitals'!E170","v":"02 9485 6455"},{"$f":"'All hospitals'!F170","v":"02 9485 6600 (ED)"},{"$f":"'All hospitals'!K170","v":1},{"$f":"'All hospitals'!L170","v":"ED "},{"$f":"'All hospitals'!M170","v":" -"},{"$f":"'All hospitals'!N170","v":" -"}]
[null,{"$f":"'All hospitals'!B172","v":"Manly Hospital (closed 30th Oct 2018 - See Northern Beaches Health Service)"},{"$f":"'All hospitals'!C172","v":"-"},{"$f":"'All hospitals'!E172","v":"-"},{"$f":"'All hospitals'!F172","v":" -"},{"$f":"'All hospitals'!K172","v":" -"},{"$f":"'All hospitals'!L172","v":" -"},{"$f":"'All hospitals'!M172","v":" -"},{"$f":"'All hospitals'!N172","v":" -"}]
[null,{"$f":"'All hospitals'!B173","v":"Mona Vale Hospital (Subacute hospital overseen by Hornsby Hospital; some antivenoms available on imprest)"},{"$f":"'All hospitals'!C173","v":"Mona Vale "},{"$f":"'All hospitals'!E173","v":"02 9998 6040"},{"$f":"'All hospitals'!F173","v":"02 9998 6300"},{"$f":"'All hospitals'!K173","v":1},{"$f":"'All hospitals'!L173","v":"Urgent Care Centre"},{"$f":"'All hospitals'!M173","v":" -"},{"$f":"'All hospitals'!N173","v":" -"}]
[null,{"$f":"'All hospitals'!B174","v":"Northern Beaches Health Service (replaces Manly Hospital) "},{"$f":"'All hospitals'!C174","v":"Frenchs Forest"},{"$f":"'All hospitals'!E174","v":"02 9105 5000"},{"$f":"'All hospitals'!F174","v":"0490 124 164"},{"$f":"'All hospitals'!K174","v":1},{"$f":"'All hospitals'!L174","v":"ED fridge"},{"$f":"'All hospitals'!M174","v":" -"},{"$f":"'All hospitals'!N174","v":" -"}]
[null,{"$f":"'All hospitals'!B175","v":"Royal North Shore Hospital"},{"$f":"'All hospitals'!C175","v":"St Leonards"},{"$f":"'All hospitals'!E175","v":"02 9463 1140"},{"$f":"'All hospitals'!F175","v":"02 9926 7111 On-call pharmacist via switchboard"},{"$f":"'All hospitals'!K175","v":2},{"$f":"'All hospitals'!L175","v":"ED Resus Room"},{"$f":"'All hospitals'!M175","v":" -"},{"$f":"'All hospitals'!N175","v":" -"}]
[null,{"$f":"'All hospitals'!B176","v":"Ryde Hospital"},{"$f":"'All hospitals'!C176","v":"Eastwood"},{"$f":"'All hospitals'!E176","v":"02 9858 7888"},{"$f":"'All hospitals'!F176","v":"Oncall Pharmacist (0472 809 062) AHNM (0402 990 158)"},{"$f":"'All hospitals'!K176","v":2},{"$f":"'All hospitals'!L176","v":"ED"},{"$f":"'All hospitals'!M176","v":" -"},{"$f":"'All hospitals'!N176","v":" -"}]
[null,{"$f":"'All hospitals'!B171","v":0},{"$f":"'All hospitals'!C171","v":0},{"$f":"'All hospitals'!E171","v":0},{"$f":"'All hospitals'!F171","v":0},{"$f":"'All hospitals'!K171","v":0},{"$f":"'All hospitals'!L171","v":0},{"$f":"'All hospitals'!M171","v":0},{"$f":"'All hospitals'!N171","v":0}]
[null,{"$f":"'All hospitals'!B177","v":"-"},{"$f":"'All hospitals'!C177","v":"-"},{"$f":"'All hospitals'!E177","v":"-"},{"$f":"'All hospitals'!F177","v":"-"},{"$f":"'All hospitals'!K177","v":"-"},{"$f":"'All hospitals'!L177","v":"-"},{"$f":"'All hospitals'!M177","v":"-"},{"$f":"'All hospitals'!N177","v":"-"}]
[null,{"$f":"'All hospitals'!B178","v":"SOUTH EASTERN SYDNEY LHD"}]
[null,{"$f":"'All hospitals'!B179","v":"Calvary Hospital  (Stock data TBC)"},{"$f":"'All hospitals'!C179","v":"Kogarah"},{"$f":"'All hospitals'!E179","v":"-"},{"$f":"'All hospitals'!F179","v":"-"},{"$f":"'All hospitals'!K179","v":"-"},{"$f":"'All hospitals'!L179","v":"-"},{"$f":"'All hospitals'!M179","v":"-"},{"$f":"'All hospitals'!N179","v":"-"}]
[null,{"$f":"'All hospitals'!B180","v":"Prince of Wales Hospital "},{"$f":"'All hospitals'!C180","v":"Randwick, Sydney"},{"$f":"'All hospitals'!E180","v":"02 9382 2222"},{"$f":"'All hospitals'!F180","v":"oncall pharmacist via switchboard 02 9382 2222 "},{"$f":"'All hospitals'!K180","v":1},{"$f":"'All hospitals'!L180","v":"ED"},{"$f":"'All hospitals'!M180","v":2},{"$f":"'All hospitals'!N180","v":"Pharmacy"}]
[null,{"$f":"'All hospitals'!B181","v":"Royal Hospital for Women NO STOCKS HELD"},{"$f":"'All hospitals'!C181","v":"Sydney"},{"$f":"'All hospitals'!E181","v":"02 9382 6716"},{"$f":"'All hospitals'!F181","v":"02 9382 2222 on call pharmacist"},{"$f":"'All hospitals'!K181","v":0},{"$f":"'All hospitals'!L181","v":" -"},{"$f":"'All hospitals'!M181","v":" -"},{"$f":"'All hospitals'!N181","v":" -"}]
[null,{"$f":"'All hospitals'!B182","v":"St George Hospital"},{"$f":"'All hospitals'!C182","v":"Kogarah"},{"$f":"'All hospitals'!E182","v":"02 9113 3055"},{"$f":"'All hospitals'!F182","v":"Page AHNM via switchboard 02 9113 1111"},{"$f":"'All hospitals'!K182","v":1},{"$f":"'All hospitals'!L182","v":"ED resus"},{"$f":"'All hospitals'!M182","v":" -"},{"$f":"'All hospitals'!N182","v":" -"}]
[null,{"$f":"'All hospitals'!B183","v":"Sydney Hospital and Sydney Eye Hospital"},{"$f":"'All hospitals'!C183","v":"Sydney"},{"$f":"'All hospitals'!E183","v":"02 9382 7379"},{"$f":"'All hospitals'!F183","v":"02 9382 7111  ask for Emergency Department"},{"$f":"'All hospitals'!K183","v":2},{"$f":"'All hospitals'!L183","v":"ED"},{"$f":"'All hospitals'!M183","v":" -"},{"$f":"'All hospitals'!N183","v":" -"}]
[null,{"$f":"'All hospitals'!B184","v":"The Sutherland Hospital"},{"$f":"'All hospitals'!C184","v":"Sydney"},{"$f":"'All hospitals'!E184","v":"02 9540 7466 OR 02 9540 7467"},{"$f":"'All hospitals'!F184","v":"02 9540 7111"},{"$f":"'All hospitals'!K184","v":6},{"$f":"'All hospitals'!L184","v":"Pharmacy fridge 3"},{"$f":"'All hospitals'!M184","v":"-"},{"$f":"'All hospitals'!N184","v":"-"}]
[null,{"$f":"'All hospitals'!B185","v":"-"},{"$f":"'All hospitals'!C185","v":"-"},{"$f":"'All hospitals'!E185","v":"-"},{"$f":"'All hospitals'!F185","v":"-"},{"$f":"'All hospitals'!K185","v":"-"},{"$f":"'All hospitals'!L185","v":"-"},{"$f":"'All hospitals'!M185","v":"-"},{"$f":"'All hospitals'!N185","v":"-"}]
[null,{"$f":"'All hospitals'!B186","v":"SOUTH WESTERN SYDNEY LHD"}]
[null,{"$f":"'All hospitals'!B187","v":"Bankstown-Lidcombe Hospital"},{"$f":"'All hospitals'!C187","v":"Sydney"},{"$f":"'All hospitals'!E187","v":"02 9722 8000"},{"$f":"'All hospitals'!F187","v":"02 9722 8000"},{"$f":"'All hospitals'!K187","v":1},{"$f":"'All hospitals'!L187","v":"ED"},{"$f":"'All hospitals'!M187","v":" -"},{"$f":"'All hospitals'!N187","v":" -"}]
[null,{"$f":"'All hospitals'!B188","v":"Bowral District Hospital"},{"$f":"'All hospitals'!C188","v":"Bowral"},{"$f":"'All hospitals'!E188","v":"02 4861 0274"},{"$f":"'All hospitals'!F188","v":"02 4861 0199"},{"$f":"'All hospitals'!K188","v":3},{"$f":"'All hospitals'!L188","v":"Pharmacy"},{"$f":"'All hospitals'!M188","v":" -"},{"$f":"'All hospitals'!N188","v":" -"}]
[null,{"$f":"'All hospitals'!B189","v":"Camden Hospital "},{"$f":"'All hospitals'!C189","v":"Sydney"},{"$f":"'All hospitals'!E189","v":"02 4634 3000"},{"$f":"'All hospitals'!F189","v":"0408 662 394"},{"$f":"'All hospitals'!K189","v":2},{"$f":"'All hospitals'!L189","v":"ED"},{"$f":"'All hospitals'!M189","v":" -"},{"$f":"'All hospitals'!N189","v":" -"}]
[null,{"$f":"'All hospitals'!B190","v":"Campbelltown Hospital "},{"$f":"'All hospitals'!C190","v":"Sydney"},{"$f":"'All hospitals'!E190","v":"02 4634 3000"},{"$f":"'All hospitals'!F190","v":"0408 662 394"},{"$f":"'All hospitals'!K190","v":2},{"$f":"'All hospitals'!L190","v":"ED"},{"$f":"'All hospitals'!M190","v":" -"},{"$f":"'All hospitals'!N190","v":" -"}]
[null,{"$f":"'All hospitals'!B191","v":"Fairfield Hospital"},{"$f":"'All hospitals'!C191","v":"Fairfield"},{"$f":"'All hospitals'!E191","v":"02 9616 8322"},{"$f":"'All hospitals'!F191","v":"02 9616 8111"},{"$f":"'All hospitals'!K191","v":0},{"$f":"'All hospitals'!L191","v":" -"},{"$f":"'All hospitals'!M191","v":" -"},{"$f":"'All hospitals'!N191","v":" -"}]
[null,{"$f":"'All hospitals'!B192","v":"Liverpool Hospital"},{"$f":"'All hospitals'!C192","v":"Sydney"},{"$f":"'All hospitals'!E192","v":"02 8738 3000"},{"$f":"'All hospitals'!F192","v":"02 8738 3000"},{"$f":"'All hospitals'!K192","v":1},{"$f":"'All hospitals'!L192","v":"ED"},{"$f":"'All hospitals'!M192","v":2},{"$f":"'All hospitals'!N192","v":"Pharmacy"}]
[null,{"$f":"'All hospitals'!B193","v":"-"},{"$f":"'All hospitals'!C193","v":"-"},{"$f":"'All hospitals'!E193","v":"-"},{"$f":"'All hospitals'!F193","v":"-"},{"$f":"'All hospitals'!K193","v":"-"},{"$f":"'All hospitals'!L193","v":"-"},{"$f":"'All hospitals'!M193","v":"-"},{"$f":"'All hospitals'!N193","v":"-"}]
[null,{"$f":"'All hospitals'!B194","v":"SOUTHERN NSW"}]
[null,{"$f":"'All hospitals'!B195","v":"Bateman's Bay District Hospital "},{"$f":"'All hospitals'!C195","v":"Bateman's Bay"},{"$f":"'All hospitals'!E195","v":"02 4475 1500"},{"$f":"'All hospitals'!F195","v":"0419 421 411"},{"$f":"'All hospitals'!K195","v":1},{"$f":"'All hospitals'!L195","v":"ED"},{"$f":"'All hospitals'!M195","v":1},{"$f":"'All hospitals'!N195","v":"Pharmacy"}]
[null,{"$f":"'All hospitals'!B196","v":"South East Regional Hospital (SERH / Bega District Hospital)"},{"$f":"'All hospitals'!C196","v":"Bega"},{"$f":"'All hospitals'!E196","v":"02 6492 9111"},{"$f":"'All hospitals'!F196","v":"0419 421 411"},{"$f":"'All hospitals'!K196","v":2},{"$f":"'All hospitals'!L196","v":"ED "},{"$f":"'All hospitals'!M196","v":0},{"$f":"'All hospitals'!N196","v":"-"}]
[null,{"$f":"'All hospitals'!B197","v":"Bombala Hospital "},{"$f":"'All hospitals'!C197","v":"Bombala"},{"$f":"'All hospitals'!E197","v":"02 6458 5777"},{"$f":"'All hospitals'!F197","v":"0419 421 411"},{"$f":"'All hospitals'!K197","v":1},{"$f":"'All hospitals'!L197","v":"Hospital Fridge"},{"$f":"'All hospitals'!M197","v":" -"},{"$f":"'All hospitals'!N197","v":" -"}]
[null,{"$f":"'All hospitals'!B198","v":"Braidwood Hospital "},{"$f":"'All hospitals'!C198","v":"Braidwood"},{"$f":"'All hospitals'!E198","v":"02 4842 2566"},{"$f":"'All hospitals'!F198","v":"0419 421 411"},{"$f":"'All hospitals'!K198","v":2},{"$f":"'All hospitals'!L198","v":"ED"},{"$f":"'All hospitals'!M198","v":" -"},{"$f":"'All hospitals'!N198","v":" -"}]
[null,{"$f":"'All hospitals'!B199","v":"Cooma District Hospital "},{"$f":"'All hospitals'!C199","v":"Cooma"},{"$f":"'All hospitals'!E199","v":"02 6455 3222"},{"$f":"'All hospitals'!F199","v":"0419 421 411"},{"$f":"'All hospitals'!K199","v":1},{"$f":"'All hospitals'!L199","v":"ED"},{"$f":"'All hospitals'!M199","v":1},{"$f":"'All hospitals'!N199","v":"Pharmacy"}]
[null,{"$f":"'All hospitals'!B200","v":"Crookwell District Hospital "},{"$f":"'All hospitals'!C200","v":"Crookwell NSW"},{"$f":"'All hospitals'!E200","v":"02 4832 1300"},{"$f":"'All hospitals'!F200","v":"0419 421 411"},{"$f":"'All hospitals'!K200","v":1},{"$f":"'All hospitals'!L200","v":"ED"},{"$f":"'All hospitals'!M200","v":" -"},{"$f":"'All hospitals'!N200","v":" -"}]
[null,{"$f":"'All hospitals'!B201","v":"Delegate Hospital "},{"$f":"'All hospitals'!C201","v":"Delegate"},{"$f":"'All hospitals'!E201","v":"02 6459 8000"},{"$f":"'All hospitals'!F201","v":"0419 421 411"},{"$f":"'All hospitals'!K201","v":1},{"$f":"'All hospitals'!L201","v":"Hospital Fridge"},{"$f":"'All hospitals'!M201","v":" -"},{"$f":"'All hospitals'!N201","v":" -"}]
[null,{"$f":"'All hospitals'!B202","v":"Goulburn Base Hospital "},{"$f":"'All hospitals'!C202","v":"Goulburn"},{"$f":"'All hospitals'!E202","v":"02 4827 3111"},{"$f":"'All hospitals'!F202","v":"02 4827 3111"},{"$f":"'All hospitals'!K202","v":2},{"$f":"'All hospitals'!L202","v":"ED "},{"$f":"'All hospitals'!M202","v":1},{"$f":"'All hospitals'!N202","v":"Pharmacy"}]
[null,{"$f":"'All hospitals'!B203","v":"Moruya District Hospital "},{"$f":"'All hospitals'!C203","v":"Moruya"},{"$f":"'All hospitals'!E203","v":"02 4474 2666"},{"$f":"'All hospitals'!F203","v":"0419 421 411"},{"$f":"'All hospitals'!K203","v":1},{"$f":"'All hospitals'!L203","v":"ED"},{"$f":"'All hospitals'!M203","v":1},{"$f":"'All hospitals'!N203","v":"Pharmacy"}]
[null,{"$f":"'All hospitals'!B204","v":"Pambula District Hospital "},{"$f":"'All hospitals'!C204","v":"Pambula"},{"$f":"'All hospitals'!E204","v":"02 6495 8200"},{"$f":"'All hospitals'!F204","v":"0419 421 411"},{"$f":"'All hospitals'!K204","v":1},{"$f":"'All hospitals'!L204","v":"ED"},{"$f":"'All hospitals'!M204","v":" -"},{"$f":"'All hospitals'!N204","v":" -"}]
[null,{"$f":"'All hospitals'!B205","v":"Queanbeyan Hospital "},{"$f":"'All hospitals'!C205","v":"Queanbeyan"},{"$f":"'All hospitals'!E205","v":"02 6150 7000"},{"$f":"'All hospitals'!F205","v":"0419 421 411"},{"$f":"'All hospitals'!K205","v":1},{"$f":"'All hospitals'!L205","v":"ED "},{"$f":"'All hospitals'!M205","v":2},{"$f":"'All hospitals'!N205","v":"Pharmacy"}]
[null,{"$f":"'All hospitals'!B206","v":"Yass District Hospital "},{"$f":"'All hospitals'!C206","v":"Yass"},{"$f":"'All hospitals'!E206","v":"02 6220 2000"},{"$f":"'All hospitals'!F206","v":"0419 421 411"},{"$f":"'All hospitals'!K206","v":1},{"$f":"'All hospitals'!L206","v":"ED "},{"$f":"'All hospitals'!M206","v":" -"},{"$f":"'All hospitals'!N206","v":" -"}]
[null,{"$f":"'All hospitals'!B207","v":"-"},{"$f":"'All hospitals'!C207","v":"-"},{"$f":"'All hospitals'!E207","v":"-"},{"$f":"'All hospitals'!F207","v":"-"},{"$f":"'All hospitals'!K207","v":"-"},{"$f":"'All hospitals'!L207","v":"-"},{"$f":"'All hospitals'!M207","v":"-"},{"$f":"'All hospitals'!N207","v":"-"}]
[null,{"$f":"'All hospitals'!B208","v":"ST VINCENT'S HEALTH"}]
[null,{"$f":"'All hospitals'!B209","v":"St Vincent's Hospital"},{"$f":"'All hospitals'!C209","v":"Darlinghurst"},{"$f":"'All hospitals'!E209","v":"02 8282 2125"},{"$f":"'All hospitals'!F209","v":"02 8382 1111 (on call pharmacist via switchboard)"},{"$f":"'All hospitals'!K209","v":2},{"$f":"'All hospitals'!L209","v":"After hours cupboard"},{"$f":"'All hospitals'!M209","v":" -"},{"$f":"'All hospitals'!N209","v":" -"}]
[null,{"$f":"'All hospitals'!B210","v":"-"},{"$f":"'All hospitals'!C210","v":"-"},{"$f":"'All hospitals'!E210","v":"-"},{"$f":"'All hospitals'!F210","v":"-"},{"$f":"'All hospitals'!K210","v":"-"},{"$f":"'All hospitals'!L210","v":"-"},{"$f":"'All hospitals'!M210","v":"-"},{"$f":"'All hospitals'!N210","v":"-"}]
[null,{"$f":"'All hospitals'!B211","v":"SYDNEY LHD"}]
[null,{"$f":"'All hospitals'!B212","v":"Balmain Hospital (No ED services) NO STOCKS HELD"},{"$f":"'All hospitals'!C212","v":"Balmain"},{"$f":"'All hospitals'!E212","v":"02 9395 2111"},{"$f":"'All hospitals'!F212","v":" -"},{"$f":"'All hospitals'!K212","v":"-"},{"$f":"'All hospitals'!L212","v":"-"},{"$f":"'All hospitals'!M212","v":" -"},{"$f":"'All hospitals'!N212","v":" -"}]
[null,{"$f":"'All hospitals'!B213","v":"Canterbury Hospital "},{"$f":"'All hospitals'!C213","v":"Campsie"},{"$f":"'All hospitals'!E213","v":"02 9787 0219"},{"$f":"'All hospitals'!F213","v":"02 9787 0000"},{"$f":"'All hospitals'!K213","v":0},{"$f":"'All hospitals'!L213","v":" -"},{"$f":"'All hospitals'!M213","v":" -"},{"$f":"'All hospitals'!N213","v":" -"}]
[null,{"$f":"'All hospitals'!B214","v":"Concord Hospital"},{"$f":"'All hospitals'!C214","v":"Concord"},{"$f":"'All hospitals'!E214","v":"02 9767 6214"},{"$f":"'All hospitals'!F214","v":"02 9767 5000"},{"$f":"'All hospitals'!K214","v":1},{"$f":"'All hospitals'!L214","v":"After Hours Cupboard"},{"$f":"'All hospitals'!M214","v":" -"},{"$f":"'All hospitals'!N214","v":" -"}]
[null,{"$f":"'All hospitals'!B215","v":"Royal Prince Alfred Hospital"},{"$f":"'All hospitals'!C215","v":"Camperdown"},{"$f":"'All hospitals'!E215","v":"02 9515 6111"},{"$f":"'All hospitals'!F215","v":"02 9515 6111"},{"$f":"'All hospitals'!K215","v":2},{"$f":"'All hospitals'!L215","v":"ED "},{"$f":"'All hospitals'!M215","v":0},{"$f":"'All hospitals'!N215","v":"-"}]
[null,{"$f":"'All hospitals'!B216","v":"-"},{"$f":"'All hospitals'!C216","v":"-"},{"$f":"'All hospitals'!E216","v":"-"},{"$f":"'All hospitals'!F216","v":"-"},{"$f":"'All hospitals'!K216","v":"-"},{"$f":"'All hospitals'!L216","v":"-"},{"$f":"'All hospitals'!M216","v":"-"},{"$f":"'All hospitals'!N216","v":"-"}]
[null,{"$f":"'All hospitals'!B217","v":"SYDNEY CHILDREN'S HOSPITALS NETWORK"}]
[null,{"$f":"'All hospitals'!B218","v":"Sydney Children's Hospital Randwick (SCH) (see also stocks kept at Prince of Wales (adjacent hospital))"},{"$f":"'All hospitals'!C218","v":"Randwick"},{"$f":"'All hospitals'!E218","v":"02 9382 1111"},{"$f":"'All hospitals'!F218","v":"029382 2222  Pharmacist on call "},{"$f":"'All hospitals'!K218","v":1},{"$f":"'All hospitals'!L218","v":"Paediatric after hours drug room"},{"$f":"'All hospitals'!M218","v":" -"},{"$f":"'All hospitals'!N218","v":" -"}]
[null,{"$f":"'All hospitals'!B219","v":"The Children's Hospital Westmead (CHW)"},{"$f":"'All hospitals'!C219","v":"Westmead"},{"$f":"'All hospitals'!E219","v":"02 9845 0000"},{"$f":"'All hospitals'!F219","v":"02 9845 0000 (on call pharmacist via switchboard)"},{"$f":"'All hospitals'!K219","v":1},{"$f":"'All hospitals'!L219","v":"ED"},{"$f":"'All hospitals'!M219","v":3},{"$f":"'All hospitals'!N219","v":"Pharmacy "}]
[null,{"$f":"'All hospitals'!B220","v":" Newborn & Paediatric Emergency Transport Service (NETS)"},{"$f":"'All hospitals'!C220","v":"Bankstown Aerodrome"},{"$f":"'All hospitals'!E220","v":1300362730},{"$f":"'All hospitals'!F220","v":1300362730},{"$f":"'All hospitals'!K220","v":"-"},{"$f":"'All hospitals'!L220","v":"-"},{"$f":"'All hospitals'!M220","v":"-"},{"$f":"'All hospitals'!N220","v":"-"}]
[null,{"$f":"'All hospitals'!B221","v":"-"},{"$f":"'All hospitals'!C221","v":"-"},{"$f":"'All hospitals'!E221","v":"-"},{"$f":"'All hospitals'!F221","v":"-"},{"$f":"'All hospitals'!K221","v":"-"},{"$f":"'All hospitals'!L221","v":"-"},{"$f":"'All hospitals'!M221","v":"-"},{"$f":"'All hospitals'!N221","v":"-"}]
[null,{"$f":"'All hospitals'!B222","v":"WESTERN NSW LHD"}]
[null,{"$f":"'All hospitals'!B223","v":"Baradine Multi Purpose Service"},{"$f":"'All hospitals'!C223","v":"Baradine, NSW"},{"$f":"'All hospitals'!E223","v":"02 6843 1605"},{"$f":"'All hospitals'!F223","v":"02 6843 4100"},{"$f":"'All hospitals'!K223","v":0},{"$f":"'All hospitals'!L223","v":" -"},{"$f":"'All hospitals'!M223","v":" -"},{"$f":"'All hospitals'!N223","v":" -"}]
[null,{"$f":"'All hospitals'!B224","v":"Bathurst Hospital"},{"$f":"'All hospitals'!C224","v":"Bathurst"},{"$f":"'All hospitals'!E224","v":"02 6330 5304"},{"$f":"'All hospitals'!F224","v":"02 6330 5308"},{"$f":"'All hospitals'!K224","v":2},{"$f":"'All hospitals'!L224","v":"After hours cupboard/antivenom fridge "},{"$f":"'All hospitals'!M224","v":" -"},{"$f":"'All hospitals'!N224","v":" -"}]
[null,{"$f":"'All hospitals'!B225","v":"Blayney Multi Purpose Service"},{"$f":"'All hospitals'!C225","v":"Blayney"},{"$f":"'All hospitals'!E225","v":"02 6368 9029 "},{"$f":"'All hospitals'!F225","v":"02 6368 9029 "},{"$f":"'All hospitals'!K225","v":0},{"$f":"'All hospitals'!L225","v":" -"},{"$f":"'All hospitals'!M225","v":" -"},{"$f":"'All hospitals'!N225","v":" -"}]
[null,{"$f":"'All hospitals'!B226","v":"Bourke Multi Purpose Service "},{"$f":"'All hospitals'!C226","v":"Bourke"},{"$f":"'All hospitals'!E226","v":"02 6870 8888"},{"$f":"'All hospitals'!F226","v":"02 6870 8888"},{"$f":"'All hospitals'!K226","v":0},{"$f":"'All hospitals'!L226","v":" -"},{"$f":"'All hospitals'!M226","v":" -"},{"$f":"'All hospitals'!N226","v":" -"}]
[null,{"$f":"'All hospitals'!B227","v":"Brewarrina Multi Purpose Service "},{"$f":"'All hospitals'!C227","v":"Brewarrina"},{"$f":"'All hospitals'!E227","v":"02 6830 5000"},{"$f":"'All hospitals'!F227","v":"02 6830 5000"},{"$f":"'All hospitals'!K227","v":0},{"$f":"'All hospitals'!L227","v":" -"},{"$f":"'All hospitals'!M227","v":" -"},{"$f":"'All hospitals'!N227","v":" -"}]
[null,{"$f":"'All hospitals'!B228","v":"Canowindra Soldiers Memorial Hospital (Stock data TBC)"},{"$f":"'All hospitals'!C228","v":"Canowindra"},{"$f":"'All hospitals'!E228","v":"02 6364 4300"},{"$f":"'All hospitals'!F228","v":"02 6340 3033"},{"$f":"'All hospitals'!K228","v":1},{"$f":"'All hospitals'!L228","v":"ED"},{"$f":"'All hospitals'!M228","v":" -"},{"$f":"'All hospitals'!N228","v":" -"}]
[null,{"$f":"'All hospitals'!B229","v":"Cobar District Hospital (Stock data TBC)"},{"$f":"'All hospitals'!C229","v":"Cobar"},{"$f":"'All hospitals'!E229","v":"02 6836 2406"},{"$f":"'All hospitals'!F229","v":"02 6830 2111"},{"$f":"'All hospitals'!K229","v":0},{"$f":"'All hospitals'!L229","v":" -"},{"$f":"'All hospitals'!M229","v":" -"},{"$f":"'All hospitals'!N229","v":" -"}]
[null,{"$f":"'All hospitals'!B230","v":"Collarenebri Multi Purpose Service "},{"$f":"'All hospitals'!C230","v":"Collarenebri"},{"$f":"'All hospitals'!E230","v":"02 6756 4800"},{"$f":"'All hospitals'!F230","v":"02 6756 4800"},{"$f":"'All hospitals'!K230","v":0},{"$f":"'All hospitals'!L230","v":" -"},{"$f":"'All hospitals'!M230","v":" -"},{"$f":"'All hospitals'!N230","v":" -"}]
[null,{"$f":"'All hospitals'!B231","v":"Condobolin District Hospital"},{"$f":"'All hospitals'!C231","v":"Condobolin"},{"$f":"'All hospitals'!E231","v":"02 6890 1500"},{"$f":"'All hospitals'!F231","v":"02 6890 1500"},{"$f":"'All hospitals'!K231","v":2},{"$f":"'All hospitals'!L231","v":"ED"},{"$f":"'All hospitals'!M231","v":" -"},{"$f":"'All hospitals'!N231","v":" -"}]
[null,{"$f":"'All hospitals'!B232","v":"Coolah Multi Purpose Service (Stock data TBC)"},{"$f":"'All hospitals'!C232","v":"Coolah"},{"$f":"'All hospitals'!E232","v":"02 6377 9100"},{"$f":"'All hospitals'!F232","v":"02 6377 9100"},{"$f":"'All hospitals'!K232","v":0},{"$f":"'All hospitals'!L232","v":" -"},{"$f":"'All hospitals'!M232","v":" -"},{"$f":"'All hospitals'!N232","v":" -"}]
[null,{"$f":"'All hospitals'!B233","v":"Coonabarabran District Hospital"},{"$f":"'All hospitals'!C233","v":"Coonabarabran"},{"$f":"'All hospitals'!E233","v":"02 6849 1600"},{"$f":"'All hospitals'!F233","v":"02 6849 1600"},{"$f":"'All hospitals'!K233","v":1},{"$f":"'All hospitals'!L233","v":"TBC - Imprest Room Fridge"},{"$f":"'All hospitals'!M233","v":" -"},{"$f":"'All hospitals'!N233","v":" -"}]
[null,{"$f":"'All hospitals'!B234","v":"Coonamble Multi Purpose Service (Stock data TBC)"},{"$f":"'All hospitals'!C234","v":"Coonamble"},{"$f":"'All hospitals'!E234","v":"02 6827 1100"},{"$f":"'All hospitals'!F234","v":"02 6827 1100"},{"$f":"'All hospitals'!K234","v":0},{"$f":"'All hospitals'!L234","v":" -"},{"$f":"'All hospitals'!M234","v":" -"},{"$f":"'All hospitals'!N234","v":" -"}]
[null,{"$f":"'All hospitals'!B235","v":"Cowra Hospital (Stock data TBC)"},{"$f":"'All hospitals'!C235","v":"Cowra"},{"$f":"'All hospitals'!E235","v":"02 6340 9000"},{"$f":"'All hospitals'!F235","v":"02 6340 9000"},{"$f":"'All hospitals'!K235","v":1},{"$f":"'All hospitals'!L235","v":"ED"},{"$f":"'All hospitals'!M235","v":" -"},{"$f":"'All hospitals'!N235","v":" -"}]
[null,{"$f":"'All hospitals'!B236","v":"Cudal Health Service NO STOCKS HELD"},{"$f":"'All hospitals'!C236","v":"Cudal"},{"$f":"'All hospitals'!E236","v":"02 6392 3400"},{"$f":"'All hospitals'!F236","v":" -"},{"$f":"'All hospitals'!K236","v":0},{"$f":"'All hospitals'!L236","v":" -"},{"$f":"'All hospitals'!M236","v":" -"},{"$f":"'All hospitals'!N236","v":" -"}]
[null,{"$f":"'All hospitals'!B237","v":"Dubbo Base Hospital"},{"$f":"'All hospitals'!C237","v":"Dubbo"},{"$f":"'All hospitals'!E237","v":"02 6809 8150"},{"$f":"'All hospitals'!F237","v":"02 6809 6809"},{"$f":"'All hospitals'!K237","v":1},{"$f":"'All hospitals'!L237","v":"After Hours Pharmacy"},{"$f":"'All hospitals'!M237","v":" -"},{"$f":"'All hospitals'!N237","v":" -"}]
[null,{"$f":"'All hospitals'!B238","v":"Dunedoo Multi Purpose Service (Stock data TBC)"},{"$f":"'All hospitals'!C238","v":"Dunedoo"},{"$f":"'All hospitals'!E238","v":"02 6375 1408"},{"$f":"'All hospitals'!F238","v":"02 6370 3000"},{"$f":"'All hospitals'!K238","v":0},{"$f":"'All hospitals'!L238","v":" -"},{"$f":"'All hospitals'!M238","v":" -"},{"$f":"'All hospitals'!N238","v":" -"}]
[null,{"$f":"'All hospitals'!B239","v":"Eugowra Multi Purpose Service (Stock data TBC)"},{"$f":"'All hospitals'!C239","v":"Eugowra"},{"$f":"'All hospitals'!E239","v":"02 6850 4000"},{"$f":"'All hospitals'!F239","v":"02 6850 4000"},{"$f":"'All hospitals'!K239","v":1},{"$f":"'All hospitals'!L239","v":"Fridge"},{"$f":"'All hospitals'!M239","v":" -"},{"$f":"'All hospitals'!N239","v":" -"}]
[null,{"$f":"'All hospitals'!B240","v":"Forbes District Hospital "},{"$f":"'All hospitals'!C240","v":"Forbes"},{"$f":"'All hospitals'!E240","v":"02 6850 7100"},{"$f":"'All hospitals'!F240","v":"02 6850 7100"},{"$f":"'All hospitals'!K240","v":2},{"$f":"'All hospitals'!L240","v":"ED"},{"$f":"'All hospitals'!M240","v":" -"},{"$f":"'All hospitals'!N240","v":" -"}]
[null,{"$f":"'All hospitals'!B241","v":"Gilgandra Multi Purpose Service (Stock data TBC)"},{"$f":"'All hospitals'!C241","v":"Gilgandra"},{"$f":"'All hospitals'!E241","v":"02 6880 5900"},{"$f":"'All hospitals'!F241","v":"02 6880 5900"},{"$f":"'All hospitals'!K241","v":0},{"$f":"'All hospitals'!L241","v":" -"},{"$f":"'All hospitals'!M241","v":" -"},{"$f":"'All hospitals'!N241","v":" -"}]
[null,{"$f":"'All hospitals'!B242","v":"Goodooga Health Service "},{"$f":"'All hospitals'!C242","v":"Goodooga"},{"$f":"'All hospitals'!E242","v":"02 6829 5600"},{"$f":"'All hospitals'!F242","v":" - "},{"$f":"'All hospitals'!K242","v":0},{"$f":"'All hospitals'!L242","v":" -"},{"$f":"'All hospitals'!M242","v":" -"},{"$f":"'All hospitals'!N242","v":" -"}]
[null,{"$f":"'All hospitals'!B243","v":"Grenfell Multi Purpose Service (Stock data TBC)"},{"$f":"'All hospitals'!C243","v":"Grenfell"},{"$f":"'All hospitals'!E243","v":"02 6349 1700"},{"$f":"'All hospitals'!F243","v":"02 6349 1700"},{"$f":"'All hospitals'!K243","v":0},{"$f":"'All hospitals'!L243","v":" -"},{"$f":"'All hospitals'!M243","v":" -"},{"$f":"'All hospitals'!N243","v":" -"}]
[null,{"$f":"'All hospitals'!B244","v":"Gulargambone NO STOCKS HELD"},{"$f":"'All hospitals'!C244","v":"Gulargambone"},{"$f":"'All hospitals'!E244","v":"02 6825 1201"},{"$f":"'All hospitals'!F244","v":"-"},{"$f":"'All hospitals'!K244","v":0},{"$f":"'All hospitals'!L244","v":" -"},{"$f":"'All hospitals'!M244","v":" -"},{"$f":"'All hospitals'!N244","v":" -"}]
[null,{"$f":"'All hospitals'!B245","v":"Gulgong Health Service "},{"$f":"'All hospitals'!C245","v":"Gulgong"},{"$f":"'All hospitals'!E245","v":"02 6374 3400"},{"$f":"'All hospitals'!F245","v":"02 6374 1200"},{"$f":"'All hospitals'!K245","v":0},{"$f":"'All hospitals'!L245","v":" -"},{"$f":"'All hospitals'!M245","v":" -"},{"$f":"'All hospitals'!N245","v":" -"}]
[null,{"$f":"'All hospitals'!B246","v":"Lightning Ridge Multi Purpose Service "},{"$f":"'All hospitals'!C246","v":"Lightning Ridge"},{"$f":"'All hospitals'!E246","v":"02 6820 5700"},{"$f":"'All hospitals'!F246","v":"02 6820 5700"},{"$f":"'All hospitals'!K246","v":0},{"$f":"'All hospitals'!L246","v":" -"},{"$f":"'All hospitals'!M246","v":" -"},{"$f":"'All hospitals'!N246","v":" -"}]
[null,{"$f":"'All hospitals'!B247","v":"Molong Hospital (Stock data TBC)"},{"$f":"'All hospitals'!C247","v":"Molong"},{"$f":"'All hospitals'!E247","v":"02 6392 3300"},{"$f":"'All hospitals'!F247","v":" -"},{"$f":"'All hospitals'!K247","v":0},{"$f":"'All hospitals'!L247","v":" -"},{"$f":"'All hospitals'!M247","v":" -"},{"$f":"'All hospitals'!N247","v":" -"}]
[null,{"$f":"'All hospitals'!B248","v":"Mudgee Hospital "},{"$f":"'All hospitals'!C248","v":"Mudgee"},{"$f":"'All hospitals'!E248","v":"02 6371 9751"},{"$f":"'All hospitals'!F248","v":"02 6371 9700"},{"$f":"'All hospitals'!K248","v":1},{"$f":"'All hospitals'!L248","v":"Pharmacy"},{"$f":"'All hospitals'!M248","v":" -"},{"$f":"'All hospitals'!N248","v":" -"}]
[null,{"$f":"'All hospitals'!B249","v":"Narromine Health Service "},{"$f":"'All hospitals'!C249","v":"Narromine"},{"$f":"'All hospitals'!E249","v":"02 6889 9600"},{"$f":"'All hospitals'!F249","v":"02 6889 9600"},{"$f":"'All hospitals'!K249","v":0},{"$f":"'All hospitals'!L249","v":" -"},{"$f":"'All hospitals'!M249","v":" -"},{"$f":"'All hospitals'!N249","v":" -"}]
[null,{"$f":"'All hospitals'!B250","v":"Nyngan Multi Purpose Service (Stock data TBC)"},{"$f":"'All hospitals'!C250","v":"Nyngan"},{"$f":"'All hospitals'!E250","v":"02 6832 1707"},{"$f":"'All hospitals'!F250","v":"02 6835 1700"},{"$f":"'All hospitals'!K250","v":0},{"$f":"'All hospitals'!L250","v":" -"},{"$f":"'All hospitals'!M250","v":" -"},{"$f":"'All hospitals'!N250","v":" -"}]
[null,{"$f":"'All hospitals'!B251","v":"Oberon Multi Purpose Service"},{"$f":"'All hospitals'!C251","v":"Oberon"},{"$f":"'All hospitals'!E251","v":"02 6336 7200"},{"$f":"'All hospitals'!F251","v":"02 6336 7200"},{"$f":"'All hospitals'!K251","v":0},{"$f":"'All hospitals'!L251","v":" -"},{"$f":"'All hospitals'!M251","v":" -"},{"$f":"'All hospitals'!N251","v":" -"}]
[null,{"$f":"'All hospitals'!B252","v":"Orange Health Service "},{"$f":"'All hospitals'!C252","v":"Orange"},{"$f":"'All hospitals'!E252","v":"02 6369 3740"},{"$f":"'All hospitals'!F252","v":"02 6369 3222"},{"$f":"'All hospitals'!K252","v":1},{"$f":"'All hospitals'!L252","v":"ED "},{"$f":"'All hospitals'!M252","v":"1 + 2"},{"$f":"'All hospitals'!N252","v":"Pharmacy + After Hours Cupboard"}]
[null,{"$f":"'All hospitals'!B253","v":"Parkes District Hospital "},{"$f":"'All hospitals'!C253","v":"Parkes"},{"$f":"'All hospitals'!E253","v":"02 6861 2400"},{"$f":"'All hospitals'!F253","v":"02 6861 2440"},{"$f":"'All hospitals'!K253","v":2},{"$f":"'All hospitals'!L253","v":"ED"},{"$f":"'All hospitals'!M253","v":" -"},{"$f":"'All hospitals'!N253","v":" -"}]
[null,{"$f":"'All hospitals'!B254","v":"Peak Hill Multi Purpose Service "},{"$f":"'All hospitals'!C254","v":"Peak Hill"},{"$f":"'All hospitals'!E254","v":"02 6869 5200"},{"$f":"'All hospitals'!F254","v":"02 6869 5200"},{"$f":"'All hospitals'!K254","v":1},{"$f":"'All hospitals'!L254","v":"Fridge TBC "},{"$f":"'All hospitals'!M254","v":" -"},{"$f":"'All hospitals'!N254","v":" -"}]
[null,{"$f":"'All hospitals'!B255","v":"Rylstone Multi Purpose Service "},{"$f":"'All hospitals'!C255","v":"Rylstone"},{"$f":"'All hospitals'!E255","v":"02 6357 6100"},{"$f":"'All hospitals'!F255","v":"02 6357 6100"},{"$f":"'All hospitals'!K255","v":1},{"$f":"'All hospitals'!L255","v":"ED fridge"},{"$f":"'All hospitals'!M255","v":" -"},{"$f":"'All hospitals'!N255","v":" -"}]
[null,{"$f":"'All hospitals'!B256","v":"Tottenham Multi Purpose Service "},{"$f":"'All hospitals'!C256","v":"Tottenham"},{"$f":"'All hospitals'!E256","v":"02 6891  6200"},{"$f":"'All hospitals'!F256","v":"02 6891  6200"},{"$f":"'All hospitals'!K256","v":1},{"$f":"'All hospitals'!L256","v":"Drug room vaccination fridge - TBC "},{"$f":"'All hospitals'!M256","v":" -"},{"$f":"'All hospitals'!N256","v":" -"}]
[null,{"$f":"'All hospitals'!B257","v":"Trangie Multi Purpose Service (Stock data TBC)"},{"$f":"'All hospitals'!C257","v":"Trangie"},{"$f":"'All hospitals'!E257","v":" -"},{"$f":"'All hospitals'!F257","v":"02 6880 8200"},{"$f":"'All hospitals'!K257","v":0},{"$f":"'All hospitals'!L257","v":" -"},{"$f":"'All hospitals'!M257","v":" -"},{"$f":"'All hospitals'!N257","v":" -"}]
[null,{"$f":"'All hospitals'!B258","v":"Trundle Multi Purpose Service "},{"$f":"'All hospitals'!C258","v":"Trundle"},{"$f":"'All hospitals'!E258","v":"02 6892 1900"},{"$f":"'All hospitals'!F258","v":"02 6892 1900"},{"$f":"'All hospitals'!K258","v":0},{"$f":"'All hospitals'!L258","v":" -"},{"$f":"'All hospitals'!M258","v":" -"},{"$f":"'All hospitals'!N258","v":" -"}]
[null,{"$f":"'All hospitals'!B259","v":"Tullamore Multi Purpose Service "},{"$f":"'All hospitals'!C259","v":"Tullamore"},{"$f":"'All hospitals'!E259","v":"02 6892 6400"},{"$f":"'All hospitals'!F259","v":"02 6892 6400"},{"$f":"'All hospitals'!K259","v":1},{"$f":"'All hospitals'!L259","v":"Drug room vaccination fridge TBC "},{"$f":"'All hospitals'!M259","v":" -"},{"$f":"'All hospitals'!N259","v":" -"}]
[null,{"$f":"'All hospitals'!B260","v":"Walgett District Hospital "},{"$f":"'All hospitals'!C260","v":"Walgett"},{"$f":"'All hospitals'!E260","v":"02 6817 9400"},{"$f":"'All hospitals'!F260","v":"02 6817 9400"},{"$f":"'All hospitals'!K260","v":0},{"$f":"'All hospitals'!L260","v":" - "},{"$f":"'All hospitals'!M260","v":" -"},{"$f":"'All hospitals'!N260","v":" -"}]
[null,{"$f":"'All hospitals'!B261","v":"Wanaaring Health Service NO STOCKS HELD"},{"$f":"'All hospitals'!C261","v":"Wanaaring"},{"$f":"'All hospitals'!E261","v":"02 6874 7721"},{"$f":"'All hospitals'!F261","v":"02 6874 7721"},{"$f":"'All hospitals'!K261","v":0},{"$f":"'All hospitals'!L261","v":" -"},{"$f":"'All hospitals'!M261","v":" -"},{"$f":"'All hospitals'!N261","v":" -"}]
[null,{"$f":"'All hospitals'!B262","v":"Warren Multi Purpose Service (Stock data TBC)"},{"$f":"'All hospitals'!C262","v":"Warren"},{"$f":"'All hospitals'!E262","v":"02 6847 4303"},{"$f":"'All hospitals'!F262","v":"02 6847 5400"},{"$f":"'All hospitals'!K262","v":0},{"$f":"'All hospitals'!L262","v":" -"},{"$f":"'All hospitals'!M262","v":" -"},{"$f":"'All hospitals'!N262","v":" -"}]
[null,{"$f":"'All hospitals'!B263","v":"Wellington Health Service"},{"$f":"'All hospitals'!C263","v":"Wellington"},{"$f":"'All hospitals'!E263","v":"02 6840 7200"},{"$f":"'All hospitals'!F263","v":"02 6840 8200"},{"$f":"'All hospitals'!K263","v":0},{"$f":"'All hospitals'!L263","v":" -"},{"$f":"'All hospitals'!M263","v":" -"},{"$f":"'All hospitals'!N263","v":" -"},null,"Back to Index","Back to 'All hospitals' tab"]
[null,{"$f":"'All hospitals'!B264","v":"-"},{"$f":"'All hospitals'!C264","v":"-"},{"$f":"'All hospitals'!E264","v":"-"},{"$f":"'All hospitals'!F264","v":"-"},{"$f":"'All hospitals'!K264","v":"-"},{"$f":"'All hospitals'!L264","v":"-"},{"$f":"'All hospitals'!M264","v":"-"},{"$f":"'All hospitals'!N264","v":"-"}]
[null,{"$f":"'All hospitals'!B265","v":"WESTERN SYDNEY LHD & OTHER"}]
[null,{"$f":"'All hospitals'!B266","v":"Auburn Hospital"},{"$f":"'All hospitals'!C266","v":"Auburn"},{"$f":"'All hospitals'!E266","v":"02 8759 3302"},{"$f":"'All hospitals'!F266","v":"02 8759 3000"},{"$f":"'All hospitals'!K266","v":1},{"$f":"'All hospitals'!L266","v":"After Hours Medication Room"},{"$f":"'All hospitals'!M266","v":" -"},{"$f":"'All hospitals'!N266","v":" -"}]
[null,{"$f":"'All hospitals'!B267","v":"Blacktown Hospital "},{"$f":"'All hospitals'!C267","v":"Blacktown"},{"$f":"'All hospitals'!E267","v":"02 9881 8142"},{"$f":"'All hospitals'!F267","v":"02 9881 8000 (afterhours nurse manager via switch)"},{"$f":"'All hospitals'!K267","v":2},{"$f":"'All hospitals'!L267","v":"ED Resus Fridge"},{"$f":"'All hospitals'!M267","v":" -"},{"$f":"'All hospitals'!N267","v":" -"}]
[null,{"$f":"'All hospitals'!B268","v":"Mount Druitt Hospital "},{"$f":"'All hospitals'!C268","v":"Mount Druitt NSW"},{"$f":"'All hospitals'!E268","v":"02 9881 1581"},{"$f":"'All hospitals'!F268","v":"02 9881 1555  (afterhours nurse manager via switch)"},{"$f":"'All hospitals'!K268","v":2},{"$f":"'All hospitals'!L268","v":"ED Resus Fridge"},{"$f":"'All hospitals'!M268","v":" -"},{"$f":"'All hospitals'!N268","v":" -"}]
[null,{"$f":"'All hospitals'!B269","v":"Westmead Hospital "},{"$f":"'All hospitals'!C269","v":"Westmead"},{"$f":"'All hospitals'!E269","v":"02 8890 5555"},{"$f":"'All hospitals'!F269","v":"02 8890 5555 (on call pharmacist via switch)"},{"$f":"'All hospitals'!K269","v":4},{"$f":"'All hospitals'!L269","v":"ED"},{"$f":"'All hospitals'!M269","v":2},{"$f":"'All hospitals'!N269","v":"Pharmacy Store"}]
[null,{"$f":"'All hospitals'!B270","v":"-"},{"$f":"'All hospitals'!C270","v":"-"},{"$f":"'All hospitals'!E270","v":"-"},{"$f":"'All hospitals'!F270","v":"-"},{"$f":"'All hospitals'!K270","v":"-"},{"$f":"'All hospitals'!L270","v":"-"},{"$f":"'All hospitals'!M270","v":"-"},{"$f":"'All hospitals'!N270","v":"-"}]
[null,{"$f":"'All hospitals'!B271","v":"PRIVATE HOSPITALS & OTHER"}]
[null,{"$f":"'All hospitals'!B272","v":"Macquarie University Hospital NO STOCKS HELD"},{"$f":"'All hospitals'!C272","v":"North Ryde"},{"$f":"'All hospitals'!E272","v":"02 98875500"},{"$f":"'All hospitals'!F272","v":"NA"},{"$f":"'All hospitals'!K272","v":0},{"$f":"'All hospitals'!L272","v":"-"},{"$f":"'All hospitals'!M272","v":0},{"$f":"'All hospitals'!N272","v":"-"}]
[null,{"$f":"'All hospitals'!B273","v":"Norwest Private Hospital (Stock data TBC)"},{"$f":"'All hospitals'!C273","v":"Bella Vista"},{"$f":"'All hospitals'!E273","v":"02 8882 8555"},{"$f":"'All hospitals'!F273","v":"02 8882 8555"},{"$f":"'All hospitals'!K273","v":1},{"$f":"'All hospitals'!L273","v":"ED"},{"$f":"'All hospitals'!M273","v":"-"},{"$f":"'All hospitals'!N273","v":"-"}]

{"sheet":"Polyvalent","index":4,"n_rows":253,"n_cols":12,"rows_kept":253,"cut":false,"hidden":false,"merged":[[196,1,196,3],[201,1,201,3],[244,1,244,3],[157,1,157,3],[165,1,165,3],[173,1,173,3],[187,1,187,3],[190,1,190,3],[86,1,86,3],[95,1,95,3],[128,1,128,3],[134,1,134,3],[148,1,148,3],[14,1,14,3],[18,1,18,3],[22,1,22,3],[34,1,34,3],[74,1,74,3],[10,1,10,3],[3,1,3,8],[0,1,0,8],[2,1,2,8],[4,1,4,8],[6,1,6,4],[6,5,7,8],[7,1,9,1],[7,2,9,2],[7,3,9,3],[7,4,9,4],[8,5,9,5],[8,6,9,6],[8,7,9,7],[8,8,9,8]]}
[null,{"$f":"'All hospitals'!$B$1","v":"Last modified: 14/01/2021"}]
[]
[null,{"$f":"'All hospitals'!$O$28","v":"POLYVALENT"}]
[null,"IMMEDIATELY AVAILABLE ANTIVENOM"]
[null,{"$f":"'All hospitals'!$O$29","v":" Only one (1) vial of snake antivenom is required to treat both children and adults for all terrestrial snake envenomings."},null,null,null,null,null,null,null,null,"Back to Index","Back to 'All hospitals' tab"]
[]
[null,"HOSPITAL DETAILS",null,null,null,"AVAILABILITY"]
[null,"Hospital name:\n\"Stock data TBC\" indicates that the hospital has not provided an update to the stockholding data.                                            ","Town/city","Phone number (business hours)","Phone number (after hours)"]
[null,null,null,null,null,"Number of vials","Location 1","Number of vials","Location 2"]
[]
[null,{"$f":"'All hospitals'!B31","v":"ACT"},null,null,null,null,null,null,null,null,"Click to jump to LHD or network"]
[null,{"$f":"'All hospitals'!B32","v":"Calvary Public Hospital "},{"$f":"'All hospitals'!C32","v":"Canberra"},{"$f":"'All hospitals'!E32","v":"02 6201 6265 "},{"$f":"'All hospitals'!F32","v":"0413 611 319"},{"$f":"'All hospitals'!O32","v":1},{"$f":"'All hospitals'!P32","v":"After Hours Cupboard Fridge"},{"$f":"'All hospitals'!Q32","v":" -"},{"$f":"'All hospitals'!R32","v":" -"},null,"ACT"]
[null,{"$f":"'All hospitals'!B33","v":"The Canberra Hospital"},{"$f":"'All hospitals'!C33","v":"Canberra"},{"$f":"'All hospitals'!E33","v":"02 5124 0000"},{"$f":"'All hospitals'!F33","v":"0401 710 831"},{"$f":"'All hospitals'!O33","v":2},{"$f":"'All hospitals'!P33","v":"Pharmacy"},{"$f":"'All hospitals'!Q33","v":1},{"$f":"'All hospitals'!R33","v":"ED "},null,"ALBURY WODONGA HEALTH"]
[null,{"$f":"'All hospitals'!B34","v":"-"},{"$f":"'All hospitals'!C34","v":"-"},{"$f":"'All hospitals'!E34","v":"-"},null,{"$f":"'All hospitals'!O34","v":"-"},{"$f":"'All hospitals'!P34","v":"-"},{"$f":"'All hospitals'!Q34","v":"-"},{"$f":"'All hospitals'!R34","v":"-"},null,"CENTRAL COAST LHD"]
[null,{"$f":"'All hospitals'!B35","v":"ALBURY WODONGA HEALTH"},null,null,null,null,null,null,null,null,"FAR WEST LHD"]
[null,{"$f":"'All hospitals'!B36","v":"Albury Hospital"},{"$f":"'All hospitals'!C36","v":"Albury"},{"$f":"'All hospitals'!E36","v":"02 6058 4665"},{"$f":"'All hospitals'!F36","v":"02 6058 4444"},{"$f":"'All hospitals'!O36","v":1},{"$f":"'All hospitals'!P36","v":"ED - Trauma/Resus Room"},{"$f":"'All hospitals'!Q36","v":" -"},{"$f":"'All hospitals'!R36","v":" -"},null,"HUNTER NEW ENGLAND LHD"]
[null,{"$f":"'All hospitals'!B37","v":"Wodonga Hospital"},{"$f":"'All hospitals'!C37","v":"Wodonga"},{"$f":"'All hospitals'!E37","v":"02 6051 7485"},{"$f":"'All hospitals'!F37","v":"02 6051 7111"},{"$f":"'All hospitals'!O37","v":0},{"$f":"'All hospitals'!P37","v":" -"},{"$f":"'All hospitals'!Q37","v":" -"},{"$f":"'All hospitals'!R37","v":" -"},null,"ILLAWARRA SHOALHAVEN LHD"]
[null,{"$f":"'All hospitals'!B38","v":"-"},{"$f":"'All hospitals'!C38","v":"-"},{"$f":"'All hospitals'!E38","v":"-"},null,{"$f":"'All hospitals'!O38","v":"-"},{"$f":"'All hospitals'!P38","v":"-"},{"$f":"'All hospitals'!Q38","v":"-"},{"$f":"'All hospitals'!R38","v":"-"},null,"MID NORTH COAST LHD"]
[null,"CENTRAL COAST LHD",null,null,null,null,null,null,null,null,"MURRUMBIDGEE LHD"]
[null,{"$f":"'All hospitals'!B40","v":"Gosford Hospital"},{"$f":"'All hospitals'!C40","v":"Gosford "},{"$f":"'All hospitals'!E40","v":"02 4320 2111"},{"$f":"'All hospitals'!F40","v":"02 4320 2111 (page on-call pharmacist)"},{"$f":"'All hospitals'!O40","v":1},{"$f":"'All hospitals'!P40","v":"ED "},{"$f":"'All hospitals'!Q40","v":1},{"$f":"'All hospitals'!R40","v":"Pharmacy "},null,"NEPEAN BLUE MOUNTAINS LHD"]
[null,{"$f":"'All hospitals'!B41","v":"Wyong Hospital"},{"$f":"'All hospitals'!C41","v":"Wyong"},{"$f":"'All hospitals'!E41","v":"02 4394 7930"},{"$f":"'All hospitals'!F41","v":"02 4394 8000 (page on-call pharmacist)"},{"$f":"'All hospitals'!O41","v":1},{"$f":"'All hospitals'!P41","v":"ED "},{"$f":"'All hospitals'!Q41","v":1},{"$f":"'All hospitals'!R41","v":"Pharmacy "},null,"NORTHERN NSW LHD"]
[null,{"$f":"'All hospitals'!B42","v":"-"},{"$f":"'All hospitals'!C42","v":"-"},{"$f":"'All hospitals'!E42","v":"-"},null,{"$f":"'All hospitals'!O42","v":"-"},{"$f":"'All hospitals'!P42","v":"-"},{"$f":"'All hospitals'!Q42","v":"-"},{"$f":"'All hospitals'!R42","v":"-"},null,"NORTHERN SYDNEY LHD"]
[null,{"$f":"'All hospitals'!B43","v":"FAR WEST LHD"},null,null,null,null,null,null,null,null,"SOUTH EASTERN SYDNEY LHD"]
[null,{"$f":"'All hospitals'!B44","v":"Balranald Multi Purpose Service "},{"$f":"'All hospitals'!C44","v":"Balranald"},{"$f":"'All hospitals'!E44","v":"03 5071 9800"},{"$f":"'All hospitals'!F44","v":"03 5071 9800"},{"$f":"'All hospitals'!O44","v":0},{"$f":"'All hospitals'!P44","v":" -"},{"$f":"'All hospitals'!Q44","v":" -"},{"$f":"'All hospitals'!R44","v":" -"},null,"SOUTH WESTERN SYDNEY LHD"]
[null,{"$f":"'All hospitals'!B45","v":"Broken Hill Health Service"},{"$f":"'All hospitals'!C45","v":"Broken Hill"},{"$f":"'All hospitals'!E45","v":"08 8080 1466  "},{"$f":"'All hospitals'!F45","v":"08 8080 1333 "},{"$f":"'All hospitals'!O45","v":1},{"$f":"'All hospitals'!P45","v":"ED"},{"$f":"'All hospitals'!Q45","v":" - "},{"$f":"'All hospitals'!R45","v":" - "},null,"SOUTHERN NSW"]
[null,{"$f":"'All hospitals'!B46","v":"Dareton Primary Health Service (No ED services)"},{"$f":"'All hospitals'!C46","v":"Dareton"},{"$f":"'All hospitals'!E46","v":"03 5021 7200"},{"$f":"'All hospitals'!F46","v":"BH only"},{"$f":"'All hospitals'!O46","v":0},{"$f":"'All hospitals'!P46","v":" -"},{"$f":"'All hospitals'!Q46","v":" -"},{"$f":"'All hospitals'!R46","v":" -"},null,"ST VINCENT'S HEALTH"]
[null,{"$f":"'All hospitals'!B47","v":"Ivanhoe Health Service"},{"$f":"'All hospitals'!C47","v":"Ivanhoe"},{"$f":"'All hospitals'!E47","v":"02 6990 2200"},{"$f":"'All hospitals'!F47","v":"02 6990 2200"},{"$f":"'All hospitals'!O47","v":1},{"$f":"'All hospitals'!P47","v":"Medication Room"},{"$f":"'All hospitals'!Q47","v":" -"},{"$f":"'All hospitals'!R47","v":" -"},null,"SYDNEY LHD"]
[null,{"$f":"'All hospitals'!B48","v":"Menindee Health Service "},{"$f":"'All hospitals'!C48","v":"Menindee"},{"$f":"'All hospitals'!E48","v":"08 8091 4209"},{"$f":"'All hospitals'!F48","v":"08 8091 4209"},{"$f":"'All hospitals'!O48","v":0},{"$f":"'All hospitals'!P48","v":" -"},{"$f":"'All hospitals'!Q48","v":" -"},{"$f":"'All hospitals'!R48","v":" -"},null,"SYDNEY CHILDREN'S HOSPITALS NETWORK"]
[null,{"$f":"'All hospitals'!B49","v":"Royal Flying Doctor Service Broken Hill"},{"$f":"'All hospitals'!C49","v":"Broken Hill"},{"$f":"'All hospitals'!E49","v":"08 8080 3780"},{"$f":"'All hospitals'!F49","v":"0437 370 702"},{"$f":"'All hospitals'!O49","v":1},{"$f":"'All hospitals'!P49","v":"Medication Room"},{"$f":"'All hospitals'!Q49","v":" -"},{"$f":"'All hospitals'!R49","v":" -"},null,"WESTERN NSW LHD"]
[null,{"$f":"'All hospitals'!B50","v":"Tibooburra Health Service"},{"$f":"'All hospitals'!C50","v":"Tibooburra"},{"$f":"'All hospitals'!E50","v":"08 8091 3302 "},{"$f":"'All hospitals'!F50","v":"08 8091 3302"},{"$f":"'All hospitals'!O50","v":1},{"$f":"'All hospitals'!P50","v":"Medication Room"},{"$f":"'All hospitals'!Q50","v":" -"},{"$f":"'All hospitals'!R50","v":" -"},null,"WESTERN SYDNEY LHD & OTHER"]
[null,{"$f":"'All hospitals'!B51","v":"Wentworth District Hospital (No ED services)"},{"$f":"'All hospitals'!C51","v":"Wentworth"},{"$f":"'All hospitals'!E51","v":"03 5027 2345"},{"$f":"'All hospitals'!F51","v":"03 5027 2345"},{"$f":"'All hospitals'!O51","v":0},{"$f":"'All hospitals'!P51","v":" -"},{"$f":"'All hospitals'!Q51","v":" -"},{"$f":"'All hospitals'!R51","v":" -"},null,"PRIVATE HOSPITALS & OTHER"]
[null,{"$f":"'All hospitals'!B52","v":"White Cliffs Health Service"},{"$f":"'All hospitals'!C52","v":"White Cliffs"},{"$f":"'All hospitals'!E52","v":"08 8091 6605 "},{"$f":"'All hospitals'!F52","v":"08 80916605"},{"$f":"'All hospitals'!O52","v":1},{"$f":"'All hospitals'!P52","v":"Medication Room"},{"$f":"'All hospitals'!Q52","v":" -"},{"$f":"'All hospitals'!R52","v":" -"}]
[null,{"$f":"'All hospitals'!B53","v":"Wilcannia Multi Purpose Service"},{"$f":"'All hospitals'!C53","v":"Wilcannia"},{"$f":"'All hospitals'!E53","v":"08 8083 8777"},{"$f":"'All hospitals'!F53","v":"08 8083 8777"},{"$f":"'All hospitals'!O53","v":1},{"$f":"'All hospitals'!P53","v":"Medication Room"},{"$f":"'All hospitals'!Q53","v":" -"},{"$f":"'All hospitals'!R53","v":" -"}]
[null,{"$f":"'All hospitals'!B54","v":"-"},{"$f":"'All hospitals'!C54","v":"-"},{"$f":"'All hospitals'!D54","v":"-"},{"$f":"'All hospitals'!E54","v":"-"},{"$f":"'All hospitals'!O54","v":"-"},{"$f":"'All hospitals'!P54","v":"-"},{"$f":"'All hospitals'!Q54","v":"-"},{"$f":"'All hospitals'!R54","v":"-"}]
[null,{"$f":"'All hospitals'!B55","v":"HUNTER NEW ENGLAND LHD"}]
[null,{"$f":"'All hospitals'!B56","v":"Armidale Rural Referral Hospital"},{"$f":"'All hospitals'!C56","v":"Armidale"},{"$f":"'All hospitals'!E56","v":"02 6776 9500"},{"$f":"'All hospitals'!F56","v":"02 6776 9500     "},{"$f":"'All hospitals'!O56","v":1},{"$f":"'All hospitals'!P56","v":" -"},{"$f":"'All hospitals'!Q56","v":" -"},{"$f":"'All hospitals'!R56","v":" -"}]
[null,{"$f":"'All hospitals'!B57","v":"Barraba Multi Purpose Service"},{"$f":"'All hospitals'!C57","v":"Barraba"},{"$f":"'All hospitals'!E57","v":"02 6782 2500"},{"$f":"'All hospitals'!F57","v":"02 6782 2522"},{"$f":"'All hospitals'!O57","v":0},{"$f":"'All hospitals'!P57","v":" -"},{"$f":"'All hospitals'!Q57","v":" -"},{"$f":"'All hospitals'!R57","v":" -"}]
[null,{"$f":"'All hospitals'!B58","v":"Belmont Hospital "},{"$f":"'All hospitals'!C58","v":"Belmont"},{"$f":"'All hospitals'!E58","v":"02 4923 2249"},{"$f":"'All hospitals'!F58","v":"02 4923 2000"},{"$f":"'All hospitals'!O58","v":0},{"$f":"'All hospitals'!P58","v":" -"},{"$f":"'All hospitals'!Q58","v":" -"},{"$f":"'All hospitals'!R58","v":" -"}]
[null,{"$f":"'All hospitals'!B59","v":"Bingara Multi Purpose Service"},{"$f":"'All hospitals'!C59","v":"Bingara"},{"$f":"'All hospitals'!E59","v":"02 6728 0100"},{"$f":"'All hospitals'!F59","v":"02 6728 0100"},{"$f":"'All hospitals'!O59","v":0},{"$f":"'All hospitals'!P59","v":" -"},{"$f":"'All hospitals'!Q59","v":" -"},{"$f":"'All hospitals'!R59","v":" -"}]
[null,{"$f":"'All hospitals'!B60","v":"Boggabri Multi Purpose Service"},{"$f":"'All hospitals'!C60","v":"Boggabri"},{"$f":"'All hospitals'!E60","v":"02 6749 7000"},{"$f":"'All hospitals'!F60","v":"02 67497000"},{"$f":"'All hospitals'!O60","v":0},{"$f":"'All hospitals'!P60","v":" -"},{"$f":"'All hospitals'!Q60","v":" -"},{"$f":"'All hospitals'!R60","v":" -"}]
[null,{"$f":"'All hospitals'!B61","v":"Bulahdelah Hospital NO STOCKS HELD"},{"$f":"'All hospitals'!C61","v":"Bulahdelah"},{"$f":"'All hospitals'!E61","v":"02 4987 9900"},{"$f":"'All hospitals'!F61","v":"02 4987 9900"},{"$f":"'All hospitals'!O61","v":0},{"$f":"'All hospitals'!P61","v":" -"},{"$f":"'All hospitals'!Q61","v":" -"},{"$f":"'All hospitals'!R61","v":" -"}]
[null,{"$f":"'All hospitals'!B62","v":"Calvary Mater Hospital Newcastle "},{"$f":"'All hospitals'!C62","v":"Newcastle"},{"$f":"'All hospitals'!E62","v":"02 4921 1211"},{"$f":"'All hospitals'!F62","v":"02 4921 1211"},{"$f":"'All hospitals'!O62","v":1},{"$f":"'All hospitals'!P62","v":"ED"},{"$f":"'All hospitals'!Q62","v":1},{"$f":"'All hospitals'!R62","v":"Satellite Pharmacy"}]
[null,{"$f":"'All hospitals'!B63","v":"Cessnock District Hospital"},{"$f":"'All hospitals'!C63","v":"Cessnock"},{"$f":"'All hospitals'!E63","v":"02 4991 0555(hospital)\n02 4991 0456(pharmacy)"},{"$f":"'All hospitals'!F63","v":"0438 212 862"},{"$f":"'All hospitals'!O63","v":0},{"$f":"'All hospitals'!P63","v":" -"},{"$f":"'All hospitals'!Q63","v":" -"},{"$f":"'All hospitals'!R63","v":" -"}]
[null,{"$f":"'All hospitals'!B64","v":"Denman Multi Purpose Service (Stock data TBC)"},{"$f":"'All hospitals'!C64","v":"Denman"},{"$f":"'All hospitals'!E64","v":"02 6547 3999"},{"$f":"'All hospitals'!F64","v":"02 6547 3905 "},{"$f":"'All hospitals'!O64","v":0},{"$f":"'All hospitals'!P64","v":" -"},{"$f":"'All hospitals'!Q64","v":" -"},{"$f":"'All hospitals'!R64","v":" -"}]
[null,{"$f":"'All hospitals'!B65","v":"Dungog Community Hospital"},{"$f":"'All hospitals'!C65","v":"Dungog"},{"$f":"'All hospitals'!E65","v":"02 4939 2226"},{"$f":"'All hospitals'!F65","v":"02 4992 1266"},{"$f":"'All hospitals'!O65","v":0},{"$f":"'All hospitals'!P65","v":" -"},{"$f":"'All hospitals'!Q65","v":" -"},{"$f":"'All hospitals'!R65","v":" -"}]
[null,{"$f":"'All hospitals'!B66","v":"Glen Innes District Hospital "},{"$f":"'All hospitals'!C66","v":"Glen Innes"},{"$f":"'All hospitals'!E66","v":"02 6739 0200"},{"$f":"'All hospitals'!F66","v":"02 6739 0200"},{"$f":"'All hospitals'!O66","v":0},{"$f":"'All hospitals'!P66","v":" -"},{"$f":"'All hospitals'!Q66","v":" -"},{"$f":"'All hospitals'!R66","v":" -"}]
[null,{"$f":"'All hospitals'!B67","v":"Gloucester Soldiers Memorial Hospital (Stock data TBC)"},{"$f":"'All hospitals'!C67","v":"Gloucester"},{"$f":"'All hospitals'!E67","v":"02 6538 5000"},{"$f":"'All hospitals'!F67","v":"02 6538 5000"},{"$f":"'All hospitals'!O67","v":1},{"$f":"'All hospitals'!P67","v":"ED"},{"$f":"'All hospitals'!Q67","v":" -"},{"$f":"'All hospitals'!R67","v":" -"}]
[null,{"$f":"'All hospitals'!B68","v":"Gunnedah Hospital"},{"$f":"'All hospitals'!C68","v":"Gunnedah"},{"$f":"'All hospitals'!E68","v":"02 6741 8000"},{"$f":"'All hospitals'!F68","v":"02 6741 8031"},{"$f":"'All hospitals'!O68","v":0},{"$f":"'All hospitals'!P68","v":"-"},{"$f":"'All hospitals'!Q68","v":"-"},{"$f":"'All hospitals'!R68","v":"-"}]
[null,{"$f":"'All hospitals'!B69","v":"Guyra Multi Purpose Service "},{"$f":"'All hospitals'!C69","v":"Guyra"},{"$f":"'All hospitals'!E69","v":"02 6738 4000"},{"$f":"'All hospitals'!F69","v":"02 6738 4000"},{"$f":"'All hospitals'!O69","v":0},{"$f":"'All hospitals'!P69","v":" -"},{"$f":"'All hospitals'!Q69","v":" -"},{"$f":"'All hospitals'!R69","v":" -"}]
[null,{"$f":"'All hospitals'!B70","v":"Inverell Hospital "},{"$f":"'All hospitals'!C70","v":"Inverell"},{"$f":"'All hospitals'!E70","v":"02 6721 9500"},{"$f":"'All hospitals'!F70","v":"02 6721 9540"},{"$f":"'All hospitals'!O70","v":1},{"$f":"'All hospitals'!P70","v":"ED"},{"$f":"'All hospitals'!Q70","v":" -"},{"$f":"'All hospitals'!R70","v":" -"}]
[null,{"$f":"'All hospitals'!B71","v":"John Hunter Hospital "},{"$f":"'All hospitals'!C71","v":"Newcastle"},{"$f":"'All hospitals'!E71","v":"02 4921 3635"},{"$f":"'All hospitals'!F71","v":"0408 263 586"},{"$f":"'All hospitals'!O71","v":1},{"$f":"'All hospitals'!P71","v":"ED"},{"$f":"'All hospitals'!Q71","v":1},{"$f":"'All hospitals'!R71","v":"Primary Retrieval Team Pelican "}]
[null,{"$f":"'All hospitals'!B72","v":"Kurri Kurri Hospital"},{"$f":"'All hospitals'!C72","v":"Kurri Kurri"},{"$f":"'All hospitals'!E72","v":"02 4936 3234"},{"$f":"'All hospitals'!F72","v":"02 4936 3200"},{"$f":"'All hospitals'!O72","v":0},{"$f":"'All hospitals'!P72","v":" -"},{"$f":"'All hospitals'!Q72","v":" -"},{"$f":"'All hospitals'!R72","v":" -"}]
[null,{"$f":"'All hospitals'!B73","v":"Manning Base Hospital"},{"$f":"'All hospitals'!C73","v":"Taree"},{"$f":"'All hospitals'!E73","v":"02 6592 9244"},{"$f":"'All hospitals'!F73","v":"02 6592 9014"},{"$f":"'All hospitals'!O73","v":2},{"$f":"'All hospitals'!P73","v":"ED"},{"$f":"'All hospitals'!Q73","v":" -"},{"$f":"'All hospitals'!R73","v":" -"}]
[null,{"$f":"'All hospitals'!B74","v":"Manilla Hospital"},{"$f":"'All hospitals'!C74","v":"Manilla"},{"$f":"'All hospitals'!E74","v":"02 6785 4000"},{"$f":"'All hospitals'!F74","v":"02 6785 4000"},{"$f":"'All hospitals'!O74","v":0},{"$f":"'All hospitals'!P74","v":" -"},{"$f":"'All hospitals'!Q74","v":" -"},{"$f":"'All hospitals'!R74","v":" -"}]
[null,{"$f":"'All hospitals'!B75","v":"Merriwa Multi Purpose Service (Stock data TBC)"},{"$f":"'All hospitals'!C75","v":"Merriwa"},{"$f":"'All hospitals'!E75","v":"02 6532 5000"},{"$f":"'All hospitals'!F75","v":"02 6532 5000"},{"$f":"'All hospitals'!O75","v":0},{"$f":"'All hospitals'!P75","v":" -"},{"$f":"'All hospitals'!Q75","v":" -"},{"$f":"'All hospitals'!R75","v":" -"}]
[null,{"$f":"'All hospitals'!B76","v":"Moree Hospital "},{"$f":"'All hospitals'!C76","v":"Moree"},{"$f":"'All hospitals'!E76","v":"02 6757 0031"},{"$f":"'All hospitals'!F76","v":"02 6757 0031"},{"$f":"'All hospitals'!O76","v":1},{"$f":"'All hospitals'!P76","v":"ED"},{"$f":"'All hospitals'!Q76","v":"-"},{"$f":"'All hospitals'!R76","v":"-"}]
[null,{"$f":"'All hospitals'!B77","v":"Muswellbrook Hospital (Stock data TBC)"},{"$f":"'All hospitals'!C77","v":"Muswellbrook"},{"$f":"'All hospitals'!E77","v":"02 6542 2000"},{"$f":"'All hospitals'!F77","v":"02 6542 2000"},{"$f":"'All hospitals'!O77","v":0},{"$f":"'All hospitals'!P77","v":" -"},{"$f":"'All hospitals'!Q77","v":" -"},{"$f":"'All hospitals'!R77","v":" -"}]
[null,{"$f":"'All hospitals'!B78","v":"Narrabri Hospital"},{"$f":"'All hospitals'!C78","v":"Narrabri"},{"$f":"'All hospitals'!E78","v":"02 6799 2800"},{"$f":"'All hospitals'!F78","v":"02 6799 2105"},{"$f":"'All hospitals'!O78","v":0},{"$f":"'All hospitals'!P78","v":"-"},{"$f":"'All hospitals'!Q78","v":"-"},{"$f":"'All hospitals'!R78","v":"-"}]
[null,{"$f":"'All hospitals'!B79","v":"Quirindi Hospital"},{"$f":"'All hospitals'!C79","v":"Quirindi"},{"$f":"'All hospitals'!E79","v":"02 6746 0200"},{"$f":"'All hospitals'!F79","v":"02 6746 0200"},{"$f":"'All hospitals'!O79","v":0},{"$f":"'All hospitals'!P79","v":" -"},{"$f":"'All hospitals'!Q79","v":" -"},{"$f":"'All hospitals'!R79","v":" -"}]
[null,{"$f":"'All hospitals'!B80","v":"Scott Memorial Hospital (Stock data TBC)"},{"$f":"'All hospitals'!C80","v":"Scone"},{"$f":"'All hospitals'!E80","v":"02 6540 2100"},{"$f":"'All hospitals'!F80","v":"02 6540 2100"},{"$f":"'All hospitals'!O80","v":1},{"$f":"'All hospitals'!P80","v":"ED"},{"$f":"'All hospitals'!Q80","v":" -"},{"$f":"'All hospitals'!R80","v":" -"}]
[null,{"$f":"'All hospitals'!B81","v":"Singleton District Hospital (Stock data TBC)"},{"$f":"'All hospitals'!C81","v":"Singleton"},{"$f":"'All hospitals'!E81","v":"02 6571 9222"},{"$f":"'All hospitals'!F81","v":"02 6571 9222"},{"$f":"'All hospitals'!O81","v":0},{"$f":"'All hospitals'!P81","v":" -"},{"$f":"'All hospitals'!Q81","v":" -"},{"$f":"'All hospitals'!R81","v":" -"}]
[null,{"$f":"'All hospitals'!B82","v":"Tamworth Rural Referral Hospital "},{"$f":"'All hospitals'!C82","v":"Tamworth"},{"$f":"'All hospitals'!E82","v":"02 6727 7370 "},{"$f":"'All hospitals'!F82","v":"02 6767 7700"},{"$f":"'All hospitals'!O82","v":1},{"$f":"'All hospitals'!P82","v":"ED Resus  "},{"$f":"'All hospitals'!Q82","v":1},{"$f":"'All hospitals'!R82","v":"Pharmacy"}]
[null,{"$f":"'All hospitals'!B83","v":"Tenterfield/Prince Albert Hospital "},{"$f":"'All hospitals'!C83","v":"Tenterfield"},{"$f":"'All hospitals'!E83","v":"02 6739 5200"},{"$f":"'All hospitals'!F83","v":"02 6739 5200"},{"$f":"'All hospitals'!O83","v":1},{"$f":"'All hospitals'!P83","v":" -"},{"$f":"'All hospitals'!Q83","v":" -"},{"$f":"'All hospitals'!R83","v":" -"}]
[null,{"$f":"'All hospitals'!B84","v":"The Maitland Hospital"},{"$f":"'All hospitals'!C84","v":"Maitland"},{"$f":"'All hospitals'!E84","v":"02 4939 2226"},{"$f":"'All hospitals'!F84","v":"02 4939 2000"},{"$f":"'All hospitals'!O84","v":0},{"$f":"'All hospitals'!P84","v":" -"},{"$f":"'All hospitals'!Q84","v":" -"},{"$f":"'All hospitals'!R84","v":" -"}]
[null,{"$f":"'All hospitals'!B85","v":"Tingha Multi Purpose Service NO STOCKS HELD"},{"$f":"'All hospitals'!C85","v":"Tingha"},{"$f":"'All hospitals'!E85","v":"02 6723 3900"},{"$f":"'All hospitals'!F85","v":"02 6723 9000"},{"$f":"'All hospitals'!O85","v":0},{"$f":"'All hospitals'!P85","v":" -"},{"$f":"'All hospitals'!Q85","v":" -"},{"$f":"'All hospitals'!R85","v":" -"}]
[null,{"$f":"'All hospitals'!B86","v":"Tomaree Community Hospital (Stock data TBC)"},{"$f":"'All hospitals'!C86","v":"Tomaree"},{"$f":"'All hospitals'!E86","v":"02 4923 2249"},{"$f":"'All hospitals'!F86","v":"02 4923 2000"},{"$f":"'All hospitals'!O86","v":0},{"$f":"'All hospitals'!P86","v":" -"},{"$f":"'All hospitals'!Q86","v":" -"},{"$f":"'All hospitals'!R86","v":" -"}]
[null,{"$f":"'All hospitals'!B87","v":"Vegetable Creek Multipurpose Service"},{"$f":"'All hospitals'!C87","v":"Emmaville"},{"$f":"'All hospitals'!E87","v":"02 6734  7900"},{"$f":"'All hospitals'!F87","v":"02 6734 7900"},{"$f":"'All hospitals'!O87","v":0},{"$f":"'All hospitals'!P87","v":" -"},{"$f":"'All hospitals'!Q87","v":" -"},{"$f":"'All hospitals'!R87","v":" -"}]
[null,{"$f":"'All hospitals'!B88","v":"Walcha Multi Purpose Service "},{"$f":"'All hospitals'!C88","v":"Walcha"},{"$f":"'All hospitals'!E88","v":"02 6777 4200"},{"$f":"'All hospitals'!F88","v":"02 6777 4200"},{"$f":"'All hospitals'!O88","v":0},{"$f":"'All hospitals'!P88","v":" -"},{"$f":"'All hospitals'!Q88","v":" -"},{"$f":"'All hospitals'!R88","v":" -"}]
[null,{"$f":"'All hospitals'!B89","v":"Warialda Multi Purpose Service "},{"$f":"'All hospitals'!C89","v":"Warialda"},{"$f":"'All hospitals'!E89","v":"02 6728 9000"},{"$f":"'All hospitals'!F89","v":"0428 753 175"},{"$f":"'All hospitals'!O89","v":0},{"$f":"'All hospitals'!P89","v":"-"},{"$f":"'All hospitals'!Q89","v":"-"},{"$f":"'All hospitals'!R89","v":"-"}]
[null,{"$f":"'All hospitals'!B90","v":"Wee Waa Community Hospital"},{"$f":"'All hospitals'!C90","v":"Wee Waa"},{"$f":"'All hospitals'!E90","v":"02 6795 0400"},{"$f":"'All hospitals'!F90","v":"02 6795 0400"},{"$f":"'All hospitals'!O90","v":0},{"$f":"'All hospitals'!P90","v":"-"},{"$f":"'All hospitals'!Q90","v":"-"},{"$f":"'All hospitals'!R90","v":"-"}]
[null,{"$f":"'All hospitals'!B91","v":"Werris Creek Multi Purpose Service NO STOCKS HELD"},{"$f":"'All hospitals'!C91","v":"Werris Creek"},{"$f":"'All hospitals'!E91","v":"02 6768 6600"},{"$f":"'All hospitals'!F91","v":"02 6768 6600"},{"$f":"'All hospitals'!O91","v":0},{"$f":"'All hospitals'!P91","v":" -"},{"$f":"'All hospitals'!Q91","v":" -"},{"$f":"'All hospitals'!R91","v":" -"}]
[null,{"$f":"'All hospitals'!B92","v":"Westpac Rescue Helicopter Service"},{"$f":"'All hospitals'!C92","v":"Belmont Helicopter Base"},{"$f":"'All hospitals'!E92","v":"02 4952 0000"},{"$f":"'All hospitals'!F92","v":"02 4952 0055"},{"$f":"'All hospitals'!O92","v":1},{"$f":"'All hospitals'!P92","v":"Primary retrieval team Pelican"},{"$f":"'All hospitals'!Q92","v":" -"},{"$f":"'All hospitals'!R92","v":" -"}]
[null,{"$f":"'All hospitals'!B93","v":"Wilson Memorial Hospital - Murrurundi (Stock data TBC)"},{"$f":"'All hospitals'!C93","v":"Murrurundi"},{"$f":"'All hospitals'!E93","v":"02 6546 9000"},{"$f":"'All hospitals'!F93","v":"02 6546 9000"},{"$f":"'All hospitals'!O93","v":0},{"$f":"'All hospitals'!P93","v":" -"},{"$f":"'All hospitals'!Q93","v":" -"},{"$f":"'All hospitals'!R93","v":" -"}]
[null,{"$f":"'All hospitals'!B94","v":"-"},{"$f":"'All hospitals'!C94","v":"-"},{"$f":"'All hospitals'!E94","v":"-"},null,{"$f":"'All hospitals'!O94","v":"-"},{"$f":"'All hospitals'!P94","v":"-"},{"$f":"'All hospitals'!Q94","v":"-"},{"$f":"'All hospitals'!R94","v":"-"}]
[null,{"$f":"'All hospitals'!B95","v":"ILLAWARRA SHOALHAVEN LHD"}]
[null,{"$f":"'All hospitals'!B96","v":"Bulli Hospital NO STOCKS HELD"},{"$f":"'All hospitals'!C96","v":"Bulli"},{"$f":"'All hospitals'!E96","v":"02 4284 4344"},{"$f":"'All hospitals'!F96","v":"02 4222 5000 (request Wollongong Hospital on-call pharmacist)"},{"$f":"'All hospitals'!O96","v":0},{"$f":"'All hospitals'!P96","v":" -"},{"$f":"'All hospitals'!Q96","v":" -"},{"$f":"'All hospitals'!R96","v":" -"}]
[null,{"$f":"'All hospitals'!B97","v":"Coledale Hospital NO STOCKS HELD"},{"$f":"'All hospitals'!C97","v":"Thirroul"},{"$f":"'All hospitals'!E97","v":"02 4267 0111"},{"$f":"'All hospitals'!F97","v":"02 4222 5000 (request Wollongong Hospital on-call pharmacist)"},{"$f":"'All hospitals'!O97","v":" -"},{"$f":"'All hospitals'!P97","v":" -"},{"$f":"'All hospitals'!Q97","v":" -"},{"$f":"'All hospitals'!R97","v":" -"}]
[null,{"$f":"'All hospitals'!B98","v":"David Berry Hospital NO STOCKS HELD"},{"$f":"'All hospitals'!C98","v":"Berry"},{"$f":"'All hospitals'!E98","v":"02 4464 1001"},{"$f":"'All hospitals'!F98","v":" -"},{"$f":"'All hospitals'!O98","v":" -"},{"$f":"'All hospitals'!P98","v":" -"},{"$f":"'All hospitals'!Q98","v":" -"},{"$f":"'All hospitals'!R98","v":" -"}]
[null,{"$f":"'All hospitals'!B99","v":"Kiama Hospital & Community Health Service NO STOCKS HELD"},{"$f":"'All hospitals'!C99","v":"Kiama"},{"$f":"'All hospitals'!E99","v":"02 4233 1033"},{"$f":"'All hospitals'!F99","v":" -"},{"$f":"'All hospitals'!O99","v":" -"},{"$f":"'All hospitals'!P99","v":" -"},{"$f":"'All hospitals'!Q99","v":" -"},{"$f":"'All hospitals'!R99","v":" -"}]
[null,{"$f":"'All hospitals'!B100","v":"Milton Ulladulla Hospital"},{"$f":"'All hospitals'!C100","v":"Milton"},{"$f":"'All hospitals'!E100","v":"02 4454 9100"},{"$f":"'All hospitals'!F100","v":"02 4454 9133 (ED)"},{"$f":"'All hospitals'!O100","v":1},{"$f":"'All hospitals'!P100","v":"ED"},{"$f":"'All hospitals'!Q100","v":" -"},{"$f":"'All hospitals'!R100","v":" -"}]
[null,{"$f":"'All hospitals'!B274","v":0},{"$f":"'All hospitals'!C274","v":0},{"$f":"'All hospitals'!E274","v":0},{"$f":"'All hospitals'!F274","v":0},{"$f":"'All hospitals'!O274","v":0},{"$f":"'All hospitals'!P274","v":0},{"$f":"'All hospitals'!Q274","v":0},{"$f":"'All hospitals'!R274","v":0}]
[null,{"$f":"'All hospitals'!B102","v":"Port Kembla Hospital - NO STOCKS HELD"},{"$f":"'All hospitals'!C102","v":"Warrawong"},{"$f":"'All hospitals'!E102","v":"02 4223 8000"},{"$f":"'All hospitals'!F102","v":"02 4222 5000 (request Wollongong Hospital on-call pharmacist)"},{"$f":"'All hospitals'!O102","v":" -"},{"$f":"'All hospitals'!P102","v":" -"},{"$f":"'All hospitals'!Q102","v":" -"},{"$f":"'All hospitals'!R102","v":" -"}]
[null,{"$f":"'All hospitals'!B103","v":"Shellharbour Hospital"},{"$f":"'All hospitals'!C103","v":"Mt Warrigal"},{"$f":"'All hospitals'!E103","v":"02 4295 2516"},{"$f":"'All hospitals'!F103","v":"02 4295 2500 (switch) - ask to page ADON"},{"$f":"'All hospitals'!O103","v":1},{"$f":"'All hospitals'!P103","v":"After Hours Cupboard"},{"$f":"'All hospitals'!Q103","v":" -"},{"$f":"'All hospitals'!R103","v":" -"}]
[null,{"$f":"'All hospitals'!B104","v":"Shoalhaven Hospital "},{"$f":"'All hospitals'!C104","v":"Nowra"},{"$f":"'All hospitals'!E104","v":"02 4423 9734"},{"$f":"'All hospitals'!F104","v":"02 4423 9738/ 0427400177 (after hours patient flow manager)"},{"$f":"'All hospitals'!O104","v":1},{"$f":"'All hospitals'!P104","v":"ED"},{"$f":"'All hospitals'!Q104","v":" -"},{"$f":"'All hospitals'!R104","v":" -"}]
[null,{"$f":"'All hospitals'!B105","v":"Wollongong Hospital"},{"$f":"'All hospitals'!C105","v":"Wollongong "},{"$f":"'All hospitals'!E105","v":"02 4222 5340"},{"$f":"'All hospitals'!F105","v":"02 4222 5000"},{"$f":"'All hospitals'!O105","v":1},{"$f":"'All hospitals'!P105","v":"ED"},{"$f":"'All hospitals'!Q105","v":1},{"$f":"'All hospitals'!R105","v":"AHDC"}]
[null,{"$f":"'All hospitals'!B106","v":"-"},{"$f":"'All hospitals'!C106","v":"-"},{"$f":"'All hospitals'!E106","v":"-"},{"$f":"'All hospitals'!F106","v":"-"},{"$f":"'All hospitals'!O106","v":"-"},{"$f":"'All hospitals'!P106","v":"-"},{"$f":"'All hospitals'!Q106","v":"-"},{"$f":"'All hospitals'!R106","v":"-"}]
[null,{"$f":"'All hospitals'!B107","v":"MID NORTH COAST LHD"}]
[null,{"$f":"'All hospitals'!B108","v":"Bellingen River District Hospital "},{"$f":"'All hospitals'!C108","v":"Bellingen"},{"$f":"'All hospitals'!E108","v":"02 6659 5800"},{"$f":"'All hospitals'!F108","v":"02 6656 7324"},{"$f":"'All hospitals'!O108","v":2},{"$f":"'All hospitals'!P108","v":"ED"},{"$f":"'All hospitals'!Q108","v":" -"},{"$f":"'All hospitals'!R108","v":" -"}]
[null,{"$f":"'All hospitals'!B109","v":"Coffs Harbour Health Campus "},{"$f":"'All hospitals'!C109","v":"Coffs Harbour"},{"$f":"'All hospitals'!E109","v":"02 6656 7000"},{"$f":"'All hospitals'!F109","v":"02 6656 7324"},{"$f":"'All hospitals'!O109","v":3},{"$f":"'All hospitals'!P109","v":"ED Resus Fridge "},{"$f":"'All hospitals'!Q109","v":1},{"$f":"'All hospitals'!R109","v":"Pharmacy"}]
[null,{"$f":"'All hospitals'!B110","v":"Dorrigo Multi Purpose Service"},{"$f":"'All hospitals'!C110","v":"Dorrigo"},{"$f":"'All hospitals'!E110","v":"02 6692 7700"},{"$f":"'All hospitals'!F110","v":"02 6656 7324"},{"$f":"'All hospitals'!O110","v":2},{"$f":"'All hospitals'!P110","v":"General Ward"},{"$f":"'All hospitals'!Q110","v":" -"},{"$f":"'All hospitals'!R110","v":" -"}]
[null,{"$f":"'All hospitals'!B111","v":"Kempsey District Hospital"},{"$f":"'All hospitals'!C111","v":"Kempsey"},{"$f":"'All hospitals'!E111","v":"02 6561 2600"},{"$f":"'All hospitals'!F111","v":"02 5524 2000"},{"$f":"'All hospitals'!O111","v":1},{"$f":"'All hospitals'!P111","v":"ED Resus Fridge"},{"$f":"'All hospitals'!Q111","v":" -"},{"$f":"'All hospitals'!R111","v":" -"}]
[null,{"$f":"'All hospitals'!B112","v":"Macksville District Hospital "},{"$f":"'All hospitals'!C112","v":"Macksville"},{"$f":"'All hospitals'!E112","v":"02 6568 0666"},{"$f":"'All hospitals'!F112","v":"02 6656 7324"},{"$f":"'All hospitals'!O112","v":2},{"$f":"'All hospitals'!P112","v":"ED"},{"$f":"'All hospitals'!Q112","v":" -"},{"$f":"'All hospitals'!R112","v":" -"}]
[null,{"$f":"'All hospitals'!B113","v":"Port Macquarie Base Hospital"},{"$f":"'All hospitals'!C113","v":"Port Macquarie"},{"$f":"'All hospitals'!E113","v":"02 5524 2206"},{"$f":"'All hospitals'!F113","v":"02 5524 2000"},{"$f":"'All hospitals'!O113","v":2},{"$f":"'All hospitals'!P113","v":"After Hours Cupboard"},{"$f":"'All hospitals'!Q113","v":" -"},{"$f":"'All hospitals'!R113","v":" -"}]
[null,{"$f":"'All hospitals'!B114","v":"Wauchope Hospital (Stock data TBC)"},{"$f":"'All hospitals'!C114","v":"Wauchope"},{"$f":"'All hospitals'!E114","v":"02 5524 2206"},{"$f":"'All hospitals'!F114","v":"02 5524 2000"},{"$f":"'All hospitals'!O114","v":0},{"$f":"'All hospitals'!P114","v":" -"},{"$f":"'All hospitals'!Q114","v":" -"},{"$f":"'All hospitals'!R114","v":" -"}]
[null,{"$f":"'All hospitals'!B115","v":"-"},{"$f":"'All hospitals'!C115","v":"-"},{"$f":"'All hospitals'!E115","v":"-"},{"$f":"'All hospitals'!F115","v":"-"},{"$f":"'All hospitals'!O115","v":"-"},{"$f":"'All hospitals'!P115","v":"-"},{"$f":"'All hospitals'!Q115","v":"-"},{"$f":"'All hospitals'!R115","v":"-"}]
[null,{"$f":"'All hospitals'!B116","v":"MURRUMBIDGEE LHD"}]
[null,{"$f":"'All hospitals'!B117","v":"Barham Koondrook Health Service"},{"$f":"'All hospitals'!C117","v":"Barham"},{"$f":"'All hospitals'!E117","v":"03 5451 1000"},{"$f":"'All hospitals'!F117","v":"03 5451 1000"},{"$f":"'All hospitals'!O117","v":0},{"$f":"'All hospitals'!P117","v":" -"},{"$f":"'All hospitals'!Q117","v":" -"},{"$f":"'All hospitals'!R117","v":" -"}]
[null,{"$f":"'All hospitals'!B118","v":"Batlow Adelong Multi Purpose Service"},{"$f":"'All hospitals'!C118","v":"Batlow"},{"$f":"'All hospitals'!E118","v":"02 6941 4333"},{"$f":"'All hospitals'!F118","v":"02 6941 4333"},{"$f":"'All hospitals'!O118","v":0},{"$f":"'All hospitals'!P118","v":" -"},{"$f":"'All hospitals'!Q118","v":" -"},{"$f":"'All hospitals'!R118","v":" -"}]
[null,{"$f":"'All hospitals'!B119","v":"Berrigan Multi Purpose Service"},{"$f":"'All hospitals'!C119","v":"Berrigan"},{"$f":"'All hospitals'!E119","v":"03 5888 5300"},{"$f":"'All hospitals'!F119","v":"03 5888 5300"},{"$f":"'All hospitals'!O119","v":0},{"$f":"'All hospitals'!P119","v":" -"},{"$f":"'All hospitals'!Q119","v":" -"},{"$f":"'All hospitals'!R119","v":" -"}]
[null,{"$f":"'All hospitals'!B120","v":"Boorowa Multi Purpose Service Hospital"},{"$f":"'All hospitals'!C120","v":"Boorowa"},{"$f":"'All hospitals'!E120","v":"02 6380 2100"},{"$f":"'All hospitals'!F120","v":"02 6380 2100"},{"$f":"'All hospitals'!O120","v":0},{"$f":"'All hospitals'!P120","v":" -"},{"$f":"'All hospitals'!Q120","v":" -"},{"$f":"'All hospitals'!R120","v":" -"}]
[null,{"$f":"'All hospitals'!B121","v":"Coolamon-Ganmain Multi Purpose Service"},{"$f":"'All hospitals'!C121","v":"Coolamon"},{"$f":"'All hospitals'!E121","v":"02 6927 3303"},{"$f":"'All hospitals'!F121","v":"02 6927 3303"},{"$f":"'All hospitals'!O121","v":0},{"$f":"'All hospitals'!P121","v":" -"},{"$f":"'All hospitals'!Q121","v":" -"},{"$f":"'All hospitals'!R121","v":" -"}]
[null,{"$f":"'All hospitals'!B122","v":"Cootamundra District Hospital"},{"$f":"'All hospitals'!C122","v":"Cootamundra"},{"$f":"'All hospitals'!E122","v":"02 6942 0444"},{"$f":"'All hospitals'!F122","v":"02 6942 0444"},{"$f":"'All hospitals'!O122","v":0},{"$f":"'All hospitals'!P122","v":" -"},{"$f":"'All hospitals'!Q122","v":" -"},{"$f":"'All hospitals'!R122","v":" -"}]
[null,{"$f":"'All hospitals'!B123","v":"Corowa District Hospital"},{"$f":"'All hospitals'!C123","v":"Corowa"},{"$f":"'All hospitals'!E123","v":"02 6033 7555"},{"$f":"'All hospitals'!F123","v":"02 6033 7555"},{"$f":"'All hospitals'!O123","v":0},{"$f":"'All hospitals'!P123","v":" -"},{"$f":"'All hospitals'!Q123","v":" -"},{"$f":"'All hospitals'!R123","v":" -"}]
[null,{"$f":"'All hospitals'!B124","v":"Culcairn Multi Purpose Service"},{"$f":"'All hospitals'!C124","v":"Culcairn"},{"$f":"'All hospitals'!E124","v":"02 6029 8203"},{"$f":"'All hospitals'!F124","v":"02 6029 8203"},{"$f":"'All hospitals'!O124","v":0},{"$f":"'All hospitals'!P124","v":" -"},{"$f":"'All hospitals'!Q124","v":" -"},{"$f":"'All hospitals'!R124","v":" -"}]
[null,{"$f":"'All hospitals'!B125","v":"Deniliquin Hospital"},{"$f":"'All hospitals'!C125","v":"Deniliquin"},{"$f":"'All hospitals'!E125","v":"03 5882 2843"},{"$f":"'All hospitals'!F125","v":"03 5882 2834"},{"$f":"'All hospitals'!O125","v":1},{"$f":"'All hospitals'!P125","v":"ED Fridge"},{"$f":"'All hospitals'!Q125","v":" -"},{"$f":"'All hospitals'!R125","v":" -"}]
[null,{"$f":"'All hospitals'!B126","v":"Finley Hospital"},{"$f":"'All hospitals'!C126","v":"Finley"},{"$f":"'All hospitals'!E126","v":"03 5883 1133"},{"$f":"'All hospitals'!F126","v":"03 5883 1133"},{"$f":"'All hospitals'!O126","v":0},{"$f":"'All hospitals'!P126","v":" -"},{"$f":"'All hospitals'!Q126","v":" -"},{"$f":"'All hospitals'!R126","v":" -"}]
[null,{"$f":"'All hospitals'!B127","v":"Griffith Base Hospital"},{"$f":"'All hospitals'!C127","v":"Griffith NSW"},{"$f":"'All hospitals'!E127","v":"02 6969 5550"},{"$f":"'All hospitals'!F127","v":"02 6969 5600"},{"$f":"'All hospitals'!O127","v":1},{"$f":"'All hospitals'!P127","v":"ED Fridge"},{"$f":"'All hospitals'!Q127","v":1},{"$f":"'All hospitals'!R127","v":"Pharmacy Fridge"}]
[null,{"$f":"'All hospitals'!B128","v":"Gundagai Multi Purpose Service"},{"$f":"'All hospitals'!C128","v":"Gundagai"},{"$f":"'All hospitals'!E128","v":"02 6950 6300"},{"$f":"'All hospitals'!F128","v":"02 6950 6300"},{"$f":"'All hospitals'!O128","v":0},{"$f":"'All hospitals'!P128","v":" -"},{"$f":"'All hospitals'!Q128","v":" -"},{"$f":"'All hospitals'!R128","v":" -"}]
[null,{"$f":"'All hospitals'!B129","v":"Hay Hospital"},{"$f":"'All hospitals'!C129","v":"Hay"},{"$f":"'All hospitals'!E129","v":"02 6990 8700"},{"$f":"'All hospitals'!F129","v":"02 6990 8700"},{"$f":"'All hospitals'!O129","v":0},{"$f":"'All hospitals'!P129","v":" -"},{"$f":"'All hospitals'!Q129","v":" -"},{"$f":"'All hospitals'!R129","v":" -"}]
[null,{"$f":"'All hospitals'!B130","v":"Henty Multi Purpose Service"},{"$f":"'All hospitals'!C130","v":"Henty"},{"$f":"'All hospitals'!E130","v":"02 6929 4999"},{"$f":"'All hospitals'!F130","v":"02 6929 4999"},{"$f":"'All hospitals'!O130","v":0},{"$f":"'All hospitals'!P130","v":" -"},{"$f":"'All hospitals'!Q130","v":" -"},{"$f":"'All hospitals'!R130","v":" -"}]
[null,{"$f":"'All hospitals'!B131","v":"Hillston Multi Purpose Service"},{"$f":"'All hospitals'!C131","v":"Hillston, NSW"},{"$f":"'All hospitals'!E131","v":"02 6961 7200"},{"$f":"'All hospitals'!F131","v":"02 6961 7200"},{"$f":"'All hospitals'!O131","v":0},{"$f":"'All hospitals'!P131","v":" -"},{"$f":"'All hospitals'!Q131","v":" -"},{"$f":"'All hospitals'!R131","v":" -"}]
[null,{"$f":"'All hospitals'!B132","v":"Holbrook Hospital"},{"$f":"'All hospitals'!C132","v":"Holbrook"},{"$f":"'All hospitals'!E132","v":"02 6036 2522"},{"$f":"'All hospitals'!F132","v":"02 6036 2522"},{"$f":"'All hospitals'!O132","v":0},{"$f":"'All hospitals'!P132","v":" -"},{"$f":"'All hospitals'!Q132","v":" -"},{"$f":"'All hospitals'!R132","v":" -"}]
[null,{"$f":"'All hospitals'!B133","v":"Jerilderie Multi Purpose Service"},{"$f":"'All hospitals'!C133","v":"Jerilderie"},{"$f":"'All hospitals'!E133","v":"03 5886 1300"},{"$f":"'All hospitals'!F133","v":"03 5886 1300"},{"$f":"'All hospitals'!O133","v":0},{"$f":"'All hospitals'!P133","v":" -"},{"$f":"'All hospitals'!Q133","v":" -"},{"$f":"'All hospitals'!R133","v":" -"}]
[null,{"$f":"'All hospitals'!B134","v":"Junee Multi Purpose Service"},{"$f":"'All hospitals'!C134","v":"Junee"},{"$f":"'All hospitals'!E134","v":"02 6924 8200"},{"$f":"'All hospitals'!F134","v":"02 6924 8200"},{"$f":"'All hospitals'!O134","v":0},{"$f":"'All hospitals'!P134","v":" -"},{"$f":"'All hospitals'!Q134","v":" -"},{"$f":"'All hospitals'!R134","v":" -"}]
[null,{"$f":"'All hospitals'!B135","v":"Lake Cargelligo Multi Purpose Service"},{"$f":"'All hospitals'!C135","v":"Lake Cargelligo"},{"$f":"'All hospitals'!E135","v":"02 6898 0200"},{"$f":"'All hospitals'!F135","v":"02 6898 0200"},{"$f":"'All hospitals'!O135","v":1},{"$f":"'All hospitals'!P135","v":"Treatment Room Fridge"},{"$f":"'All hospitals'!Q135","v":" -"},{"$f":"'All hospitals'!R135","v":" -"}]
[null,{"$f":"'All hospitals'!B136","v":"Leeton District Hospital"},{"$f":"'All hospitals'!C136","v":"Leeton"},{"$f":"'All hospitals'!E136","v":"02 6953 1111"},{"$f":"'All hospitals'!F136","v":"02 6953 1111"},{"$f":"'All hospitals'!O136","v":0},{"$f":"'All hospitals'!P136","v":" -"},{"$f":"'All hospitals'!Q136","v":" -"},{"$f":"'All hospitals'!R136","v":" -"}]
[null,{"$f":"'All hospitals'!B137","v":"Lockhart Hospital"},{"$f":"'All hospitals'!C137","v":"Lockhart"},{"$f":"'All hospitals'!E137","v":"02 6930 7100"},{"$f":"'All hospitals'!F137","v":"02 6930 7100"},{"$f":"'All hospitals'!O137","v":0},{"$f":"'All hospitals'!P137","v":" -"},{"$f":"'All hospitals'!Q137","v":" -"},{"$f":"'All hospitals'!R137","v":" -"}]
[null,{"$f":"'All hospitals'!B138","v":"Murrumburrah-Harden Hospital"},{"$f":"'All hospitals'!C138","v":"Harden"},{"$f":"'All hospitals'!E138","v":"02 6386 2200"},{"$f":"'All hospitals'!F138","v":"02 6386 2200"},{"$f":"'All hospitals'!O138","v":0},{"$f":"'All hospitals'!P138","v":" -"},{"$f":"'All hospitals'!Q138","v":" -"},{"$f":"'All hospitals'!R138","v":" -"}]
[null,{"$f":"'All hospitals'!B139","v":"Narrandera District Hospital"},{"$f":"'All hospitals'!C139","v":"Narrandera"},{"$f":"'All hospitals'!E139","v":"02 6951 0200"},{"$f":"'All hospitals'!F139","v":"02 6951 0200"},{"$f":"'All hospitals'!O139","v":0},{"$f":"'All hospitals'!P139","v":" -"},{"$f":"'All hospitals'!Q139","v":" -"},{"$f":"'All hospitals'!R139","v":" -"}]
[null,{"$f":"'All hospitals'!B140","v":"Temora District Hospital "},{"$f":"'All hospitals'!C140","v":"Temora"},{"$f":"'All hospitals'!E140","v":"02 6980 0200"},{"$f":"'All hospitals'!F140","v":"02 6980 0200"},{"$f":"'All hospitals'!O140","v":0},{"$f":"'All hospitals'!P140","v":" -"},{"$f":"'All hospitals'!Q140","v":" -"},{"$f":"'All hospitals'!R140","v":" -"}]
[null,{"$f":"'All hospitals'!B141","v":"Tocumwal Hospital"},{"$f":"'All hospitals'!C141","v":"Tocumwal"},{"$f":"'All hospitals'!E141","v":"03 5874 2166"},{"$f":"'All hospitals'!F141","v":"03 5874 2166"},{"$f":"'All hospitals'!O141","v":0},{"$f":"'All hospitals'!P141","v":" -"},{"$f":"'All hospitals'!Q141","v":" -"},{"$f":"'All hospitals'!R141","v":" -"}]
[null,{"$f":"'All hospitals'!B142","v":"Tumbarumba Multi Purpose Service"},{"$f":"'All hospitals'!C142","v":"Tumbarumba"},{"$f":"'All hospitals'!E142","v":"02 6948 9600"},{"$f":"'All hospitals'!F142","v":"02 6948 9600"},{"$f":"'All hospitals'!O142","v":0},{"$f":"'All hospitals'!P142","v":" -"},{"$f":"'All hospitals'!Q142","v":" -"},{"$f":"'All hospitals'!R142","v":" -"}]
[null,{"$f":"'All hospitals'!B143","v":"Tumut District Hospital"},{"$f":"'All hospitals'!C143","v":"Tumut"},{"$f":"'All hospitals'!E143","v":"02 6947 0800"},{"$f":"'All hospitals'!F143","v":"02 6947 0800"},{"$f":"'All hospitals'!O143","v":0},{"$f":"'All hospitals'!P143","v":"-"},{"$f":"'All hospitals'!Q143","v":" -"},{"$f":"'All hospitals'!R143","v":" -"}]
[null,{"$f":"'All hospitals'!B144","v":"Urana Multi Purpose Service"},{"$f":"'All hospitals'!C144","v":"Urana"},{"$f":"'All hospitals'!E144","v":"02 6920 8106"},{"$f":"'All hospitals'!F144","v":"02 6920 8106"},{"$f":"'All hospitals'!O144","v":0},{"$f":"'All hospitals'!P144","v":" -"},{"$f":"'All hospitals'!Q144","v":" -"},{"$f":"'All hospitals'!R144","v":" -"}]
[null,{"$f":"'All hospitals'!B145","v":"Wagga Wagga Base Hospital "},{"$f":"'All hospitals'!C145","v":"Wagga Wagga"},{"$f":"'All hospitals'!E145","v":"02 5943 1000"},{"$f":"'All hospitals'!F145","v":"0429 306 566"},{"$f":"'All hospitals'!O145","v":2},{"$f":"'All hospitals'!P145","v":"After Hours Cupboard"},{"$f":"'All hospitals'!Q145","v":0},{"$f":"'All hospitals'!R145","v":"Pharmacy"}]
[null,{"$f":"'All hospitals'!B146","v":"Wyalong Hospital"},{"$f":"'All hospitals'!C146","v":"West Wyalong"},{"$f":"'All hospitals'!E146","v":"02 6979 0000"},{"$f":"'All hospitals'!F146","v":"02 6979 0000"},{"$f":"'All hospitals'!O146","v":0},{"$f":"'All hospitals'!P146","v":" -"},{"$f":"'All hospitals'!Q146","v":" -"},{"$f":"'All hospitals'!R146","v":" -"}]
[null,{"$f":"'All hospitals'!B147","v":"Young District Hospital"},{"$f":"'All hospitals'!C147","v":"Young"},{"$f":"'All hospitals'!E147","v":"02 6382 8888"},{"$f":"'All hospitals'!F147","v":"02 6382 8888"},{"$f":"'All hospitals'!O147","v":1},{"$f":"'All hospitals'!P147","v":"ED"},{"$f":"'All hospitals'!Q147","v":" -"},{"$f":"'All hospitals'!R147","v":" -"}]
[null,{"$f":"'All hospitals'!B148","v":"-"},{"$f":"'All hospitals'!C148","v":"-"},{"$f":"'All hospitals'!E148","v":"-"},{"$f":"'All hospitals'!F148","v":"-"},{"$f":"'All hospitals'!O148","v":"-"},{"$f":"'All hospitals'!P148","v":"-"},{"$f":"'All hospitals'!Q148","v":"-"},{"$f":"'All hospitals'!R148","v":"-"}]
[null,{"$f":"'All hospitals'!B149","v":"NEPEAN BLUE MOUNTAINS LHD & OTHER"}]
[null,{"$f":"'All hospitals'!B150","v":"Blue Mountains District Hospital "},{"$f":"'All hospitals'!C150","v":"Katoomba"},{"$f":"'All hospitals'!E150","v":"02 4784 6500"},{"$f":"'All hospitals'!F150","v":"0412 117 269"},{"$f":"'All hospitals'!O150","v":1},{"$f":"'All hospitals'!P150","v":"ED"},{"$f":"'All hospitals'!Q150","v":" -"},{"$f":"'All hospitals'!R150","v":" -"}]
[null,{"$f":"'All hospitals'!B151","v":"Hawkesbury District Health Service"},{"$f":"'All hospitals'!C151","v":"Windsor"},{"$f":"'All hospitals'!E151","v":"02 4560 5529"},{"$f":"'All hospitals'!F151","v":"02 4560 5555 (Ask for AHNM)"},{"$f":"'All hospitals'!O151","v":1},{"$f":"'All hospitals'!P151","v":"PHARMACY"},{"$f":"'All hospitals'!Q151","v":" -"},{"$f":"'All hospitals'!R151","v":" -"}]
[null,{"$f":"'All hospitals'!B152","v":"Lithgow Hospital"},{"$f":"'All hospitals'!C152","v":"Lithgow"},{"$f":"'All hospitals'!E152","v":"02 6350 2370"},{"$f":"'All hospitals'!F152","v":"02 6350 2300 (switch)"},{"$f":"'All hospitals'!O152","v":1},{"$f":"'All hospitals'!P152","v":"ED"},{"$f":"'All hospitals'!Q152","v":" -"},{"$f":"'All hospitals'!R152","v":" -"}]
[null,{"$f":"'All hospitals'!B153","v":"Nepean Hospital "},{"$f":"'All hospitals'!C153","v":"Penrith"},{"$f":"'All hospitals'!E153","v":"02 4734 2256"},{"$f":"'All hospitals'!F153","v":" 0412 235 766"},{"$f":"'All hospitals'!O153","v":2},{"$f":"'All hospitals'!P153","v":"ED-Resus"},{"$f":"'All hospitals'!Q153","v":2},{"$f":"'All hospitals'!R153","v":"Main Pharmacy"}]
[null,{"$f":"'All hospitals'!B154","v":"-"},{"$f":"'All hospitals'!C154","v":"-"},{"$f":"'All hospitals'!E154","v":"-"},{"$f":"'All hospitals'!F154","v":"-"},{"$f":"'All hospitals'!O154","v":"-"},{"$f":"'All hospitals'!P154","v":"-"},{"$f":"'All hospitals'!Q154","v":"-"},{"$f":"'All hospitals'!R154","v":"-"}]
[null,{"$f":"'All hospitals'!B155","v":"NORTHERN NSW LHD"}]
[null,{"$f":"'All hospitals'!B156","v":"Ballina Hospital "},{"$f":"'All hospitals'!C156","v":"Ballina"},{"$f":"'All hospitals'!E156","v":"02 6620 6400"},{"$f":"'All hospitals'!F156","v":"02 6620 6202"},{"$f":"'All hospitals'!O156","v":0},{"$f":"'All hospitals'!P156","v":" -"},{"$f":"'All hospitals'!Q156","v":" -"},{"$f":"'All hospitals'!R156","v":" -"}]
[null,{"$f":"'All hospitals'!B157","v":"Bonalbo Hospital "},{"$f":"'All hospitals'!C157","v":"Bonalbo"},{"$f":"'All hospitals'!E157","v":"02 6665 4100"},{"$f":"'All hospitals'!F157","v":"02 6665 4100"},{"$f":"'All hospitals'!O157","v":0},{"$f":"'All hospitals'!P157","v":" -"},{"$f":"'All hospitals'!Q157","v":" -"},{"$f":"'All hospitals'!R157","v":" -"}]
[null,{"$f":"'All hospitals'!B158","v":"Byron Central Hospital (Stock data TBC)"},{"$f":"'All hospitals'!C158","v":"Byron Bay"},{"$f":"'All hospitals'!E158","v":"02 6639 9400"},{"$f":"'All hospitals'!F158","v":"02 6639 9400"},{"$f":"'All hospitals'!O158","v":0},{"$f":"'All hospitals'!P158","v":" -"},{"$f":"'All hospitals'!Q158","v":" -"},{"$f":"'All hospitals'!R158","v":" -"}]
[null,{"$f":"'All hospitals'!B159","v":"Casino Hospital"},{"$f":"'All hospitals'!C159","v":"Casino"},{"$f":"'All hospitals'!E159","v":"02 6660 0642"},{"$f":"'All hospitals'!F159","v":"02 6660 0642"},{"$f":"'All hospitals'!O159","v":0},{"$f":"'All hospitals'!P159","v":" -"},{"$f":"'All hospitals'!Q159","v":" -"},{"$f":"'All hospitals'!R159","v":" -"}]
[null,{"$f":"'All hospitals'!B160","v":"Grafton Base Hospital (Stock data TBC)"},{"$f":"'All hospitals'!C160","v":"Grafton"},{"$f":"'All hospitals'!E160","v":"02 6640 2222"},{"$f":"'All hospitals'!F160","v":"02 6640 2299    "},{"$f":"'All hospitals'!O160","v":3},{"$f":"'All hospitals'!P160","v":"M ED + ED"},{"$f":"'All hospitals'!Q160","v":" -"},{"$f":"'All hospitals'!R160","v":" -"}]
[null,{"$f":"'All hospitals'!B161","v":"Kyogle Multi Purpose Service"},{"$f":"'All hospitals'!C161","v":"Kyogle"},{"$f":"'All hospitals'!E161","v":"02 6630 0400"},{"$f":"'All hospitals'!F161","v":"02 6630 0400"},{"$f":"'All hospitals'!O161","v":0},{"$f":"'All hospitals'!P161","v":" -"},{"$f":"'All hospitals'!Q161","v":" -"},{"$f":"'All hospitals'!R161","v":" -"}]
[null,{"$f":"'All hospitals'!B162","v":"Lismore Base Hospital "},{"$f":"'All hospitals'!C162","v":"Lismore"},{"$f":"'All hospitals'!E162","v":"02 6624 0200"},{"$f":"'All hospitals'!F162","v":"02 6624 0200"},{"$f":"'All hospitals'!O162","v":2},{"$f":"'All hospitals'!P162","v":"ED resus"},{"$f":"'All hospitals'!Q162","v":"-"},{"$f":"'All hospitals'!R162","v":"-"}]
[null,{"$f":"'All hospitals'!B163","v":"Maclean District Hospital (Stock data TBC)"},{"$f":"'All hospitals'!C163","v":"Maclean"},{"$f":"'All hospitals'!E163","v":"02 6640 0111"},{"$f":"'All hospitals'!F163","v":"02 6640 0111"},{"$f":"'All hospitals'!O163","v":1},{"$f":"'All hospitals'!P163","v":"ED"},{"$f":"'All hospitals'!Q163","v":" -"},{"$f":"'All hospitals'!R163","v":" -"}]
[null,{"$f":"'All hospitals'!B164","v":"Murwillumbah District Hospital (Stock data TBC)"},{"$f":"'All hospitals'!C164","v":"Murwillumbah"},{"$f":"'All hospitals'!E164","v":"02 6672 0237"},{"$f":"'All hospitals'!F164","v":"02 6672 0230"},{"$f":"'All hospitals'!O164","v":0},{"$f":"'All hospitals'!P164","v":" -"},{"$f":"'All hospitals'!Q164","v":" -"},{"$f":"'All hospitals'!R164","v":" -"}]
[null,{"$f":"'All hospitals'!B165","v":"Nimbin Multi Purpose Service"},{"$f":"'All hospitals'!C165","v":"Nimbin"},{"$f":"'All hospitals'!E165","v":"02 6689 1400"},{"$f":"'All hospitals'!F165","v":"02 6689 1400"},{"$f":"'All hospitals'!O165","v":0},{"$f":"'All hospitals'!P165","v":" -"},{"$f":"'All hospitals'!Q165","v":" -"},{"$f":"'All hospitals'!R165","v":" -"}]
[null,{"$f":"'All hospitals'!B166","v":"The Tweed Hospital"},{"$f":"'All hospitals'!C166","v":"Tweed Heads"},{"$f":"'All hospitals'!E166","v":"07 5506 7420"},{"$f":"'All hospitals'!F166","v":"07 5506 7667"},{"$f":"'All hospitals'!O166","v":2},{"$f":"'All hospitals'!P166","v":"ED Pyxis Fridge"},{"$f":"'All hospitals'!Q166","v":" -"},{"$f":"'All hospitals'!R166","v":" -"}]
[null,{"$f":"'All hospitals'!B167","v":"Urbenville Multi Purpose Service "},{"$f":"'All hospitals'!C167","v":"Urbenville"},{"$f":"'All hospitals'!E167","v":"02 66341600"},{"$f":"'All hospitals'!F167","v":"02 66341600"},{"$f":"'All hospitals'!O167","v":0},{"$f":"'All hospitals'!P167","v":" -"},{"$f":"'All hospitals'!Q167","v":" -"},{"$f":"'All hospitals'!R167","v":" -"}]
[null,{"$f":"'All hospitals'!B168","v":"-"},{"$f":"'All hospitals'!C168","v":"-"},{"$f":"'All hospitals'!E168","v":"-"},{"$f":"'All hospitals'!F168","v":"-"},{"$f":"'All hospitals'!O168","v":"-"},{"$f":"'All hospitals'!P168","v":"-"},{"$f":"'All hospitals'!Q168","v":"-"},{"$f":"'All hospitals'!R168","v":"-"}]
[null,{"$f":"'All hospitals'!B169","v":"NORTHERN SYDNEY LHD & OTHER"}]
[null,{"$f":"'All hospitals'!B170","v":"Hornsby Hospital"},{"$f":"'All hospitals'!C170","v":"Hornsby"},{"$f":"'All hospitals'!E170","v":"02 9485 6455"},{"$f":"'All hospitals'!F170","v":"02 9485 6600 (ED)"},{"$f":"'All hospitals'!O170","v":2},{"$f":"'All hospitals'!P170","v":"ED "},{"$f":"'All hospitals'!Q170","v":" -"},{"$f":"'All hospitals'!R170","v":" -"}]
[null,{"$f":"'All hospitals'!B172","v":"Manly Hospital (closed 30th Oct 2018 - See Northern Beaches Health Service)"},{"$f":"'All hospitals'!C172","v":"-"},{"$f":"'All hospitals'!E172","v":"-"},{"$f":"'All hospitals'!F172","v":" -"},{"$f":"'All hospitals'!O172","v":" -"},{"$f":"'All hospitals'!P172","v":" -"},{"$f":"'All hospitals'!Q172","v":" -"},{"$f":"'All hospitals'!R172","v":" -"}]
[null,{"$f":"'All hospitals'!B173","v":"Mona Vale Hospital (Subacute hospital overseen by Hornsby Hospital; some antivenoms available on imprest)"},{"$f":"'All hospitals'!C173","v":"Mona Vale "},{"$f":"'All hospitals'!E173","v":"02 9998 6040"},{"$f":"'All hospitals'!F173","v":"02 9998 6300"},{"$f":"'All hospitals'!O173","v":1},{"$f":"'All hospitals'!P173","v":"Urgent Care Centre"},{"$f":"'All hospitals'!Q173","v":" -"},{"$f":"'All hospitals'!R173","v":" -"}]
[null,{"$f":"'All hospitals'!B174","v":"Northern Beaches Health Service (replaces Manly Hospital) "},{"$f":"'All hospitals'!C174","v":"Frenchs Forest"},{"$f":"'All hospitals'!E174","v":"02 9105 5000"},{"$f":"'All hospitals'!F174","v":"0490 124 164"},{"$f":"'All hospitals'!O174","v":1},{"$f":"'All hospitals'!P174","v":"ED Fridge"},{"$f":"'All hospitals'!Q174","v":" -"},{"$f":"'All hospitals'!R174","v":" -"}]
[null,{"$f":"'All hospitals'!B175","v":"Royal North Shore Hospital"},{"$f":"'All hospitals'!C175","v":"St Leonards"},{"$f":"'All hospitals'!E175","v":"02 9463 1140"},{"$f":"'All hospitals'!F175","v":"02 9926 7111 On-call pharmacist via switchboard"},{"$f":"'All hospitals'!O175","v":2},{"$f":"'All hospitals'!P175","v":"ED Resus Room"},{"$f":"'All hospitals'!Q175","v":" -"},{"$f":"'All hospitals'!R175","v":" -"}]
[null,{"$f":"'All hospitals'!B176","v":"Ryde Hospital"},{"$f":"'All hospitals'!C176","v":"Eastwood"},{"$f":"'All hospitals'!E176","v":"02 9858 7888"},{"$f":"'All hospitals'!F176","v":"Oncall Pharmacist (0472 809 062) AHNM (0402 990 158)"},{"$f":"'All hospitals'!O176","v":1},{"$f":"'All hospitals'!P176","v":"ED"},{"$f":"'All hospitals'!Q176","v":" -"},{"$f":"'All hospitals'!R176","v":" -"}]
[null,{"$f":"'All hospitals'!B171","v":0},{"$f":"'All hospitals'!C171","v":0},{"$f":"'All hospitals'!E171","v":0},{"$f":"'All hospitals'!F171","v":0},{"$f":"'All hospitals'!O171","v":0},{"$f":"'All hospitals'!P171","v":0},{"$f":"'All hospitals'!Q171","v":0},{"$f":"'All hospitals'!R171","v":0}]
[null,{"$f":"'All hospitals'!B177","v":"-"},{"$f":"'All hospitals'!C177","v":"-"},{"$f":"'All hospitals'!E177","v":"-"},{"$f":"'All hospitals'!F177","v":"-"},{"$f":"'All hospitals'!O177","v":"-"},{"$f":"'All hospitals'!P177","v":"-"},{"$f":"'All hospitals'!Q177","v":"-"},{"$f":"'All hospitals'!R177","v":"-"}]
[null,{"$f":"'All hospitals'!B178","v":"SOUTH EASTERN SYDNEY LHD"}]
[null,{"$f":"'All hospitals'!B179","v":"Calvary Hospital  (Stock data TBC)"},{"$f":"'All hospitals'!C179","v":"Kogarah"},{"$f":"'All hospitals'!E179","v":"-"},{"$f":"'All hospitals'!F179","v":"-"},{"$f":"'All hospitals'!O179","v":"-"},{"$f":"'All hospitals'!P179","v":"-"},{"$f":"'All hospitals'!Q179","v":"-"},{"$f":"'All hospitals'!R179","v":"-"}]
[null,{"$f":"'All hospitals'!B180","v":"Prince of Wales Hospital "},{"$f":"'All hospitals'!C180","v":"Randwick, Sydney"},{"$f":"'All hospitals'!E180","v":"02 9382 2222"},{"$f":"'All hospitals'!F180","v":"oncall pharmacist via switchboard 02 9382 2222 "},{"$f":"'All hospitals'!O180","v":1},{"$f":"'All hospitals'!P180","v":"ED"},{"$f":"'All hospitals'!Q180","v":2},{"$f":"'All hospitals'!R180","v":"Pharmacy"}]
[null,{"$f":"'All hospitals'!B181","v":"Royal Hospital for Women NO STOCKS HELD"},{"$f":"'All hospitals'!C181","v":"Sydney"},{"$f":"'All hospitals'!E181","v":"02 9382 6716"},{"$f":"'All hospitals'!F181","v":"02 9382 2222 on call pharmacist"},{"$f":"'All hospitals'!O181","v":0},{"$f":"'All hospitals'!P181","v":" -"},{"$f":"'All hospitals'!Q181","v":" -"},{"$f":"'All hospitals'!R181","v":" -"}]
[null,{"$f":"'All hospitals'!B182","v":"St George Hospital"},{"$f":"'All hospitals'!C182","v":"Kogarah"},{"$f":"'All hospitals'!E182","v":"02 9113 3055"},{"$f":"'All hospitals'!F182","v":"Page AHNM via switchboard 02 9113 1111"},{"$f":"'All hospitals'!O182","v":2},{"$f":"'All hospitals'!P182","v":"ED resus"},{"$f":"'All hospitals'!Q182","v":" -"},{"$f":"'All hospitals'!R182","v":" -"}]
[null,{"$f":"'All hospitals'!B183","v":"Sydney Hospital and Sydney Eye Hospital"},{"$f":"'All hospitals'!C183","v":"Sydney"},{"$f":"'All hospitals'!E183","v":"02 9382 7379"},{"$f":"'All hospitals'!F183","v":"02 9382 7111  ask for Emergency Department"},{"$f":"'All hospitals'!O183","v":2},{"$f":"'All hospitals'!P183","v":"ED"},{"$f":"'All hospitals'!Q183","v":" -"},{"$f":"'All hospitals'!R183","v":" -"}]
[null,{"$f":"'All hospitals'!B184","v":"The Sutherland Hospital"},{"$f":"'All hospitals'!C184","v":"Sydney"},{"$f":"'All hospitals'!E184","v":"02 9540 7466 OR 02 9540 7467"},{"$f":"'All hospitals'!F184","v":"02 9540 7111"},{"$f":"'All hospitals'!O184","v":6},{"$f":"'All hospitals'!P184","v":"Pharmacy fridge 3"},{"$f":"'All hospitals'!Q184","v":"-"},{"$f":"'All hospitals'!R184","v":"-"}]
[null,{"$f":"'All hospitals'!B185","v":"-"},{"$f":"'All hospitals'!C185","v":"-"},{"$f":"'All hospitals'!E185","v":"-"},{"$f":"'All hospitals'!F185","v":"-"},{"$f":"'All hospitals'!O185","v":"-"},{"$f":"'All hospitals'!P185","v":"-"},{"$f":"'All hospitals'!Q185","v":"-"},{"$f":"'All hospitals'!R185","v":"-"}]
[null,{"$f":"'All hospitals'!B186","v":"SOUTH WESTERN SYDNEY LHD"}]
[null,{"$f":"'All hospitals'!B187","v":"Bankstown-Lidcombe Hospital"},{"$f":"'All hospitals'!C187","v":"Sydney"},{"$f":"'All hospitals'!E187","v":"02 9722 8000"},{"$f":"'All hospitals'!F187","v":"02 9722 8000"},{"$f":"'All hospitals'!O187","v":1},{"$f":"'All hospitals'!P187","v":"ED"},{"$f":"'All hospitals'!Q187","v":" -"},{"$f":"'All hospitals'!R187","v":" -"}]
[null,{"$f":"'All hospitals'!B188","v":"Bowral District Hospital"},{"$f":"'All hospitals'!C188","v":"Bowral"},{"$f":"'All hospitals'!E188","v":"02 4861 0274"},{"$f":"'All hospitals'!F188","v":"02 4861 0199"},{"$f":"'All hospitals'!O188","v":1},{"$f":"'All hospitals'!P188","v":"Pharmacy"},{"$f":"'All hospitals'!Q188","v":" -"},{"$f":"'All hospitals'!R188","v":" -"}]
[null,{"$f":"'All hospitals'!B189","v":"Camden Hospital "},{"$f":"'All hospitals'!C189","v":"Sydney"},{"$f":"'All hospitals'!E189","v":"02 4634 3000"},{"$f":"'All hospitals'!F189","v":"0408 662 394"},{"$f":"'All hospitals'!O189","v":2},{"$f":"'All hospitals'!P189","v":"ED"},{"$f":"'All hospitals'!Q189","v":" -"},{"$f":"'All hospitals'!R189","v":" -"}]
[null,{"$f":"'All hospitals'!B190","v":"Campbelltown Hospital "},{"$f":"'All hospitals'!C190","v":"Sydney"},{"$f":"'All hospitals'!E190","v":"02 4634 3000"},{"$f":"'All hospitals'!F190","v":"0408 662 394"},{"$f":"'All hospitals'!O190","v":2},{"$f":"'All hospitals'!P190","v":"ED"},{"$f":"'All hospitals'!Q190","v":" -"},{"$f":"'All hospitals'!R190","v":" -"}]
[null,{"$f":"'All hospitals'!B191","v":"Fairfield Hospital"},{"$f":"'All hospitals'!C191","v":"Fairfield"},{"$f":"'All hospitals'!E191","v":"02 9616 8322"},{"$f":"'All hospitals'!F191","v":"02 9616 8111"},{"$f":"'All hospitals'!O191","v":0},{"$f":"'All hospitals'!P191","v":" -"},{"$f":"'All hospitals'!Q191","v":" -"},{"$f":"'All hospitals'!R191","v":" -"}]
[null,{"$f":"'All hospitals'!B192","v":"Liverpool Hospital"},{"$f":"'All hospitals'!C192","v":"Sydney"},{"$f":"'All hospitals'!E192","v":"02 8738 3000"},{"$f":"'All hospitals'!F192","v":"02 8738 3000"},{"$f":"'All hospitals'!O192","v":1},{"$f":"'All hospitals'!P192","v":"ED"},{"$f":"'All hospitals'!Q192","v":1},{"$f":"'All hospitals'!R192","v":"Pharmacy"}]
[null,{"$f":"'All hospitals'!B193","v":"-"},{"$f":"'All hospitals'!C193","v":"-"},{"$f":"'All hospitals'!E193","v":"-"},{"$f":"'All hospitals'!F193","v":"-"},{"$f":"'All hospitals'!O193","v":"-"},{"$f":"'All hospitals'!P193","v":"-"},{"$f":"'All hospitals'!Q193","v":"-"},{"$f":"'All hospitals'!R193","v":"-"}]
[null,{"$f":"'All hospitals'!B194","v":"SOUTHERN NSW"}]
[null,{"$f":"'All hospitals'!B195","v":"Bateman's Bay District Hospital "},{"$f":"'All hospitals'!C195","v":"Bateman's Bay"},{"$f":"'All hospitals'!E195","v":"02 4475 1500"},{"$f":"'All hospitals'!F195","v":"0419 421 411"},{"$f":"'All hospitals'!O195","v":1},{"$f":"'All hospitals'!P195","v":" -"},{"$f":"'All hospitals'!Q195","v":1},{"$f":"'All hospitals'!R195","v":"Pharmacy"}]
[null,{"$f":"'All hospitals'!B196","v":"South East Regional Hospital (SERH / Bega District Hospital)"},{"$f":"'All hospitals'!C196","v":"Bega"},{"$f":"'All hospitals'!E196","v":"02 6492 9111"},{"$f":"'All hospitals'!F196","v":"0419 421 411"},{"$f":"'All hospitals'!O196","v":1},{"$f":"'All hospitals'!P196","v":"ED "},{"$f":"'All hospitals'!Q196","v":" -"},{"$f":"'All hospitals'!R196","v":" -"}]
[null,{"$f":"'All hospitals'!B197","v":"Bombala Hospital "},{"$f":"'All hospitals'!C197","v":"Bombala"},{"$f":"'All hospitals'!E197","v":"02 6458 5777"},{"$f":"'All hospitals'!F197","v":"0419 421 411"},{"$f":"'All hospitals'!O197","v":0},{"$f":"'All hospitals'!P197","v":" -"},{"$f":"'All hospitals'!Q197","v":" -"},{"$f":"'All hospitals'!R197","v":" -"}]
[null,{"$f":"'All hospitals'!B198","v":"Braidwood Hospital "},{"$f":"'All hospitals'!C198","v":"Braidwood"},{"$f":"'All hospitals'!E198","v":"02 4842 2566"},{"$f":"'All hospitals'!F198","v":"0419 421 411"},{"$f":"'All hospitals'!O198","v":0},{"$f":"'All hospitals'!P198","v":" -"},{"$f":"'All hospitals'!Q198","v":" -"},{"$f":"'All hospitals'!R198","v":" -"}]
[null,{"$f":"'All hospitals'!B199","v":"Cooma District Hospital "},{"$f":"'All hospitals'!C199","v":"Cooma"},{"$f":"'All hospitals'!E199","v":"02 6455 3222"},{"$f":"'All hospitals'!F199","v":"0419 421 411"},{"$f":"'All hospitals'!O199","v":0},{"$f":"'All hospitals'!P199","v":" -"},{"$f":"'All hospitals'!Q199","v":" -"},{"$f":"'All hospitals'!R199","v":" -"}]
[null,{"$f":"'All hospitals'!B200","v":"Crookwell District Hospital "},{"$f":"'All hospitals'!C200","v":"Crookwell NSW"},{"$f":"'All hospitals'!E200","v":"02 4832 1300"},{"$f":"'All hospitals'!F200","v":"0419 421 411"},{"$f":"'All hospitals'!O200","v":0},{"$f":"'All hospitals'!P200","v":" -"},{"$f":"'All hospitals'!Q200","v":" -"},{"$f":"'All hospitals'!R200","v":" -"}]
[null,{"$f":"'All hospitals'!B201","v":"Delegate Hospital "},{"$f":"'All hospitals'!C201","v":"Delegate"},{"$f":"'All hospitals'!E201","v":"02 6459 8000"},{"$f":"'All hospitals'!F201","v":"0419 421 411"},{"$f":"'All hospitals'!O201","v":0},{"$f":"'All hospitals'!P201","v":" -"},{"$f":"'All hospitals'!Q201","v":" -"},{"$f":"'All hospitals'!R201","v":" -"}]
[null,{"$f":"'All hospitals'!B202","v":"Goulburn Base Hospital "},{"$f":"'All hospitals'!C202","v":"Goulburn"},{"$f":"'All hospitals'!E202","v":"02 4827 3111"},{"$f":"'All hospitals'!F202","v":"02 4827 3111"},{"$f":"'All hospitals'!O202","v":1},{"$f":"'All hospitals'!P202","v":"ED "},{"$f":"'All hospitals'!Q202","v":1},{"$f":"'All hospitals'!R202","v":" -"}]
[null,{"$f":"'All hospitals'!B203","v":"Moruya District Hospital "},{"$f":"'All hospitals'!C203","v":"Moruya"},{"$f":"'All hospitals'!E203","v":"02 4474 2666"},{"$f":"'All hospitals'!F203","v":"0419 421 411"},{"$f":"'All hospitals'!O203","v":1},{"$f":"'All hospitals'!P203","v":"ED "},{"$f":"'All hospitals'!Q203","v":2},{"$f":"'All hospitals'!R203","v":"Pharmacy"}]
[null,{"$f":"'All hospitals'!B204","v":"Pambula District Hospital "},{"$f":"'All hospitals'!C204","v":"Pambula"},{"$f":"'All hospitals'!E204","v":"02 6495 8200"},{"$f":"'All hospitals'!F204","v":"0419 421 411"},{"$f":"'All hospitals'!O204","v":0},{"$f":"'All hospitals'!P204","v":" -"},{"$f":"'All hospitals'!Q204","v":" -"},{"$f":"'All hospitals'!R204","v":" -"}]
[null,{"$f":"'All hospitals'!B205","v":"Queanbeyan Hospital "},{"$f":"'All hospitals'!C205","v":"Queanbeyan"},{"$f":"'All hospitals'!E205","v":"02 6150 7000"},{"$f":"'All hospitals'!F205","v":"0419 421 411"},{"$f":"'All hospitals'!O205","v":1},{"$f":"'All hospitals'!P205","v":"ED "},{"$f":"'All hospitals'!Q205","v":1},{"$f":"'All hospitals'!R205","v":"Pharmacy"}]
[null,{"$f":"'All hospitals'!B206","v":"Yass District Hospital "},{"$f":"'All hospitals'!C206","v":"Yass"},{"$f":"'All hospitals'!E206","v":"02 6220 2000"},{"$f":"'All hospitals'!F206","v":"0419 421 411"},{"$f":"'All hospitals'!O206","v":0},{"$f":"'All hospitals'!P206","v":" -"},{"$f":"'All hospitals'!Q206","v":" -"},{"$f":"'All hospitals'!R206","v":" -"}]
[null,{"$f":"'All hospitals'!B207","v":"-"},{"$f":"'All hospitals'!C207","v":"-"},{"$f":"'All hospitals'!E207","v":"-"},{"$f":"'All hospitals'!F207","v":"-"},{"$f":"'All hospitals'!O207","v":"-"},{"$f":"'All hospitals'!P207","v":"-"},{"$f":"'All hospitals'!Q207","v":"-"},{"$f":"'All hospitals'!R207","v":"-"}]
[null,{"$f":"'All hospitals'!B208","v":"ST VINCENT'S HEALTH"}]
[null,{"$f":"'All hospitals'!B209","v":"St Vincent's Hospital"},{"$f":"'All hospitals'!C209","v":"Darlinghurst"},{"$f":"'All hospitals'!E209","v":"02 8282 2125"},{"$f":"'All hospitals'!F209","v":"02 8382 1111 (on call pharmacist via switchboard)"},{"$f":"'All hospitals'!O209","v":1},{"$f":"'All hospitals'!P209","v":"After hours cupboard"},{"$f":"'All hospitals'!Q209","v":" -"},{"$f":"'All hospitals'!R209","v":" -"}]
[null,{"$f":"'All hospitals'!B210","v":"-"},{"$f":"'All hospitals'!C210","v":"-"},{"$f":"'All hospitals'!E210","v":"-"},{"$f":"'All hospitals'!F210","v":"-"},{"$f":"'All hospitals'!O210","v":"-"},{"$f":"'All hospitals'!P210","v":"-"},{"$f":"'All hospitals'!Q210","v":"-"},{"$f":"'All hospitals'!R210","v":"-"}]
[null,{"$f":"'All hospitals'!B211","v":"SYDNEY LHD"}]
[null,{"$f":"'All hospitals'!B212","v":"Balmain Hospital (No ED services) NO STOCKS HELD"},{"$f":"'All hospitals'!C212","v":"Balmain"},{"$f":"'All hospitals'!E212","v":"02 9395 2111"},{"$f":"'All hospitals'!F212","v":" -"},{"$f":"'All hospitals'!O212","v":"-"},{"$f":"'All hospitals'!P212","v":"-"},{"$f":"'All hospitals'!Q212","v":" -"},{"$f":"'All hospitals'!R212","v":" -"}]
[null,{"$f":"'All hospitals'!B213","v":"Canterbury Hospital "},{"$f":"'All hospitals'!C213","v":"Campsie"},{"$f":"'All hospitals'!E213","v":"02 9787 0219"},{"$f":"'All hospitals'!F213","v":"02 9787 0000"},{"$f":"'All hospitals'!O213","v":0},{"$f":"'All hospitals'!P213","v":" -"},{"$f":"'All hospitals'!Q213","v":" -"},{"$f":"'All hospitals'!R213","v":" -"}]
[null,{"$f":"'All hospitals'!B214","v":"Concord Hospital"},{"$f":"'All hospitals'!C214","v":"Concord"},{"$f":"'All hospitals'!E214","v":"02 9767 6214"},{"$f":"'All hospitals'!F214","v":"02 9767 5000"},{"$f":"'All hospitals'!O214","v":1},{"$f":"'All hospitals'!P214","v":"After hours cupboard"},{"$f":"'All hospitals'!Q214","v":" -"},{"$f":"'All hospitals'!R214","v":" -"}]
[null,{"$f":"'All hospitals'!B215","v":"Royal Prince Alfred Hospital"},{"$f":"'All hospitals'!C215","v":"Camperdown"},{"$f":"'All hospitals'!E215","v":"02 9515 6111"},{"$f":"'All hospitals'!F215","v":"02 9515 6111"},{"$f":"'All hospitals'!O215","v":2},{"$f":"'All hospitals'!P215","v":"ED"},{"$f":"'All hospitals'!Q215","v":0},{"$f":"'All hospitals'!R215","v":" - "}]
[null,{"$f":"'All hospitals'!B216","v":"-"},{"$f":"'All hospitals'!C216","v":"-"},{"$f":"'All hospitals'!E216","v":"-"},{"$f":"'All hospitals'!F216","v":"-"},{"$f":"'All hospitals'!O216","v":"-"},{"$f":"'All hospitals'!P216","v":"-"},{"$f":"'All hospitals'!Q216","v":"-"},{"$f":"'All hospitals'!R216","v":"-"}]
[null,{"$f":"'All hospitals'!B217","v":"SYDNEY CHILDREN'S HOSPITALS NETWORK"}]
[null,{"$f":"'All hospitals'!B218","v":"Sydney Children's Hospital Randwick (SCH) (see also stocks kept at Prince of Wales (adjacent hospital))"},{"$f":"'All hospitals'!C218","v":"Randwick"},{"$f":"'All hospitals'!E218","v":"02 9382 1111"},{"$f":"'All hospitals'!F218","v":"029382 2222  Pharmacist on call "},{"$f":"'All hospitals'!O218","v":1},{"$f":"'All hospitals'!P218","v":"Paediatric after hours drug room "},{"$f":"'All hospitals'!Q218","v":" -"},{"$f":"'All hospitals'!R218","v":" -"}]
[null,{"$f":"'All hospitals'!B219","v":"The Children's Hospital Westmead (CHW)"},{"$f":"'All hospitals'!C219","v":"Westmead"},{"$f":"'All hospitals'!E219","v":"02 9845 0000"},{"$f":"'All hospitals'!F219","v":"02 9845 0000 (on call pharmacist via switchboard)"},{"$f":"'All hospitals'!O219","v":1},{"$f":"'All hospitals'!P219","v":"ED"},{"$f":"'All hospitals'!Q219","v":3},{"$f":"'All hospitals'!R219","v":"Pharmacy"}]
[null,{"$f":"'All hospitals'!B220","v":" Newborn & Paediatric Emergency Transport Service (NETS)"},{"$f":"'All hospitals'!C220","v":"Bankstown Aerodrome"},{"$f":"'All hospitals'!E220","v":1300362730},{"$f":"'All hospitals'!F220","v":1300362730},{"$f":"'All hospitals'!O220","v":1},{"$f":"'All hospitals'!P220","v":"Drug fridge (Pharmacy Room)"},{"$f":"'All hospitals'!Q220","v":"-"},{"$f":"'All hospitals'!R220","v":"-"}]
[null,{"$f":"'All hospitals'!B221","v":"-"},{"$f":"'All hospitals'!C221","v":"-"},{"$f":"'All hospitals'!E221","v":"-"},{"$f":"'All hospitals'!F221","v":"-"},{"$f":"'All hospitals'!O221","v":"-"},{"$f":"'All hospitals'!P221","v":"-"},{"$f":"'All hospitals'!Q221","v":"-"},{"$f":"'All hospitals'!R221","v":"-"}]
[null,{"$f":"'All hospitals'!B222","v":"WESTERN NSW LHD"}]
[null,{"$f":"'All hospitals'!B223","v":"Baradine Multi Purpose Service"},{"$f":"'All hospitals'!C223","v":"Baradine, NSW"},{"$f":"'All hospitals'!E223","v":"02 6843 1605"},{"$f":"'All hospitals'!F223","v":"02 6843 4100"},{"$f":"'All hospitals'!O223","v":0},{"$f":"'All hospitals'!P223","v":" -"},{"$f":"'All hospitals'!Q223","v":" -"},{"$f":"'All hospitals'!R223","v":" -"}]
[null,{"$f":"'All hospitals'!B224","v":"Bathurst Hospital"},{"$f":"'All hospitals'!C224","v":"Bathurst"},{"$f":"'All hospitals'!E224","v":"02 6330 5304"},{"$f":"'All hospitals'!F224","v":"02 6330 5308"},{"$f":"'All hospitals'!O224","v":1},{"$f":"'All hospitals'!P224","v":"After Hours Cupboard"},{"$f":"'All hospitals'!Q224","v":" -"},{"$f":"'All hospitals'!R224","v":" -"}]
[null,{"$f":"'All hospitals'!B225","v":"Blayney Multi Purpose Service"},{"$f":"'All hospitals'!C225","v":"Blayney"},{"$f":"'All hospitals'!E225","v":"02 6368 9029 "},{"$f":"'All hospitals'!F225","v":"02 6368 9029 "},{"$f":"'All hospitals'!O225","v":0},{"$f":"'All hospitals'!P225","v":" -"},{"$f":"'All hospitals'!Q225","v":" -"},{"$f":"'All hospitals'!R225","v":" -"}]
[null,{"$f":"'All hospitals'!B226","v":"Bourke Multi Purpose Service "},{"$f":"'All hospitals'!C226","v":"Bourke"},{"$f":"'All hospitals'!E226","v":"02 6870 8888"},{"$f":"'All hospitals'!F226","v":"02 6870 8888"},{"$f":"'All hospitals'!O226","v":1},{"$f":"'All hospitals'!P226","v":"Medication Room Fridge"},{"$f":"'All hospitals'!Q226","v":" -"},{"$f":"'All hospitals'!R226","v":" -"}]
[null,{"$f":"'All hospitals'!B227","v":"Brewarrina Multi Purpose Service "},{"$f":"'All hospitals'!C227","v":"Brewarrina"},{"$f":"'All hospitals'!E227","v":"02 6830 5000"},{"$f":"'All hospitals'!F227","v":"02 6830 5000"},{"$f":"'All hospitals'!O227","v":1},{"$f":"'All hospitals'!P227","v":"Treatment Room Fridge"},{"$f":"'All hospitals'!Q227","v":" -"},{"$f":"'All hospitals'!R227","v":" -"}]
[null,{"$f":"'All hospitals'!B228","v":"Canowindra Soldiers Memorial Hospital (Stock data TBC)"},{"$f":"'All hospitals'!C228","v":"Canowindra"},{"$f":"'All hospitals'!E228","v":"02 6364 4300"},{"$f":"'All hospitals'!F228","v":"02 6340 3033"},{"$f":"'All hospitals'!O228","v":1},{"$f":"'All hospitals'!P228","v":"ED"},{"$f":"'All hospitals'!Q228","v":" -"},{"$f":"'All hospitals'!R228","v":" -"}]
[null,{"$f":"'All hospitals'!B229","v":"Cobar District Hospital (Stock data TBC)"},{"$f":"'All hospitals'!C229","v":"Cobar"},{"$f":"'All hospitals'!E229","v":"02 6836 2406"},{"$f":"'All hospitals'!F229","v":"02 6830 2111"},{"$f":"'All hospitals'!O229","v":0},{"$f":"'All hospitals'!P229","v":" -"},{"$f":"'All hospitals'!Q229","v":" -"},{"$f":"'All hospitals'!R229","v":" -"}]
[null,{"$f":"'All hospitals'!B230","v":"Collarenebri Multi Purpose Service "},{"$f":"'All hospitals'!C230","v":"Collarenebri"},{"$f":"'All hospitals'!E230","v":"02 6756 4800"},{"$f":"'All hospitals'!F230","v":"02 6756 4800"},{"$f":"'All hospitals'!O230","v":1},{"$f":"'All hospitals'!P230","v":"Imprest Room Fridge"},{"$f":"'All hospitals'!Q230","v":" -"},{"$f":"'All hospitals'!R230","v":" -"}]
[null,{"$f":"'All hospitals'!B231","v":"Condobolin District Hospital"},{"$f":"'All hospitals'!C231","v":"Condobolin"},{"$f":"'All hospitals'!E231","v":"02 6890 1500"},{"$f":"'All hospitals'!F231","v":"02 6890 1500"},{"$f":"'All hospitals'!O231","v":1},{"$f":"'All hospitals'!P231","v":"ED"},{"$f":"'All hospitals'!Q231","v":" -"},{"$f":"'All hospitals'!R231","v":" -"}]
[null,{"$f":"'All hospitals'!B232","v":"Coolah Multi Purpose Service (Stock data TBC)"},{"$f":"'All hospitals'!C232","v":"Coolah"},{"$f":"'All hospitals'!E232","v":"02 6377 9100"},{"$f":"'All hospitals'!F232","v":"02 6377 9100"},{"$f":"'All hospitals'!O232","v":1},{"$f":"'All hospitals'!P232","v":"TBC - Fridge-Antivenoms"},{"$f":"'All hospitals'!Q232","v":" -"},{"$f":"'All hospitals'!R232","v":" -"}]
[null,{"$f":"'All hospitals'!B233","v":"Coonabarabran District Hospital"},{"$f":"'All hospitals'!C233","v":"Coonabarabran"},{"$f":"'All hospitals'!E233","v":"02 6849 1600"},{"$f":"'All hospitals'!F233","v":"02 6849 1600"},{"$f":"'All hospitals'!O233","v":1},{"$f":"'All hospitals'!P233","v":"TBC - Imprest Room Fridge"},{"$f":"'All hospitals'!Q233","v":" -"},{"$f":"'All hospitals'!R233","v":" -"}]
[null,{"$f":"'All hospitals'!B234","v":"Coonamble Multi Purpose Service (Stock data TBC)"},{"$f":"'All hospitals'!C234","v":"Coonamble"},{"$f":"'All hospitals'!E234","v":"02 6827 1100"},{"$f":"'All hospitals'!F234","v":"02 6827 1100"},{"$f":"'All hospitals'!O234","v":0},{"$f":"'All hospitals'!P234","v":" -"},{"$f":"'All hospitals'!Q234","v":" -"},{"$f":"'All hospitals'!R234","v":" -"}]
[null,{"$f":"'All hospitals'!B235","v":"Cowra Hospital (Stock data TBC)"},{"$f":"'All hospitals'!C235","v":"Cowra"},{"$f":"'All hospitals'!E235","v":"02 6340 9000"},{"$f":"'All hospitals'!F235","v":"02 6340 9000"},{"$f":"'All hospitals'!O235","v":1},{"$f":"'All hospitals'!P235","v":"ED"},{"$f":"'All hospitals'!Q235","v":" -"},{"$f":"'All hospitals'!R235","v":" -"}]
[null,{"$f":"'All hospitals'!B236","v":"Cudal Health Service NO STOCKS HELD"},{"$f":"'All hospitals'!C236","v":"Cudal"},{"$f":"'All hospitals'!E236","v":"02 6392 3400"},{"$f":"'All hospitals'!F236","v":" -"},{"$f":"'All hospitals'!O236","v":0},{"$f":"'All hospitals'!P236","v":" -"},{"$f":"'All hospitals'!Q236","v":" -"},{"$f":"'All hospitals'!R236","v":" -"}]
[null,{"$f":"'All hospitals'!B237","v":"Dubbo Base Hospital"},{"$f":"'All hospitals'!C237","v":"Dubbo"},{"$f":"'All hospitals'!E237","v":"02 6809 8150"},{"$f":"'All hospitals'!F237","v":"02 6809 6809"},{"$f":"'All hospitals'!O237","v":1},{"$f":"'All hospitals'!P237","v":"After Hours Cupboard"},{"$f":"'All hospitals'!Q237","v":2},{"$f":"'All hospitals'!R237","v":"pharmacy  "}]
[null,{"$f":"'All hospitals'!B238","v":"Dunedoo Multi Purpose Service (Stock data TBC)"},{"$f":"'All hospitals'!C238","v":"Dunedoo"},{"$f":"'All hospitals'!E238","v":"02 6375 1408"},{"$f":"'All hospitals'!F238","v":"02 6370 3000"},{"$f":"'All hospitals'!O238","v":1},{"$f":"'All hospitals'!P238","v":"Fridge-Antivenoms"},{"$f":"'All hospitals'!Q238","v":" -"},{"$f":"'All hospitals'!R238","v":" -"}]
[null,{"$f":"'All hospitals'!B239","v":"Eugowra Multi Purpose Service (Stock data TBC)"},{"$f":"'All hospitals'!C239","v":"Eugowra"},{"$f":"'All hospitals'!E239","v":"02 6850 4000"},{"$f":"'All hospitals'!F239","v":"02 6850 4000"},{"$f":"'All hospitals'!O239","v":1},{"$f":"'All hospitals'!P239","v":"Fridge"},{"$f":"'All hospitals'!Q239","v":" -"},{"$f":"'All hospitals'!R239","v":" -"}]
[null,{"$f":"'All hospitals'!B240","v":"Forbes District Hospital "},{"$f":"'All hospitals'!C240","v":"Forbes"},{"$f":"'All hospitals'!E240","v":"02 6850 7100"},{"$f":"'All hospitals'!F240","v":"02 6850 7100"},{"$f":"'All hospitals'!O240","v":1},{"$f":"'All hospitals'!P240","v":"ED"},{"$f":"'All hospitals'!Q240","v":" -"},{"$f":"'All hospitals'!R240","v":" -"}]
[null,{"$f":"'All hospitals'!B241","v":"Gilgandra Multi Purpose Service (Stock data TBC)"},{"$f":"'All hospitals'!C241","v":"Gilgandra"},{"$f":"'All hospitals'!E241","v":"02 6880 5900"},{"$f":"'All hospitals'!F241","v":"02 6880 5900"},{"$f":"'All hospitals'!O241","v":0},{"$f":"'All hospitals'!P241","v":" -"},{"$f":"'All hospitals'!Q241","v":" -"},{"$f":"'All hospitals'!R241","v":" -"}]
[null,{"$f":"'All hospitals'!B242","v":"Goodooga Health Service "},{"$f":"'All hospitals'!C242","v":"Goodooga"},{"$f":"'All hospitals'!E242","v":"02 6829 5600"},{"$f":"'All hospitals'!F242","v":" - "},{"$f":"'All hospitals'!O242","v":1},{"$f":"'All hospitals'!P242","v":"Imprest Room Fridge"},{"$f":"'All hospitals'!Q242","v":" -"},{"$f":"'All hospitals'!R242","v":" -"}]
[null,{"$f":"'All hospitals'!B243","v":"Grenfell Multi Purpose Service (Stock data TBC)"},{"$f":"'All hospitals'!C243","v":"Grenfell"},{"$f":"'All hospitals'!E243","v":"02 6349 1700"},{"$f":"'All hospitals'!F243","v":"02 6349 1700"},{"$f":"'All hospitals'!O243","v":0},{"$f":"'All hospitals'!P243","v":" -"},{"$f":"'All hospitals'!Q243","v":" -"},{"$f":"'All hospitals'!R243","v":" -"}]
[null,{"$f":"'All hospitals'!B244","v":"Gulargambone NO STOCKS HELD"},{"$f":"'All hospitals'!C244","v":"Gulargambone"},{"$f":"'All hospitals'!E244","v":"02 6825 1201"},{"$f":"'All hospitals'!F244","v":"-"},{"$f":"'All hospitals'!O244","v":0},{"$f":"'All hospitals'!P244","v":" -"},{"$f":"'All hospitals'!Q244","v":" -"},{"$f":"'All hospitals'!R244","v":" -"}]
[null,{"$f":"'All hospitals'!B245","v":"Gulgong Health Service "},{"$f":"'All hospitals'!C245","v":"Gulgong"},{"$f":"'All hospitals'!E245","v":"02 6374 3400"},{"$f":"'All hospitals'!F245","v":"02 6374 1200"},{"$f":"'All hospitals'!O245","v":0},{"$f":"'All hospitals'!P245","v":" -"},{"$f":"'All hospitals'!Q245","v":" -"},{"$f":"'All hospitals'!R245","v":" -"}]
[null,{"$f":"'All hospitals'!B246","v":"Lightning Ridge Multi Purpose Service "},{"$f":"'All hospitals'!C246","v":"Lightning Ridge"},{"$f":"'All hospitals'!E246","v":"02 6820 5700"},{"$f":"'All hospitals'!F246","v":"02 6820 5700"},{"$f":"'All hospitals'!O246","v":1},{"$f":"'All hospitals'!P246","v":"Imprest Room Fridge"},{"$f":"'All hospitals'!Q246","v":" -"},{"$f":"'All hospitals'!R246","v":" -"}]
[null,{"$f":"'All hospitals'!B247","v":"Molong Hospital (Stock data TBC)"},{"$f":"'All hospitals'!C247","v":"Molong"},{"$f":"'All hospitals'!E247","v":"02 6392 3300"},{"$f":"'All hospitals'!F247","v":" -"},{"$f":"'All hospitals'!O247","v":0},{"$f":"'All hospitals'!P247","v":" -"},{"$f":"'All hospitals'!Q247","v":" -"},{"$f":"'All hospitals'!R247","v":" -"}]
[null,{"$f":"'All hospitals'!B248","v":"Mudgee Hospital "},{"$f":"'All hospitals'!C248","v":"Mudgee"},{"$f":"'All hospitals'!E248","v":"02 6371 9751"},{"$f":"'All hospitals'!F248","v":"02 6371 9700"},{"$f":"'All hospitals'!O248","v":1},{"$f":"'All hospitals'!P248","v":"Pharmacy"},{"$f":"'All hospitals'!Q248","v":" -"},{"$f":"'All hospitals'!R248","v":" -"}]
[null,{"$f":"'All hospitals'!B249","v":"Narromine Health Service "},{"$f":"'All hospitals'!C249","v":"Narromine"},{"$f":"'All hospitals'!E249","v":"02 6889 9600"},{"$f":"'All hospitals'!F249","v":"02 6889 9600"},{"$f":"'All hospitals'!O249","v":0},{"$f":"'All hospitals'!P249","v":" -"},{"$f":"'All hospitals'!Q249","v":" -"},{"$f":"'All hospitals'!R249","v":" -"}]
[null,{"$f":"'All hospitals'!B250","v":"Nyngan Multi Purpose Service (Stock data TBC)"},{"$f":"'All hospitals'!C250","v":"Nyngan"},{"$f":"'All hospitals'!E250","v":"02 6832 1707"},{"$f":"'All hospitals'!F250","v":"02 6835 1700"},{"$f":"'All hospitals'!O250","v":1},{"$f":"'All hospitals'!P250","v":"ED"},{"$f":"'All hospitals'!Q250","v":" -"},{"$f":"'All hospitals'!R250","v":" -"}]
[null,{"$f":"'All hospitals'!B251","v":"Oberon Multi Purpose Service"},{"$f":"'All hospitals'!C251","v":"Oberon"},{"$f":"'All hospitals'!E251","v":"02 6336 7200"},{"$f":"'All hospitals'!F251","v":"02 6336 7200"},{"$f":"'All hospitals'!O251","v":0},{"$f":"'All hospitals'!P251","v":" -"},{"$f":"'All hospitals'!Q251","v":" -"},{"$f":"'All hospitals'!R251","v":" -"}]
[null,{"$f":"'All hospitals'!B252","v":"Orange Health Service "},{"$f":"'All hospitals'!C252","v":"Orange"},{"$f":"'All hospitals'!E252","v":"02 6369 3740"},{"$f":"'All hospitals'!F252","v":"02 6369 3222"},{"$f":"'All hospitals'!O252","v":1},{"$f":"'All hospitals'!P252","v":"ED"},{"$f":"'All hospitals'!Q252","v":" -"},{"$f":"'All hospitals'!R252","v":" -"}]
[null,{"$f":"'All hospitals'!B253","v":"Parkes District Hospital "},{"$f":"'All hospitals'!C253","v":"Parkes"},{"$f":"'All hospitals'!E253","v":"02 6861 2400"},{"$f":"'All hospitals'!F253","v":"02 6861 2440"},{"$f":"'All hospitals'!O253","v":1},{"$f":"'All hospitals'!P253","v":"ED"},{"$f":"'All hospitals'!Q253","v":0},{"$f":"'All hospitals'!R253","v":" - "}]
[null,{"$f":"'All hospitals'!B254","v":"Peak Hill Multi Purpose Service "},{"$f":"'All hospitals'!C254","v":"Peak Hill"},{"$f":"'All hospitals'!E254","v":"02 6869 5200"},{"$f":"'All hospitals'!F254","v":"02 6869 5200"},{"$f":"'All hospitals'!O254","v":0},{"$f":"'All hospitals'!P254","v":" -"},{"$f":"'All hospitals'!Q254","v":" -"},{"$f":"'All hospitals'!R254","v":" -"}]
[null,{"$f":"'All hospitals'!B255","v":"Rylstone Multi Purpose Service "},{"$f":"'All hospitals'!C255","v":"Rylstone"},{"$f":"'All hospitals'!E255","v":"02 6357 6100"},{"$f":"'All hospitals'!F255","v":"02 6357 6100"},{"$f":"'All hospitals'!O255","v":1},{"$f":"'All hospitals'!P255","v":"ED fridge"},{"$f":"'All hospitals'!Q255","v":" -"},{"$f":"'All hospitals'!R255","v":" -"}]
[null,{"$f":"'All hospitals'!B256","v":"Tottenham Multi Purpose Service "},{"$f":"'All hospitals'!C256","v":"Tottenham"},{"$f":"'All hospitals'!E256","v":"02 6891  6200"},{"$f":"'All hospitals'!F256","v":"02 6891  6200"},{"$f":"'All hospitals'!O256","v":1},{"$f":"'All hospitals'!P256","v":"Drug room vaccination fridge - TBC"},{"$f":"'All hospitals'!Q256","v":" -"},{"$f":"'All hospitals'!R256","v":" -"}]
[null,{"$f":"'All hospitals'!B257","v":"Trangie Multi Purpose Service (Stock data TBC)"},{"$f":"'All hospitals'!C257","v":"Trangie"},{"$f":"'All hospitals'!E257","v":" -"},{"$f":"'All hospitals'!F257","v":"02 6880 8200"},{"$f":"'All hospitals'!O257","v":0},{"$f":"'All hospitals'!P257","v":" -"},{"$f":"'All hospitals'!Q257","v":" -"},{"$f":"'All hospitals'!R257","v":" -"}]
[null,{"$f":"'All hospitals'!B258","v":"Trundle Multi Purpose Service "},{"$f":"'All hospitals'!C258","v":"Trundle"},{"$f":"'All hospitals'!E258","v":"02 6892 1900"},{"$f":"'All hospitals'!F258","v":"02 6892 1900"},{"$f":"'All hospitals'!O258","v":1},{"$f":"'All hospitals'!P258","v":"TBC"},{"$f":"'All hospitals'!Q258","v":" -"},{"$f":"'All hospitals'!R258","v":" -"}]
[null,{"$f":"'All hospitals'!B259","v":"Tullamore Multi Purpose Service "},{"$f":"'All hospitals'!C259","v":"Tullamore"},{"$f":"'All hospitals'!E259","v":"02 6892 6400"},{"$f":"'All hospitals'!F259","v":"02 6892 6400"},{"$f":"'All hospitals'!O259","v":1},{"$f":"'All hospitals'!P259","v":"Drug room vaccination fridge - TBC"},{"$f":"'All hospitals'!Q259","v":" -"},{"$f":"'All hospitals'!R259","v":" -"}]
[null,{"$f":"'All hospitals'!B260","v":"Walgett District Hospital "},{"$f":"'All hospitals'!C260","v":"Walgett"},{"$f":"'All hospitals'!E260","v":"02 6817 9400"},{"$f":"'All hospitals'!F260","v":"02 6817 9400"},{"$f":"'All hospitals'!O260","v":1},{"$f":"'All hospitals'!P260","v":"Imprest Room Fridge - TBC"},{"$f":"'All hospitals'!Q260","v":" -"},{"$f":"'All hospitals'!R260","v":" -"}]
[null,{"$f":"'All hospitals'!B261","v":"Wanaaring Health Service NO STOCKS HELD"},{"$f":"'All hospitals'!C261","v":"Wanaaring"},{"$f":"'All hospitals'!E261","v":"02 6874 7721"},{"$f":"'All hospitals'!F261","v":"02 6874 7721"},{"$f":"'All hospitals'!O261","v":0},{"$f":"'All hospitals'!P261","v":" -"},{"$f":"'All hospitals'!Q261","v":" -"},{"$f":"'All hospitals'!R261","v":" -"}]
[null,{"$f":"'All hospitals'!B262","v":"Warren Multi Purpose Service (Stock data TBC)"},{"$f":"'All hospitals'!C262","v":"Warren"},{"$f":"'All hospitals'!E262","v":"02 6847 4303"},{"$f":"'All hospitals'!F262","v":"02 6847 5400"},{"$f":"'All hospitals'!O262","v":1},{"$f":"'All hospitals'!P262","v":"ED"},{"$f":"'All hospitals'!Q262","v":" -"},{"$f":"'All hospitals'!R262","v":" -"}]
[null,{"$f":"'All hospitals'!B263","v":"Wellington Health Service"},{"$f":"'All hospitals'!C263","v":"Wellington"},{"$f":"'All hospitals'!E263","v":"02 6840 7200"},{"$f":"'All hospitals'!F263","v":"02 6840 8200"},{"$f":"'All hospitals'!O263","v":0},{"$f":"'All hospitals'!P263","v":" -"},{"$f":"'All hospitals'!Q263","v":" -"},{"$f":"'All hospitals'!R263","v":" -"}]
[null,{"$f":"'All hospitals'!B264","v":"-"},{"$f":"'All hospitals'!C264","v":"-"},{"$f":"'All hospitals'!E264","v":"-"},{"$f":"'All hospitals'!F264","v":"-"},{"$f":"'All hospitals'!O264","v":"-"},{"$f":"'All hospitals'!P264","v":"-"},{"$f":"'All hospitals'!Q264","v":"-"},{"$f":"'All hospitals'!R264","v":"-"}]
[null,{"$f":"'All hospitals'!B265","v":"WESTERN SYDNEY LHD & OTHER"}]
[null,{"$f":"'All hospitals'!B266","v":"Auburn Hospital"},{"$f":"'All hospitals'!C266","v":"Auburn"},{"$f":"'All hospitals'!E266","v":"02 8759 3302"},{"$f":"'All hospitals'!F266","v":"02 8759 3000"},{"$f":"'All hospitals'!O266","v":1},{"$f":"'All hospitals'!P266","v":"After Hours Medication Room"},{"$f":"'All hospitals'!Q266","v":" -"},{"$f":"'All hospitals'!R266","v":" -"}]
[null,{"$f":"'All hospitals'!B267","v":"Blacktown Hospital "},{"$f":"'All hospitals'!C267","v":"Blacktown"},{"$f":"'All hospitals'!E267","v":"02 9881 8142"},{"$f":"'All hospitals'!F267","v":"02 9881 8000 (afterhours nurse manager via switch)"},{"$f":"'All hospitals'!O267","v":1},{"$f":"'All hospitals'!P267","v":"ED Resus Fridge"},{"$f":"'All hospitals'!Q267","v":" -"},{"$f":"'All hospitals'!R267","v":" -"}]
[null,{"$f":"'All hospitals'!B268","v":"Mount Druitt Hospital "},{"$f":"'All hospitals'!C268","v":"Mount Druitt NSW"},{"$f":"'All hospitals'!E268","v":"02 9881 1581"},{"$f":"'All hospitals'!F268","v":"02 9881 1555  (afterhours nurse manager via switch)"},{"$f":"'All hospitals'!O268","v":1},{"$f":"'All hospitals'!P268","v":"ED Resus Fridge"},{"$f":"'All hospitals'!Q268","v":" -"},{"$f":"'All hospitals'!R268","v":" -"}]
[null,{"$f":"'All hospitals'!B269","v":"Westmead Hospital "},{"$f":"'All hospitals'!C269","v":"Westmead"},{"$f":"'All hospitals'!E269","v":"02 8890 5555"},{"$f":"'All hospitals'!F269","v":"02 8890 5555 (on call pharmacist via switch)"},{"$f":"'All hospitals'!O269","v":2},{"$f":"'All hospitals'!P269","v":"ED"},{"$f":"'All hospitals'!Q269","v":0},{"$f":"'All hospitals'!R269","v":"-"}]
[null,{"$f":"'All hospitals'!B270","v":"-"},{"$f":"'All hospitals'!C270","v":"-"},{"$f":"'All hospitals'!E270","v":"-"},{"$f":"'All hospitals'!F270","v":"-"},{"$f":"'All hospitals'!O270","v":"-"},{"$f":"'All hospitals'!P270","v":"-"},{"$f":"'All hospitals'!Q270","v":"-"},{"$f":"'All hospitals'!R270","v":"-"}]
[null,{"$f":"'All hospitals'!B271","v":"PRIVATE HOSPITALS & OTHER"}]
[null,{"$f":"'All hospitals'!B272","v":"Macquarie University Hospital NO STOCKS HELD"},{"$f":"'All hospitals'!C272","v":"North Ryde"},{"$f":"'All hospitals'!E272","v":"02 98875500"},{"$f":"'All hospitals'!F272","v":"NA"},{"$f":"'All hospitals'!O272","v":0},{"$f":"'All hospitals'!P272","v":"-"},{"$f":"'All hospitals'!Q272","v":0},{"$f":"'All hospitals'!R272","v":"-"}]
[null,{"$f":"'All hospitals'!B273","v":"Norwest Private Hospital (Stock data TBC)"},{"$f":"'All hospitals'!C273","v":"Bella Vista"},{"$f":"'All hospitals'!E273","v":"02 8882 8555"},{"$f":"'All hospitals'!F273","v":"02 8882 8555"},{"$f":"'All hospitals'!O273","v":1},{"$f":"'All hospitals'!P273","v":"ED"},{"$f":"'All hospitals'!Q273","v":"-"},{"$f":"'All hospitals'!R273","v":"-"},null,"Back to Index","Back to 'All hospitals' tab"]

{"sheet":"Funnel-web spider","index":5,"n_rows":253,"n_cols":12,"rows_kept":253,"cut":false,"hidden":false,"merged":[[196,1,196,3],[201,1,201,3],[244,1,244,3],[157,1,157,3],[165,1,165,3],[173,1,173,3],[187,1,187,3],[190,1,190,3],[86,1,86,3],[95,1,95,3],[128,1,128,3],[134,1,134,3],[148,1,148,3],[14,1,14,3],[18,1,18,3],[22,1,22,3],[34,1,34,3],[74,1,74,3],[10,1,10,3],[3,1,3,8],[0,1,0,8],[2,1,2,8],[4,1,4,8],[6,1,6,4],[6,5,7,8],[7,1,9,1],[7,2,9,2],[7,3,9,3],[7,4,9,4],[8,5,9,5],[8,6,9,6],[8,7,9,7],[8,8,9,8]]}
[null,{"$f":"'All hospitals'!$B$1","v":"Last modified: 14/01/2021"}]
[]
[null,{"$f":"'All hospitals'!$S$28","v":"FUNNEL-WEB SPIDER "}]
[null,"IMMEDIATELY AVAILABLE ANTIVENOM"]
[null,"Two (2) vials of funnel-web spider antivenom should be kept in all hospitals of areas where the spider occurs.",null,null,null,null,null,null,null,null,"Back to Index","Back to 'All hospitals' tab"]
[]
[null,"HOSPITAL DETAILS",null,null,null,"AVAILABILITY"]
[null,"Hospital name:\n\"Stock data TBC\" indicates that the hospital has not provided an update to the stockholding data.                                          ","Town/city","Phone number (business hours)","Phone number (after hours)"]
[null,null,null,null,null,"Number of vials","Location 1","Number of vials","Location 2"]
[]
[null,{"$f":"'All hospitals'!B31","v":"ACT"},null,null,null,null,null,null,null,null,"Click to jump to LHD or network"]
[null,{"$f":"'All hospitals'!B32","v":"Calvary Public Hospital "},{"$f":"'All hospitals'!C32","v":"Canberra"},{"$f":"'All hospitals'!E32","v":"02 6201 6265 "},{"$f":"'All hospitals'!F32","v":"0413 611 319"},{"$f":"'All hospitals'!S32","v":2},{"$f":"'All hospitals'!T32","v":"After Hours Cupboard Fridge"},{"$f":"'All hospitals'!U32","v":" -"},{"$f":"'All hospitals'!V32","v":" -"},null,"ACT"]
[null,{"$f":"'All hospitals'!B33","v":"The Canberra Hospital"},{"$f":"'All hospitals'!C33","v":"Canberra"},{"$f":"'All hospitals'!E33","v":"02 5124 0000"},{"$f":"'All hospitals'!F33","v":"0401 710 831"},{"$f":"'All hospitals'!S33","v":1},{"$f":"'All hospitals'!T33","v":"Pharmacy"},{"$f":"'All hospitals'!U33","v":2},{"$f":"'All hospitals'!V33","v":"ED "},null,"ALBURY WODONGA HEALTH"]
[null,{"$f":"'All hospitals'!B34","v":"-"},{"$f":"'All hospitals'!C34","v":"-"},{"$f":"'All hospitals'!E34","v":"-"},null,{"$f":"'All hospitals'!S34","v":"-"},{"$f":"'All hospitals'!T34","v":"-"},{"$f":"'All hospitals'!U34","v":"-"},{"$f":"'All hospitals'!V34","v":"-"},null,"CENTRAL COAST LHD"]
[null,{"$f":"'All hospitals'!B35","v":"ALBURY WODONGA HEALTH"},null,null,null,null,null,null,null,null,"FAR WEST LHD"]
[null,{"$f":"'All hospitals'!B36","v":"Albury Hospital"},{"$f":"'All hospitals'!C36","v":"Albury"},{"$f":"'All hospitals'!E36","v":"02 6058 4665"},{"$f":"'All hospitals'!F36","v":"02 6058 4444"},{"$f":"'All hospitals'!S36","v":0},{"$f":"'All hospitals'!T36","v":" -"},{"$f":"'All hospitals'!U36","v":" -"},{"$f":"'All hospitals'!V36","v":" -"},null,"HUNTER NEW ENGLAND LHD"]
[null,{"$f":"'All hospitals'!B37","v":"Wodonga Hospital"},{"$f":"'All hospitals'!C37","v":"Wodonga"},{"$f":"'All hospitals'!E37","v":"02 6051 7485"},{"$f":"'All hospitals'!F37","v":"02 6051 7111"},{"$f":"'All hospitals'!S37","v":0},{"$f":"'All hospitals'!T37","v":" -"},{"$f":"'All hospitals'!U37","v":" -"},{"$f":"'All hospitals'!V37","v":" -"},null,"ILLAWARRA SHOALHAVEN LHD"]
[null,{"$f":"'All hospitals'!B38","v":"-"},{"$f":"'All hospitals'!C38","v":"-"},{"$f":"'All hospitals'!E38","v":"-"},null,{"$f":"'All hospitals'!S38","v":"-"},{"$f":"'All hospitals'!T38","v":"-"},{"$f":"'All hospitals'!U38","v":"-"},{"$f":"'All hospitals'!V38","v":"-"},null,"MID NORTH COAST LHD"]
[null,"CENTRAL COAST LHD",null,null,null,null,null,null,null,null,"MURRUMBIDGEE LHD"]
[null,{"$f":"'All hospitals'!B40","v":"Gosford Hospital"},{"$f":"'All hospitals'!C40","v":"Gosford "},{"$f":"'All hospitals'!E40","v":"02 4320 2111"},{"$f":"'All hospitals'!F40","v":"02 4320 2111 (page on-call pharmacist)"},{"$f":"'All hospitals'!S40","v":6},{"$f":"'All hospitals'!T40","v":"ED"},{"$f":"'All hospitals'!U40","v":6},{"$f":"'All hospitals'!V40","v":"Pharmacy"},null,"NEPEAN BLUE MOUNTAINS LHD"]
[null,{"$f":"'All hospitals'!B41","v":"Wyong Hospital"},{"$f":"'All hospitals'!C41","v":"Wyong"},{"$f":"'All hospitals'!E41","v":"02 4394 7930"},{"$f":"'All hospitals'!F41","v":"02 4394 8000 (page on-call pharmacist)"},{"$f":"'All hospitals'!S41","v":6},{"$f":"'All hospitals'!T41","v":"ED "},{"$f":"'All hospitals'!U41","v":6},{"$f":"'All hospitals'!V41","v":"Pharmacy "},null,"NORTHERN NSW LHD"]
[null,{"$f":"'All hospitals'!B42","v":"-"},{"$f":"'All hospitals'!C42","v":"-"},{"$f":"'All hospitals'!E42","v":"-"},null,{"$f":"'All hospitals'!S42","v":"-"},{"$f":"'All hospitals'!T42","v":"-"},{"$f":"'All hospitals'!U42","v":"-"},{"$f":"'All hospitals'!V42","v":"-"},null,"NORTHERN SYDNEY LHD"]
[null,{"$f":"'All hospitals'!B43","v":"FAR WEST LHD"},null,null,null,null,null,null,null,null,"SOUTH EASTERN SYDNEY LHD"]
[null,{"$f":"'All hospitals'!B44","v":"Balranald Multi Purpose Service "},{"$f":"'All hospitals'!C44","v":"Balranald"},{"$f":"'All hospitals'!E44","v":"03 5071 9800"},{"$f":"'All hospitals'!F44","v":"03 5071 9800"},{"$f":"'All hospitals'!S44","v":0},{"$f":"'All hospitals'!T44","v":" -"},{"$f":"'All hospitals'!U44","v":" -"},{"$f":"'All hospitals'!V44","v":" -"},null,"SOUTH WESTERN SYDNEY LHD"]
[null,{"$f":"'All hospitals'!B45","v":"Broken Hill Health Service"},{"$f":"'All hospitals'!C45","v":"Broken Hill"},{"$f":"'All hospitals'!E45","v":"08 8080 1466  "},{"$f":"'All hospitals'!F45","v":"08 8080 1333 "},{"$f":"'All hospitals'!S45","v":0},{"$f":"'All hospitals'!T45","v":" -"},{"$f":"'All hospitals'!U45","v":" -"},{"$f":"'All hospitals'!V45","v":" -"},null,"SOUTHERN NSW"]
[null,{"$f":"'All hospitals'!B46","v":"Dareton Primary Health Service (No ED services)"},{"$f":"'All hospitals'!C46","v":"Dareton"},{"$f":"'All hospitals'!E46","v":"03 5021 7200"},{"$f":"'All hospitals'!F46","v":"BH only"},{"$f":"'All hospitals'!S46","v":0},{"$f":"'All hospitals'!T46","v":" -"},{"$f":"'All hospitals'!U46","v":" -"},{"$f":"'All hospitals'!V46","v":" -"},null,"ST VINCENT'S HEALTH"]
[null,{"$f":"'All hospitals'!B47","v":"Ivanhoe Health Service"},{"$f":"'All hospitals'!C47","v":"Ivanhoe"},{"$f":"'All hospitals'!E47","v":"02 6990 2200"},{"$f":"'All hospitals'!F47","v":"02 6990 2200"},{"$f":"'All hospitals'!S47","v":0},{"$f":"'All hospitals'!T47","v":" -"},{"$f":"'All hospitals'!U47","v":" -"},{"$f":"'All hospitals'!V47","v":" -"},null,"SYDNEY LHD"]
[null,{"$f":"'All hospitals'!B48","v":"Menindee Health Service "},{"$f":"'All hospitals'!C48","v":"Menindee"},{"$f":"'All hospitals'!E48","v":"08 8091 4209"},{"$f":"'All hospitals'!F48","v":"08 8091 4209"},{"$f":"'All hospitals'!S48","v":0},{"$f":"'All hospitals'!T48","v":" -"},{"$f":"'All hospitals'!U48","v":" -"},{"$f":"'All hospitals'!V48","v":" -"},null,"SYDNEY CHILDREN'S HOSPITALS NETWORK"]
[null,{"$f":"'All hospitals'!B49","v":"Royal Flying Doctor Service Broken Hill"},{"$f":"'All hospitals'!C49","v":"Broken Hill"},{"$f":"'All hospitals'!E49","v":"08 8080 3780"},{"$f":"'All hospitals'!F49","v":"0437 370 702"},{"$f":"'All hospitals'!S49","v":0},{"$f":"'All hospitals'!T49","v":" -"},{"$f":"'All hospitals'!U49","v":" -"},{"$f":"'All hospitals'!V49","v":" -"},null,"WESTERN NSW LHD"]
[null,{"$f":"'All hospitals'!B50","v":"Tibooburra Health Service"},{"$f":"'All hospitals'!C50","v":"Tibooburra"},{"$f":"'All hospitals'!E50","v":"08 8091 3302 "},{"$f":"'All hospitals'!F50","v":"08 8091 3302"},{"$f":"'All hospitals'!S50","v":0},{"$f":"'All hospitals'!T50","v":" -"},{"$f":"'All hospitals'!U50","v":" -"},{"$f":"'All hospitals'!V50","v":" -"},null,"WESTERN SYDNEY LHD & OTHER"]
[null,{"$f":"'All hospitals'!B51","v":"Wentworth District Hospital (No ED services)"},{"$f":"'All hospitals'!C51","v":"Wentworth"},{"$f":"'All hospitals'!E51","v":"03 5027 2345"},{"$f":"'All hospitals'!F51","v":"03 5027 2345"},{"$f":"'All hospitals'!S51","v":0},{"$f":"'All hospitals'!T51","v":" -"},{"$f":"'All hospitals'!U51","v":" -"},{"$f":"'All hospitals'!V51","v":" -"},null,"PRIVATE HOSPITALS & OTHER"]
[null,{"$f":"'All hospitals'!B52","v":"White Cliffs Health Service"},{"$f":"'All hospitals'!C52","v":"White Cliffs"},{"$f":"'All hospitals'!E52","v":"08 8091 6605 "},{"$f":"'All hospitals'!F52","v":"08 80916605"},{"$f":"'All hospitals'!S52","v":0},{"$f":"'All hospitals'!T52","v":" -"},{"$f":"'All hospitals'!U52","v":" -"},{"$f":"'All hospitals'!V52","v":" -"}]
[null,{"$f":"'All hospitals'!B53","v":"Wilcannia Multi Purpose Service"},{"$f":"'All hospitals'!C53","v":"Wilcannia"},{"$f":"'All hospitals'!E53","v":"08 8083 8777"},{"$f":"'All hospitals'!F53","v":"08 8083 8777"},{"$f":"'All hospitals'!S53","v":0},{"$f":"'All hospitals'!T53","v":" -"},{"$f":"'All hospitals'!U53","v":" -"},{"$f":"'All hospitals'!V53","v":" -"}]
[null,{"$f":"'All hospitals'!B54","v":"-"},{"$f":"'All hospitals'!C54","v":"-"},{"$f":"'All hospitals'!D54","v":"-"},{"$f":"'All hospitals'!E54","v":"-"},{"$f":"'All hospitals'!S54","v":"-"},{"$f":"'All hospitals'!T54","v":"-"},{"$f":"'All hospitals'!U54","v":"-"},{"$f":"'All hospitals'!V54","v":"-"}]
[null,{"$f":"'All hospitals'!B55","v":"HUNTER NEW ENGLAND LHD"}]
[null,{"$f":"'All hospitals'!B56","v":"Armidale Rural Referral Hospital"},{"$f":"'All hospitals'!C56","v":"Armidale"},{"$f":"'All hospitals'!E56","v":"02 6776 9500"},{"$f":"'All hospitals'!F56","v":"02 6776 9500     "},{"$f":"'All hospitals'!S56","v":1},{"$f":"'All hospitals'!T56","v":"ED"},{"$f":"'All hospitals'!U56","v":1},{"$f":"'All hospitals'!V56","v":"Pharmacy"}]
[null,{"$f":"'All hospitals'!B57","v":"Barraba Multi Purpose Service"},{"$f":"'All hospitals'!C57","v":"Barraba"},{"$f":"'All hospitals'!E57","v":"02 6782 2500"},{"$f":"'All hospitals'!F57","v":"02 6782 2522"},{"$f":"'All hospitals'!S57","v":0},{"$f":"'All hospitals'!T57","v":" -"},{"$f":"'All hospitals'!U57","v":" -"},{"$f":"'All hospitals'!V57","v":" -"}]
[null,{"$f":"'All hospitals'!B58","v":"Belmont Hospital "},{"$f":"'All hospitals'!C58","v":"Belmont"},{"$f":"'All hospitals'!E58","v":"02 4923 2249"},{"$f":"'All hospitals'!F58","v":"02 4923 2000"},{"$f":"'All hospitals'!S58","v":4},{"$f":"'All hospitals'!T58","v":"ED"},{"$f":"'All hospitals'!U58","v":" -"},{"$f":"'All hospitals'!V58","v":" -"}]
[null,{"$f":"'All hospitals'!B59","v":"Bingara Multi Purpose Service"},{"$f":"'All hospitals'!C59","v":"Bingara"},{"$f":"'All hospitals'!E59","v":"02 6728 0100"},{"$f":"'All hospitals'!F59","v":"02 6728 0100"},{"$f":"'All hospitals'!S59","v":0},{"$f":"'All hospitals'!T59","v":" -"},{"$f":"'All hospitals'!U59","v":" -"},{"$f":"'All hospitals'!V59","v":" -"}]
[null,{"$f":"'All hospitals'!B60","v":"Boggabri Multi Purpose Service"},{"$f":"'All hospitals'!C60","v":"Boggabri"},{"$f":"'All hospitals'!E60","v":"02 6749 7000"},{"$f":"'All hospitals'!F60","v":"02 67497000"},{"$f":"'All hospitals'!S60","v":0},{"$f":"'All hospitals'!T60","v":" -"},{"$f":"'All hospitals'!U60","v":" -"},{"$f":"'All hospitals'!V60","v":" -"}]
[null,{"$f":"'All hospitals'!B61","v":"Bulahdelah Hospital NO STOCKS HELD"},{"$f":"'All hospitals'!C61","v":"Bulahdelah"},{"$f":"'All hospitals'!E61","v":"02 4987 9900"},{"$f":"'All hospitals'!F61","v":"02 4987 9900"},{"$f":"'All hospitals'!S61","v":0},{"$f":"'All hospitals'!T61","v":" -"},{"$f":"'All hospitals'!U61","v":" -"},{"$f":"'All hospitals'!V61","v":" -"}]
[null,{"$f":"'All hospitals'!B62","v":"Calvary Mater Hospital Newcastle "},{"$f":"'All hospitals'!C62","v":"Newcastle"},{"$f":"'All hospitals'!E62","v":"02 4921 1211"},{"$f":"'All hospitals'!F62","v":"02 4921 1211"},{"$f":"'All hospitals'!S62","v":4},{"$f":"'All hospitals'!T62","v":"ED"},{"$f":"'All hospitals'!U62","v":2},{"$f":"'All hospitals'!V62","v":"Satellite Pharmacy"}]
[null,{"$f":"'All hospitals'!B63","v":"Cessnock District Hospital"},{"$f":"'All hospitals'!C63","v":"Cessnock"},{"$f":"'All hospitals'!E63","v":"02 4991 0555(hospital)\n02 4991 0456(pharmacy)"},{"$f":"'All hospitals'!F63","v":"0438 212 862"},{"$f":"'All hospitals'!S63","v":2},{"$f":"'All hospitals'!T63","v":"ED"},{"$f":"'All hospitals'!U63","v":" -"},{"$f":"'All hospitals'!V63","v":" -"}]
[null,{"$f":"'All hospitals'!B64","v":"Denman Multi Purpose Service (Stock data TBC)"},{"$f":"'All hospitals'!C64","v":"Denman"},{"$f":"'All hospitals'!E64","v":"02 6547 3999"},{"$f":"'All hospitals'!F64","v":"02 6547 3905 "},{"$f":"'All hospitals'!S64","v":0},{"$f":"'All hospitals'!T64","v":" -"},{"$f":"'All hospitals'!U64","v":" -"},{"$f":"'All hospitals'!V64","v":" -"}]
[null,{"$f":"'All hospitals'!B65","v":"Dungog Community Hospital"},{"$f":"'All hospitals'!C65","v":"Dungog"},{"$f":"'All hospitals'!E65","v":"02 4939 2226"},{"$f":"'All hospitals'!F65","v":"02 4992 1266"},{"$f":"'All hospitals'!S65","v":0},{"$f":"'All hospitals'!T65","v":" -"},{"$f":"'All hospitals'!U65","v":" -"},{"$f":"'All hospitals'!V65","v":" -"}]
[null,{"$f":"'All hospitals'!B66","v":"Glen Innes District Hospital "},{"$f":"'All hospitals'!C66","v":"Glen Innes"},{"$f":"'All hospitals'!E66","v":"02 6739 0200"},{"$f":"'All hospitals'!F66","v":"02 6739 0200"},{"$f":"'All hospitals'!S66","v":2},{"$f":"'All hospitals'!T66","v":"ED"},{"$f":"'All hospitals'!U66","v":" -"},{"$f":"'All hospitals'!V66","v":" -"}]
[null,{"$f":"'All hospitals'!B67","v":"Gloucester Soldiers Memorial Hospital (Stock data TBC)"},{"$f":"'All hospitals'!C67","v":"Gloucester"},{"$f":"'All hospitals'!E67","v":"02 6538 5000"},{"$f":"'All hospitals'!F67","v":"02 6538 5000"},{"$f":"'All hospitals'!S67","v":0},{"$f":"'All hospitals'!T67","v":" -"},{"$f":"'All hospitals'!U67","v":" -"},{"$f":"'All hospitals'!V67","v":" -"}]
[null,{"$f":"'All hospitals'!B68","v":"Gunnedah Hospital"},{"$f":"'All hospitals'!C68","v":"Gunnedah"},{"$f":"'All hospitals'!E68","v":"02 6741 8000"},{"$f":"'All hospitals'!F68","v":"02 6741 8031"},{"$f":"'All hospitals'!S68","v":0},{"$f":"'All hospitals'!T68","v":"-"},{"$f":"'All hospitals'!U68","v":"-"},{"$f":"'All hospitals'!V68","v":"-"}]
[null,{"$f":"'All hospitals'!B69","v":"Guyra Multi Purpose Service "},{"$f":"'All hospitals'!C69","v":"Guyra"},{"$f":"'All hospitals'!E69","v":"02 6738 4000"},{"$f":"'All hospitals'!F69","v":"02 6738 4000"},{"$f":"'All hospitals'!S69","v":1},{"$f":"'All hospitals'!T69","v":"General Ward"},{"$f":"'All hospitals'!U69","v":" -"},{"$f":"'All hospitals'!V69","v":" -"}]
[null,{"$f":"'All hospitals'!B70","v":"Inverell Hospital "},{"$f":"'All hospitals'!C70","v":"Inverell"},{"$f":"'All hospitals'!E70","v":"02 6721 9500"},{"$f":"'All hospitals'!F70","v":"02 6721 9540"},{"$f":"'All hospitals'!S70","v":2},{"$f":"'All hospitals'!T70","v":"ED"},{"$f":"'All hospitals'!U70","v":" -"},{"$f":"'All hospitals'!V70","v":" -"}]
[null,{"$f":"'All hospitals'!B71","v":"John Hunter Hospital "},{"$f":"'All hospitals'!C71","v":"Newcastle"},{"$f":"'All hospitals'!E71","v":"02 4921 3635"},{"$f":"'All hospitals'!F71","v":"0408 263 586"},{"$f":"'All hospitals'!S71","v":4},{"$f":"'All hospitals'!T71","v":"ED"},{"$f":"'All hospitals'!U71","v":2},{"$f":"'All hospitals'!V71","v":"Primary Retrieval Team Pelican"}]
[null,{"$f":"'All hospitals'!B72","v":"Kurri Kurri Hospital"},{"$f":"'All hospitals'!C72","v":"Kurri Kurri"},{"$f":"'All hospitals'!E72","v":"02 4936 3234"},{"$f":"'All hospitals'!F72","v":"02 4936 3200"},{"$f":"'All hospitals'!S72","v":0},{"$f":"'All hospitals'!T72","v":"ED"},{"$f":"'All hospitals'!U72","v":" -"},{"$f":"'All hospitals'!V72","v":" -"}]
[null,{"$f":"'All hospitals'!B73","v":"Manning Base Hospital"},{"$f":"'All hospitals'!C73","v":"Taree"},{"$f":"'All hospitals'!E73","v":"02 6592 9244"},{"$f":"'All hospitals'!F73","v":"02 6592 9014"},{"$f":"'All hospitals'!S73","v":2},{"$f":"'All hospitals'!T73","v":"ED"},{"$f":"'All hospitals'!U73","v":" -"},{"$f":"'All hospitals'!V73","v":" -"}]
[null,{"$f":"'All hospitals'!B74","v":"Manilla Hospital"},{"$f":"'All hospitals'!C74","v":"Manilla"},{"$f":"'All hospitals'!E74","v":"02 6785 4000"},{"$f":"'All hospitals'!F74","v":"02 6785 4000"},{"$f":"'All hospitals'!S74","v":0},{"$f":"'All hospitals'!T74","v":" -"},{"$f":"'All hospitals'!U74","v":" -"},{"$f":"'All hospitals'!V74","v":" -"}]
[null,{"$f":"'All hospitals'!B75","v":"Merriwa Multi Purpose Service (Stock data TBC)"},{"$f":"'All hospitals'!C75","v":"Merriwa"},{"$f":"'All hospitals'!E75","v":"02 6532 5000"},{"$f":"'All hospitals'!F75","v":"02 6532 5000"},{"$f":"'All hospitals'!S75","v":0},{"$f":"'All hospitals'!T75","v":" -"},{"$f":"'All hospitals'!U75","v":" -"},{"$f":"'All hospitals'!V75","v":" -"}]
[null,{"$f":"'All hospitals'!B76","v":"Moree Hospital "},{"$f":"'All hospitals'!C76","v":"Moree"},{"$f":"'All hospitals'!E76","v":"02 6757 0031"},{"$f":"'All hospitals'!F76","v":"02 6757 0031"},{"$f":"'All hospitals'!S76","v":2},{"$f":"'All hospitals'!T76","v":"ED"},{"$f":"'All hospitals'!U76","v":"-"},{"$f":"'All hospitals'!V76","v":"-"}]
[null,{"$f":"'All hospitals'!B77","v":"Muswellbrook Hospital (Stock data TBC)"},{"$f":"'All hospitals'!C77","v":"Muswellbrook"},{"$f":"'All hospitals'!E77","v":"02 6542 2000"},{"$f":"'All hospitals'!F77","v":"02 6542 2000"},{"$f":"'All hospitals'!S77","v":1},{"$f":"'All hospitals'!T77","v":"ED"},{"$f":"'All hospitals'!U77","v":" -"},{"$f":"'All hospitals'!V77","v":" -"}]
[null,{"$f":"'All hospitals'!B78","v":"Narrabri Hospital"},{"$f":"'All hospitals'!C78","v":"Narrabri"},{"$f":"'All hospitals'!E78","v":"02 6799 2800"},{"$f":"'All hospitals'!F78","v":"02 6799 2105"},{"$f":"'All hospitals'!S78","v":0},{"$f":"'All hospitals'!T78","v":"-"},{"$f":"'All hospitals'!U78","v":"-"},{"$f":"'All hospitals'!V78","v":"-"}]
[null,{"$f":"'All hospitals'!B79","v":"Quirindi Hospital"},{"$f":"'All hospitals'!C79","v":"Quirindi"},{"$f":"'All hospitals'!E79","v":"02 6746 0200"},{"$f":"'All hospitals'!F79","v":"02 6746 0200"},{"$f":"'All hospitals'!S79","v":0},{"$f":"'All hospitals'!T79","v":" -"},{"$f":"'All hospitals'!U79","v":" -"},{"$f":"'All hospitals'!V79","v":" -"}]
[null,{"$f":"'All hospitals'!B80","v":"Scott Memorial Hospital (Stock data TBC)"},{"$f":"'All hospitals'!C80","v":"Scone"},{"$f":"'All hospitals'!E80","v":"02 6540 2100"},{"$f":"'All hospitals'!F80","v":"02 6540 2100"},{"$f":"'All hospitals'!S80","v":0},{"$f":"'All hospitals'!T80","v":" -"},{"$f":"'All hospitals'!U80","v":" -"},{"$f":"'All hospitals'!V80","v":" -"}]
[null,{"$f":"'All hospitals'!B81","v":"Singleton District Hospital (Stock data TBC)"},{"$f":"'All hospitals'!C81","v":"Singleton"},{"$f":"'All hospitals'!E81","v":"02 6571 9222"},{"$f":"'All hospitals'!F81","v":"02 6571 9222"},{"$f":"'All hospitals'!S81","v":2},{"$f":"'All hospitals'!T81","v":"ED"},{"$f":"'All hospitals'!U81","v":" -"},{"$f":"'All hospitals'!V81","v":" -"}]
[null,{"$f":"'All hospitals'!B82","v":"Tamworth Rural Referral Hospital "},{"$f":"'All hospitals'!C82","v":"Tamworth"},{"$f":"'All hospitals'!E82","v":"02 6727 7370 "},{"$f":"'All hospitals'!F82","v":"02 6767 7700"},{"$f":"'All hospitals'!S82","v":4},{"$f":"'All hospitals'!T82","v":"ED Resus  "},{"$f":"'All hospitals'!U82","v":1},{"$f":"'All hospitals'!V82","v":"Pharmacy"}]
[null,{"$f":"'All hospitals'!B83","v":"Tenterfield/Prince Albert Hospital "},{"$f":"'All hospitals'!C83","v":"Tenterfield"},{"$f":"'All hospitals'!E83","v":"02 6739 5200"},{"$f":"'All hospitals'!F83","v":"02 6739 5200"},{"$f":"'All hospitals'!S83","v":2},{"$f":"'All hospitals'!T83","v":" -"},{"$f":"'All hospitals'!U83","v":" -"},{"$f":"'All hospitals'!V83","v":" -"}]
[null,{"$f":"'All hospitals'!B84","v":"The Maitland Hospital"},{"$f":"'All hospitals'!C84","v":"Maitland"},{"$f":"'All hospitals'!E84","v":"02 4939 2226"},{"$f":"'All hospitals'!F84","v":"02 4939 2000"},{"$f":"'All hospitals'!S84","v":2},{"$f":"'All hospitals'!T84","v":"ED"},{"$f":"'All hospitals'!U84","v":0},{"$f":"'All hospitals'!V84","v":" -"}]
[null,{"$f":"'All hospitals'!B85","v":"Tingha Multi Purpose Service NO STOCKS HELD"},{"$f":"'All hospitals'!C85","v":"Tingha"},{"$f":"'All hospitals'!E85","v":"02 6723 3900"},{"$f":"'All hospitals'!F85","v":"02 6723 9000"},{"$f":"'All hospitals'!S85","v":0},{"$f":"'All hospitals'!T85","v":" -"},{"$f":"'All hospitals'!U85","v":" -"},{"$f":"'All hospitals'!V85","v":" -"}]
[null,{"$f":"'All hospitals'!B86","v":"Tomaree Community Hospital (Stock data TBC)"},{"$f":"'All hospitals'!C86","v":"Tomaree"},{"$f":"'All hospitals'!E86","v":"02 4923 2249"},{"$f":"'All hospitals'!F86","v":"02 4923 2000"},{"$f":"'All hospitals'!S86","v":2},{"$f":"'All hospitals'!T86","v":"ED"},{"$f":"'All hospitals'!U86","v":" -"},{"$f":"'All hospitals'!V86","v":" -"}]
[null,{"$f":"'All hospitals'!B87","v":"Vegetable Creek Multipurpose Service"},{"$f":"'All hospitals'!C87","v":"Emmaville"},{"$f":"'All hospitals'!E87","v":"02 6734  7900"},{"$f":"'All hospitals'!F87","v":"02 6734 7900"},{"$f":"'All hospitals'!S87","v":2},{"$f":"'All hospitals'!T87","v":" -"},{"$f":"'All hospitals'!U87","v":" -"},{"$f":"'All hospitals'!V87","v":" -"}]
[null,{"$f":"'All hospitals'!B88","v":"Walcha Multi Purpose Service "},{"$f":"'All hospitals'!C88","v":"Walcha"},{"$f":"'All hospitals'!E88","v":"02 6777 4200"},{"$f":"'All hospitals'!F88","v":"02 6777 4200"},{"$f":"'All hospitals'!S88","v":2},{"$f":"'All hospitals'!T88","v":"Medication Room"},{"$f":"'All hospitals'!U88","v":" -"},{"$f":"'All hospitals'!V88","v":" -"}]
[null,{"$f":"'All hospitals'!B89","v":"Warialda Multi Purpose Service "},{"$f":"'All hospitals'!C89","v":"Warialda"},{"$f":"'All hospitals'!E89","v":"02 6728 9000"},{"$f":"'All hospitals'!F89","v":"0428 753 175"},{"$f":"'All hospitals'!S89","v":0},{"$f":"'All hospitals'!T89","v":"-"},{"$f":"'All hospitals'!U89","v":"-"},{"$f":"'All hospitals'!V89","v":"-"}]
[null,{"$f":"'All hospitals'!B90","v":"Wee Waa Community Hospital"},{"$f":"'All hospitals'!C90","v":"Wee Waa"},{"$f":"'All hospitals'!E90","v":"02 6795 0400"},{"$f":"'All hospitals'!F90","v":"02 6795 0400"},{"$f":"'All hospitals'!S90","v":0},{"$f":"'All hospitals'!T90","v":"-"},{"$f":"'All hospitals'!U90","v":"-"},{"$f":"'All hospitals'!V90","v":"-"}]
[null,{"$f":"'All hospitals'!B91","v":"Werris Creek Multi Purpose Service NO STOCKS HELD"},{"$f":"'All hospitals'!C91","v":"Werris Creek"},{"$f":"'All hospitals'!E91","v":"02 6768 6600"},{"$f":"'All hospitals'!F91","v":"02 6768 6600"},{"$f":"'All hospitals'!S91","v":0},{"$f":"'All hospitals'!T91","v":" -"},{"$f":"'All hospitals'!U91","v":" -"},{"$f":"'All hospitals'!V91","v":" -"}]
[null,{"$f":"'All hospitals'!B92","v":"Westpac Rescue Helicopter Service"},{"$f":"'All hospitals'!C92","v":"Belmont Helicopter Base"},{"$f":"'All hospitals'!E92","v":"02 4952 0000"},{"$f":"'All hospitals'!F92","v":"02 4952 0055"},{"$f":"'All hospitals'!S92","v":2},{"$f":"'All hospitals'!T92","v":"Primary retrieval team Pelican"},{"$f":"'All hospitals'!U92","v":" -"},{"$f":"'All hospitals'!V92","v":" -"}]
[null,{"$f":"'All hospitals'!B93","v":"Wilson Memorial Hospital - Murrurundi (Stock data TBC)"},{"$f":"'All hospitals'!C93","v":"Murrurundi"},{"$f":"'All hospitals'!E93","v":"02 6546 9000"},{"$f":"'All hospitals'!F93","v":"02 6546 9000"},{"$f":"'All hospitals'!S93","v":1},{"$f":"'All hospitals'!T93","v":"ED"},{"$f":"'All hospitals'!U93","v":" -"},{"$f":"'All hospitals'!V93","v":" -"}]
[null,{"$f":"'All hospitals'!B94","v":"-"},{"$f":"'All hospitals'!C94","v":"-"},{"$f":"'All hospitals'!E94","v":"-"},null,{"$f":"'All hospitals'!S94","v":"-"},{"$f":"'All hospitals'!T94","v":"-"},{"$f":"'All hospitals'!U94","v":"-"},{"$f":"'All hospitals'!V94","v":"-"}]
[null,{"$f":"'All hospitals'!B95","v":"ILLAWARRA SHOALHAVEN LHD"}]
[null,{"$f":"'All hospitals'!B96","v":"Bulli Hospital NO STOCKS HELD"},{"$f":"'All hospitals'!C96","v":"Bulli"},{"$f":"'All hospitals'!E96","v":"02 4284 4344"},{"$f":"'All hospitals'!F96","v":"02 4222 5000 (request Wollongong Hospital on-call pharmacist)"},{"$f":"'All hospitals'!S96","v":0},{"$f":"'All hospitals'!T96","v":" -"},{"$f":"'All hospitals'!U96","v":" -"},{"$f":"'All hospitals'!V96","v":" -"}]
[null,{"$f":"'All hospitals'!B97","v":"Coledale Hospital NO STOCKS HELD"},{"$f":"'All hospitals'!C97","v":"Thirroul"},{"$f":"'All hospitals'!E97","v":"02 4267 0111"},{"$f":"'All hospitals'!F97","v":"02 4222 5000 (request Wollongong Hospital on-call pharmacist)"},{"$f":"'All hospitals'!S97","v":" -"},{"$f":"'All hospitals'!T97","v":" -"},{"$f":"'All hospitals'!U97","v":" -"},{"$f":"'All hospitals'!V97","v":" -"}]
[null,{"$f":"'All hospitals'!B98","v":"David Berry Hospital NO STOCKS HELD"},{"$f":"'All hospitals'!C98","v":"Berry"},{"$f":"'All hospitals'!E98","v":"02 4464 1001"},{"$f":"'All hospitals'!F98","v":" -"},{"$f":"'All hospitals'!S98","v":" -"},{"$f":"'All hospitals'!T98","v":" -"},{"$f":"'All hospitals'!U98","v":" -"},{"$f":"'All hospitals'!V98","v":" -"}]
[null,{"$f":"'All hospitals'!B99","v":"Kiama Hospital & Community Health Service NO STOCKS HELD"},{"$f":"'All hospitals'!C99","v":"Kiama"},{"$f":"'All hospitals'!E99","v":"02 4233 1033"},{"$f":"'All hospitals'!F99","v":" -"},{"$f":"'All hospitals'!S99","v":" -"},{"$f":"'All hospitals'!T99","v":" -"},{"$f":"'All hospitals'!U99","v":" -"},{"$f":"'All hospitals'!V99","v":" -"}]
[null,{"$f":"'All hospitals'!B100","v":"Milton Ulladulla Hospital"},{"$f":"'All hospitals'!C100","v":"Milton"},{"$f":"'All hospitals'!E100","v":"02 4454 9100"},{"$f":"'All hospitals'!F100","v":"02 4454 9133 (ED)"},{"$f":"'All hospitals'!S100","v":4},{"$f":"'All hospitals'!T100","v":"ED"},{"$f":"'All hospitals'!U100","v":" -"},{"$f":"'All hospitals'!V100","v":" -"}]
[null,{"$f":"'All hospitals'!B274","v":0},{"$f":"'All hospitals'!C274","v":0},{"$f":"'All hospitals'!E274","v":0},{"$f":"'All hospitals'!F274","v":0},{"$f":"'All hospitals'!S274","v":0},{"$f":"'All hospitals'!T274","v":0},{"$f":"'All hospitals'!U274","v":0},{"$f":"'All hospitals'!V274","v":0}]
[null,{"$f":"'All hospitals'!B102","v":"Port Kembla Hospital - NO STOCKS HELD"},{"$f":"'All hospitals'!C102","v":"Warrawong"},{"$f":"'All hospitals'!E102","v":"02 4223 8000"},{"$f":"'All hospitals'!F102","v":"02 4222 5000 (request Wollongong Hospital on-call pharmacist)"},{"$f":"'All hospitals'!S102","v":" -"},{"$f":"'All hospitals'!T102","v":" -"},{"$f":"'All hospitals'!U102","v":" -"},{"$f":"'All hospitals'!V102","v":" -"}]
[null,{"$f":"'All hospitals'!B103","v":"Shellharbour Hospital"},{"$f":"'All hospitals'!C103","v":"Mt Warrigal"},{"$f":"'All hospitals'!E103","v":"02 4295 2516"},{"$f":"'All hospitals'!F103","v":"02 4295 2500 (switch) - ask to page ADON"},{"$f":"'All hospitals'!S103","v":2},{"$f":"'All hospitals'!T103","v":"After Hours Cupboard"},{"$f":"'All hospitals'!U103","v":" -"},{"$f":"'All hospitals'!V103","v":" -"}]
[null,{"$f":"'All hospitals'!B104","v":"Shoalhaven Hospital "},{"$f":"'All hospitals'!C104","v":"Nowra"},{"$f":"'All hospitals'!E104","v":"02 4423 9734"},{"$f":"'All hospitals'!F104","v":"02 4423 9738/ 0427400177 (after hours patient flow manager)"},{"$f":"'All hospitals'!S104","v":2},{"$f":"'All hospitals'!T104","v":"ED"},{"$f":"'All hospitals'!U104","v":2},{"$f":"'All hospitals'!V104","v":"Pharmacy"}]
[null,{"$f":"'All hospitals'!B105","v":"Wollongong Hospital"},{"$f":"'All hospitals'!C105","v":"Wollongong "},{"$f":"'All hospitals'!E105","v":"02 4222 5340"},{"$f":"'All hospitals'!F105","v":"02 4222 5000"},{"$f":"'All hospitals'!S105","v":2},{"$f":"'All hospitals'!T105","v":"ED"},{"$f":"'All hospitals'!U105","v":2},{"$f":"'All hospitals'!V105","v":"AHDC"}]
[null,{"$f":"'All hospitals'!B106","v":"-"},{"$f":"'All hospitals'!C106","v":"-"},{"$f":"'All hospitals'!E106","v":"-"},{"$f":"'All hospitals'!F106","v":"-"},{"$f":"'All hospitals'!S106","v":"-"},{"$f":"'All hospitals'!T106","v":"-"},{"$f":"'All hospitals'!U106","v":"-"},{"$f":"'All hospitals'!V106","v":"-"}]
[null,{"$f":"'All hospitals'!B107","v":"MID NORTH COAST LHD"}]
[null,{"$f":"'All hospitals'!B108","v":"Bellingen River District Hospital "},{"$f":"'All hospitals'!C108","v":"Bellingen"},{"$f":"'All hospitals'!E108","v":"02 6659 5800"},{"$f":"'All hospitals'!F108","v":"02 6656 7324"},{"$f":"'All hospitals'!S108","v":2},{"$f":"'All hospitals'!T108","v":"ED"},{"$f":"'All hospitals'!U108","v":" -"},{"$f":"'All hospitals'!V108","v":" -"}]
[null,{"$f":"'All hospitals'!B109","v":"Coffs Harbour Health Campus "},{"$f":"'All hospitals'!C109","v":"Coffs Harbour"},{"$f":"'All hospitals'!E109","v":"02 6656 7000"},{"$f":"'All hospitals'!F109","v":"02 6656 7324"},{"$f":"'All hospitals'!S109","v":8},{"$f":"'All hospitals'!T109","v":"ED Resus Fridge"},{"$f":"'All hospitals'!U109","v":0},{"$f":"'All hospitals'!V109","v":"Pharmacy"}]
[null,{"$f":"'All hospitals'!B110","v":"Dorrigo Multi Purpose Service"},{"$f":"'All hospitals'!C110","v":"Dorrigo"},{"$f":"'All hospitals'!E110","v":"02 6692 7700"},{"$f":"'All hospitals'!F110","v":"02 6656 7324"},{"$f":"'All hospitals'!S110","v":3},{"$f":"'All hospitals'!T110","v":"General ward"},{"$f":"'All hospitals'!U110","v":" -"},{"$f":"'All hospitals'!V110","v":" -"}]
[null,{"$f":"'All hospitals'!B111","v":"Kempsey District Hospital"},{"$f":"'All hospitals'!C111","v":"Kempsey"},{"$f":"'All hospitals'!E111","v":"02 6561 2600"},{"$f":"'All hospitals'!F111","v":"02 5524 2000"},{"$f":"'All hospitals'!S111","v":4},{"$f":"'All hospitals'!T111","v":"ED"},{"$f":"'All hospitals'!U111","v":" -"},{"$f":"'All hospitals'!V111","v":" -"}]
[null,{"$f":"'All hospitals'!B112","v":"Macksville District Hospital "},{"$f":"'All hospitals'!C112","v":"Macksville"},{"$f":"'All hospitals'!E112","v":"02 6568 0666"},{"$f":"'All hospitals'!F112","v":"02 6656 7324"},{"$f":"'All hospitals'!S112","v":2},{"$f":"'All hospitals'!T112","v":"ED"},{"$f":"'All hospitals'!U112","v":" -"},{"$f":"'All hospitals'!V112","v":" -"}]
[null,{"$f":"'All hospitals'!B113","v":"Port Macquarie Base Hospital"},{"$f":"'All hospitals'!C113","v":"Port Macquarie"},{"$f":"'All hospitals'!E113","v":"02 5524 2206"},{"$f":"'All hospitals'!F113","v":"02 5524 2000"},{"$f":"'All hospitals'!S113","v":2},{"$f":"'All hospitals'!T113","v":"ED"},{"$f":"'All hospitals'!U113","v":" -"},{"$f":"'All hospitals'!V113","v":" -"}]
[null,{"$f":"'All hospitals'!B114","v":"Wauchope Hospital (Stock data TBC)"},{"$f":"'All hospitals'!C114","v":"Wauchope"},{"$f":"'All hospitals'!E114","v":"02 5524 2206"},{"$f":"'All hospitals'!F114","v":"02 5524 2000"},{"$f":"'All hospitals'!S114","v":0},{"$f":"'All hospitals'!T114","v":" -"},{"$f":"'All hospitals'!U114","v":" -"},{"$f":"'All hospitals'!V114","v":" -"}]
[null,{"$f":"'All hospitals'!B115","v":"-"},{"$f":"'All hospitals'!C115","v":"-"},{"$f":"'All hospitals'!E115","v":"-"},{"$f":"'All hospitals'!F115","v":"-"},{"$f":"'All hospitals'!S115","v":"-"},{"$f":"'All hospitals'!T115","v":"-"},{"$f":"'All hospitals'!U115","v":"-"},{"$f":"'All hospitals'!V115","v":"-"}]
[null,{"$f":"'All hospitals'!B116","v":"MURRUMBIDGEE LHD"}]
[null,{"$f":"'All hospitals'!B117","v":"Barham Koondrook Health Service"},{"$f":"'All hospitals'!C117","v":"Barham"},{"$f":"'All hospitals'!E117","v":"03 5451 1000"},{"$f":"'All hospitals'!F117","v":"03 5451 1000"},{"$f":"'All hospitals'!S117","v":0},{"$f":"'All hospitals'!T117","v":" -"},{"$f":"'All hospitals'!U117","v":" -"},{"$f":"'All hospitals'!V117","v":" -"}]
[null,{"$f":"'All hospitals'!B118","v":"Batlow Adelong Multi Purpose Service"},{"$f":"'All hospitals'!C118","v":"Batlow"},{"$f":"'All hospitals'!E118","v":"02 6941 4333"},{"$f":"'All hospitals'!F118","v":"02 6941 4333"},{"$f":"'All hospitals'!S118","v":0},{"$f":"'All hospitals'!T118","v":"-"},{"$f":"'All hospitals'!U118","v":" -"},{"$f":"'All hospitals'!V118","v":" -"}]
[null,{"$f":"'All hospitals'!B119","v":"Berrigan Multi Purpose Service"},{"$f":"'All hospitals'!C119","v":"Berrigan"},{"$f":"'All hospitals'!E119","v":"03 5888 5300"},{"$f":"'All hospitals'!F119","v":"03 5888 5300"},{"$f":"'All hospitals'!S119","v":0},{"$f":"'All hospitals'!T119","v":" -"},{"$f":"'All hospitals'!U119","v":" -"},{"$f":"'All hospitals'!V119","v":" -"}]
[null,{"$f":"'All hospitals'!B120","v":"Boorowa Multi Purpose Service Hospital"},{"$f":"'All hospitals'!C120","v":"Boorowa"},{"$f":"'All hospitals'!E120","v":"02 6380 2100"},{"$f":"'All hospitals'!F120","v":"02 6380 2100"},{"$f":"'All hospitals'!S120","v":0},{"$f":"'All hospitals'!T120","v":" -"},{"$f":"'All hospitals'!U120","v":" -"},{"$f":"'All hospitals'!V120","v":" -"}]
[null,{"$f":"'All hospitals'!B121","v":"Coolamon-Ganmain Multi Purpose Service"},{"$f":"'All hospitals'!C121","v":"Coolamon"},{"$f":"'All hospitals'!E121","v":"02 6927 3303"},{"$f":"'All hospitals'!F121","v":"02 6927 3303"},{"$f":"'All hospitals'!S121","v":0},{"$f":"'All hospitals'!T121","v":" -"},{"$f":"'All hospitals'!U121","v":" -"},{"$f":"'All hospitals'!V121","v":" -"}]
[null,{"$f":"'All hospitals'!B122","v":"Cootamundra District Hospital"},{"$f":"'All hospitals'!C122","v":"Cootamundra"},{"$f":"'All hospitals'!E122","v":"02 6942 0444"},{"$f":"'All hospitals'!F122","v":"02 6942 0444"},{"$f":"'All hospitals'!S122","v":0},{"$f":"'All hospitals'!T122","v":" -"},{"$f":"'All hospitals'!U122","v":" -"},{"$f":"'All hospitals'!V122","v":" -"}]
[null,{"$f":"'All hospitals'!B123","v":"Corowa District Hospital"},{"$f":"'All hospitals'!C123","v":"Corowa"},{"$f":"'All hospitals'!E123","v":"02 6033 7555"},{"$f":"'All hospitals'!F123","v":"02 6033 7555"},{"$f":"'All hospitals'!S123","v":0},{"$f":"'All hospitals'!T123","v":" -"},{"$f":"'All hospitals'!U123","v":" -"},{"$f":"'All hospitals'!V123","v":" -"}]
[null,{"$f":"'All hospitals'!B124","v":"Culcairn Multi Purpose Service"},{"$f":"'All hospitals'!C124","v":"Culcairn"},{"$f":"'All hospitals'!E124","v":"02 6029 8203"},{"$f":"'All hospitals'!F124","v":"02 6029 8203"},{"$f":"'All hospitals'!S124","v":0},{"$f":"'All hospitals'!T124","v":" -"},{"$f":"'All hospitals'!U124","v":" -"},{"$f":"'All hospitals'!V124","v":" -"}]
[null,{"$f":"'All hospitals'!B125","v":"Deniliquin Hospital"},{"$f":"'All hospitals'!C125","v":"Deniliquin"},{"$f":"'All hospitals'!E125","v":"03 5882 2843"},{"$f":"'All hospitals'!F125","v":"03 5882 2834"},{"$f":"'All hospitals'!S125","v":0},{"$f":"'All hospitals'!T125","v":" -"},{"$f":"'All hospitals'!U125","v":" -"},{"$f":"'All hospitals'!V125","v":" -"}]
[null,{"$f":"'All hospitals'!B126","v":"Finley Hospital"},{"$f":"'All hospitals'!C126","v":"Finley"},{"$f":"'All hospitals'!E126","v":"03 5883 1133"},{"$f":"'All hospitals'!F126","v":"03 5883 1133"},{"$f":"'All hospitals'!S126","v":0},{"$f":"'All hospitals'!T126","v":" -"},{"$f":"'All hospitals'!U126","v":" -"},{"$f":"'All hospitals'!V126","v":" -"}]
[null,{"$f":"'All hospitals'!B127","v":"Griffith Base Hospital"},{"$f":"'All hospitals'!C127","v":"Griffith NSW"},{"$f":"'All hospitals'!E127","v":"02 6969 5550"},{"$f":"'All hospitals'!F127","v":"02 6969 5600"},{"$f":"'All hospitals'!S127","v":0},{"$f":"'All hospitals'!T127","v":"-"},{"$f":"'All hospitals'!U127","v":" -"},{"$f":"'All hospitals'!V127","v":" -"}]
[null,{"$f":"'All hospitals'!B128","v":"Gundagai Multi Purpose Service"},{"$f":"'All hospitals'!C128","v":"Gundagai"},{"$f":"'All hospitals'!E128","v":"02 6950 6300"},{"$f":"'All hospitals'!F128","v":"02 6950 6300"},{"$f":"'All hospitals'!S128","v":0},{"$f":"'All hospitals'!T128","v":" -"},{"$f":"'All hospitals'!U128","v":" -"},{"$f":"'All hospitals'!V128","v":" -"}]
[null,{"$f":"'All hospitals'!B129","v":"Hay Hospital"},{"$f":"'All hospitals'!C129","v":"Hay"},{"$f":"'All hospitals'!E129","v":"02 6990 8700"},{"$f":"'All hospitals'!F129","v":"02 6990 8700"},{"$f":"'All hospitals'!S129","v":0},{"$f":"'All hospitals'!T129","v":" -"},{"$f":"'All hospitals'!U129","v":" -"},{"$f":"'All hospitals'!V129","v":" -"}]
[null,{"$f":"'All hospitals'!B130","v":"Henty Multi Purpose Service"},{"$f":"'All hospitals'!C130","v":"Henty"},{"$f":"'All hospitals'!E130","v":"02 6929 4999"},{"$f":"'All hospitals'!F130","v":"02 6929 4999"},{"$f":"'All hospitals'!S130","v":0},{"$f":"'All hospitals'!T130","v":" -"},{"$f":"'All hospitals'!U130","v":" -"},{"$f":"'All hospitals'!V130","v":" -"}]
[null,{"$f":"'All hospitals'!B131","v":"Hillston Multi Purpose Service"},{"$f":"'All hospitals'!C131","v":"Hillston, NSW"},{"$f":"'All hospitals'!E131","v":"02 6961 7200"},{"$f":"'All hospitals'!F131","v":"02 6961 7200"},{"$f":"'All hospitals'!S131","v":0},{"$f":"'All hospitals'!T131","v":" -"},{"$f":"'All hospitals'!U131","v":" -"},{"$f":"'All hospitals'!V131","v":" -"}]
[null,{"$f":"'All hospitals'!B132","v":"Holbrook Hospital"},{"$f":"'All hospitals'!C132","v":"Holbrook"},{"$f":"'All hospitals'!E132","v":"02 6036 2522"},{"$f":"'All hospitals'!F132","v":"02 6036 2522"},{"$f":"'All hospitals'!S132","v":0},{"$f":"'All hospitals'!T132","v":" -"},{"$f":"'All hospitals'!U132","v":" -"},{"$f":"'All hospitals'!V132","v":" -"}]
[null,{"$f":"'All hospitals'!B133","v":"Jerilderie Multi Purpose Service"},{"$f":"'All hospitals'!C133","v":"Jerilderie"},{"$f":"'All hospitals'!E133","v":"03 5886 1300"},{"$f":"'All hospitals'!F133","v":"03 5886 1300"},{"$f":"'All hospitals'!S133","v":0},{"$f":"'All hospitals'!T133","v":" -"},{"$f":"'All hospitals'!U133","v":" -"},{"$f":"'All hospitals'!V133","v":" -"}]
[null,{"$f":"'All hospitals'!B134","v":"Junee Multi Purpose Service"},{"$f":"'All hospitals'!C134","v":"Junee"},{"$f":"'All hospitals'!E134","v":"02 6924 8200"},{"$f":"'All hospitals'!F134","v":"02 6924 8200"},{"$f":"'All hospitals'!S134","v":0},{"$f":"'All hospitals'!T134","v":" -"},{"$f":"'All hospitals'!U134","v":" -"},{"$f":"'All hospitals'!V134","v":" -"}]
[null,{"$f":"'All hospitals'!B135","v":"Lake Cargelligo Multi Purpose Service"},{"$f":"'All hospitals'!C135","v":"Lake Cargelligo"},{"$f":"'All hospitals'!E135","v":"02 6898 0200"},{"$f":"'All hospitals'!F135","v":"02 6898 0200"},{"$f":"'All hospitals'!S135","v":0},{"$f":"'All hospitals'!T135","v":" -"},{"$f":"'All hospitals'!U135","v":" -"},{"$f":"'All hospitals'!V135","v":" -"}]
[null,{"$f":"'All hospitals'!B136","v":"Leeton District Hospital"},{"$f":"'All hospitals'!C136","v":"Leeton"},{"$f":"'All hospitals'!E136","v":"02 6953 1111"},{"$f":"'All hospitals'!F136","v":"02 6953 1111"},{"$f":"'All hospitals'!S136","v":0},{"$f":"'All hospitals'!T136","v":" -"},{"$f":"'All hospitals'!U136","v":" -"},{"$f":"'All hospitals'!V136","v":" -"}]
[null,{"$f":"'All hospitals'!B137","v":"Lockhart Hospital"},{"$f":"'All hospitals'!C137","v":"Lockhart"},{"$f":"'All hospitals'!E137","v":"02 6930 7100"},{"$f":"'All hospitals'!F137","v":"02 6930 7100"},{"$f":"'All hospitals'!S137","v":0},{"$f":"'All hospitals'!T137","v":" -"},{"$f":"'All hospitals'!U137","v":" -"},{"$f":"'All hospitals'!V137","v":" -"}]
[null,{"$f":"'All hospitals'!B138","v":"Murrumburrah-Harden Hospital"},{"$f":"'All hospitals'!C138","v":"Harden"},{"$f":"'All hospitals'!E138","v":"02 6386 2200"},{"$f":"'All hospitals'!F138","v":"02 6386 2200"},{"$f":"'All hospitals'!S138","v":0},{"$f":"'All hospitals'!T138","v":" -"},{"$f":"'All hospitals'!U138","v":" -"},{"$f":"'All hospitals'!V138","v":" -"}]
[null,{"$f":"'All hospitals'!B139","v":"Narrandera District Hospital"},{"$f":"'All hospitals'!C139","v":"Narrandera"},{"$f":"'All hospitals'!E139","v":"02 6951 0200"},{"$f":"'All hospitals'!F139","v":"02 6951 0200"},{"$f":"'All hospitals'!S139","v":0},{"$f":"'All hospitals'!T139","v":" -"},{"$f":"'All hospitals'!U139","v":" -"},{"$f":"'All hospitals'!V139","v":" -"}]
[null,{"$f":"'All hospitals'!B140","v":"Temora District Hospital "},{"$f":"'All hospitals'!C140","v":"Temora"},{"$f":"'All hospitals'!E140","v":"02 6980 0200"},{"$f":"'All hospitals'!F140","v":"02 6980 0200"},{"$f":"'All hospitals'!S140","v":0},{"$f":"'All hospitals'!T140","v":" -"},{"$f":"'All hospitals'!U140","v":" -"},{"$f":"'All hospitals'!V140","v":" -"}]
[null,{"$f":"'All hospitals'!B141","v":"Tocumwal Hospital"},{"$f":"'All hospitals'!C141","v":"Tocumwal"},{"$f":"'All hospitals'!E141","v":"03 5874 2166"},{"$f":"'All hospitals'!F141","v":"03 5874 2166"},{"$f":"'All hospitals'!S141","v":0},{"$f":"'All hospitals'!T141","v":" -"},{"$f":"'All hospitals'!U141","v":" -"},{"$f":"'All hospitals'!V141","v":" -"}]
[null,{"$f":"'All hospitals'!B142","v":"Tumbarumba Multi Purpose Service"},{"$f":"'All hospitals'!C142","v":"Tumbarumba"},{"$f":"'All hospitals'!E142","v":"02 6948 9600"},{"$f":"'All hospitals'!F142","v":"02 6948 9600"},{"$f":"'All hospitals'!S142","v":0},{"$f":"'All hospitals'!T142","v":" -"},{"$f":"'All hospitals'!U142","v":" -"},{"$f":"'All hospitals'!V142","v":" -"}]
[null,{"$f":"'All hospitals'!B143","v":"Tumut District Hospital"},{"$f":"'All hospitals'!C143","v":"Tumut"},{"$f":"'All hospitals'!E143","v":"02 6947 0800"},{"$f":"'All hospitals'!F143","v":"02 6947 0800"},{"$f":"'All hospitals'!S143","v":0},{"$f":"'All hospitals'!T143","v":" -"},{"$f":"'All hospitals'!U143","v":" -"},{"$f":"'All hospitals'!V143","v":" -"}]
[null,{"$f":"'All hospitals'!B144","v":"Urana Multi Purpose Service"},{"$f":"'All hospitals'!C144","v":"Urana"},{"$f":"'All hospitals'!E144","v":"02 6920 8106"},{"$f":"'All hospitals'!F144","v":"02 6920 8106"},{"$f":"'All hospitals'!S144","v":0},{"$f":"'All hospitals'!T144","v":" -"},{"$f":"'All hospitals'!U144","v":" -"},{"$f":"'All hospitals'!V144","v":" -"}]
[null,{"$f":"'All hospitals'!B145","v":"Wagga Wagga Base Hospital "},{"$f":"'All hospitals'!C145","v":"Wagga Wagga"},{"$f":"'All hospitals'!E145","v":"02 5943 1000"},{"$f":"'All hospitals'!F145","v":"0429 306 566"},{"$f":"'All hospitals'!S145","v":2},{"$f":"'All hospitals'!T145","v":"After Hours Pharmacy Fridge"},{"$f":"'All hospitals'!U145","v":" -"},{"$f":"'All hospitals'!V145","v":" -"}]
[null,{"$f":"'All hospitals'!B146","v":"Wyalong Hospital"},{"$f":"'All hospitals'!C146","v":"West Wyalong"},{"$f":"'All hospitals'!E146","v":"02 6979 0000"},{"$f":"'All hospitals'!F146","v":"02 6979 0000"},{"$f":"'All hospitals'!S146","v":0},{"$f":"'All hospitals'!T146","v":" -"},{"$f":"'All hospitals'!U146","v":" -"},{"$f":"'All hospitals'!V146","v":" -"}]
[null,{"$f":"'All hospitals'!B147","v":"Young District Hospital"},{"$f":"'All hospitals'!C147","v":"Young"},{"$f":"'All hospitals'!E147","v":"02 6382 8888"},{"$f":"'All hospitals'!F147","v":"02 6382 8888"},{"$f":"'All hospitals'!S147","v":0},{"$f":"'All hospitals'!T147","v":" -"},{"$f":"'All hospitals'!U147","v":" -"},{"$f":"'All hospitals'!V147","v":" -"}]
[null,{"$f":"'All hospitals'!B148","v":"-"},{"$f":"'All hospitals'!C148","v":"-"},{"$f":"'All hospitals'!E148","v":"-"},{"$f":"'All hospitals'!F148","v":"-"},{"$f":"'All hospitals'!S148","v":"-"},{"$f":"'All hospitals'!T148","v":"-"},{"$f":"'All hospitals'!U148","v":"-"},{"$f":"'All hospitals'!V148","v":"-"}]
[null,{"$f":"'All hospitals'!B149","v":"NEPEAN BLUE MOUNTAINS LHD & OTHER"}]
[null,{"$f":"'All hospitals'!B150","v":"Blue Mountains District Hospital "},{"$f":"'All hospitals'!C150","v":"Katoomba"},{"$f":"'All hospitals'!E150","v":"02 4784 6500"},{"$f":"'All hospitals'!F150","v":"0412 117 269"},{"$f":"'All hospitals'!S150","v":4},{"$f":"'All hospitals'!T150","v":"ED"},{"$f":"'All hospitals'!U150","v":" -"},{"$f":"'All hospitals'!V150","v":" -"}]
[null,{"$f":"'All hospitals'!B151","v":"Hawkesbury District Health Service"},{"$f":"'All hospitals'!C151","v":"Windsor"},{"$f":"'All hospitals'!E151","v":"02 4560 5529"},{"$f":"'All hospitals'!F151","v":"02 4560 5555 (Ask for AHNM)"},{"$f":"'All hospitals'!S151","v":4},{"$f":"'All hospitals'!T151","v":"Pharmacy"},{"$f":"'All hospitals'!U151","v":" -"},{"$f":"'All hospitals'!V151","v":" -"}]
[null,{"$f":"'All hospitals'!B152","v":"Lithgow Hospital"},{"$f":"'All hospitals'!C152","v":"Lithgow"},{"$f":"'All hospitals'!E152","v":"02 6350 2370"},{"$f":"'All hospitals'!F152","v":"02 6350 2300 (switch)"},{"$f":"'All hospitals'!S152","v":2},{"$f":"'All hospitals'!T152","v":"ED"},{"$f":"'All hospitals'!U152","v":" -"},{"$f":"'All hospitals'!V152","v":" -"}]
[null,{"$f":"'All hospitals'!B153","v":"Nepean Hospital "},{"$f":"'All hospitals'!C153","v":"Penrith"},{"$f":"'All hospitals'!E153","v":"02 4734 2256"},{"$f":"'All hospitals'!F153","v":" 0412 235 766"},{"$f":"'All hospitals'!S153","v":2},{"$f":"'All hospitals'!T153","v":"ED-Resus"},{"$f":"'All hospitals'!U153","v":2},{"$f":"'All hospitals'!V153","v":"Main Pharmacy"}]
[null,{"$f":"'All hospitals'!B154","v":"-"},{"$f":"'All hospitals'!C154","v":"-"},{"$f":"'All hospitals'!E154","v":"-"},{"$f":"'All hospitals'!F154","v":"-"},{"$f":"'All hospitals'!S154","v":"-"},{"$f":"'All hospitals'!T154","v":"-"},{"$f":"'All hospitals'!U154","v":"-"},{"$f":"'All hospitals'!V154","v":"-"}]
[null,{"$f":"'All hospitals'!B155","v":"NORTHERN NSW LHD"}]
[null,{"$f":"'All hospitals'!B156","v":"Ballina Hospital "},{"$f":"'All hospitals'!C156","v":"Ballina"},{"$f":"'All hospitals'!E156","v":"02 6620 6400"},{"$f":"'All hospitals'!F156","v":"02 6620 6202"},{"$f":"'All hospitals'!S156","v":0},{"$f":"'All hospitals'!T156","v":" -"},{"$f":"'All hospitals'!U156","v":" -"},{"$f":"'All hospitals'!V156","v":" -"}]
[null,{"$f":"'All hospitals'!B157","v":"Bonalbo Hospital "},{"$f":"'All hospitals'!C157","v":"Bonalbo"},{"$f":"'All hospitals'!E157","v":"02 6665 4100"},{"$f":"'All hospitals'!F157","v":"02 6665 4100"},{"$f":"'All hospitals'!S157","v":0},{"$f":"'All hospitals'!T157","v":" -"},{"$f":"'All hospitals'!U157","v":" -"},{"$f":"'All hospitals'!V157","v":" -"}]
[null,{"$f":"'All hospitals'!B158","v":"Byron Central Hospital (Stock data TBC)"},{"$f":"'All hospitals'!C158","v":"Byron Bay"},{"$f":"'All hospitals'!E158","v":"02 6639 9400"},{"$f":"'All hospitals'!F158","v":"02 6639 9400"},{"$f":"'All hospitals'!S158","v":2},{"$f":"'All hospitals'!T158","v":"ED"},{"$f":"'All hospitals'!U158","v":" -"},{"$f":"'All hospitals'!V158","v":" -"}]
[null,{"$f":"'All hospitals'!B159","v":"Casino Hospital"},{"$f":"'All hospitals'!C159","v":"Casino"},{"$f":"'All hospitals'!E159","v":"02 6660 0642"},{"$f":"'All hospitals'!F159","v":"02 6660 0642"},{"$f":"'All hospitals'!S159","v":0},{"$f":"'All hospitals'!T159","v":"ED"},{"$f":"'All hospitals'!U159","v":" -"},{"$f":"'All hospitals'!V159","v":" -"}]
[null,{"$f":"'All hospitals'!B160","v":"Grafton Base Hospital (Stock data TBC)"},{"$f":"'All hospitals'!C160","v":"Grafton"},{"$f":"'All hospitals'!E160","v":"02 6640 2222"},{"$f":"'All hospitals'!F160","v":"02 6640 2299    "},{"$f":"'All hospitals'!S160","v":4},{"$f":"'All hospitals'!T160","v":"ED (M ED)"},{"$f":"'All hospitals'!U160","v":" -"},{"$f":"'All hospitals'!V160","v":" -"}]
[null,{"$f":"'All hospitals'!B161","v":"Kyogle Multi Purpose Service"},{"$f":"'All hospitals'!C161","v":"Kyogle"},{"$f":"'All hospitals'!E161","v":"02 6630 0400"},{"$f":"'All hospitals'!F161","v":"02 6630 0400"},{"$f":"'All hospitals'!S161","v":0},{"$f":"'All hospitals'!T161","v":" -"},{"$f":"'All hospitals'!U161","v":" -"},{"$f":"'All hospitals'!V161","v":" -"}]
[null,{"$f":"'All hospitals'!B162","v":"Lismore Base Hospital "},{"$f":"'All hospitals'!C162","v":"Lismore"},{"$f":"'All hospitals'!E162","v":"02 6624 0200"},{"$f":"'All hospitals'!F162","v":"02 6624 0200"},{"$f":"'All hospitals'!S162","v":2},{"$f":"'All hospitals'!T162","v":"ED"},{"$f":"'All hospitals'!U162","v":"-"},{"$f":"'All hospitals'!V162","v":"-"}]
[null,{"$f":"'All hospitals'!B163","v":"Maclean District Hospital (Stock data TBC)"},{"$f":"'All hospitals'!C163","v":"Maclean"},{"$f":"'All hospitals'!E163","v":"02 6640 0111"},{"$f":"'All hospitals'!F163","v":"02 6640 0111"},{"$f":"'All hospitals'!S163","v":2},{"$f":"'All hospitals'!T163","v":"ED"},{"$f":"'All hospitals'!U163","v":" -"},{"$f":"'All hospitals'!V163","v":" -"}]
[null,{"$f":"'All hospitals'!B164","v":"Murwillumbah District Hospital (Stock data TBC)"},{"$f":"'All hospitals'!C164","v":"Murwillumbah"},{"$f":"'All hospitals'!E164","v":"02 6672 0237"},{"$f":"'All hospitals'!F164","v":"02 6672 0230"},{"$f":"'All hospitals'!S164","v":2},{"$f":"'All hospitals'!T164","v":"ED"},{"$f":"'All hospitals'!U164","v":" -"},{"$f":"'All hospitals'!V164","v":" -"}]
[null,{"$f":"'All hospitals'!B165","v":"Nimbin Multi Purpose Service"},{"$f":"'All hospitals'!C165","v":"Nimbin"},{"$f":"'All hospitals'!E165","v":"02 6689 1400"},{"$f":"'All hospitals'!F165","v":"02 6689 1400"},{"$f":"'All hospitals'!S165","v":0},{"$f":"'All hospitals'!T165","v":" -"},{"$f":"'All hospitals'!U165","v":" -"},{"$f":"'All hospitals'!V165","v":" -"}]
[null,{"$f":"'All hospitals'!B166","v":"The Tweed Hospital"},{"$f":"'All hospitals'!C166","v":"Tweed Heads"},{"$f":"'All hospitals'!E166","v":"07 5506 7420"},{"$f":"'All hospitals'!F166","v":"07 5506 7667"},{"$f":"'All hospitals'!S166","v":2},{"$f":"'All hospitals'!T166","v":"ED Pyxis Fridge"},{"$f":"'All hospitals'!U166","v":" -"},{"$f":"'All hospitals'!V166","v":" -"}]
[null,{"$f":"'All hospitals'!B167","v":"Urbenville Multi Purpose Service "},{"$f":"'All hospitals'!C167","v":"Urbenville"},{"$f":"'All hospitals'!E167","v":"02 66341600"},{"$f":"'All hospitals'!F167","v":"02 66341600"},{"$f":"'All hospitals'!S167","v":0},{"$f":"'All hospitals'!T167","v":" -"},{"$f":"'All hospitals'!U167","v":" -"},{"$f":"'All hospitals'!V167","v":" -"}]
[null,{"$f":"'All hospitals'!B168","v":"-"},{"$f":"'All hospitals'!C168","v":"-"},{"$f":"'All hospitals'!E168","v":"-"},{"$f":"'All hospitals'!F168","v":"-"},{"$f":"'All hospitals'!S168","v":"-"},{"$f":"'All hospitals'!T168","v":"-"},{"$f":"'All hospitals'!U168","v":"-"},{"$f":"'All hospitals'!V168","v":"-"}]
[null,{"$f":"'All hospitals'!B169","v":"NORTHERN SYDNEY LHD & OTHER"}]
[null,{"$f":"'All hospitals'!B170","v":"Hornsby Hospital"},{"$f":"'All hospitals'!C170","v":"Hornsby"},{"$f":"'All hospitals'!E170","v":"02 9485 6455"},{"$f":"'All hospitals'!F170","v":"02 9485 6600 (ED)"},{"$f":"'All hospitals'!S170","v":4},{"$f":"'All hospitals'!T170","v":"ED "},{"$f":"'All hospitals'!U170","v":" -"},{"$f":"'All hospitals'!V170","v":" -"}]
[null,{"$f":"'All hospitals'!B172","v":"Manly Hospital (closed 30th Oct 2018 - See Northern Beaches Health Service)"},{"$f":"'All hospitals'!C172","v":"-"},{"$f":"'All hospitals'!E172","v":"-"},{"$f":"'All hospitals'!F172","v":" -"},{"$f":"'All hospitals'!S172","v":" -"},{"$f":"'All hospitals'!T172","v":" -"},{"$f":"'All hospitals'!U172","v":" -"},{"$f":"'All hospitals'!V172","v":" -"}]
[null,{"$f":"'All hospitals'!B173","v":"Mona Vale Hospital (Subacute hospital overseen by Hornsby Hospital; some antivenoms available on imprest)"},{"$f":"'All hospitals'!C173","v":"Mona Vale "},{"$f":"'All hospitals'!E173","v":"02 9998 6040"},{"$f":"'All hospitals'!F173","v":"02 9998 6300"},{"$f":"'All hospitals'!S173","v":2},{"$f":"'All hospitals'!T173","v":"Urgent Care Centre"},{"$f":"'All hospitals'!U173","v":" -"},{"$f":"'All hospitals'!V173","v":" -"}]
[null,{"$f":"'All hospitals'!B174","v":"Northern Beaches Health Service (replaces Manly Hospital) "},{"$f":"'All hospitals'!C174","v":"Frenchs Forest"},{"$f":"'All hospitals'!E174","v":"02 9105 5000"},{"$f":"'All hospitals'!F174","v":"0490 124 164"},{"$f":"'All hospitals'!S174","v":4},{"$f":"'All hospitals'!T174","v":"ED fridge"},{"$f":"'All hospitals'!U174","v":" -"},{"$f":"'All hospitals'!V174","v":" -"}]
[null,{"$f":"'All hospitals'!B175","v":"Royal North Shore Hospital"},{"$f":"'All hospitals'!C175","v":"St Leonards"},{"$f":"'All hospitals'!E175","v":"02 9463 1140"},{"$f":"'All hospitals'!F175","v":"02 9926 7111 On-call pharmacist via switchboard"},{"$f":"'All hospitals'!S175","v":4},{"$f":"'All hospitals'!T175","v":"ED Resus Room"},{"$f":"'All hospitals'!U175","v":" -"},{"$f":"'All hospitals'!V175","v":" -"}]
[null,{"$f":"'All hospitals'!B176","v":"Ryde Hospital"},{"$f":"'All hospitals'!C176","v":"Eastwood"},{"$f":"'All hospitals'!E176","v":"02 9858 7888"},{"$f":"'All hospitals'!F176","v":"Oncall Pharmacist (0472 809 062) AHNM (0402 990 158)"},{"$f":"'All hospitals'!S176","v":2},{"$f":"'All hospitals'!T176","v":"ED"},{"$f":"'All hospitals'!U176","v":" -"},{"$f":"'All hospitals'!V176","v":" -"}]
[null,{"$f":"'All hospitals'!B171","v":0},{"$f":"'All hospitals'!C171","v":0},{"$f":"'All hospitals'!E171","v":0},{"$f":"'All hospitals'!F171","v":0},{"$f":"'All hospitals'!S171","v":0},{"$f":"'All hospitals'!T171","v":0},{"$f":"'All hospitals'!U171","v":0},{"$f":"'All hospitals'!V171","v":0}]
[null,{"$f":"'All hospitals'!B177","v":"-"},{"$f":"'All hospitals'!C177","v":"-"},{"$f":"'All hospitals'!E177","v":"-"},{"$f":"'All hospitals'!F177","v":"-"},{"$f":"'All hospitals'!S177","v":"-"},{"$f":"'All hospitals'!T177","v":"-"},{"$f":"'All hospitals'!U177","v":"-"},{"$f":"'All hospitals'!V177","v":"-"}]
[null,{"$f":"'All hospitals'!B178","v":"SOUTH EASTERN SYDNEY LHD"}]
[null,{"$f":"'All hospitals'!B179","v":"Calvary Hospital  (Stock data TBC)"},{"$f":"'All hospitals'!C179","v":"Kogarah"},{"$f":"'All hospitals'!E179","v":"-"},{"$f":"'All hospitals'!F179","v":"-"},{"$f":"'All hospitals'!S179","v":"-"},{"$f":"'All hospitals'!T179","v":"-"},{"$f":"'All hospitals'!U179","v":"-"},{"$f":"'All hospitals'!V179","v":"-"}]
[null,{"$f":"'All hospitals'!B180","v":"Prince of Wales Hospital "},{"$f":"'All hospitals'!C180","v":"Randwick, Sydney"},{"$f":"'All hospitals'!E180","v":"02 9382 2222"},{"$f":"'All hospitals'!F180","v":"oncall pharmacist via switchboard 02 9382 2222 "},{"$f":"'All hospitals'!S180","v":4},{"$f":"'All hospitals'!T180","v":"ED"},{"$f":"'All hospitals'!U180","v":4},{"$f":"'All hospitals'!V180","v":"Pharmacy"}]
[null,{"$f":"'All hospitals'!B181","v":"Royal Hospital for Women NO STOCKS HELD"},{"$f":"'All hospitals'!C181","v":"Sydney"},{"$f":"'All hospitals'!E181","v":"02 9382 6716"},{"$f":"'All hospitals'!F181","v":"02 9382 2222 on call pharmacist"},{"$f":"'All hospitals'!S181","v":0},{"$f":"'All hospitals'!T181","v":" -"},{"$f":"'All hospitals'!U181","v":" -"},{"$f":"'All hospitals'!V181","v":" -"}]
[null,{"$f":"'All hospitals'!B182","v":"St George Hospital"},{"$f":"'All hospitals'!C182","v":"Kogarah"},{"$f":"'All hospitals'!E182","v":"02 9113 3055"},{"$f":"'All hospitals'!F182","v":"Page AHNM via switchboard 02 9113 1111"},{"$f":"'All hospitals'!S182","v":4},{"$f":"'All hospitals'!T182","v":"ED resus"},{"$f":"'All hospitals'!U182","v":" -"},{"$f":"'All hospitals'!V182","v":" -"}]
[null,{"$f":"'All hospitals'!B183","v":"Sydney Hospital and Sydney Eye Hospital"},{"$f":"'All hospitals'!C183","v":"Sydney"},{"$f":"'All hospitals'!E183","v":"02 9382 7379"},{"$f":"'All hospitals'!F183","v":"02 9382 7111  ask for Emergency Department"},{"$f":"'All hospitals'!S183","v":0},{"$f":"'All hospitals'!T183","v":" -"},{"$f":"'All hospitals'!U183","v":" -"},{"$f":"'All hospitals'!V183","v":" -"}]
[null,{"$f":"'All hospitals'!B184","v":"The Sutherland Hospital"},{"$f":"'All hospitals'!C184","v":"Sydney"},{"$f":"'All hospitals'!E184","v":"02 9540 7466 OR 02 9540 7467"},{"$f":"'All hospitals'!F184","v":"02 9540 7111"},{"$f":"'All hospitals'!S184","v":7},{"$f":"'All hospitals'!T184","v":"Pharmacy fridge 3"},{"$f":"'All hospitals'!U184","v":"-"},{"$f":"'All hospitals'!V184","v":"-"}]
[null,{"$f":"'All hospitals'!B185","v":"-"},{"$f":"'All hospitals'!C185","v":"-"},{"$f":"'All hospitals'!E185","v":"-"},{"$f":"'All hospitals'!F185","v":"-"},{"$f":"'All hospitals'!S185","v":"-"},{"$f":"'All hospitals'!T185","v":"-"},{"$f":"'All hospitals'!U185","v":"-"},{"$f":"'All hospitals'!V185","v":"-"}]
[null,{"$f":"'All hospitals'!B186","v":"SOUTH WESTERN SYDNEY LHD"}]
[null,{"$f":"'All hospitals'!B187","v":"Bankstown-Lidcombe Hospital"},{"$f":"'All hospitals'!C187","v":"Sydney"},{"$f":"'All hospitals'!E187","v":"02 9722 8000"},{"$f":"'All hospitals'!F187","v":"02 9722 8000"},{"$f":"'All hospitals'!S187","v":2},{"$f":"'All hospitals'!T187","v":"ED"},{"$f":"'All hospitals'!U187","v":" -"},{"$f":"'All hospitals'!V187","v":" -"}]
[null,{"$f":"'All hospitals'!B188","v":"Bowral District Hospital"},{"$f":"'All hospitals'!C188","v":"Bowral"},{"$f":"'All hospitals'!E188","v":"02 4861 0274"},{"$f":"'All hospitals'!F188","v":"02 4861 0199"},{"$f":"'All hospitals'!S188","v":2},{"$f":"'All hospitals'!T188","v":"Pharmacy"},{"$f":"'All hospitals'!U188","v":" -"},{"$f":"'All hospitals'!V188","v":" -"}]
[null,{"$f":"'All hospitals'!B189","v":"Camden Hospital "},{"$f":"'All hospitals'!C189","v":"Sydney"},{"$f":"'All hospitals'!E189","v":"02 4634 3000"},{"$f":"'All hospitals'!F189","v":"0408 662 394"},{"$f":"'All hospitals'!S189","v":2},{"$f":"'All hospitals'!T189","v":"ED"},{"$f":"'All hospitals'!U189","v":0},{"$f":"'All hospitals'!V189","v":"-"}]
[null,{"$f":"'All hospitals'!B190","v":"Campbelltown Hospital "},{"$f":"'All hospitals'!C190","v":"Sydney"},{"$f":"'All hospitals'!E190","v":"02 4634 3000"},{"$f":"'All hospitals'!F190","v":"0408 662 394"},{"$f":"'All hospitals'!S190","v":4},{"$f":"'All hospitals'!T190","v":"ED"},{"$f":"'All hospitals'!U190","v":0},{"$f":"'All hospitals'!V190","v":"-"}]
[null,{"$f":"'All hospitals'!B191","v":"Fairfield Hospital"},{"$f":"'All hospitals'!C191","v":"Fairfield"},{"$f":"'All hospitals'!E191","v":"02 9616 8322"},{"$f":"'All hospitals'!F191","v":"02 9616 8111"},{"$f":"'All hospitals'!S191","v":0},{"$f":"'All hospitals'!T191","v":" -"},{"$f":"'All hospitals'!U191","v":" -"},{"$f":"'All hospitals'!V191","v":" -"}]
[null,{"$f":"'All hospitals'!B192","v":"Liverpool Hospital"},{"$f":"'All hospitals'!C192","v":"Sydney"},{"$f":"'All hospitals'!E192","v":"02 8738 3000"},{"$f":"'All hospitals'!F192","v":"02 8738 3000"},{"$f":"'All hospitals'!S192","v":2},{"$f":"'All hospitals'!T192","v":"ED"},{"$f":"'All hospitals'!U192","v":2},{"$f":"'All hospitals'!V192","v":"Pharmacy"}]
[null,{"$f":"'All hospitals'!B193","v":"-"},{"$f":"'All hospitals'!C193","v":"-"},{"$f":"'All hospitals'!E193","v":"-"},{"$f":"'All hospitals'!F193","v":"-"},{"$f":"'All hospitals'!S193","v":"-"},{"$f":"'All hospitals'!T193","v":"-"},{"$f":"'All hospitals'!U193","v":"-"},{"$f":"'All hospitals'!V193","v":"-"}]
[null,{"$f":"'All hospitals'!B194","v":"SOUTHERN NSW"}]
[null,{"$f":"'All hospitals'!B195","v":"Bateman's Bay District Hospital "},{"$f":"'All hospitals'!C195","v":"Bateman's Bay"},{"$f":"'All hospitals'!E195","v":"02 4475 1500"},{"$f":"'All hospitals'!F195","v":"0419 421 411"},{"$f":"'All hospitals'!S195","v":4},{"$f":"'All hospitals'!T195","v":"ED"},{"$f":"'All hospitals'!U195","v":0},{"$f":"'All hospitals'!V195","v":"-"}]
[null,{"$f":"'All hospitals'!B196","v":"South East Regional Hospital (SERH / Bega District Hospital)"},{"$f":"'All hospitals'!C196","v":"Bega"},{"$f":"'All hospitals'!E196","v":"02 6492 9111"},{"$f":"'All hospitals'!F196","v":"0419 421 411"},{"$f":"'All hospitals'!S196","v":4},{"$f":"'All hospitals'!T196","v":"ED "},{"$f":"'All hospitals'!U196","v":"-"},{"$f":"'All hospitals'!V196","v":"-"}]
[null,{"$f":"'All hospitals'!B197","v":"Bombala Hospital "},{"$f":"'All hospitals'!C197","v":"Bombala"},{"$f":"'All hospitals'!E197","v":"02 6458 5777"},{"$f":"'All hospitals'!F197","v":"0419 421 411"},{"$f":"'All hospitals'!S197","v":2},{"$f":"'All hospitals'!T197","v":"Hospital Fridge"},{"$f":"'All hospitals'!U197","v":0},{"$f":"'All hospitals'!V197","v":"-"}]
[null,{"$f":"'All hospitals'!B198","v":"Braidwood Hospital "},{"$f":"'All hospitals'!C198","v":"Braidwood"},{"$f":"'All hospitals'!E198","v":"02 4842 2566"},{"$f":"'All hospitals'!F198","v":"0419 421 411"},{"$f":"'All hospitals'!S198","v":0},{"$f":"'All hospitals'!T198","v":" -"},{"$f":"'All hospitals'!U198","v":" -"},{"$f":"'All hospitals'!V198","v":" -"}]
[null,{"$f":"'All hospitals'!B199","v":"Cooma District Hospital "},{"$f":"'All hospitals'!C199","v":"Cooma"},{"$f":"'All hospitals'!E199","v":"02 6455 3222"},{"$f":"'All hospitals'!F199","v":"0419 421 411"},{"$f":"'All hospitals'!S199","v":2},{"$f":"'All hospitals'!T199","v":"ED "},{"$f":"'All hospitals'!U199","v":2},{"$f":"'All hospitals'!V199","v":"Pharmacy"}]
[null,{"$f":"'All hospitals'!B200","v":"Crookwell District Hospital "},{"$f":"'All hospitals'!C200","v":"Crookwell NSW"},{"$f":"'All hospitals'!E200","v":"02 4832 1300"},{"$f":"'All hospitals'!F200","v":"0419 421 411"},{"$f":"'All hospitals'!S200","v":0},{"$f":"'All hospitals'!T200","v":" -"},{"$f":"'All hospitals'!U200","v":" -"},{"$f":"'All hospitals'!V200","v":" -"}]
[null,{"$f":"'All hospitals'!B201","v":"Delegate Hospital "},{"$f":"'All hospitals'!C201","v":"Delegate"},{"$f":"'All hospitals'!E201","v":"02 6459 8000"},{"$f":"'All hospitals'!F201","v":"0419 421 411"},{"$f":"'All hospitals'!S201","v":2},{"$f":"'All hospitals'!T201","v":"Hospital Fridge"},{"$f":"'All hospitals'!U201","v":" -"},{"$f":"'All hospitals'!V201","v":" -"}]
[null,{"$f":"'All hospitals'!B202","v":"Goulburn Base Hospital "},{"$f":"'All hospitals'!C202","v":"Goulburn"},{"$f":"'All hospitals'!E202","v":"02 4827 3111"},{"$f":"'All hospitals'!F202","v":"02 4827 3111"},{"$f":"'All hospitals'!S202","v":2},{"$f":"'All hospitals'!T202","v":"ED "},{"$f":"'All hospitals'!U202","v":4},{"$f":"'All hospitals'!V202","v":"Pharmacy"}]
[null,{"$f":"'All hospitals'!B203","v":"Moruya District Hospital "},{"$f":"'All hospitals'!C203","v":"Moruya"},{"$f":"'All hospitals'!E203","v":"02 4474 2666"},{"$f":"'All hospitals'!F203","v":"0419 421 411"},{"$f":"'All hospitals'!S203","v":4},{"$f":"'All hospitals'!T203","v":"ED"},{"$f":"'All hospitals'!U203","v":0},{"$f":"'All hospitals'!V203","v":"Pharmacy"}]
[null,{"$f":"'All hospitals'!B204","v":"Pambula District Hospital "},{"$f":"'All hospitals'!C204","v":"Pambula"},{"$f":"'All hospitals'!E204","v":"02 6495 8200"},{"$f":"'All hospitals'!F204","v":"0419 421 411"},{"$f":"'All hospitals'!S204","v":4},{"$f":"'All hospitals'!T204","v":"ED"},{"$f":"'All hospitals'!U204","v":" -"},{"$f":"'All hospitals'!V204","v":" -"}]
[null,{"$f":"'All hospitals'!B205","v":"Queanbeyan Hospital "},{"$f":"'All hospitals'!C205","v":"Queanbeyan"},{"$f":"'All hospitals'!E205","v":"02 6150 7000"},{"$f":"'All hospitals'!F205","v":"0419 421 411"},{"$f":"'All hospitals'!S205","v":0},{"$f":"'All hospitals'!T205","v":" -"},{"$f":"'All hospitals'!U205","v":" -"},{"$f":"'All hospitals'!V205","v":" -"}]
[null,{"$f":"'All hospitals'!B206","v":"Yass District Hospital "},{"$f":"'All hospitals'!C206","v":"Yass"},{"$f":"'All hospitals'!E206","v":"02 6220 2000"},{"$f":"'All hospitals'!F206","v":"0419 421 411"},{"$f":"'All hospitals'!S206","v":0},{"$f":"'All hospitals'!T206","v":" -"},{"$f":"'All hospitals'!U206","v":" -"},{"$f":"'All hospitals'!V206","v":" -"}]
[null,{"$f":"'All hospitals'!B207","v":"-"},{"$f":"'All hospitals'!C207","v":"-"},{"$f":"'All hospitals'!E207","v":"-"},{"$f":"'All hospitals'!F207","v":"-"},{"$f":"'All hospitals'!S207","v":"-"},{"$f":"'All hospitals'!T207","v":"-"},{"$f":"'All hospitals'!U207","v":"-"},{"$f":"'All hospitals'!V207","v":"-"}]
[null,{"$f":"'All hospitals'!B208","v":"ST VINCENT'S HEALTH"}]
[null,{"$f":"'All hospitals'!B209","v":"St Vincent's Hospital"},{"$f":"'All hospitals'!C209","v":"Darlinghurst"},{"$f":"'All hospitals'!E209","v":"02 8282 2125"},{"$f":"'All hospitals'!F209","v":"02 8382 1111 (on call pharmacist via switchboard)"},{"$f":"'All hospitals'!S209","v":2},{"$f":"'All hospitals'!T209","v":"After hours cupboard"},{"$f":"'All hospitals'!U209","v":" -"},{"$f":"'All hospitals'!V209","v":" -"}]
[null,{"$f":"'All hospitals'!B210","v":"-"},{"$f":"'All hospitals'!C210","v":"-"},{"$f":"'All hospitals'!E210","v":"-"},{"$f":"'All hospitals'!F210","v":"-"},{"$f":"'All hospitals'!S210","v":"-"},{"$f":"'All hospitals'!T210","v":"-"},{"$f":"'All hospitals'!U210","v":"-"},{"$f":"'All hospitals'!V210","v":"-"}]
[null,{"$f":"'All hospitals'!B211","v":"SYDNEY LHD"}]
[null,{"$f":"'All hospitals'!B212","v":"Balmain Hospital (No ED services) NO STOCKS HELD"},{"$f":"'All hospitals'!C212","v":"Balmain"},{"$f":"'All hospitals'!E212","v":"02 9395 2111"},{"$f":"'All hospitals'!F212","v":" -"},{"$f":"'All hospitals'!S212","v":" -"},{"$f":"'All hospitals'!T212","v":" -"},{"$f":"'All hospitals'!U212","v":" -"},{"$f":"'All hospitals'!V212","v":" -"}]
[null,{"$f":"'All hospitals'!B213","v":"Canterbury Hospital "},{"$f":"'All hospitals'!C213","v":"Campsie"},{"$f":"'All hospitals'!E213","v":"02 9787 0219"},{"$f":"'All hospitals'!F213","v":"02 9787 0000"},{"$f":"'All hospitals'!S213","v":2},{"$f":"'All hospitals'!T213","v":"ED"},{"$f":"'All hospitals'!U213","v":" -"},{"$f":"'All hospitals'!V213","v":" -"}]
[null,{"$f":"'All hospitals'!B214","v":"Concord Hospital"},{"$f":"'All hospitals'!C214","v":"Concord"},{"$f":"'All hospitals'!E214","v":"02 9767 6214"},{"$f":"'All hospitals'!F214","v":"02 9767 5000"},{"$f":"'All hospitals'!S214","v":2},{"$f":"'All hospitals'!T214","v":"AHC"},{"$f":"'All hospitals'!U214","v":" -"},{"$f":"'All hospitals'!V214","v":" -"}]
[null,{"$f":"'All hospitals'!B215","v":"Royal Prince Alfred Hospital"},{"$f":"'All hospitals'!C215","v":"Camperdown"},{"$f":"'All hospitals'!E215","v":"02 9515 6111"},{"$f":"'All hospitals'!F215","v":"02 9515 6111"},{"$f":"'All hospitals'!S215","v":4},{"$f":"'All hospitals'!T215","v":"ED"},{"$f":"'All hospitals'!U215","v":" -"},{"$f":"'All hospitals'!V215","v":" -"}]
[null,{"$f":"'All hospitals'!B216","v":"-"},{"$f":"'All hospitals'!C216","v":"-"},{"$f":"'All hospitals'!E216","v":"-"},{"$f":"'All hospitals'!F216","v":"-"},{"$f":"'All hospitals'!S216","v":"-"},{"$f":"'All hospitals'!T216","v":"-"},{"$f":"'All hospitals'!U216","v":"-"},{"$f":"'All hospitals'!V216","v":"-"}]
[null,{"$f":"'All hospitals'!B217","v":"SYDNEY CHILDREN'S HOSPITALS NETWORK"}]
[null,{"$f":"'All hospitals'!B218","v":"Sydney Children's Hospital Randwick (SCH) (see also stocks kept at Prince of Wales (adjacent hospital))"},{"$f":"'All hospitals'!C218","v":"Randwick"},{"$f":"'All hospitals'!E218","v":"02 9382 1111"},{"$f":"'All hospitals'!F218","v":"029382 2222  Pharmacist on call "},{"$f":"'All hospitals'!S218","v":" -"},{"$f":"'All hospitals'!T218","v":" -"},{"$f":"'All hospitals'!U218","v":" -"},{"$f":"'All hospitals'!V218","v":" -"}]
[null,{"$f":"'All hospitals'!B219","v":"The Children's Hospital Westmead (CHW)"},{"$f":"'All hospitals'!C219","v":"Westmead"},{"$f":"'All hospitals'!E219","v":"02 9845 0000"},{"$f":"'All hospitals'!F219","v":"02 9845 0000 (on call pharmacist via switchboard)"},{"$f":"'All hospitals'!S219","v":2},{"$f":"'All hospitals'!T219","v":"ED"},{"$f":"'All hospitals'!U219","v":3},{"$f":"'All hospitals'!V219","v":"Pharmacy "}]
[null,{"$f":"'All hospitals'!B220","v":" Newborn & Paediatric Emergency Transport Service (NETS)"},{"$f":"'All hospitals'!C220","v":"Bankstown Aerodrome"},{"$f":"'All hospitals'!E220","v":1300362730},{"$f":"'All hospitals'!F220","v":1300362730},{"$f":"'All hospitals'!S220","v":"-"},{"$f":"'All hospitals'!T220","v":"-"},{"$f":"'All hospitals'!U220","v":"-"},{"$f":"'All hospitals'!V220","v":"-"}]
[null,{"$f":"'All hospitals'!B221","v":"-"},{"$f":"'All hospitals'!C221","v":"-"},{"$f":"'All hospitals'!E221","v":"-"},{"$f":"'All hospitals'!F221","v":"-"},{"$f":"'All hospitals'!S221","v":"-"},{"$f":"'All hospitals'!T221","v":"-"},{"$f":"'All hospitals'!U221","v":"-"},{"$f":"'All hospitals'!V221","v":"-"}]
[null,{"$f":"'All hospitals'!B222","v":"WESTERN NSW LHD"}]
[null,{"$f":"'All hospitals'!B223","v":"Baradine Multi Purpose Service"},{"$f":"'All hospitals'!C223","v":"Baradine, NSW"},{"$f":"'All hospitals'!E223","v":"02 6843 1605"},{"$f":"'All hospitals'!F223","v":"02 6843 4100"},{"$f":"'All hospitals'!S223","v":0},{"$f":"'All hospitals'!T223","v":" -"},{"$f":"'All hospitals'!U223","v":" -"},{"$f":"'All hospitals'!V223","v":" -"}]
[null,{"$f":"'All hospitals'!B224","v":"Bathurst Hospital"},{"$f":"'All hospitals'!C224","v":"Bathurst"},{"$f":"'All hospitals'!E224","v":"02 6330 5304"},{"$f":"'All hospitals'!F224","v":"02 6330 5308"},{"$f":"'All hospitals'!S224","v":2},{"$f":"'All hospitals'!T224","v":"After Hours Cupboard"},{"$f":"'All hospitals'!U224","v":" -"},{"$f":"'All hospitals'!V224","v":" -"}]
[null,{"$f":"'All hospitals'!B225","v":"Blayney Multi Purpose Service"},{"$f":"'All hospitals'!C225","v":"Blayney"},{"$f":"'All hospitals'!E225","v":"02 6368 9029 "},{"$f":"'All hospitals'!F225","v":"02 6368 9029 "},{"$f":"'All hospitals'!S225","v":0},{"$f":"'All hospitals'!T225","v":" -"},{"$f":"'All hospitals'!U225","v":" -"},{"$f":"'All hospitals'!V225","v":" -"}]
[null,{"$f":"'All hospitals'!B226","v":"Bourke Multi Purpose Service "},{"$f":"'All hospitals'!C226","v":"Bourke"},{"$f":"'All hospitals'!E226","v":"02 6870 8888"},{"$f":"'All hospitals'!F226","v":"02 6870 8888"},{"$f":"'All hospitals'!S226","v":0},{"$f":"'All hospitals'!T226","v":" -"},{"$f":"'All hospitals'!U226","v":" -"},{"$f":"'All hospitals'!V226","v":" -"}]
[null,{"$f":"'All hospitals'!B227","v":"Brewarrina Multi Purpose Service "},{"$f":"'All hospitals'!C227","v":"Brewarrina"},{"$f":"'All hospitals'!E227","v":"02 6830 5000"},{"$f":"'All hospitals'!F227","v":"02 6830 5000"},{"$f":"'All hospitals'!S227","v":0},{"$f":"'All hospitals'!T227","v":" -"},{"$f":"'All hospitals'!U227","v":" -"},{"$f":"'All hospitals'!V227","v":" -"}]
[null,{"$f":"'All hospitals'!B228","v":"Canowindra Soldiers Memorial Hospital (Stock data TBC)"},{"$f":"'All hospitals'!C228","v":"Canowindra"},{"$f":"'All hospitals'!E228","v":"02 6364 4300"},{"$f":"'All hospitals'!F228","v":"02 6340 3033"},{"$f":"'All hospitals'!S228","v":0},{"$f":"'All hospitals'!T228","v":" -"},{"$f":"'All hospitals'!U228","v":" -"},{"$f":"'All hospitals'!V228","v":" -"}]
[null,{"$f":"'All hospitals'!B229","v":"Cobar District Hospital (Stock data TBC)"},{"$f":"'All hospitals'!C229","v":"Cobar"},{"$f":"'All hospitals'!E229","v":"02 6836 2406"},{"$f":"'All hospitals'!F229","v":"02 6830 2111"},{"$f":"'All hospitals'!S229","v":0},{"$f":"'All hospitals'!T229","v":" -"},{"$f":"'All hospitals'!U229","v":" -"},{"$f":"'All hospitals'!V229","v":" -"}]
[null,{"$f":"'All hospitals'!B230","v":"Collarenebri Multi Purpose Service "},{"$f":"'All hospitals'!C230","v":"Collarenebri"},{"$f":"'All hospitals'!E230","v":"02 6756 4800"},{"$f":"'All hospitals'!F230","v":"02 6756 4800"},{"$f":"'All hospitals'!S230","v":0},{"$f":"'All hospitals'!T230","v":" -"},{"$f":"'All hospitals'!U230","v":" -"},{"$f":"'All hospitals'!V230","v":" -"}]
[null,{"$f":"'All hospitals'!B231","v":"Condobolin District Hospital"},{"$f":"'All hospitals'!C231","v":"Condobolin"},{"$f":"'All hospitals'!E231","v":"02 6890 1500"},{"$f":"'All hospitals'!F231","v":"02 6890 1500"},{"$f":"'All hospitals'!S231","v":0},{"$f":"'All hospitals'!T231","v":" -"},{"$f":"'All hospitals'!U231","v":" -"},{"$f":"'All hospitals'!V231","v":" -"}]
[null,{"$f":"'All hospitals'!B232","v":"Coolah Multi Purpose Service (Stock data TBC)"},{"$f":"'All hospitals'!C232","v":"Coolah"},{"$f":"'All hospitals'!E232","v":"02 6377 9100"},{"$f":"'All hospitals'!F232","v":"02 6377 9100"},{"$f":"'All hospitals'!S232","v":0},{"$f":"'All hospitals'!T232","v":" -"},{"$f":"'All hospitals'!U232","v":" -"},{"$f":"'All hospitals'!V232","v":" -"}]
[null,{"$f":"'All hospitals'!B233","v":"Coonabarabran District Hospital"},{"$f":"'All hospitals'!C233","v":"Coonabarabran"},{"$f":"'All hospitals'!E233","v":"02 6849 1600"},{"$f":"'All hospitals'!F233","v":"02 6849 1600"},{"$f":"'All hospitals'!S233","v":0},{"$f":"'All hospitals'!T233","v":" -"},{"$f":"'All hospitals'!U233","v":" -"},{"$f":"'All hospitals'!V233","v":" -"}]
[null,{"$f":"'All hospitals'!B234","v":"Coonamble Multi Purpose Service (Stock data TBC)"},{"$f":"'All hospitals'!C234","v":"Coonamble"},{"$f":"'All hospitals'!E234","v":"02 6827 1100"},{"$f":"'All hospitals'!F234","v":"02 6827 1100"},{"$f":"'All hospitals'!S234","v":0},{"$f":"'All hospitals'!T234","v":" -"},{"$f":"'All hospitals'!U234","v":" -"},{"$f":"'All hospitals'!V234","v":" -"}]
[null,{"$f":"'All hospitals'!B235","v":"Cowra Hospital (Stock data TBC)"},{"$f":"'All hospitals'!C235","v":"Cowra"},{"$f":"'All hospitals'!E235","v":"02 6340 9000"},{"$f":"'All hospitals'!F235","v":"02 6340 9000"},{"$f":"'All hospitals'!S235","v":0},{"$f":"'All hospitals'!T235","v":" -"},{"$f":"'All hospitals'!U235","v":" -"},{"$f":"'All hospitals'!V235","v":" -"}]
[null,{"$f":"'All hospitals'!B236","v":"Cudal Health Service NO STOCKS HELD"},{"$f":"'All hospitals'!C236","v":"Cudal"},{"$f":"'All hospitals'!E236","v":"02 6392 3400"},{"$f":"'All hospitals'!F236","v":" -"},{"$f":"'All hospitals'!S236","v":0},{"$f":"'All hospitals'!T236","v":" -"},{"$f":"'All hospitals'!U236","v":" -"},{"$f":"'All hospitals'!V236","v":" -"}]
[null,{"$f":"'All hospitals'!B237","v":"Dubbo Base Hospital"},{"$f":"'All hospitals'!C237","v":"Dubbo"},{"$f":"'All hospitals'!E237","v":"02 6809 8150"},{"$f":"'All hospitals'!F237","v":"02 6809 6809"},{"$f":"'All hospitals'!S237","v":1},{"$f":"'All hospitals'!T237","v":"After Hours Pharmacy"},{"$f":"'All hospitals'!U237","v":" -"},{"$f":"'All hospitals'!V237","v":" -"}]
[null,{"$f":"'All hospitals'!B238","v":"Dunedoo Multi Purpose Service (Stock data TBC)"},{"$f":"'All hospitals'!C238","v":"Dunedoo"},{"$f":"'All hospitals'!E238","v":"02 6375 1408"},{"$f":"'All hospitals'!F238","v":"02 6370 3000"},{"$f":"'All hospitals'!S238","v":0},{"$f":"'All hospitals'!T238","v":" -"},{"$f":"'All hospitals'!U238","v":" -"},{"$f":"'All hospitals'!V238","v":" -"}]
[null,{"$f":"'All hospitals'!B239","v":"Eugowra Multi Purpose Service (Stock data TBC)"},{"$f":"'All hospitals'!C239","v":"Eugowra"},{"$f":"'All hospitals'!E239","v":"02 6850 4000"},{"$f":"'All hospitals'!F239","v":"02 6850 4000"},{"$f":"'All hospitals'!S239","v":0},{"$f":"'All hospitals'!T239","v":" -"},{"$f":"'All hospitals'!U239","v":" -"},{"$f":"'All hospitals'!V239","v":" -"}]
[null,{"$f":"'All hospitals'!B240","v":"Forbes District Hospital "},{"$f":"'All hospitals'!C240","v":"Forbes"},{"$f":"'All hospitals'!E240","v":"02 6850 7100"},{"$f":"'All hospitals'!F240","v":"02 6850 7100"},{"$f":"'All hospitals'!S240","v":0},{"$f":"'All hospitals'!T240","v":" -"},{"$f":"'All hospitals'!U240","v":" -"},{"$f":"'All hospitals'!V240","v":" -"}]
[null,{"$f":"'All hospitals'!B241","v":"Gilgandra Multi Purpose Service (Stock data TBC)"},{"$f":"'All hospitals'!C241","v":"Gilgandra"},{"$f":"'All hospitals'!E241","v":"02 6880 5900"},{"$f":"'All hospitals'!F241","v":"02 6880 5900"},{"$f":"'All hospitals'!S241","v":0},{"$f":"'All hospitals'!T241","v":" -"},{"$f":"'All hospitals'!U241","v":" -"},{"$f":"'All hospitals'!V241","v":" -"}]
[null,{"$f":"'All hospitals'!B242","v":"Goodooga Health Service "},{"$f":"'All hospitals'!C242","v":"Goodooga"},{"$f":"'All hospitals'!E242","v":"02 6829 5600"},{"$f":"'All hospitals'!F242","v":" - "},{"$f":"'All hospitals'!S242","v":0},{"$f":"'All hospitals'!T242","v":" -"},{"$f":"'All hospitals'!U242","v":" -"},{"$f":"'All hospitals'!V242","v":" -"}]
[null,{"$f":"'All hospitals'!B243","v":"Grenfell Multi Purpose Service (Stock data TBC)"},{"$f":"'All hospitals'!C243","v":"Grenfell"},{"$f":"'All hospitals'!E243","v":"02 6349 1700"},{"$f":"'All hospitals'!F243","v":"02 6349 1700"},{"$f":"'All hospitals'!S243","v":0},{"$f":"'All hospitals'!T243","v":" -"},{"$f":"'All hospitals'!U243","v":" -"},{"$f":"'All hospitals'!V243","v":" -"}]
[null,{"$f":"'All hospitals'!B244","v":"Gulargambone NO STOCKS HELD"},{"$f":"'All hospitals'!C244","v":"Gulargambone"},{"$f":"'All hospitals'!E244","v":"02 6825 1201"},{"$f":"'All hospitals'!F244","v":"-"},{"$f":"'All hospitals'!S244","v":0},{"$f":"'All hospitals'!T244","v":" -"},{"$f":"'All hospitals'!U244","v":" -"},{"$f":"'All hospitals'!V244","v":" -"}]
[null,{"$f":"'All hospitals'!B245","v":"Gulgong Health Service "},{"$f":"'All hospitals'!C245","v":"Gulgong"},{"$f":"'All hospitals'!E245","v":"02 6374 3400"},{"$f":"'All hospitals'!F245","v":"02 6374 1200"},{"$f":"'All hospitals'!S245","v":0},{"$f":"'All hospitals'!T245","v":" -"},{"$f":"'All hospitals'!U245","v":" -"},{"$f":"'All hospitals'!V245","v":" -"}]
[null,{"$f":"'All hospitals'!B246","v":"Lightning Ridge Multi Purpose Service "},{"$f":"'All hospitals'!C246","v":"Lightning Ridge"},{"$f":"'All hospitals'!E246","v":"02 6820 5700"},{"$f":"'All hospitals'!F246","v":"02 6820 5700"},{"$f":"'All hospitals'!S246","v":0},{"$f":"'All hospitals'!T246","v":" -"},{"$f":"'All hospitals'!U246","v":" -"},{"$f":"'All hospitals'!V246","v":" -"}]
[null,{"$f":"'All hospitals'!B247","v":"Molong Hospital (Stock data TBC)"},{"$f":"'All hospitals'!C247","v":"Molong"},{"$f":"'All hospitals'!E247","v":"02 6392 3300"},{"$f":"'All hospitals'!F247","v":" -"},{"$f":"'All hospitals'!S247","v":0},{"$f":"'All hospitals'!T247","v":" -"},{"$f":"'All hospitals'!U247","v":" -"},{"$f":"'All hospitals'!V247","v":" -"}]
[null,{"$f":"'All hospitals'!B248","v":"Mudgee Hospital "},{"$f":"'All hospitals'!C248","v":"Mudgee"},{"$f":"'All hospitals'!E248","v":"02 6371 9751"},{"$f":"'All hospitals'!F248","v":"02 6371 9700"},{"$f":"'All hospitals'!S248","v":2},{"$f":"'All hospitals'!T248","v":"ED"},{"$f":"'All hospitals'!U248","v":" -"},{"$f":"'All hospitals'!V248","v":" -"}]
[null,{"$f":"'All hospitals'!B249","v":"Narromine Health Service "},{"$f":"'All hospitals'!C249","v":"Narromine"},{"$f":"'All hospitals'!E249","v":"02 6889 9600"},{"$f":"'All hospitals'!F249","v":"02 6889 9600"},{"$f":"'All hospitals'!S249","v":0},{"$f":"'All hospitals'!T249","v":" -"},{"$f":"'All hospitals'!U249","v":" -"},{"$f":"'All hospitals'!V249","v":" -"}]
[null,{"$f":"'All hospitals'!B250","v":"Nyngan Multi Purpose Service (Stock data TBC)"},{"$f":"'All hospitals'!C250","v":"Nyngan"},{"$f":"'All hospitals'!E250","v":"02 6832 1707"},{"$f":"'All hospitals'!F250","v":"02 6835 1700"},{"$f":"'All hospitals'!S250","v":0},{"$f":"'All hospitals'!T250","v":" -"},{"$f":"'All hospitals'!U250","v":" -"},{"$f":"'All hospitals'!V250","v":" -"}]
[null,{"$f":"'All hospitals'!B251","v":"Oberon Multi Purpose Service"},{"$f":"'All hospitals'!C251","v":"Oberon"},{"$f":"'All hospitals'!E251","v":"02 6336 7200"},{"$f":"'All hospitals'!F251","v":"02 6336 7200"},{"$f":"'All hospitals'!S251","v":2},{"$f":"'All hospitals'!T251","v":" Treatment room fridge "},{"$f":"'All hospitals'!U251","v":" -"},{"$f":"'All hospitals'!V251","v":" -"}]
[null,{"$f":"'All hospitals'!B252","v":"Orange Health Service "},{"$f":"'All hospitals'!C252","v":"Orange"},{"$f":"'All hospitals'!E252","v":"02 6369 3740"},{"$f":"'All hospitals'!F252","v":"02 6369 3222"},{"$f":"'All hospitals'!S252","v":1},{"$f":"'All hospitals'!T252","v":"Pharmacy"},{"$f":"'All hospitals'!U252","v":2},{"$f":"'All hospitals'!V252","v":"ED"}]
[null,{"$f":"'All hospitals'!B253","v":"Parkes District Hospital "},{"$f":"'All hospitals'!C253","v":"Parkes"},{"$f":"'All hospitals'!E253","v":"02 6861 2400"},{"$f":"'All hospitals'!F253","v":"02 6861 2440"},{"$f":"'All hospitals'!S253","v":0},{"$f":"'All hospitals'!T253","v":" -"},{"$f":"'All hospitals'!U253","v":" -"},{"$f":"'All hospitals'!V253","v":" -"}]
[null,{"$f":"'All hospitals'!B254","v":"Peak Hill Multi Purpose Service "},{"$f":"'All hospitals'!C254","v":"Peak Hill"},{"$f":"'All hospitals'!E254","v":"02 6869 5200"},{"$f":"'All hospitals'!F254","v":"02 6869 5200"},{"$f":"'All hospitals'!S254","v":0},{"$f":"'All hospitals'!T254","v":" -"},{"$f":"'All hospitals'!U254","v":" -"},{"$f":"'All hospitals'!V254","v":" -"}]
[null,{"$f":"'All hospitals'!B255","v":"Rylstone Multi Purpose Service "},{"$f":"'All hospitals'!C255","v":"Rylstone"},{"$f":"'All hospitals'!E255","v":"02 6357 6100"},{"$f":"'All hospitals'!F255","v":"02 6357 6100"},{"$f":"'All hospitals'!S255","v":1},{"$f":"'All hospitals'!T255","v":"ED fridge"},{"$f":"'All hospitals'!U255","v":" -"},{"$f":"'All hospitals'!V255","v":" -"}]
[null,{"$f":"'All hospitals'!B256","v":"Tottenham Multi Purpose Service "},{"$f":"'All hospitals'!C256","v":"Tottenham"},{"$f":"'All hospitals'!E256","v":"02 6891  6200"},{"$f":"'All hospitals'!F256","v":"02 6891  6200"},{"$f":"'All hospitals'!S256","v":0},{"$f":"'All hospitals'!T256","v":" -"},{"$f":"'All hospitals'!U256","v":" -"},{"$f":"'All hospitals'!V256","v":" -"}]
[null,{"$f":"'All hospitals'!B257","v":"Trangie Multi Purpose Service (Stock data TBC)"},{"$f":"'All hospitals'!C257","v":"Trangie"},{"$f":"'All hospitals'!E257","v":" -"},{"$f":"'All hospitals'!F257","v":"02 6880 8200"},{"$f":"'All hospitals'!S257","v":0},{"$f":"'All hospitals'!T257","v":" -"},{"$f":"'All hospitals'!U257","v":" -"},{"$f":"'All hospitals'!V257","v":" -"}]
[null,{"$f":"'All hospitals'!B258","v":"Trundle Multi Purpose Service "},{"$f":"'All hospitals'!C258","v":"Trundle"},{"$f":"'All hospitals'!E258","v":"02 6892 1900"},{"$f":"'All hospitals'!F258","v":"02 6892 1900"},{"$f":"'All hospitals'!S258","v":0},{"$f":"'All hospitals'!T258","v":" -"},{"$f":"'All hospitals'!U258","v":" -"},{"$f":"'All hospitals'!V258","v":" -"}]
[null,{"$f":"'All hospitals'!B259","v":"Tullamore Multi Purpose Service "},{"$f":"'All hospitals'!C259","v":"Tullamore"},{"$f":"'All hospitals'!E259","v":"02 6892 6400"},{"$f":"'All hospitals'!F259","v":"02 6892 6400"},{"$f":"'All hospitals'!S259","v":0},{"$f":"'All hospitals'!T259","v":" -"},{"$f":"'All hospitals'!U259","v":" -"},{"$f":"'All hospitals'!V259","v":" -"}]
[null,{"$f":"'All hospitals'!B260","v":"Walgett District Hospital "},{"$f":"'All hospitals'!C260","v":"Walgett"},{"$f":"'All hospitals'!E260","v":"02 6817 9400"},{"$f":"'All hospitals'!F260","v":"02 6817 9400"},{"$f":"'All hospitals'!S260","v":0},{"$f":"'All hospitals'!T260","v":" -"},{"$f":"'All hospitals'!U260","v":" -"},{"$f":"'All hospitals'!V260","v":" -"}]
[null,{"$f":"'All hospitals'!B261","v":"Wanaaring Health Service NO STOCKS HELD"},{"$f":"'All hospitals'!C261","v":"Wanaaring"},{"$f":"'All hospitals'!E261","v":"02 6874 7721"},{"$f":"'All hospitals'!F261","v":"02 6874 7721"},{"$f":"'All hospitals'!S261","v":0},{"$f":"'All hospitals'!T261","v":" -"},{"$f":"'All hospitals'!U261","v":" -"},{"$f":"'All hospitals'!V261","v":" -"}]
[null,{"$f":"'All hospitals'!B262","v":"Warren Multi Purpose Service (Stock data TBC)"},{"$f":"'All hospitals'!C262","v":"Warren"},{"$f":"'All hospitals'!E262","v":"02 6847 4303"},{"$f":"'All hospitals'!F262","v":"02 6847 5400"},{"$f":"'All hospitals'!S262","v":0},{"$f":"'All hospitals'!T262","v":" -"},{"$f":"'All hospitals'!U262","v":" -"},{"$f":"'All hospitals'!V262","v":" -"}]
[null,{"$f":"'All hospitals'!B263","v":"Wellington Health Service"},{"$f":"'All hospitals'!C263","v":"Wellington"},{"$f":"'All hospitals'!E263","v":"02 6840 7200"},{"$f":"'All hospitals'!F263","v":"02 6840 8200"},{"$f":"'All hospitals'!S263","v":0},{"$f":"'All hospitals'!T263","v":" -"},{"$f":"'All hospitals'!U263","v":" -"},{"$f":"'All hospitals'!V263","v":" -"}]
[null,{"$f":"'All hospitals'!B264","v":"-"},{"$f":"'All hospitals'!C264","v":"-"},{"$f":"'All hospitals'!E264","v":"-"},{"$f":"'All hospitals'!F264","v":"-"},{"$f":"'All hospitals'!S264","v":"-"},{"$f":"'All hospitals'!T264","v":"-"},{"$f":"'All hospitals'!U264","v":"-"},{"$f":"'All hospitals'!V264","v":"-"}]
[null,{"$f":"'All hospitals'!B265","v":"WESTERN SYDNEY LHD & OTHER"}]
[null,{"$f":"'All hospitals'!B266","v":"Auburn Hospital"},{"$f":"'All hospitals'!C266","v":"Auburn"},{"$f":"'All hospitals'!E266","v":"02 8759 3302"},{"$f":"'All hospitals'!F266","v":"02 8759 3000"},{"$f":"'All hospitals'!S266","v":2},{"$f":"'All hospitals'!T266","v":"After Hours Medication Room"},{"$f":"'All hospitals'!U266","v":" -"},{"$f":"'All hospitals'!V266","v":" -"}]
[null,{"$f":"'All hospitals'!B267","v":"Blacktown Hospital "},{"$f":"'All hospitals'!C267","v":"Blacktown"},{"$f":"'All hospitals'!E267","v":"02 9881 8142"},{"$f":"'All hospitals'!F267","v":"02 9881 8000 (afterhours nurse manager via switch)"},{"$f":"'All hospitals'!S267","v":4},{"$f":"'All hospitals'!T267","v":"ED Resus Fridge"},{"$f":"'All hospitals'!U267","v":" -"},{"$f":"'All hospitals'!V267","v":" -"}]
[null,{"$f":"'All hospitals'!B268","v":"Mount Druitt Hospital "},{"$f":"'All hospitals'!C268","v":"Mount Druitt NSW"},{"$f":"'All hospitals'!E268","v":"02 9881 1581"},{"$f":"'All hospitals'!F268","v":"02 9881 1555  (afterhours nurse manager via switch)"},{"$f":"'All hospitals'!S268","v":2},{"$f":"'All hospitals'!T268","v":"ED Resus Fridge "},{"$f":"'All hospitals'!U268","v":" -"},{"$f":"'All hospitals'!V268","v":" -"}]
[null,{"$f":"'All hospitals'!B269","v":"Westmead Hospital "},{"$f":"'All hospitals'!C269","v":"Westmead"},{"$f":"'All hospitals'!E269","v":"02 8890 5555"},{"$f":"'All hospitals'!F269","v":"02 8890 5555 (on call pharmacist via switch)"},{"$f":"'All hospitals'!S269","v":6},{"$f":"'All hospitals'!T269","v":"ED"},{"$f":"'All hospitals'!U269","v":4},{"$f":"'All hospitals'!V269","v":"Pharmacy Store"}]
[null,{"$f":"'All hospitals'!B270","v":"-"},{"$f":"'All hospitals'!C270","v":"-"},{"$f":"'All hospitals'!E270","v":"-"},{"$f":"'All hospitals'!F270","v":"-"},{"$f":"'All hospitals'!S270","v":"-"},{"$f":"'All hospitals'!T270","v":"-"},{"$f":"'All hospitals'!U270","v":"-"},{"$f":"'All hospitals'!V270","v":"-"}]
[null,{"$f":"'All hospitals'!B271","v":"PRIVATE HOSPITALS & OTHER"}]
[null,{"$f":"'All hospitals'!B272","v":"Macquarie University Hospital NO STOCKS HELD"},{"$f":"'All hospitals'!C272","v":"North Ryde"},{"$f":"'All hospitals'!E272","v":"02 98875500"},{"$f":"'All hospitals'!F272","v":"NA"},{"$f":"'All hospitals'!S272","v":0},{"$f":"'All hospitals'!T272","v":"-"},{"$f":"'All hospitals'!U272","v":0},{"$f":"'All hospitals'!V272","v":"-"}]
[null,{"$f":"'All hospitals'!B273","v":"Norwest Private Hospital (Stock data TBC)"},{"$f":"'All hospitals'!C273","v":"Bella Vista"},{"$f":"'All hospitals'!E273","v":"02 8882 8555"},{"$f":"'All hospitals'!F273","v":"02 8882 8555"},{"$f":"'All hospitals'!S273","v":1},{"$f":"'All hospitals'!T273","v":"ED"},{"$f":"'All hospitals'!U273","v":"-"},{"$f":"'All hospitals'!V273","v":"-"},null,"Back to Index","Back to 'All hospitals' tab"]

{"sheet":"Snake detection kit","index":6,"n_rows":253,"n_cols":12,"rows_kept":253,"cut":false,"hidden":false,"merged":[[196,1,196,3],[201,1,201,3],[244,1,244,3],[157,1,157,3],[165,1,165,3],[173,1,173,3],[187,1,187,3],[190,1,190,3],[86,1,86,3],[95,1,95,3],[128,1,128,3],[134,1,134,3],[148,1,148,3],[14,1,14,3],[18,1,18,3],[22,1,22,3],[34,1,34,3],[74,1,74,3],[10,1,10,3],[3,1,3,8],[0,1,0,8],[2,1,2,8],[4,1,4,8],[6,1,6,4],[6,5,7,8],[7,1,9,1],[7,2,9,2],[7,3,9,3],[7,4,9,4],[8,5,9,5],[8,6,9,6],[8,7,9,7],[8,8,9,8]]}
[null,{"$f":"'All hospitals'!$B$1","v":"Last modified: 14/01/2021"}]
[]
[null,{"$f":"'All hospitals'!$W$28","v":"SNAKE DETECTION KIT   "}]
[null,"OTHER"]
[null,{"$f":"'All hospitals'!$W$29","v":"Use of the snake venom detection kit is no longer recommended for the treatment of snake bite in Australia. "},null,null,null,null,null,null,null,null,"Back to Index","Back to 'All hospitals' tab"]
[]
[null,"HOSPITAL DETAILS",null,null,null,"AVAILABILITY"]
[null,"Hospital name:\n\"Stock data TBC\" indicates that the hospital has not provided an update to the stockholding data.                                            ","Town/city","Phone number (business hours)","Phone number (after hours)"]
[null,null,null,null,null,"Number of vials","Location 1","Number of vials","Location 2"]
[]
[null,{"$f":"'All hospitals'!B31","v":"ACT"},null,null,null,null,null,null,null,null,"Click to jump to LHD or network"]
[null,{"$f":"'All hospitals'!B32","v":"Calvary Public Hospital "},{"$f":"'All hospitals'!C32","v":"Canberra"},{"$f":"'All hospitals'!E32","v":"02 6201 6265 "},{"$f":"'All hospitals'!F32","v":"0413 611 319"},{"$f":"'All hospitals'!W32","v":1},{"$f":"'All hospitals'!X32","v":"After Hours Cupboard Fridge"},{"$f":"'All hospitals'!Y32","v":" -"},{"$f":"'All hospitals'!Z32","v":" -"},null,"ACT"]
[null,{"$f":"'All hospitals'!B33","v":"The Canberra Hospital"},{"$f":"'All hospitals'!C33","v":"Canberra"},{"$f":"'All hospitals'!E33","v":"02 5124 0000"},{"$f":"'All hospitals'!F33","v":"0401 710 831"},{"$f":"'All hospitals'!W33","v":" -  "},{"$f":"'All hospitals'!X33","v":" - "},{"$f":"'All hospitals'!Y33","v":" -"},{"$f":"'All hospitals'!Z33","v":" - "},null,"ALBURY WODONGA HEALTH"]
[null,{"$f":"'All hospitals'!B34","v":"-"},{"$f":"'All hospitals'!C34","v":"-"},{"$f":"'All hospitals'!E34","v":"-"},null,{"$f":"'All hospitals'!W34","v":"-"},{"$f":"'All hospitals'!X34","v":"-"},{"$f":"'All hospitals'!Y34","v":"-"},{"$f":"'All hospitals'!Z34","v":"-"},null,"CENTRAL COAST LHD"]
[null,{"$f":"'All hospitals'!B35","v":"ALBURY WODONGA HEALTH"},null,null,null,null,null,null,null,null,"FAR WEST LHD"]
[null,{"$f":"'All hospitals'!B36","v":"Albury Hospital"},{"$f":"'All hospitals'!C36","v":"Albury"},{"$f":"'All hospitals'!E36","v":"02 6058 4665"},{"$f":"'All hospitals'!F36","v":"02 6058 4444"},{"$f":"'All hospitals'!W36","v":0},{"$f":"'All hospitals'!X36","v":" -"},{"$f":"'All hospitals'!Y36","v":" -"},{"$f":"'All hospitals'!Z36","v":" -"},null,"HUNTER NEW ENGLAND LHD"]
[null,{"$f":"'All hospitals'!B37","v":"Wodonga Hospital"},{"$f":"'All hospitals'!C37","v":"Wodonga"},{"$f":"'All hospitals'!E37","v":"02 6051 7485"},{"$f":"'All hospitals'!F37","v":"02 6051 7111"},{"$f":"'All hospitals'!W37","v":0},{"$f":"'All hospitals'!X37","v":" -"},{"$f":"'All hospitals'!Y37","v":" -"},{"$f":"'All hospitals'!Z37","v":" -"},null,"ILLAWARRA SHOALHAVEN LHD"]
[null,{"$f":"'All hospitals'!B38","v":"-"},{"$f":"'All hospitals'!C38","v":"-"},{"$f":"'All hospitals'!E38","v":"-"},null,{"$f":"'All hospitals'!W38","v":"-"},{"$f":"'All hospitals'!X38","v":"-"},{"$f":"'All hospitals'!Y38","v":"-"},{"$f":"'All hospitals'!Z38","v":"-"},null,"MID NORTH COAST LHD"]
[null,"CENTRAL COAST LHD",null,null,null,null,null,null,null,null,"MURRUMBIDGEE LHD"]
[null,{"$f":"'All hospitals'!B40","v":"Gosford Hospital"},{"$f":"'All hospitals'!C40","v":"Gosford "},{"$f":"'All hospitals'!E40","v":"02 4320 2111"},{"$f":"'All hospitals'!F40","v":"02 4320 2111 (page on-call pharmacist)"},{"$f":"'All hospitals'!W40","v":1},{"$f":"'All hospitals'!X40","v":"ED"},{"$f":"'All hospitals'!Y40","v":1},{"$f":"'All hospitals'!Z40","v":"Pharmacy "},null,"NEPEAN BLUE MOUNTAINS LHD"]
[null,{"$f":"'All hospitals'!B41","v":"Wyong Hospital"},{"$f":"'All hospitals'!C41","v":"Wyong"},{"$f":"'All hospitals'!E41","v":"02 4394 7930"},{"$f":"'All hospitals'!F41","v":"02 4394 8000 (page on-call pharmacist)"},{"$f":"'All hospitals'!W41","v":1},{"$f":"'All hospitals'!X41","v":"ED"},{"$f":"'All hospitals'!Y41","v":1},{"$f":"'All hospitals'!Z41","v":"Pharmacy "},null,"NORTHERN NSW LHD"]
[null,{"$f":"'All hospitals'!B42","v":"-"},{"$f":"'All hospitals'!C42","v":"-"},{"$f":"'All hospitals'!E42","v":"-"},null,{"$f":"'All hospitals'!W42","v":"-"},{"$f":"'All hospitals'!X42","v":"-"},{"$f":"'All hospitals'!Y42","v":"-"},{"$f":"'All hospitals'!Z42","v":"-"},null,"NORTHERN SYDNEY LHD"]
[null,{"$f":"'All hospitals'!B43","v":"FAR WEST LHD"},null,null,null,null,null,null,null,null,"SOUTH EASTERN SYDNEY LHD"]
[null,{"$f":"'All hospitals'!B44","v":"Balranald Multi Purpose Service "},{"$f":"'All hospitals'!C44","v":"Balranald"},{"$f":"'All hospitals'!E44","v":"03 5071 9800"},{"$f":"'All hospitals'!F44","v":"03 5071 9800"},{"$f":"'All hospitals'!W44","v":0},{"$f":"'All hospitals'!X44","v":" -"},{"$f":"'All hospitals'!Y44","v":" -"},{"$f":"'All hospitals'!Z44","v":" -"},null,"SOUTH WESTERN SYDNEY LHD"]
[null,{"$f":"'All hospitals'!B45","v":"Broken Hill Health Service"},{"$f":"'All hospitals'!C45","v":"Broken Hill"},{"$f":"'All hospitals'!E45","v":"08 8080 1466  "},{"$f":"'All hospitals'!F45","v":"08 8080 1333 "},{"$f":"'All hospitals'!W45","v":0},{"$f":"'All hospitals'!X45","v":" - "},{"$f":"'All hospitals'!Y45","v":" -"},{"$f":"'All hospitals'!Z45","v":" -"},null,"SOUTHERN NSW"]
[null,{"$f":"'All hospitals'!B46","v":"Dareton Primary Health Service (No ED services)"},{"$f":"'All hospitals'!C46","v":"Dareton"},{"$f":"'All hospitals'!E46","v":"03 5021 7200"},{"$f":"'All hospitals'!F46","v":"BH only"},{"$f":"'All hospitals'!W46","v":0},{"$f":"'All hospitals'!X46","v":" -"},{"$f":"'All hospitals'!Y46","v":" -"},{"$f":"'All hospitals'!Z46","v":" -"},null,"ST VINCENT'S HEALTH"]
[null,{"$f":"'All hospitals'!B47","v":"Ivanhoe Health Service"},{"$f":"'All hospitals'!C47","v":"Ivanhoe"},{"$f":"'All hospitals'!E47","v":"02 6990 2200"},{"$f":"'All hospitals'!F47","v":"02 6990 2200"},{"$f":"'All hospitals'!W47","v":0},{"$f":"'All hospitals'!X47","v":" -"},{"$f":"'All hospitals'!Y47","v":" -"},{"$f":"'All hospitals'!Z47","v":" -"},null,"SYDNEY LHD"]
[null,{"$f":"'All hospitals'!B48","v":"Menindee Health Service "},{"$f":"'All hospitals'!C48","v":"Menindee"},{"$f":"'All hospitals'!E48","v":"08 8091 4209"},{"$f":"'All hospitals'!F48","v":"08 8091 4209"},{"$f":"'All hospitals'!W48","v":0},{"$f":"'All hospitals'!X48","v":" -"},{"$f":"'All hospitals'!Y48","v":" -"},{"$f":"'All hospitals'!Z48","v":" -"},null,"SYDNEY CHILDREN'S HOSPITALS NETWORK"]
[null,{"$f":"'All hospitals'!B49","v":"Royal Flying Doctor Service Broken Hill"},{"$f":"'All hospitals'!C49","v":"Broken Hill"},{"$f":"'All hospitals'!E49","v":"08 8080 3780"},{"$f":"'All hospitals'!F49","v":"0437 370 702"},{"$f":"'All hospitals'!W49","v":0},{"$f":"'All hospitals'!X49","v":" -"},{"$f":"'All hospitals'!Y49","v":" -"},{"$f":"'All hospitals'!Z49","v":" -"},null,"WESTERN NSW LHD"]
[null,{"$f":"'All hospitals'!B50","v":"Tibooburra Health Service"},{"$f":"'All hospitals'!C50","v":"Tibooburra"},{"$f":"'All hospitals'!E50","v":"08 8091 3302 "},{"$f":"'All hospitals'!F50","v":"08 8091 3302"},{"$f":"'All hospitals'!W50","v":0},{"$f":"'All hospitals'!X50","v":" -"},{"$f":"'All hospitals'!Y50","v":" -"},{"$f":"'All hospitals'!Z50","v":" -"},null,"WESTERN SYDNEY LHD & OTHER"]
[null,{"$f":"'All hospitals'!B51","v":"Wentworth District Hospital (No ED services)"},{"$f":"'All hospitals'!C51","v":"Wentworth"},{"$f":"'All hospitals'!E51","v":"03 5027 2345"},{"$f":"'All hospitals'!F51","v":"03 5027 2345"},{"$f":"'All hospitals'!W51","v":0},{"$f":"'All hospitals'!X51","v":" -"},{"$f":"'All hospitals'!Y51","v":" -"},{"$f":"'All hospitals'!Z51","v":" -"},null,"PRIVATE HOSPITALS & OTHER"]
[null,{"$f":"'All hospitals'!B52","v":"White Cliffs Health Service"},{"$f":"'All hospitals'!C52","v":"White Cliffs"},{"$f":"'All hospitals'!E52","v":"08 8091 6605 "},{"$f":"'All hospitals'!F52","v":"08 80916605"},{"$f":"'All hospitals'!W52","v":0},{"$f":"'All hospitals'!X52","v":" -"},{"$f":"'All hospitals'!Y52","v":" -"},{"$f":"'All hospitals'!Z52","v":" -"}]
[null,{"$f":"'All hospitals'!B53","v":"Wilcannia Multi Purpose Service"},{"$f":"'All hospitals'!C53","v":"Wilcannia"},{"$f":"'All hospitals'!E53","v":"08 8083 8777"},{"$f":"'All hospitals'!F53","v":"08 8083 8777"},{"$f":"'All hospitals'!W53","v":0},{"$f":"'All hospitals'!X53","v":" -"},{"$f":"'All hospitals'!Y53","v":" -"},{"$f":"'All hospitals'!Z53","v":" -"}]
[null,{"$f":"'All hospitals'!B54","v":"-"},{"$f":"'All hospitals'!C54","v":"-"},{"$f":"'All hospitals'!D54","v":"-"},{"$f":"'All hospitals'!E54","v":"-"},{"$f":"'All hospitals'!W54","v":"-"},{"$f":"'All hospitals'!X54","v":"-"},{"$f":"'All hospitals'!Y54","v":"-"},{"$f":"'All hospitals'!Z54","v":"-"}]
[null,{"$f":"'All hospitals'!B55","v":"HUNTER NEW ENGLAND LHD"}]
[null,{"$f":"'All hospitals'!B56","v":"Armidale Rural Referral Hospital"},{"$f":"'All hospitals'!C56","v":"Armidale"},{"$f":"'All hospitals'!E56","v":"02 6776 9500"},{"$f":"'All hospitals'!F56","v":"02 6776 9500     "},{"$f":"'All hospitals'!W56","v":0},{"$f":"'All hospitals'!X56","v":" -"},{"$f":"'All hospitals'!Y56","v":" -"},{"$f":"'All hospitals'!Z56","v":" -"}]
[null,{"$f":"'All hospitals'!B57","v":"Barraba Multi Purpose Service"},{"$f":"'All hospitals'!C57","v":"Barraba"},{"$f":"'All hospitals'!E57","v":"02 6782 2500"},{"$f":"'All hospitals'!F57","v":"02 6782 2522"},{"$f":"'All hospitals'!W57","v":0},{"$f":"'All hospitals'!X57","v":" -"},{"$f":"'All hospitals'!Y57","v":" -"},{"$f":"'All hospitals'!Z57","v":" -"}]
[null,{"$f":"'All hospitals'!B58","v":"Belmont Hospital "},{"$f":"'All hospitals'!C58","v":"Belmont"},{"$f":"'All hospitals'!E58","v":"02 4923 2249"},{"$f":"'All hospitals'!F58","v":"02 4923 2000"},{"$f":"'All hospitals'!W58","v":0},{"$f":"'All hospitals'!X58","v":" -"},{"$f":"'All hospitals'!Y58","v":" -"},{"$f":"'All hospitals'!Z58","v":" -"}]
[null,{"$f":"'All hospitals'!B59","v":"Bingara Multi Purpose Service"},{"$f":"'All hospitals'!C59","v":"Bingara"},{"$f":"'All hospitals'!E59","v":"02 6728 0100"},{"$f":"'All hospitals'!F59","v":"02 6728 0100"},{"$f":"'All hospitals'!W59","v":0},{"$f":"'All hospitals'!X59","v":"-"},{"$f":"'All hospitals'!Y59","v":" -"},{"$f":"'All hospitals'!Z59","v":" -"}]
[null,{"$f":"'All hospitals'!B60","v":"Boggabri Multi Purpose Service"},{"$f":"'All hospitals'!C60","v":"Boggabri"},{"$f":"'All hospitals'!E60","v":"02 6749 7000"},{"$f":"'All hospitals'!F60","v":"02 67497000"},{"$f":"'All hospitals'!W60","v":0},{"$f":"'All hospitals'!X60","v":" -"},{"$f":"'All hospitals'!Y60","v":" -"},{"$f":"'All hospitals'!Z60","v":" -"}]
[null,{"$f":"'All hospitals'!B61","v":"Bulahdelah Hospital NO STOCKS HELD"},{"$f":"'All hospitals'!C61","v":"Bulahdelah"},{"$f":"'All hospitals'!E61","v":"02 4987 9900"},{"$f":"'All hospitals'!F61","v":"02 4987 9900"},{"$f":"'All hospitals'!W61","v":0},{"$f":"'All hospitals'!X61","v":" -"},{"$f":"'All hospitals'!Y61","v":" -"},{"$f":"'All hospitals'!Z61","v":" -"}]
[null,{"$f":"'All hospitals'!B62","v":"Calvary Mater Hospital Newcastle "},{"$f":"'All hospitals'!C62","v":"Newcastle"},{"$f":"'All hospitals'!E62","v":"02 4921 1211"},{"$f":"'All hospitals'!F62","v":"02 4921 1211"},{"$f":"'All hospitals'!W62","v":0},{"$f":"'All hospitals'!X62","v":" -"},{"$f":"'All hospitals'!Y62","v":" -"},{"$f":"'All hospitals'!Z62","v":" -"}]
[null,{"$f":"'All hospitals'!B63","v":"Cessnock District Hospital"},{"$f":"'All hospitals'!C63","v":"Cessnock"},{"$f":"'All hospitals'!E63","v":"02 4991 0555(hospital)\n02 4991 0456(pharmacy)"},{"$f":"'All hospitals'!F63","v":"0438 212 862"},{"$f":"'All hospitals'!W63","v":0},{"$f":"'All hospitals'!X63","v":" -"},{"$f":"'All hospitals'!Y63","v":" -"},{"$f":"'All hospitals'!Z63","v":" -"}]
[null,{"$f":"'All hospitals'!B64","v":"Denman Multi Purpose Service (Stock data TBC)"},{"$f":"'All hospitals'!C64","v":"Denman"},{"$f":"'All hospitals'!E64","v":"02 6547 3999"},{"$f":"'All hospitals'!F64","v":"02 6547 3905 "},{"$f":"'All hospitals'!W64","v":0},{"$f":"'All hospitals'!X64","v":" -"},{"$f":"'All hospitals'!Y64","v":" -"},{"$f":"'All hospitals'!Z64","v":" -"}]
[null,{"$f":"'All hospitals'!B65","v":"Dungog Community Hospital"},{"$f":"'All hospitals'!C65","v":"Dungog"},{"$f":"'All hospitals'!E65","v":"02 4939 2226"},{"$f":"'All hospitals'!F65","v":"02 4992 1266"},{"$f":"'All hospitals'!W65","v":0},{"$f":"'All hospitals'!X65","v":" -"},{"$f":"'All hospitals'!Y65","v":" -"},{"$f":"'All hospitals'!Z65","v":" -"}]
[null,{"$f":"'All hospitals'!B66","v":"Glen Innes District Hospital "},{"$f":"'All hospitals'!C66","v":"Glen Innes"},{"$f":"'All hospitals'!E66","v":"02 6739 0200"},{"$f":"'All hospitals'!F66","v":"02 6739 0200"},{"$f":"'All hospitals'!W66","v":0},{"$f":"'All hospitals'!X66","v":" -"},{"$f":"'All hospitals'!Y66","v":" -"},{"$f":"'All hospitals'!Z66","v":" -"}]
[null,{"$f":"'All hospitals'!B67","v":"Gloucester Soldiers Memorial Hospital (Stock data TBC)"},{"$f":"'All hospitals'!C67","v":"Gloucester"},{"$f":"'All hospitals'!E67","v":"02 6538 5000"},{"$f":"'All hospitals'!F67","v":"02 6538 5000"},{"$f":"'All hospitals'!W67","v":0},{"$f":"'All hospitals'!X67","v":" -"},{"$f":"'All hospitals'!Y67","v":" -"},{"$f":"'All hospitals'!Z67","v":" -"}]
[null,{"$f":"'All hospitals'!B68","v":"Gunnedah Hospital"},{"$f":"'All hospitals'!C68","v":"Gunnedah"},{"$f":"'All hospitals'!E68","v":"02 6741 8000"},{"$f":"'All hospitals'!F68","v":"02 6741 8031"},{"$f":"'All hospitals'!W68","v":0},{"$f":"'All hospitals'!X68","v":"-"},{"$f":"'All hospitals'!Y68","v":"-"},{"$f":"'All hospitals'!Z68","v":"-"}]
[null,{"$f":"'All hospitals'!B69","v":"Guyra Multi Purpose Service "},{"$f":"'All hospitals'!C69","v":"Guyra"},{"$f":"'All hospitals'!E69","v":"02 6738 4000"},{"$f":"'All hospitals'!F69","v":"02 6738 4000"},{"$f":"'All hospitals'!W69","v":0},{"$f":"'All hospitals'!X69","v":" -"},{"$f":"'All hospitals'!Y69","v":" -"},{"$f":"'All hospitals'!Z69","v":" -"}]
[null,{"$f":"'All hospitals'!B70","v":"Inverell Hospital "},{"$f":"'All hospitals'!C70","v":"Inverell"},{"$f":"'All hospitals'!E70","v":"02 6721 9500"},{"$f":"'All hospitals'!F70","v":"02 6721 9540"},{"$f":"'All hospitals'!W70","v":0},{"$f":"'All hospitals'!X70","v":" -"},{"$f":"'All hospitals'!Y70","v":" -"},{"$f":"'All hospitals'!Z70","v":" -"}]
[null,{"$f":"'All hospitals'!B71","v":"John Hunter Hospital "},{"$f":"'All hospitals'!C71","v":"Newcastle"},{"$f":"'All hospitals'!E71","v":"02 4921 3635"},{"$f":"'All hospitals'!F71","v":"0408 263 586"},{"$f":"'All hospitals'!W71","v":0},{"$f":"'All hospitals'!X71","v":"-"},{"$f":"'All hospitals'!Y71","v":"-"},{"$f":"'All hospitals'!Z71","v":"-"}]
[null,{"$f":"'All hospitals'!B72","v":"Kurri Kurri Hospital"},{"$f":"'All hospitals'!C72","v":"Kurri Kurri"},{"$f":"'All hospitals'!E72","v":"02 4936 3234"},{"$f":"'All hospitals'!F72","v":"02 4936 3200"},{"$f":"'All hospitals'!W72","v":0},{"$f":"'All hospitals'!X72","v":" -"},{"$f":"'All hospitals'!Y72","v":" -"},{"$f":"'All hospitals'!Z72","v":" -"}]
[null,{"$f":"'All hospitals'!B73","v":"Manning Base Hospital"},{"$f":"'All hospitals'!C73","v":"Taree"},{"$f":"'All hospitals'!E73","v":"02 6592 9244"},{"$f":"'All hospitals'!F73","v":"02 6592 9014"},{"$f":"'All hospitals'!W73","v":2},{"$f":"'All hospitals'!X73","v":"ED"},{"$f":"'All hospitals'!Y73","v":" -"},{"$f":"'All hospitals'!Z73","v":" -"}]
[null,{"$f":"'All hospitals'!B74","v":"Manilla Hospital"},{"$f":"'All hospitals'!C74","v":"Manilla"},{"$f":"'All hospitals'!E74","v":"02 6785 4000"},{"$f":"'All hospitals'!F74","v":"02 6785 4000"},{"$f":"'All hospitals'!W74","v":0},{"$f":"'All hospitals'!X74","v":" -"},{"$f":"'All hospitals'!Y74","v":" -"},{"$f":"'All hospitals'!Z74","v":" -"}]
[null,{"$f":"'All hospitals'!B75","v":"Merriwa Multi Purpose Service (Stock data TBC)"},{"$f":"'All hospitals'!C75","v":"Merriwa"},{"$f":"'All hospitals'!E75","v":"02 6532 5000"},{"$f":"'All hospitals'!F75","v":"02 6532 5000"},{"$f":"'All hospitals'!W75","v":0},{"$f":"'All hospitals'!X75","v":" -"},{"$f":"'All hospitals'!Y75","v":" -"},{"$f":"'All hospitals'!Z75","v":" -"}]
[null,{"$f":"'All hospitals'!B76","v":"Moree Hospital "},{"$f":"'All hospitals'!C76","v":"Moree"},{"$f":"'All hospitals'!E76","v":"02 6757 0031"},{"$f":"'All hospitals'!F76","v":"02 6757 0031"},{"$f":"'All hospitals'!W76","v":0},{"$f":"'All hospitals'!X76","v":"ED"},{"$f":"'All hospitals'!Y76","v":"-"},{"$f":"'All hospitals'!Z76","v":"-"}]
[null,{"$f":"'All hospitals'!B77","v":"Muswellbrook Hospital (Stock data TBC)"},{"$f":"'All hospitals'!C77","v":"Muswellbrook"},{"$f":"'All hospitals'!E77","v":"02 6542 2000"},{"$f":"'All hospitals'!F77","v":"02 6542 2000"},{"$f":"'All hospitals'!W77","v":0},{"$f":"'All hospitals'!X77","v":" -"},{"$f":"'All hospitals'!Y77","v":" -"},{"$f":"'All hospitals'!Z77","v":" -"}]
[null,{"$f":"'All hospitals'!B78","v":"Narrabri Hospital"},{"$f":"'All hospitals'!C78","v":"Narrabri"},{"$f":"'All hospitals'!E78","v":"02 6799 2800"},{"$f":"'All hospitals'!F78","v":"02 6799 2105"},{"$f":"'All hospitals'!W78","v":0},{"$f":"'All hospitals'!X78","v":"-"},{"$f":"'All hospitals'!Y78","v":"-"},{"$f":"'All hospitals'!Z78","v":"-"}]
[null,{"$f":"'All hospitals'!B79","v":"Quirindi Hospital"},{"$f":"'All hospitals'!C79","v":"Quirindi"},{"$f":"'All hospitals'!E79","v":"02 6746 0200"},{"$f":"'All hospitals'!F79","v":"02 6746 0200"},{"$f":"'All hospitals'!W79","v":0},{"$f":"'All hospitals'!X79","v":" -"},{"$f":"'All hospitals'!Y79","v":" -"},{"$f":"'All hospitals'!Z79","v":" -"}]
[null,{"$f":"'All hospitals'!B80","v":"Scott Memorial Hospital (Stock data TBC)"},{"$f":"'All hospitals'!C80","v":"Scone"},{"$f":"'All hospitals'!E80","v":"02 6540 2100"},{"$f":"'All hospitals'!F80","v":"02 6540 2100"},{"$f":"'All hospitals'!W80","v":0},{"$f":"'All hospitals'!X80","v":" -"},{"$f":"'All hospitals'!Y80","v":" -"},{"$f":"'All hospitals'!Z80","v":" -"}]
[null,{"$f":"'All hospitals'!B81","v":"Singleton District Hospital (Stock data TBC)"},{"$f":"'All hospitals'!C81","v":"Singleton"},{"$f":"'All hospitals'!E81","v":"02 6571 9222"},{"$f":"'All hospitals'!F81","v":"02 6571 9222"},{"$f":"'All hospitals'!W81","v":0},{"$f":"'All hospitals'!X81","v":" -"},{"$f":"'All hospitals'!Y81","v":" -"},{"$f":"'All hospitals'!Z81","v":" -"}]
[null,{"$f":"'All hospitals'!B82","v":"Tamworth Rural Referral Hospital "},{"$f":"'All hospitals'!C82","v":"Tamworth"},{"$f":"'All hospitals'!E82","v":"02 6727 7370 "},{"$f":"'All hospitals'!F82","v":"02 6767 7700"},{"$f":"'All hospitals'!W82","v":0},{"$f":"'All hospitals'!X82","v":"-"},{"$f":"'All hospitals'!Y82","v":"-"},{"$f":"'All hospitals'!Z82","v":"-"}]
[null,{"$f":"'All hospitals'!B83","v":"Tenterfield/Prince Albert Hospital "},{"$f":"'All hospitals'!C83","v":"Tenterfield"},{"$f":"'All hospitals'!E83","v":"02 6739 5200"},{"$f":"'All hospitals'!F83","v":"02 6739 5200"},{"$f":"'All hospitals'!W83","v":0},{"$f":"'All hospitals'!X83","v":" -"},{"$f":"'All hospitals'!Y83","v":" -"},{"$f":"'All hospitals'!Z83","v":" -"}]
[null,{"$f":"'All hospitals'!B84","v":"The Maitland Hospital"},{"$f":"'All hospitals'!C84","v":"Maitland"},{"$f":"'All hospitals'!E84","v":"02 4939 2226"},{"$f":"'All hospitals'!F84","v":"02 4939 2000"},{"$f":"'All hospitals'!W84","v":0},{"$f":"'All hospitals'!X84","v":" -"},{"$f":"'All hospitals'!Y84","v":" -"},{"$f":"'All hospitals'!Z84","v":" -"}]
[null,{"$f":"'All hospitals'!B85","v":"Tingha Multi Purpose Service NO STOCKS HELD"},{"$f":"'All hospitals'!C85","v":"Tingha"},{"$f":"'All hospitals'!E85","v":"02 6723 3900"},{"$f":"'All hospitals'!F85","v":"02 6723 9000"},{"$f":"'All hospitals'!W85","v":0},{"$f":"'All hospitals'!X85","v":" -"},{"$f":"'All hospitals'!Y85","v":" -"},{"$f":"'All hospitals'!Z85","v":" -"}]
[null,{"$f":"'All hospitals'!B86","v":"Tomaree Community Hospital (Stock data TBC)"},{"$f":"'All hospitals'!C86","v":"Tomaree"},{"$f":"'All hospitals'!E86","v":"02 4923 2249"},{"$f":"'All hospitals'!F86","v":"02 4923 2000"},{"$f":"'All hospitals'!W86","v":0},{"$f":"'All hospitals'!X86","v":" -"},{"$f":"'All hospitals'!Y86","v":" -"},{"$f":"'All hospitals'!Z86","v":" -"}]
[null,{"$f":"'All hospitals'!B87","v":"Vegetable Creek Multipurpose Service"},{"$f":"'All hospitals'!C87","v":"Emmaville"},{"$f":"'All hospitals'!E87","v":"02 6734  7900"},{"$f":"'All hospitals'!F87","v":"02 6734 7900"},{"$f":"'All hospitals'!W87","v":0},{"$f":"'All hospitals'!X87","v":" -"},{"$f":"'All hospitals'!Y87","v":" -"},{"$f":"'All hospitals'!Z87","v":" -"}]
[null,{"$f":"'All hospitals'!B88","v":"Walcha Multi Purpose Service "},{"$f":"'All hospitals'!C88","v":"Walcha"},{"$f":"'All hospitals'!E88","v":"02 6777 4200"},{"$f":"'All hospitals'!F88","v":"02 6777 4200"},{"$f":"'All hospitals'!W88","v":0},{"$f":"'All hospitals'!X88","v":" -"},{"$f":"'All hospitals'!Y88","v":" -"},{"$f":"'All hospitals'!Z88","v":" -"}]
[null,{"$f":"'All hospitals'!B89","v":"Warialda Multi Purpose Service "},{"$f":"'All hospitals'!C89","v":"Warialda"},{"$f":"'All hospitals'!E89","v":"02 6728 9000"},{"$f":"'All hospitals'!F89","v":"0428 753 175"},{"$f":"'All hospitals'!W89","v":0},{"$f":"'All hospitals'!X89","v":"-"},{"$f":"'All hospitals'!Y89","v":"-"},{"$f":"'All hospitals'!Z89","v":"-"}]
[null,{"$f":"'All hospitals'!B90","v":"Wee Waa Community Hospital"},{"$f":"'All hospitals'!C90","v":"Wee Waa"},{"$f":"'All hospitals'!E90","v":"02 6795 0400"},{"$f":"'All hospitals'!F90","v":"02 6795 0400"},{"$f":"'All hospitals'!W90","v":0},{"$f":"'All hospitals'!X90","v":"-"},{"$f":"'All hospitals'!Y90","v":"-"},{"$f":"'All hospitals'!Z90","v":"-"}]
[null,{"$f":"'All hospitals'!B91","v":"Werris Creek Multi Purpose Service NO STOCKS HELD"},{"$f":"'All hospitals'!C91","v":"Werris Creek"},{"$f":"'All hospitals'!E91","v":"02 6768 6600"},{"$f":"'All hospitals'!F91","v":"02 6768 6600"},{"$f":"'All hospitals'!W91","v":0},{"$f":"'All hospitals'!X91","v":" -"},{"$f":"'All hospitals'!Y91","v":" -"},{"$f":"'All hospitals'!Z91","v":"-"}]
[null,{"$f":"'All hospitals'!B92","v":"Westpac Rescue Helicopter Service"},{"$f":"'All hospitals'!C92","v":"Belmont Helicopter Base"},{"$f":"'All hospitals'!E92","v":"02 4952 0000"},{"$f":"'All hospitals'!F92","v":"02 4952 0055"},{"$f":"'All hospitals'!W92","v":0},{"$f":"'All hospitals'!X92","v":" -"},{"$f":"'All hospitals'!Y92","v":" -"},{"$f":"'All hospitals'!Z92","v":" -"}]
[null,{"$f":"'All hospitals'!B93","v":"Wilson Memorial Hospital - Murrurundi (Stock data TBC)"},{"$f":"'All hospitals'!C93","v":"Murrurundi"},{"$f":"'All hospitals'!E93","v":"02 6546 9000"},{"$f":"'All hospitals'!F93","v":"02 6546 9000"},{"$f":"'All hospitals'!W93","v":0},{"$f":"'All hospitals'!X93","v":" -"},{"$f":"'All hospitals'!Y93","v":" -"},{"$f":"'All hospitals'!Z93","v":" -"}]
[null,{"$f":"'All hospitals'!B94","v":"-"},{"$f":"'All hospitals'!C94","v":"-"},{"$f":"'All hospitals'!E94","v":"-"},null,{"$f":"'All hospitals'!W94","v":"-"},{"$f":"'All hospitals'!X94","v":"-"},{"$f":"'All hospitals'!Y94","v":"-"},{"$f":"'All hospitals'!Z94","v":"-"}]
[null,{"$f":"'All hospitals'!B95","v":"ILLAWARRA SHOALHAVEN LHD"}]
[null,{"$f":"'All hospitals'!B96","v":"Bulli Hospital NO STOCKS HELD"},{"$f":"'All hospitals'!C96","v":"Bulli"},{"$f":"'All hospitals'!E96","v":"02 4284 4344"},{"$f":"'All hospitals'!F96","v":"02 4222 5000 (request Wollongong Hospital on-call pharmacist)"},{"$f":"'All hospitals'!W96","v":0},{"$f":"'All hospitals'!X96","v":" -"},{"$f":"'All hospitals'!Y96","v":" -"},{"$f":"'All hospitals'!Z96","v":" -"}]
[null,{"$f":"'All hospitals'!B97","v":"Coledale Hospital NO STOCKS HELD"},{"$f":"'All hospitals'!C97","v":"Thirroul"},{"$f":"'All hospitals'!E97","v":"02 4267 0111"},{"$f":"'All hospitals'!F97","v":"02 4222 5000 (request Wollongong Hospital on-call pharmacist)"},{"$f":"'All hospitals'!W97","v":" -"},{"$f":"'All hospitals'!X97","v":" -"},{"$f":"'All hospitals'!Y97","v":" -"},{"$f":"'All hospitals'!Z97","v":" -"}]
[null,{"$f":"'All hospitals'!B98","v":"David Berry Hospital NO STOCKS HELD"},{"$f":"'All hospitals'!C98","v":"Berry"},{"$f":"'All hospitals'!E98","v":"02 4464 1001"},{"$f":"'All hospitals'!F98","v":" -"},{"$f":"'All hospitals'!W98","v":" -"},{"$f":"'All hospitals'!X98","v":" -"},{"$f":"'All hospitals'!Y98","v":" -"},{"$f":"'All hospitals'!Z98","v":" -"}]
[null,{"$f":"'All hospitals'!B99","v":"Kiama Hospital & Community Health Service NO STOCKS HELD"},{"$f":"'All hospitals'!C99","v":"Kiama"},{"$f":"'All hospitals'!E99","v":"02 4233 1033"},{"$f":"'All hospitals'!F99","v":" -"},{"$f":"'All hospitals'!W99","v":" -"},{"$f":"'All hospitals'!X99","v":" -"},{"$f":"'All hospitals'!Y99","v":" -"},{"$f":"'All hospitals'!Z99","v":" -"}]
[null,{"$f":"'All hospitals'!B100","v":"Milton Ulladulla Hospital"},{"$f":"'All hospitals'!C100","v":"Milton"},{"$f":"'All hospitals'!E100","v":"02 4454 9100"},{"$f":"'All hospitals'!F100","v":"02 4454 9133 (ED)"},{"$f":"'All hospitals'!W100","v":1},{"$f":"'All hospitals'!X100","v":"ED"},{"$f":"'All hospitals'!Y100","v":" -"},{"$f":"'All hospitals'!Z100","v":" -"}]
[null,{"$f":"'All hospitals'!B274","v":0},{"$f":"'All hospitals'!C274","v":0},{"$f":"'All hospitals'!E274","v":0},{"$f":"'All hospitals'!F274","v":0},{"$f":"'All hospitals'!W274","v":0},{"$f":"'All hospitals'!X274","v":0},{"$f":"'All hospitals'!Y274","v":0},{"$f":"'All hospitals'!Z274","v":0}]
[null,{"$f":"'All hospitals'!B102","v":"Port Kembla Hospital - NO STOCKS HELD"},{"$f":"'All hospitals'!C102","v":"Warrawong"},{"$f":"'All hospitals'!E102","v":"02 4223 8000"},{"$f":"'All hospitals'!F102","v":"02 4222 5000 (request Wollongong Hospital on-call pharmacist)"},{"$f":"'All hospitals'!W102","v":" -"},{"$f":"'All hospitals'!X102","v":" -"},{"$f":"'All hospitals'!Y102","v":" -"},{"$f":"'All hospitals'!Z102","v":" -"}]
[null,{"$f":"'All hospitals'!B103","v":"Shellharbour Hospital"},{"$f":"'All hospitals'!C103","v":"Mt Warrigal"},{"$f":"'All hospitals'!E103","v":"02 4295 2516"},{"$f":"'All hospitals'!F103","v":"02 4295 2500 (switch) - ask to page ADON"},{"$f":"'All hospitals'!W103","v":1},{"$f":"'All hospitals'!X103","v":"After Hours Cupboard"},{"$f":"'All hospitals'!Y103","v":" -"},{"$f":"'All hospitals'!Z103","v":" -"}]
[null,{"$f":"'All hospitals'!B104","v":"Shoalhaven Hospital "},{"$f":"'All hospitals'!C104","v":"Nowra"},{"$f":"'All hospitals'!E104","v":"02 4423 9734"},{"$f":"'All hospitals'!F104","v":"02 4423 9738/ 0427400177 (after hours patient flow manager)"},{"$f":"'All hospitals'!W104","v":1},{"$f":"'All hospitals'!X104","v":"ED"},{"$f":"'All hospitals'!Y104","v":1},{"$f":"'All hospitals'!Z104","v":"Pharmacy"}]
[null,{"$f":"'All hospitals'!B105","v":"Wollongong Hospital"},{"$f":"'All hospitals'!C105","v":"Wollongong "},{"$f":"'All hospitals'!E105","v":"02 4222 5340"},{"$f":"'All hospitals'!F105","v":"02 4222 5000"},{"$f":"'All hospitals'!W105","v":0},{"$f":"'All hospitals'!X105","v":" -"},{"$f":"'All hospitals'!Y105","v":" -"},{"$f":"'All hospitals'!Z105","v":" -"}]
[null,{"$f":"'All hospitals'!B106","v":"-"},{"$f":"'All hospitals'!C106","v":"-"},{"$f":"'All hospitals'!E106","v":"-"},{"$f":"'All hospitals'!F106","v":"-"},{"$f":"'All hospitals'!W106","v":"-"},{"$f":"'All hospitals'!X106","v":"-"},{"$f":"'All hospitals'!Y106","v":"-"},{"$f":"'All hospitals'!Z106","v":"-"}]
[null,{"$f":"'All hospitals'!B107","v":"MID NORTH COAST LHD"}]
[null,{"$f":"'All hospitals'!B108","v":"Bellingen River District Hospital "},{"$f":"'All hospitals'!C108","v":"Bellingen"},{"$f":"'All hospitals'!E108","v":"02 6659 5800"},{"$f":"'All hospitals'!F108","v":"02 6656 7324"},{"$f":"'All hospitals'!W108","v":0},{"$f":"'All hospitals'!X108","v":" - "},{"$f":"'All hospitals'!Y108","v":" -"},{"$f":"'All hospitals'!Z108","v":" -"}]
[null,{"$f":"'All hospitals'!B109","v":"Coffs Harbour Health Campus "},{"$f":"'All hospitals'!C109","v":"Coffs Harbour"},{"$f":"'All hospitals'!E109","v":"02 6656 7000"},{"$f":"'All hospitals'!F109","v":"02 6656 7324"},{"$f":"'All hospitals'!W109","v":0},{"$f":"'All hospitals'!X109","v":" - "},{"$f":"'All hospitals'!Y109","v":" - "},{"$f":"'All hospitals'!Z109","v":" - "}]
[null,{"$f":"'All hospitals'!B110","v":"Dorrigo Multi Purpose Service"},{"$f":"'All hospitals'!C110","v":"Dorrigo"},{"$f":"'All hospitals'!E110","v":"02 6692 7700"},{"$f":"'All hospitals'!F110","v":"02 6656 7324"},{"$f":"'All hospitals'!W110","v":0},{"$f":"'All hospitals'!X110","v":" -"},{"$f":"'All hospitals'!Y110","v":" -"},{"$f":"'All hospitals'!Z110","v":" -"}]
[null,{"$f":"'All hospitals'!B111","v":"Kempsey District Hospital"},{"$f":"'All hospitals'!C111","v":"Kempsey"},{"$f":"'All hospitals'!E111","v":"02 6561 2600"},{"$f":"'All hospitals'!F111","v":"02 5524 2000"},{"$f":"'All hospitals'!W111","v":0},{"$f":"'All hospitals'!X111","v":" -"},{"$f":"'All hospitals'!Y111","v":" -"},{"$f":"'All hospitals'!Z111","v":" -"}]
[null,{"$f":"'All hospitals'!B112","v":"Macksville District Hospital "},{"$f":"'All hospitals'!C112","v":"Macksville"},{"$f":"'All hospitals'!E112","v":"02 6568 0666"},{"$f":"'All hospitals'!F112","v":"02 6656 7324"},{"$f":"'All hospitals'!W112","v":0},{"$f":"'All hospitals'!X112","v":" -"},{"$f":"'All hospitals'!Y112","v":" -"},{"$f":"'All hospitals'!Z112","v":" -"}]
[null,{"$f":"'All hospitals'!B113","v":"Port Macquarie Base Hospital"},{"$f":"'All hospitals'!C113","v":"Port Macquarie"},{"$f":"'All hospitals'!E113","v":"02 5524 2206"},{"$f":"'All hospitals'!F113","v":"02 5524 2000"},{"$f":"'All hospitals'!W113","v":0},{"$f":"'All hospitals'!X113","v":" -"},{"$f":"'All hospitals'!Y113","v":" -"},{"$f":"'All hospitals'!Z113","v":" -"}]
[null,{"$f":"'All hospitals'!B114","v":"Wauchope Hospital (Stock data TBC)"},{"$f":"'All hospitals'!C114","v":"Wauchope"},{"$f":"'All hospitals'!E114","v":"02 5524 2206"},{"$f":"'All hospitals'!F114","v":"02 5524 2000"},{"$f":"'All hospitals'!W114","v":0},{"$f":"'All hospitals'!X114","v":" -"},{"$f":"'All hospitals'!Y114","v":" -"},{"$f":"'All hospitals'!Z114","v":" -"}]
[null,{"$f":"'All hospitals'!B115","v":"-"},{"$f":"'All hospitals'!C115","v":"-"},{"$f":"'All hospitals'!E115","v":"-"},{"$f":"'All hospitals'!F115","v":"-"},{"$f":"'All hospitals'!W115","v":"-"},{"$f":"'All hospitals'!X115","v":"-"},{"$f":"'All hospitals'!Y115","v":"-"},{"$f":"'All hospitals'!Z115","v":"-"}]
[null,{"$f":"'All hospitals'!B116","v":"MURRUMBIDGEE LHD"}]
[null,{"$f":"'All hospitals'!B117","v":"Barham Koondrook Health Service"},{"$f":"'All hospitals'!C117","v":"Barham"},{"$f":"'All hospitals'!E117","v":"03 5451 1000"},{"$f":"'All hospitals'!F117","v":"03 5451 1000"},{"$f":"'All hospitals'!W117","v":0},{"$f":"'All hospitals'!X117","v":" -"},{"$f":"'All hospitals'!Y117","v":" -"},{"$f":"'All hospitals'!Z117","v":" -"}]
[null,{"$f":"'All hospitals'!B118","v":"Batlow Adelong Multi Purpose Service"},{"$f":"'All hospitals'!C118","v":"Batlow"},{"$f":"'All hospitals'!E118","v":"02 6941 4333"},{"$f":"'All hospitals'!F118","v":"02 6941 4333"},{"$f":"'All hospitals'!W118","v":0},{"$f":"'All hospitals'!X118","v":" -"},{"$f":"'All hospitals'!Y118","v":" -"},{"$f":"'All hospitals'!Z118","v":" -"}]
[null,{"$f":"'All hospitals'!B119","v":"Berrigan Multi Purpose Service"},{"$f":"'All hospitals'!C119","v":"Berrigan"},{"$f":"'All hospitals'!E119","v":"03 5888 5300"},{"$f":"'All hospitals'!F119","v":"03 5888 5300"},{"$f":"'All hospitals'!W119","v":0},{"$f":"'All hospitals'!X119","v":" -"},{"$f":"'All hospitals'!Y119","v":" -"},{"$f":"'All hospitals'!Z119","v":" -"}]
[null,{"$f":"'All hospitals'!B120","v":"Boorowa Multi Purpose Service Hospital"},{"$f":"'All hospitals'!C120","v":"Boorowa"},{"$f":"'All hospitals'!E120","v":"02 6380 2100"},{"$f":"'All hospitals'!F120","v":"02 6380 2100"},{"$f":"'All hospitals'!W120","v":0},{"$f":"'All hospitals'!X120","v":" -"},{"$f":"'All hospitals'!Y120","v":" -"},{"$f":"'All hospitals'!Z120","v":" -"}]
[null,{"$f":"'All hospitals'!B121","v":"Coolamon-Ganmain Multi Purpose Service"},{"$f":"'All hospitals'!C121","v":"Coolamon"},{"$f":"'All hospitals'!E121","v":"02 6927 3303"},{"$f":"'All hospitals'!F121","v":"02 6927 3303"},{"$f":"'All hospitals'!W121","v":0},{"$f":"'All hospitals'!X121","v":" -"},{"$f":"'All hospitals'!Y121","v":" -"},{"$f":"'All hospitals'!Z121","v":" -"}]
[null,{"$f":"'All hospitals'!B122","v":"Cootamundra District Hospital"},{"$f":"'All hospitals'!C122","v":"Cootamundra"},{"$f":"'All hospitals'!E122","v":"02 6942 0444"},{"$f":"'All hospitals'!F122","v":"02 6942 0444"},{"$f":"'All hospitals'!W122","v":0},{"$f":"'All hospitals'!X122","v":" -"},{"$f":"'All hospitals'!Y122","v":" -"},{"$f":"'All hospitals'!Z122","v":" -"}]
[null,{"$f":"'All hospitals'!B123","v":"Corowa District Hospital"},{"$f":"'All hospitals'!C123","v":"Corowa"},{"$f":"'All hospitals'!E123","v":"02 6033 7555"},{"$f":"'All hospitals'!F123","v":"02 6033 7555"},{"$f":"'All hospitals'!W123","v":0},{"$f":"'All hospitals'!X123","v":" -"},{"$f":"'All hospitals'!Y123","v":" -"},{"$f":"'All hospitals'!Z123","v":" -"}]
[null,{"$f":"'All hospitals'!B124","v":"Culcairn Multi Purpose Service"},{"$f":"'All hospitals'!C124","v":"Culcairn"},{"$f":"'All hospitals'!E124","v":"02 6029 8203"},{"$f":"'All hospitals'!F124","v":"02 6029 8203"},{"$f":"'All hospitals'!W124","v":0},{"$f":"'All hospitals'!X124","v":" -"},{"$f":"'All hospitals'!Y124","v":" -"},{"$f":"'All hospitals'!Z124","v":" -"}]
[null,{"$f":"'All hospitals'!B125","v":"Deniliquin Hospital"},{"$f":"'All hospitals'!C125","v":"Deniliquin"},{"$f":"'All hospitals'!E125","v":"03 5882 2843"},{"$f":"'All hospitals'!F125","v":"03 5882 2834"},{"$f":"'All hospitals'!W125","v":0},{"$f":"'All hospitals'!X125","v":"-"},{"$f":"'All hospitals'!Y125","v":" -"},{"$f":"'All hospitals'!Z125","v":" -"}]
[null,{"$f":"'All hospitals'!B126","v":"Finley Hospital"},{"$f":"'All hospitals'!C126","v":"Finley"},{"$f":"'All hospitals'!E126","v":"03 5883 1133"},{"$f":"'All hospitals'!F126","v":"03 5883 1133"},{"$f":"'All hospitals'!W126","v":0},{"$f":"'All hospitals'!X126","v":" -"},{"$f":"'All hospitals'!Y126","v":" -"},{"$f":"'All hospitals'!Z126","v":" -"}]
[null,{"$f":"'All hospitals'!B127","v":"Griffith Base Hospital"},{"$f":"'All hospitals'!C127","v":"Griffith NSW"},{"$f":"'All hospitals'!E127","v":"02 6969 5550"},{"$f":"'All hospitals'!F127","v":"02 6969 5600"},{"$f":"'All hospitals'!W127","v":0},{"$f":"'All hospitals'!X127","v":"-"},{"$f":"'All hospitals'!Y127","v":" -"},{"$f":"'All hospitals'!Z127","v":" -"}]
[null,{"$f":"'All hospitals'!B128","v":"Gundagai Multi Purpose Service"},{"$f":"'All hospitals'!C128","v":"Gundagai"},{"$f":"'All hospitals'!E128","v":"02 6950 6300"},{"$f":"'All hospitals'!F128","v":"02 6950 6300"},{"$f":"'All hospitals'!W128","v":0},{"$f":"'All hospitals'!X128","v":" -"},{"$f":"'All hospitals'!Y128","v":" -"},{"$f":"'All hospitals'!Z128","v":" -"}]
[null,{"$f":"'All hospitals'!B129","v":"Hay Hospital"},{"$f":"'All hospitals'!C129","v":"Hay"},{"$f":"'All hospitals'!E129","v":"02 6990 8700"},{"$f":"'All hospitals'!F129","v":"02 6990 8700"},{"$f":"'All hospitals'!W129","v":0},{"$f":"'All hospitals'!X129","v":" -"},{"$f":"'All hospitals'!Y129","v":" -"},{"$f":"'All hospitals'!Z129","v":" -"}]
[null,{"$f":"'All hospitals'!B130","v":"Henty Multi Purpose Service"},{"$f":"'All hospitals'!C130","v":"Henty"},{"$f":"'All hospitals'!E130","v":"02 6929 4999"},{"$f":"'All hospitals'!F130","v":"02 6929 4999"},{"$f":"'All hospitals'!W130","v":0},{"$f":"'All hospitals'!X130","v":" -"},{"$f":"'All hospitals'!Y130","v":" -"},{"$f":"'All hospitals'!Z130","v":" -"}]
[null,{"$f":"'All hospitals'!B131","v":"Hillston Multi Purpose Service"},{"$f":"'All hospitals'!C131","v":"Hillston, NSW"},{"$f":"'All hospitals'!E131","v":"02 6961 7200"},{"$f":"'All hospitals'!F131","v":"02 6961 7200"},{"$f":"'All hospitals'!W131","v":0},{"$f":"'All hospitals'!X131","v":" -"},{"$f":"'All hospitals'!Y131","v":" -"},{"$f":"'All hospitals'!Z131","v":" -"}]
[null,{"$f":"'All hospitals'!B132","v":"Holbrook Hospital"},{"$f":"'All hospitals'!C132","v":"Holbrook"},{"$f":"'All hospitals'!E132","v":"02 6036 2522"},{"$f":"'All hospitals'!F132","v":"02 6036 2522"},{"$f":"'All hospitals'!W132","v":0},{"$f":"'All hospitals'!X132","v":" -"},{"$f":"'All hospitals'!Y132","v":" -"},{"$f":"'All hospitals'!Z132","v":" -"}]
[null,{"$f":"'All hospitals'!B133","v":"Jerilderie Multi Purpose Service"},{"$f":"'All hospitals'!C133","v":"Jerilderie"},{"$f":"'All hospitals'!E133","v":"03 5886 1300"},{"$f":"'All hospitals'!F133","v":"03 5886 1300"},{"$f":"'All hospitals'!W133","v":0},{"$f":"'All hospitals'!X133","v":" -"},{"$f":"'All hospitals'!Y133","v":" -"},{"$f":"'All hospitals'!Z133","v":" -"}]
[null,{"$f":"'All hospitals'!B134","v":"Junee Multi Purpose Service"},{"$f":"'All hospitals'!C134","v":"Junee"},{"$f":"'All hospitals'!E134","v":"02 6924 8200"},{"$f":"'All hospitals'!F134","v":"02 6924 8200"},{"$f":"'All hospitals'!W134","v":0},{"$f":"'All hospitals'!X134","v":" -"},{"$f":"'All hospitals'!Y134","v":" -"},{"$f":"'All hospitals'!Z134","v":" -"}]
[null,{"$f":"'All hospitals'!B135","v":"Lake Cargelligo Multi Purpose Service"},{"$f":"'All hospitals'!C135","v":"Lake Cargelligo"},{"$f":"'All hospitals'!E135","v":"02 6898 0200"},{"$f":"'All hospitals'!F135","v":"02 6898 0200"},{"$f":"'All hospitals'!W135","v":0},{"$f":"'All hospitals'!X135","v":" -"},{"$f":"'All hospitals'!Y135","v":" -"},{"$f":"'All hospitals'!Z135","v":" -"}]
[null,{"$f":"'All hospitals'!B136","v":"Leeton District Hospital"},{"$f":"'All hospitals'!C136","v":"Leeton"},{"$f":"'All hospitals'!E136","v":"02 6953 1111"},{"$f":"'All hospitals'!F136","v":"02 6953 1111"},{"$f":"'All hospitals'!W136","v":0},{"$f":"'All hospitals'!X136","v":" -"},{"$f":"'All hospitals'!Y136","v":" -"},{"$f":"'All hospitals'!Z136","v":" -"}]
[null,{"$f":"'All hospitals'!B137","v":"Lockhart Hospital"},{"$f":"'All hospitals'!C137","v":"Lockhart"},{"$f":"'All hospitals'!E137","v":"02 6930 7100"},{"$f":"'All hospitals'!F137","v":"02 6930 7100"},{"$f":"'All hospitals'!W137","v":0},{"$f":"'All hospitals'!X137","v":" -"},{"$f":"'All hospitals'!Y137","v":" -"},{"$f":"'All hospitals'!Z137","v":" -"}]
[null,{"$f":"'All hospitals'!B138","v":"Murrumburrah-Harden Hospital"},{"$f":"'All hospitals'!C138","v":"Harden"},{"$f":"'All hospitals'!E138","v":"02 6386 2200"},{"$f":"'All hospitals'!F138","v":"02 6386 2200"},{"$f":"'All hospitals'!W138","v":0},{"$f":"'All hospitals'!X138","v":" -"},{"$f":"'All hospitals'!Y138","v":" -"},{"$f":"'All hospitals'!Z138","v":" -"}]
[null,{"$f":"'All hospitals'!B139","v":"Narrandera District Hospital"},{"$f":"'All hospitals'!C139","v":"Narrandera"},{"$f":"'All hospitals'!E139","v":"02 6951 0200"},{"$f":"'All hospitals'!F139","v":"02 6951 0200"},{"$f":"'All hospitals'!W139","v":0},{"$f":"'All hospitals'!X139","v":" -"},{"$f":"'All hospitals'!Y139","v":" -"},{"$f":"'All hospitals'!Z139","v":" -"}]
[null,{"$f":"'All hospitals'!B140","v":"Temora District Hospital "},{"$f":"'All hospitals'!C140","v":"Temora"},{"$f":"'All hospitals'!E140","v":"02 6980 0200"},{"$f":"'All hospitals'!F140","v":"02 6980 0200"},{"$f":"'All hospitals'!W140","v":0},{"$f":"'All hospitals'!X140","v":" -"},{"$f":"'All hospitals'!Y140","v":" -"},{"$f":"'All hospitals'!Z140","v":" -"}]
[null,{"$f":"'All hospitals'!B141","v":"Tocumwal Hospital"},{"$f":"'All hospitals'!C141","v":"Tocumwal"},{"$f":"'All hospitals'!E141","v":"03 5874 2166"},{"$f":"'All hospitals'!F141","v":"03 5874 2166"},{"$f":"'All hospitals'!W141","v":0},{"$f":"'All hospitals'!X141","v":" -"},{"$f":"'All hospitals'!Y141","v":" -"},{"$f":"'All hospitals'!Z141","v":" -"}]
[null,{"$f":"'All hospitals'!B142","v":"Tumbarumba Multi Purpose Service"},{"$f":"'All hospitals'!C142","v":"Tumbarumba"},{"$f":"'All hospitals'!E142","v":"02 6948 9600"},{"$f":"'All hospitals'!F142","v":"02 6948 9600"},{"$f":"'All hospitals'!W142","v":0},{"$f":"'All hospitals'!X142","v":" -"},{"$f":"'All hospitals'!Y142","v":" -"},{"$f":"'All hospitals'!Z142","v":" -"}]
[null,{"$f":"'All hospitals'!B143","v":"Tumut District Hospital"},{"$f":"'All hospitals'!C143","v":"Tumut"},{"$f":"'All hospitals'!E143","v":"02 6947 0800"},{"$f":"'All hospitals'!F143","v":"02 6947 0800"},{"$f":"'All hospitals'!W143","v":0},{"$f":"'All hospitals'!X143","v":" -"},{"$f":"'All hospitals'!Y143","v":" -"},{"$f":"'All hospitals'!Z143","v":" -"}]
[null,{"$f":"'All hospitals'!B144","v":"Urana Multi Purpose Service"},{"$f":"'All hospitals'!C144","v":"Urana"},{"$f":"'All hospitals'!E144","v":"02 6920 8106"},{"$f":"'All hospitals'!F144","v":"02 6920 8106"},{"$f":"'All hospitals'!W144","v":0},{"$f":"'All hospitals'!X144","v":" -"},{"$f":"'All hospitals'!Y144","v":" -"},{"$f":"'All hospitals'!Z144","v":" -"}]
[null,{"$f":"'All hospitals'!B145","v":"Wagga Wagga Base Hospital "},{"$f":"'All hospitals'!C145","v":"Wagga Wagga"},{"$f":"'All hospitals'!E145","v":"02 5943 1000"},{"$f":"'All hospitals'!F145","v":"0429 306 566"},{"$f":"'All hospitals'!W145","v":0},{"$f":"'All hospitals'!X145","v":"-"},{"$f":"'All hospitals'!Y145","v":" -"},{"$f":"'All hospitals'!Z145","v":" -"}]
[null,{"$f":"'All hospitals'!B146","v":"Wyalong Hospital"},{"$f":"'All hospitals'!C146","v":"West Wyalong"},{"$f":"'All hospitals'!E146","v":"02 6979 0000"},{"$f":"'All hospitals'!F146","v":"02 6979 0000"},{"$f":"'All hospitals'!W146","v":0},{"$f":"'All hospitals'!X146","v":" -"},{"$f":"'All hospitals'!Y146","v":" -"},{"$f":"'All hospitals'!Z146","v":" -"}]
[null,{"$f":"'All hospitals'!B147","v":"Young District Hospital"},{"$f":"'All hospitals'!C147","v":"Young"},{"$f":"'All hospitals'!E147","v":"02 6382 8888"},{"$f":"'All hospitals'!F147","v":"02 6382 8888"},{"$f":"'All hospitals'!W147","v":0},{"$f":"'All hospitals'!X147","v":"-"},{"$f":"'All hospitals'!Y147","v":" -"},{"$f":"'All hospitals'!Z147","v":" -"}]
[null,{"$f":"'All hospitals'!B148","v":"-"},{"$f":"'All hospitals'!C148","v":"-"},{"$f":"'All hospitals'!E148","v":"-"},{"$f":"'All hospitals'!F148","v":"-"},{"$f":"'All hospitals'!W148","v":"-"},{"$f":"'All hospitals'!X148","v":"-"},{"$f":"'All hospitals'!Y148","v":"-"},{"$f":"'All hospitals'!Z148","v":"-"}]
[null,{"$f":"'All hospitals'!B149","v":"NEPEAN BLUE MOUNTAINS LHD & OTHER"}]
[null,{"$f":"'All hospitals'!B150","v":"Blue Mountains District Hospital "},{"$f":"'All hospitals'!C150","v":"Katoomba"},{"$f":"'All hospitals'!E150","v":"02 4784 6500"},{"$f":"'All hospitals'!F150","v":"0412 117 269"},{"$f":"'All hospitals'!W150","v":1},{"$f":"'All hospitals'!X150","v":"Pathology"},{"$f":"'All hospitals'!Y150","v":" -"},{"$f":"'All hospitals'!Z150","v":" -"}]
[null,{"$f":"'All hospitals'!B151","v":"Hawkesbury District Health Service"},{"$f":"'All hospitals'!C151","v":"Windsor"},{"$f":"'All hospitals'!E151","v":"02 4560 5529"},{"$f":"'All hospitals'!F151","v":"02 4560 5555 (Ask for AHNM)"},{"$f":"'All hospitals'!W151","v":1},{"$f":"'All hospitals'!X151","v":"Pathology"},{"$f":"'All hospitals'!Y151","v":" -"},{"$f":"'All hospitals'!Z151","v":" -"}]
[null,{"$f":"'All hospitals'!B152","v":"Lithgow Hospital"},{"$f":"'All hospitals'!C152","v":"Lithgow"},{"$f":"'All hospitals'!E152","v":"02 6350 2370"},{"$f":"'All hospitals'!F152","v":"02 6350 2300 (switch)"},{"$f":"'All hospitals'!W152","v":1},{"$f":"'All hospitals'!X152","v":"ED"},{"$f":"'All hospitals'!Y152","v":" -"},{"$f":"'All hospitals'!Z152","v":" -"}]
[null,{"$f":"'All hospitals'!B153","v":"Nepean Hospital "},{"$f":"'All hospitals'!C153","v":"Penrith"},{"$f":"'All hospitals'!E153","v":"02 4734 2256"},{"$f":"'All hospitals'!F153","v":" 0412 235 766"},{"$f":"'All hospitals'!W153","v":0},{"$f":"'All hospitals'!X153","v":" - "},{"$f":"'All hospitals'!Y153","v":0},{"$f":"'All hospitals'!Z153","v":" - "}]
[null,{"$f":"'All hospitals'!B154","v":"-"},{"$f":"'All hospitals'!C154","v":"-"},{"$f":"'All hospitals'!E154","v":"-"},{"$f":"'All hospitals'!F154","v":"-"},{"$f":"'All hospitals'!W154","v":"-"},{"$f":"'All hospitals'!X154","v":"-"},{"$f":"'All hospitals'!Y154","v":"-"},{"$f":"'All hospitals'!Z154","v":"-"}]
[null,{"$f":"'All hospitals'!B155","v":"NORTHERN NSW LHD"}]
[null,{"$f":"'All hospitals'!B156","v":"Ballina Hospital "},{"$f":"'All hospitals'!C156","v":"Ballina"},{"$f":"'All hospitals'!E156","v":"02 6620 6400"},{"$f":"'All hospitals'!F156","v":"02 6620 6202"},{"$f":"'All hospitals'!W156","v":0},{"$f":"'All hospitals'!X156","v":" -"},{"$f":"'All hospitals'!Y156","v":" -"},{"$f":"'All hospitals'!Z156","v":" -"}]
[null,{"$f":"'All hospitals'!B157","v":"Bonalbo Hospital "},{"$f":"'All hospitals'!C157","v":"Bonalbo"},{"$f":"'All hospitals'!E157","v":"02 6665 4100"},{"$f":"'All hospitals'!F157","v":"02 6665 4100"},{"$f":"'All hospitals'!W157","v":0},{"$f":"'All hospitals'!X157","v":" -"},{"$f":"'All hospitals'!Y157","v":" -"},{"$f":"'All hospitals'!Z157","v":" -"}]
[null,{"$f":"'All hospitals'!B158","v":"Byron Central Hospital (Stock data TBC)"},{"$f":"'All hospitals'!C158","v":"Byron Bay"},{"$f":"'All hospitals'!E158","v":"02 6639 9400"},{"$f":"'All hospitals'!F158","v":"02 6639 9400"},{"$f":"'All hospitals'!W158","v":0},{"$f":"'All hospitals'!X158","v":" -"},{"$f":"'All hospitals'!Y158","v":" -"},{"$f":"'All hospitals'!Z158","v":" -"}]
[null,{"$f":"'All hospitals'!B159","v":"Casino Hospital"},{"$f":"'All hospitals'!C159","v":"Casino"},{"$f":"'All hospitals'!E159","v":"02 6660 0642"},{"$f":"'All hospitals'!F159","v":"02 6660 0642"},{"$f":"'All hospitals'!W159","v":0},{"$f":"'All hospitals'!X159","v":" -"},{"$f":"'All hospitals'!Y159","v":" -"},{"$f":"'All hospitals'!Z159","v":" -"}]
[null,{"$f":"'All hospitals'!B160","v":"Grafton Base Hospital (Stock data TBC)"},{"$f":"'All hospitals'!C160","v":"Grafton"},{"$f":"'All hospitals'!E160","v":"02 6640 2222"},{"$f":"'All hospitals'!F160","v":"02 6640 2299    "},{"$f":"'All hospitals'!W160","v":0},{"$f":"'All hospitals'!X160","v":" -"},{"$f":"'All hospitals'!Y160","v":" -"},{"$f":"'All hospitals'!Z160","v":" -"}]
[null,{"$f":"'All hospitals'!B161","v":"Kyogle Multi Purpose Service"},{"$f":"'All hospitals'!C161","v":"Kyogle"},{"$f":"'All hospitals'!E161","v":"02 6630 0400"},{"$f":"'All hospitals'!F161","v":"02 6630 0400"},{"$f":"'All hospitals'!W161","v":0},{"$f":"'All hospitals'!X161","v":" -"},{"$f":"'All hospitals'!Y161","v":" -"},{"$f":"'All hospitals'!Z161","v":" -"}]
[null,{"$f":"'All hospitals'!B162","v":"Lismore Base Hospital "},{"$f":"'All hospitals'!C162","v":"Lismore"},{"$f":"'All hospitals'!E162","v":"02 6624 0200"},{"$f":"'All hospitals'!F162","v":"02 6624 0200"},{"$f":"'All hospitals'!W162","v":0},{"$f":"'All hospitals'!X162","v":" -"},{"$f":"'All hospitals'!Y162","v":" -"},{"$f":"'All hospitals'!Z162","v":" -"}]
[null,{"$f":"'All hospitals'!B163","v":"Maclean District Hospital (Stock data TBC)"},{"$f":"'All hospitals'!C163","v":"Maclean"},{"$f":"'All hospitals'!E163","v":"02 6640 0111"},{"$f":"'All hospitals'!F163","v":"02 6640 0111"},{"$f":"'All hospitals'!W163","v":0},{"$f":"'All hospitals'!X163","v":" -"},{"$f":"'All hospitals'!Y163","v":" -"},{"$f":"'All hospitals'!Z163","v":" -"}]
[null,{"$f":"'All hospitals'!B164","v":"Murwillumbah District Hospital (Stock data TBC)"},{"$f":"'All hospitals'!C164","v":"Murwillumbah"},{"$f":"'All hospitals'!E164","v":"02 6672 0237"},{"$f":"'All hospitals'!F164","v":"02 6672 0230"},{"$f":"'All hospitals'!W164","v":0},{"$f":"'All hospitals'!X164","v":" -"},{"$f":"'All hospitals'!Y164","v":" -"},{"$f":"'All hospitals'!Z164","v":" -"}]
[null,{"$f":"'All hospitals'!B165","v":"Nimbin Multi Purpose Service"},{"$f":"'All hospitals'!C165","v":"Nimbin"},{"$f":"'All hospitals'!E165","v":"02 6689 1400"},{"$f":"'All hospitals'!F165","v":"02 6689 1400"},{"$f":"'All hospitals'!W165","v":0},{"$f":"'All hospitals'!X165","v":" -"},{"$f":"'All hospitals'!Y165","v":" -"},{"$f":"'All hospitals'!Z165","v":" -"}]
[null,{"$f":"'All hospitals'!B166","v":"The Tweed Hospital"},{"$f":"'All hospitals'!C166","v":"Tweed Heads"},{"$f":"'All hospitals'!E166","v":"07 5506 7420"},{"$f":"'All hospitals'!F166","v":"07 5506 7667"},{"$f":"'All hospitals'!W166","v":" -"},{"$f":"'All hospitals'!X166","v":" -"},{"$f":"'All hospitals'!Y166","v":1},{"$f":"'All hospitals'!Z166","v":"Pathology"}]
[null,{"$f":"'All hospitals'!B167","v":"Urbenville Multi Purpose Service "},{"$f":"'All hospitals'!C167","v":"Urbenville"},{"$f":"'All hospitals'!E167","v":"02 66341600"},{"$f":"'All hospitals'!F167","v":"02 66341600"},{"$f":"'All hospitals'!W167","v":0},{"$f":"'All hospitals'!X167","v":" -"},{"$f":"'All hospitals'!Y167","v":" -"},{"$f":"'All hospitals'!Z167","v":" -"}]
[null,{"$f":"'All hospitals'!B168","v":"-"},{"$f":"'All hospitals'!C168","v":"-"},{"$f":"'All hospitals'!E168","v":"-"},{"$f":"'All hospitals'!F168","v":"-"},{"$f":"'All hospitals'!W168","v":"-"},{"$f":"'All hospitals'!X168","v":"-"},{"$f":"'All hospitals'!Y168","v":"-"},{"$f":"'All hospitals'!Z168","v":"-"}]
[null,{"$f":"'All hospitals'!B169","v":"NORTHERN SYDNEY LHD & OTHER"}]
[null,{"$f":"'All hospitals'!B170","v":"Hornsby Hospital"},{"$f":"'All hospitals'!C170","v":"Hornsby"},{"$f":"'All hospitals'!E170","v":"02 9485 6455"},{"$f":"'All hospitals'!F170","v":"02 9485 6600 (ED)"},{"$f":"'All hospitals'!W170","v":2},{"$f":"'All hospitals'!X170","v":"ED & Triage area"},{"$f":"'All hospitals'!Y170","v":" -"},{"$f":"'All hospitals'!Z170","v":" -"}]
[null,{"$f":"'All hospitals'!B172","v":"Manly Hospital (closed 30th Oct 2018 - See Northern Beaches Health Service)"},{"$f":"'All hospitals'!C172","v":"-"},{"$f":"'All hospitals'!E172","v":"-"},{"$f":"'All hospitals'!F172","v":" -"},{"$f":"'All hospitals'!W172","v":" -"},{"$f":"'All hospitals'!X172","v":" -"},{"$f":"'All hospitals'!Y172","v":" -"},{"$f":"'All hospitals'!Z172","v":" -"}]
[null,{"$f":"'All hospitals'!B173","v":"Mona Vale Hospital (Subacute hospital overseen by Hornsby Hospital; some antivenoms available on imprest)"},{"$f":"'All hospitals'!C173","v":"Mona Vale "},{"$f":"'All hospitals'!E173","v":"02 9998 6040"},{"$f":"'All hospitals'!F173","v":"02 9998 6300"},{"$f":"'All hospitals'!W173","v":" -"},{"$f":"'All hospitals'!X173","v":" -"},{"$f":"'All hospitals'!Y173","v":" -"},{"$f":"'All hospitals'!Z173","v":" -"}]
[null,{"$f":"'All hospitals'!B174","v":"Northern Beaches Health Service (replaces Manly Hospital) "},{"$f":"'All hospitals'!C174","v":"Frenchs Forest"},{"$f":"'All hospitals'!E174","v":"02 9105 5000"},{"$f":"'All hospitals'!F174","v":"0490 124 164"},{"$f":"'All hospitals'!W174","v":0},{"$f":"'All hospitals'!X174","v":"-"},{"$f":"'All hospitals'!Y174","v":" -"},{"$f":"'All hospitals'!Z174","v":" -"}]
[null,{"$f":"'All hospitals'!B175","v":"Royal North Shore Hospital"},{"$f":"'All hospitals'!C175","v":"St Leonards"},{"$f":"'All hospitals'!E175","v":"02 9463 1140"},{"$f":"'All hospitals'!F175","v":"02 9926 7111 On-call pharmacist via switchboard"},{"$f":"'All hospitals'!W175","v":0},{"$f":"'All hospitals'!X175","v":"ED Resus Room"},{"$f":"'All hospitals'!Y175","v":" -"},{"$f":"'All hospitals'!Z175","v":" -"}]
[null,{"$f":"'All hospitals'!B176","v":"Ryde Hospital"},{"$f":"'All hospitals'!C176","v":"Eastwood"},{"$f":"'All hospitals'!E176","v":"02 9858 7888"},{"$f":"'All hospitals'!F176","v":"Oncall Pharmacist (0472 809 062) AHNM (0402 990 158)"},{"$f":"'All hospitals'!W176","v":1},{"$f":"'All hospitals'!X176","v":"ED"},{"$f":"'All hospitals'!Y176","v":" -"},{"$f":"'All hospitals'!Z176","v":" -"}]
[null,{"$f":"'All hospitals'!B171","v":0},{"$f":"'All hospitals'!C171","v":0},{"$f":"'All hospitals'!E171","v":0},{"$f":"'All hospitals'!F171","v":0},{"$f":"'All hospitals'!W171","v":0},{"$f":"'All hospitals'!X171","v":0},{"$f":"'All hospitals'!Y171","v":0},{"$f":"'All hospitals'!Z171","v":0}]
[null,{"$f":"'All hospitals'!B177","v":"-"},{"$f":"'All hospitals'!C177","v":"-"},{"$f":"'All hospitals'!E177","v":"-"},{"$f":"'All hospitals'!F177","v":"-"},{"$f":"'All hospitals'!W177","v":"-"},{"$f":"'All hospitals'!X177","v":"-"},{"$f":"'All hospitals'!Y177","v":"-"},{"$f":"'All hospitals'!Z177","v":"-"}]
[null,{"$f":"'All hospitals'!B178","v":"SOUTH EASTERN SYDNEY LHD"}]
[null,{"$f":"'All hospitals'!B179","v":"Calvary Hospital  (Stock data TBC)"},{"$f":"'All hospitals'!C179","v":"Kogarah"},{"$f":"'All hospitals'!E179","v":"-"},{"$f":"'All hospitals'!F179","v":"-"},{"$f":"'All hospitals'!W179","v":"-"},{"$f":"'All hospitals'!X179","v":"-"},{"$f":"'All hospitals'!Y179","v":"-"},{"$f":"'All hospitals'!Z179","v":"-"}]
[null,{"$f":"'All hospitals'!B180","v":"Prince of Wales Hospital "},{"$f":"'All hospitals'!C180","v":"Randwick, Sydney"},{"$f":"'All hospitals'!E180","v":"02 9382 2222"},{"$f":"'All hospitals'!F180","v":"oncall pharmacist via switchboard 02 9382 2222 "},{"$f":"'All hospitals'!W180","v":1},{"$f":"'All hospitals'!X180","v":"ED"},{"$f":"'All hospitals'!Y180","v":4},{"$f":"'All hospitals'!Z180","v":"Pharmacy"}]
[null,{"$f":"'All hospitals'!B181","v":"Royal Hospital for Women NO STOCKS HELD"},{"$f":"'All hospitals'!C181","v":"Sydney"},{"$f":"'All hospitals'!E181","v":"02 9382 6716"},{"$f":"'All hospitals'!F181","v":"02 9382 2222 on call pharmacist"},{"$f":"'All hospitals'!W181","v":0},{"$f":"'All hospitals'!X181","v":" -"},{"$f":"'All hospitals'!Y181","v":" -"},{"$f":"'All hospitals'!Z181","v":" -"}]
[null,{"$f":"'All hospitals'!B182","v":"St George Hospital"},{"$f":"'All hospitals'!C182","v":"Kogarah"},{"$f":"'All hospitals'!E182","v":"02 9113 3055"},{"$f":"'All hospitals'!F182","v":"Page AHNM via switchboard 02 9113 1111"},{"$f":"'All hospitals'!W182","v":1},{"$f":"'All hospitals'!X182","v":"ED resus"},{"$f":"'All hospitals'!Y182","v":"-"},{"$f":"'All hospitals'!Z182","v":"-"}]
[null,{"$f":"'All hospitals'!B183","v":"Sydney Hospital and Sydney Eye Hospital"},{"$f":"'All hospitals'!C183","v":"Sydney"},{"$f":"'All hospitals'!E183","v":"02 9382 7379"},{"$f":"'All hospitals'!F183","v":"02 9382 7111  ask for Emergency Department"},{"$f":"'All hospitals'!W183","v":3},{"$f":"'All hospitals'!X183","v":"ED"},{"$f":"'All hospitals'!Y183","v":" -"},{"$f":"'All hospitals'!Z183","v":" -"}]
[null,{"$f":"'All hospitals'!B184","v":"The Sutherland Hospital"},{"$f":"'All hospitals'!C184","v":"Sydney"},{"$f":"'All hospitals'!E184","v":"02 9540 7466 OR 02 9540 7467"},{"$f":"'All hospitals'!F184","v":"02 9540 7111"},{"$f":"'All hospitals'!W184","v":"-"},{"$f":"'All hospitals'!X184","v":"-"},{"$f":"'All hospitals'!Y184","v":" -"},{"$f":"'All hospitals'!Z184","v":" -"}]
[null,{"$f":"'All hospitals'!B185","v":"-"},{"$f":"'All hospitals'!C185","v":"-"},{"$f":"'All hospitals'!E185","v":"-"},{"$f":"'All hospitals'!F185","v":"-"},{"$f":"'All hospitals'!W185","v":"-"},{"$f":"'All hospitals'!X185","v":"-"},{"$f":"'All hospitals'!Y185","v":"-"},{"$f":"'All hospitals'!Z185","v":"-"}]
[null,{"$f":"'All hospitals'!B186","v":"SOUTH WESTERN SYDNEY LHD"}]
[null,{"$f":"'All hospitals'!B187","v":"Bankstown-Lidcombe Hospital"},{"$f":"'All hospitals'!C187","v":"Sydney"},{"$f":"'All hospitals'!E187","v":"02 9722 8000"},{"$f":"'All hospitals'!F187","v":"02 9722 8000"},{"$f":"'All hospitals'!W187","v":1},{"$f":"'All hospitals'!X187","v":"Pathology"},{"$f":"'All hospitals'!Y187","v":" -"},{"$f":"'All hospitals'!Z187","v":" -"}]
[null,{"$f":"'All hospitals'!B188","v":"Bowral District Hospital"},{"$f":"'All hospitals'!C188","v":"Bowral"},{"$f":"'All hospitals'!E188","v":"02 4861 0274"},{"$f":"'All hospitals'!F188","v":"02 4861 0199"},{"$f":"'All hospitals'!W188","v":1},{"$f":"'All hospitals'!X188","v":"Pathology"},{"$f":"'All hospitals'!Y188","v":" -"},{"$f":"'All hospitals'!Z188","v":" -"}]
[null,{"$f":"'All hospitals'!B189","v":"Camden Hospital "},{"$f":"'All hospitals'!C189","v":"Sydney"},{"$f":"'All hospitals'!E189","v":"02 4634 3000"},{"$f":"'All hospitals'!F189","v":"0408 662 394"},{"$f":"'All hospitals'!W189","v":1},{"$f":"'All hospitals'!X189","v":"ED"},{"$f":"'All hospitals'!Y189","v":" -"},{"$f":"'All hospitals'!Z189","v":" -"}]
[null,{"$f":"'All hospitals'!B190","v":"Campbelltown Hospital "},{"$f":"'All hospitals'!C190","v":"Sydney"},{"$f":"'All hospitals'!E190","v":"02 4634 3000"},{"$f":"'All hospitals'!F190","v":"0408 662 394"},{"$f":"'All hospitals'!W190","v":1},{"$f":"'All hospitals'!X190","v":"ED"},{"$f":"'All hospitals'!Y190","v":" -"},{"$f":"'All hospitals'!Z190","v":" -"}]
[null,{"$f":"'All hospitals'!B191","v":"Fairfield Hospital"},{"$f":"'All hospitals'!C191","v":"Fairfield"},{"$f":"'All hospitals'!E191","v":"02 9616 8322"},{"$f":"'All hospitals'!F191","v":"02 9616 8111"},{"$f":"'All hospitals'!W191","v":0},{"$f":"'All hospitals'!X191","v":" -"},{"$f":"'All hospitals'!Y191","v":" -"},{"$f":"'All hospitals'!Z191","v":" -"}]
[null,{"$f":"'All hospitals'!B192","v":"Liverpool Hospital"},{"$f":"'All hospitals'!C192","v":"Sydney"},{"$f":"'All hospitals'!E192","v":"02 8738 3000"},{"$f":"'All hospitals'!F192","v":"02 8738 3000"},{"$f":"'All hospitals'!W192","v":1},{"$f":"'All hospitals'!X192","v":"Pathology (Expires Sep 2021, likely to be replaced)"},{"$f":"'All hospitals'!Y192","v":" -"},{"$f":"'All hospitals'!Z192","v":" -"}]
[null,{"$f":"'All hospitals'!B193","v":"-"},{"$f":"'All hospitals'!C193","v":"-"},{"$f":"'All hospitals'!E193","v":"-"},{"$f":"'All hospitals'!F193","v":"-"},{"$f":"'All hospitals'!W193","v":"-"},{"$f":"'All hospitals'!X193","v":"-"},{"$f":"'All hospitals'!Y193","v":"-"},{"$f":"'All hospitals'!Z193","v":"-"}]
[null,{"$f":"'All hospitals'!B194","v":"SOUTHERN NSW"}]
[null,{"$f":"'All hospitals'!B195","v":"Bateman's Bay District Hospital "},{"$f":"'All hospitals'!C195","v":"Bateman's Bay"},{"$f":"'All hospitals'!E195","v":"02 4475 1500"},{"$f":"'All hospitals'!F195","v":"0419 421 411"},{"$f":"'All hospitals'!W195","v":0},{"$f":"'All hospitals'!X195","v":" - "},{"$f":"'All hospitals'!Y195","v":" -"},{"$f":"'All hospitals'!Z195","v":" -"}]
[null,{"$f":"'All hospitals'!B196","v":"South East Regional Hospital (SERH / Bega District Hospital)"},{"$f":"'All hospitals'!C196","v":"Bega"},{"$f":"'All hospitals'!E196","v":"02 6492 9111"},{"$f":"'All hospitals'!F196","v":"0419 421 411"},{"$f":"'All hospitals'!W196","v":0},{"$f":"'All hospitals'!X196","v":"-"},{"$f":"'All hospitals'!Y196","v":" -"},{"$f":"'All hospitals'!Z196","v":" -"}]
[null,{"$f":"'All hospitals'!B197","v":"Bombala Hospital "},{"$f":"'All hospitals'!C197","v":"Bombala"},{"$f":"'All hospitals'!E197","v":"02 6458 5777"},{"$f":"'All hospitals'!F197","v":"0419 421 411"},{"$f":"'All hospitals'!W197","v":0},{"$f":"'All hospitals'!X197","v":" - "},{"$f":"'All hospitals'!Y197","v":" -"},{"$f":"'All hospitals'!Z197","v":" -"}]
[null,{"$f":"'All hospitals'!B198","v":"Braidwood Hospital "},{"$f":"'All hospitals'!C198","v":"Braidwood"},{"$f":"'All hospitals'!E198","v":"02 4842 2566"},{"$f":"'All hospitals'!F198","v":"0419 421 411"},{"$f":"'All hospitals'!W198","v":0},{"$f":"'All hospitals'!X198","v":" - "},{"$f":"'All hospitals'!Y198","v":" -"},{"$f":"'All hospitals'!Z198","v":" -"}]
[null,{"$f":"'All hospitals'!B199","v":"Cooma District Hospital "},{"$f":"'All hospitals'!C199","v":"Cooma"},{"$f":"'All hospitals'!E199","v":"02 6455 3222"},{"$f":"'All hospitals'!F199","v":"0419 421 411"},{"$f":"'All hospitals'!W199","v":0},{"$f":"'All hospitals'!X199","v":" -"},{"$f":"'All hospitals'!Y199","v":" -"},{"$f":"'All hospitals'!Z199","v":" -"}]
[null,{"$f":"'All hospitals'!B200","v":"Crookwell District Hospital "},{"$f":"'All hospitals'!C200","v":"Crookwell NSW"},{"$f":"'All hospitals'!E200","v":"02 4832 1300"},{"$f":"'All hospitals'!F200","v":"0419 421 411"},{"$f":"'All hospitals'!W200","v":0},{"$f":"'All hospitals'!X200","v":" - "},{"$f":"'All hospitals'!Y200","v":" -"},{"$f":"'All hospitals'!Z200","v":" -"}]
[null,{"$f":"'All hospitals'!B201","v":"Delegate Hospital "},{"$f":"'All hospitals'!C201","v":"Delegate"},{"$f":"'All hospitals'!E201","v":"02 6459 8000"},{"$f":"'All hospitals'!F201","v":"0419 421 411"},{"$f":"'All hospitals'!W201","v":0},{"$f":"'All hospitals'!X201","v":" - "},{"$f":"'All hospitals'!Y201","v":" -"},{"$f":"'All hospitals'!Z201","v":" -"}]
[null,{"$f":"'All hospitals'!B202","v":"Goulburn Base Hospital "},{"$f":"'All hospitals'!C202","v":"Goulburn"},{"$f":"'All hospitals'!E202","v":"02 4827 3111"},{"$f":"'All hospitals'!F202","v":"02 4827 3111"},{"$f":"'All hospitals'!W202","v":0},{"$f":"'All hospitals'!X202","v":" -  "},{"$f":"'All hospitals'!Y202","v":0},{"$f":"'All hospitals'!Z202","v":" - "}]
[null,{"$f":"'All hospitals'!B203","v":"Moruya District Hospital "},{"$f":"'All hospitals'!C203","v":"Moruya"},{"$f":"'All hospitals'!E203","v":"02 4474 2666"},{"$f":"'All hospitals'!F203","v":"0419 421 411"},{"$f":"'All hospitals'!W203","v":0},{"$f":"'All hospitals'!X203","v":" - "},{"$f":"'All hospitals'!Y203","v":" - "},{"$f":"'All hospitals'!Z203","v":" - "}]
[null,{"$f":"'All hospitals'!B204","v":"Pambula District Hospital "},{"$f":"'All hospitals'!C204","v":"Pambula"},{"$f":"'All hospitals'!E204","v":"02 6495 8200"},{"$f":"'All hospitals'!F204","v":"0419 421 411"},{"$f":"'All hospitals'!W204","v":0},{"$f":"'All hospitals'!X204","v":" -"},{"$f":"'All hospitals'!Y204","v":" -"},{"$f":"'All hospitals'!Z204","v":" -"}]
[null,{"$f":"'All hospitals'!B205","v":"Queanbeyan Hospital "},{"$f":"'All hospitals'!C205","v":"Queanbeyan"},{"$f":"'All hospitals'!E205","v":"02 6150 7000"},{"$f":"'All hospitals'!F205","v":"0419 421 411"},{"$f":"'All hospitals'!W205","v":0},{"$f":"'All hospitals'!X205","v":" - "},{"$f":"'All hospitals'!Y205","v":" - "},{"$f":"'All hospitals'!Z205","v":" - "}]
[null,{"$f":"'All hospitals'!B206","v":"Yass District Hospital "},{"$f":"'All hospitals'!C206","v":"Yass"},{"$f":"'All hospitals'!E206","v":"02 6220 2000"},{"$f":"'All hospitals'!F206","v":"0419 421 411"},{"$f":"'All hospitals'!W206","v":0},{"$f":"'All hospitals'!X206","v":" -"},{"$f":"'All hospitals'!Y206","v":" -"},{"$f":"'All hospitals'!Z206","v":" -"}]
[null,{"$f":"'All hospitals'!B207","v":"-"},{"$f":"'All hospitals'!C207","v":"-"},{"$f":"'All hospitals'!E207","v":"-"},{"$f":"'All hospitals'!F207","v":"-"},{"$f":"'All hospitals'!W207","v":"-"},{"$f":"'All hospitals'!X207","v":"-"},{"$f":"'All hospitals'!Y207","v":"-"},{"$f":"'All hospitals'!Z207","v":"-"}]
[null,{"$f":"'All hospitals'!B208","v":"ST VINCENT'S HEALTH"}]
[null,{"$f":"'All hospitals'!B209","v":"St Vincent's Hospital"},{"$f":"'All hospitals'!C209","v":"Darlinghurst"},{"$f":"'All hospitals'!E209","v":"02 8282 2125"},{"$f":"'All hospitals'!F209","v":"02 8382 1111 (on call pharmacist via switchboard)"},{"$f":"'All hospitals'!W209","v":0},{"$f":"'All hospitals'!X209","v":" -"},{"$f":"'All hospitals'!Y209","v":" -"},{"$f":"'All hospitals'!Z209","v":" -"}]
[null,{"$f":"'All hospitals'!B210","v":"-"},{"$f":"'All hospitals'!C210","v":"-"},{"$f":"'All hospitals'!E210","v":"-"},{"$f":"'All hospitals'!F210","v":"-"},{"$f":"'All hospitals'!W210","v":"-"},{"$f":"'All hospitals'!X210","v":"-"},{"$f":"'All hospitals'!Y210","v":"-"},{"$f":"'All hospitals'!Z210","v":"-"}]
[null,{"$f":"'All hospitals'!B211","v":"SYDNEY LHD"}]
[null,{"$f":"'All hospitals'!B212","v":"Balmain Hospital (No ED services) NO STOCKS HELD"},{"$f":"'All hospitals'!C212","v":"Balmain"},{"$f":"'All hospitals'!E212","v":"02 9395 2111"},{"$f":"'All hospitals'!F212","v":" -"},{"$f":"'All hospitals'!W212","v":" -"},{"$f":"'All hospitals'!X212","v":" -"},{"$f":"'All hospitals'!Y212","v":" -"},{"$f":"'All hospitals'!Z212","v":" -"}]
[null,{"$f":"'All hospitals'!B213","v":"Canterbury Hospital "},{"$f":"'All hospitals'!C213","v":"Campsie"},{"$f":"'All hospitals'!E213","v":"02 9787 0219"},{"$f":"'All hospitals'!F213","v":"02 9787 0000"},{"$f":"'All hospitals'!W213","v":0},{"$f":"'All hospitals'!X213","v":" -"},{"$f":"'All hospitals'!Y213","v":" -"},{"$f":"'All hospitals'!Z213","v":" -"}]
[null,{"$f":"'All hospitals'!B214","v":"Concord Hospital"},{"$f":"'All hospitals'!C214","v":"Concord"},{"$f":"'All hospitals'!E214","v":"02 9767 6214"},{"$f":"'All hospitals'!F214","v":"02 9767 5000"},{"$f":"'All hospitals'!W214","v":1},{"$f":"'All hospitals'!X214","v":"ED"},{"$f":"'All hospitals'!Y214","v":" -"},{"$f":"'All hospitals'!Z214","v":" -"}]
[null,{"$f":"'All hospitals'!B215","v":"Royal Prince Alfred Hospital"},{"$f":"'All hospitals'!C215","v":"Camperdown"},{"$f":"'All hospitals'!E215","v":"02 9515 6111"},{"$f":"'All hospitals'!F215","v":"02 9515 6111"},{"$f":"'All hospitals'!W215","v":0},{"$f":"'All hospitals'!X215","v":" -"},{"$f":"'All hospitals'!Y215","v":" -"},{"$f":"'All hospitals'!Z215","v":" -"}]
[null,{"$f":"'All hospitals'!B216","v":"-"},{"$f":"'All hospitals'!C216","v":"-"},{"$f":"'All hospitals'!E216","v":"-"},{"$f":"'All hospitals'!F216","v":"-"},{"$f":"'All hospitals'!W216","v":"-"},{"$f":"'All hospitals'!X216","v":"-"},{"$f":"'All hospitals'!Y216","v":"-"},{"$f":"'All hospitals'!Z216","v":"-"}]
[null,{"$f":"'All hospitals'!B217","v":"SYDNEY CHILDREN'S HOSPITALS NETWORK"}]
[null,{"$f":"'All hospitals'!B218","v":"Sydney Children's Hospital Randwick (SCH) (see also stocks kept at Prince of Wales (adjacent hospital))"},{"$f":"'All hospitals'!C218","v":"Randwick"},{"$f":"'All hospitals'!E218","v":"02 9382 1111"},{"$f":"'All hospitals'!F218","v":"029382 2222  Pharmacist on call "},{"$f":"'All hospitals'!W218","v":1},{"$f":"'All hospitals'!X218","v":"Paediatric afterhours drug room"},{"$f":"'All hospitals'!Y218","v":" -"},{"$f":"'All hospitals'!Z218","v":" -"}]
[null,{"$f":"'All hospitals'!B219","v":"The Children's Hospital Westmead (CHW)"},{"$f":"'All hospitals'!C219","v":"Westmead"},{"$f":"'All hospitals'!E219","v":"02 9845 0000"},{"$f":"'All hospitals'!F219","v":"02 9845 0000 (on call pharmacist via switchboard)"},{"$f":"'All hospitals'!W219","v":" -"},{"$f":"'All hospitals'!X219","v":" -"},{"$f":"'All hospitals'!Y219","v":0},{"$f":"'All hospitals'!Z219","v":"-"}]
[null,{"$f":"'All hospitals'!B220","v":" Newborn & Paediatric Emergency Transport Service (NETS)"},{"$f":"'All hospitals'!C220","v":"Bankstown Aerodrome"},{"$f":"'All hospitals'!E220","v":1300362730},{"$f":"'All hospitals'!F220","v":1300362730},{"$f":"'All hospitals'!W220","v":"-"},{"$f":"'All hospitals'!X220","v":"-"},{"$f":"'All hospitals'!Y220","v":"-"},{"$f":"'All hospitals'!Z220","v":"-"}]
[null,{"$f":"'All hospitals'!B221","v":"-"},{"$f":"'All hospitals'!C221","v":"-"},{"$f":"'All hospitals'!E221","v":"-"},{"$f":"'All hospitals'!F221","v":"-"},{"$f":"'All hospitals'!W221","v":"-"},{"$f":"'All hospitals'!X221","v":"-"},{"$f":"'All hospitals'!Y221","v":"-"},{"$f":"'All hospitals'!Z221","v":"-"}]
[null,{"$f":"'All hospitals'!B222","v":"WESTERN NSW LHD"},null,null,null,{"$f":"'All hospitals'!W222","v":0},{"$f":"'All hospitals'!X222","v":0},{"$f":"'All hospitals'!Y222","v":0},{"$f":"'All hospitals'!Z222","v":0}]
[null,{"$f":"'All hospitals'!B223","v":"Baradine Multi Purpose Service"},{"$f":"'All hospitals'!C223","v":"Baradine, NSW"},{"$f":"'All hospitals'!E223","v":"02 6843 1605"},{"$f":"'All hospitals'!F223","v":"02 6843 4100"},{"$f":"'All hospitals'!W223","v":0},{"$f":"'All hospitals'!X223","v":" - "},{"$f":"'All hospitals'!Y223","v":" -"},{"$f":"'All hospitals'!Z223","v":" -"}]
[null,{"$f":"'All hospitals'!B224","v":"Bathurst Hospital"},{"$f":"'All hospitals'!C224","v":"Bathurst"},{"$f":"'All hospitals'!E224","v":"02 6330 5304"},{"$f":"'All hospitals'!F224","v":"02 6330 5308"},{"$f":"'All hospitals'!W224","v":0},{"$f":"'All hospitals'!X224","v":"-"},{"$f":"'All hospitals'!Y224","v":0},{"$f":"'All hospitals'!Z224","v":"After Hours Cupboard"}]
[null,{"$f":"'All hospitals'!B225","v":"Blayney Multi Purpose Service"},{"$f":"'All hospitals'!C225","v":"Blayney"},{"$f":"'All hospitals'!E225","v":"02 6368 9029 "},{"$f":"'All hospitals'!F225","v":"02 6368 9029 "},{"$f":"'All hospitals'!W225","v":0},{"$f":"'All hospitals'!X225","v":" -"},{"$f":"'All hospitals'!Y225","v":" -"},{"$f":"'All hospitals'!Z225","v":" -"}]
[null,{"$f":"'All hospitals'!B226","v":"Bourke Multi Purpose Service "},{"$f":"'All hospitals'!C226","v":"Bourke"},{"$f":"'All hospitals'!E226","v":"02 6870 8888"},{"$f":"'All hospitals'!F226","v":"02 6870 8888"},{"$f":"'All hospitals'!W226","v":0},{"$f":"'All hospitals'!X226","v":" -"},{"$f":"'All hospitals'!Y226","v":" -"},{"$f":"'All hospitals'!Z226","v":" -"}]
[null,{"$f":"'All hospitals'!B227","v":"Brewarrina Multi Purpose Service "},{"$f":"'All hospitals'!C227","v":"Brewarrina"},{"$f":"'All hospitals'!E227","v":"02 6830 5000"},{"$f":"'All hospitals'!F227","v":"02 6830 5000"},{"$f":"'All hospitals'!W227","v":0},{"$f":"'All hospitals'!X227","v":" - "},{"$f":"'All hospitals'!Y227","v":" -"},{"$f":"'All hospitals'!Z227","v":" -"}]
[null,{"$f":"'All hospitals'!B228","v":"Canowindra Soldiers Memorial Hospital (Stock data TBC)"},{"$f":"'All hospitals'!C228","v":"Canowindra"},{"$f":"'All hospitals'!E228","v":"02 6364 4300"},{"$f":"'All hospitals'!F228","v":"02 6340 3033"},{"$f":"'All hospitals'!W228","v":0},{"$f":"'All hospitals'!X228","v":" -"},{"$f":"'All hospitals'!Y228","v":" -"},{"$f":"'All hospitals'!Z228","v":" -"}]
[null,{"$f":"'All hospitals'!B229","v":"Cobar District Hospital (Stock data TBC)"},{"$f":"'All hospitals'!C229","v":"Cobar"},{"$f":"'All hospitals'!E229","v":"02 6836 2406"},{"$f":"'All hospitals'!F229","v":"02 6830 2111"},{"$f":"'All hospitals'!W229","v":0},{"$f":"'All hospitals'!X229","v":" -"},{"$f":"'All hospitals'!Y229","v":" -"},{"$f":"'All hospitals'!Z229","v":" -"}]
[null,{"$f":"'All hospitals'!B230","v":"Collarenebri Multi Purpose Service "},{"$f":"'All hospitals'!C230","v":"Collarenebri"},{"$f":"'All hospitals'!E230","v":"02 6756 4800"},{"$f":"'All hospitals'!F230","v":"02 6756 4800"},{"$f":"'All hospitals'!W230","v":0},{"$f":"'All hospitals'!X230","v":"  -"},{"$f":"'All hospitals'!Y230","v":" -"},{"$f":"'All hospitals'!Z230","v":" -"}]
[null,{"$f":"'All hospitals'!B231","v":"Condobolin District Hospital"},{"$f":"'All hospitals'!C231","v":"Condobolin"},{"$f":"'All hospitals'!E231","v":"02 6890 1500"},{"$f":"'All hospitals'!F231","v":"02 6890 1500"},{"$f":"'All hospitals'!W231","v":1},{"$f":"'All hospitals'!X231","v":"ED"},{"$f":"'All hospitals'!Y231","v":" -"},{"$f":"'All hospitals'!Z231","v":" -"}]
[null,{"$f":"'All hospitals'!B232","v":"Coolah Multi Purpose Service (Stock data TBC)"},{"$f":"'All hospitals'!C232","v":"Coolah"},{"$f":"'All hospitals'!E232","v":"02 6377 9100"},{"$f":"'All hospitals'!F232","v":"02 6377 9100"},{"$f":"'All hospitals'!W232","v":0},{"$f":"'All hospitals'!X232","v":" -"},{"$f":"'All hospitals'!Y232","v":" -"},{"$f":"'All hospitals'!Z232","v":" -"}]
[null,{"$f":"'All hospitals'!B233","v":"Coonabarabran District Hospital"},{"$f":"'All hospitals'!C233","v":"Coonabarabran"},{"$f":"'All hospitals'!E233","v":"02 6849 1600"},{"$f":"'All hospitals'!F233","v":"02 6849 1600"},{"$f":"'All hospitals'!W233","v":0},{"$f":"'All hospitals'!X233","v":" - "},{"$f":"'All hospitals'!Y233","v":" -"},{"$f":"'All hospitals'!Z233","v":" -"}]
[null,{"$f":"'All hospitals'!B234","v":"Coonamble Multi Purpose Service (Stock data TBC)"},{"$f":"'All hospitals'!C234","v":"Coonamble"},{"$f":"'All hospitals'!E234","v":"02 6827 1100"},{"$f":"'All hospitals'!F234","v":"02 6827 1100"},{"$f":"'All hospitals'!W234","v":0},{"$f":"'All hospitals'!X234","v":" -"},{"$f":"'All hospitals'!Y234","v":" -"},{"$f":"'All hospitals'!Z234","v":" -"}]
[null,{"$f":"'All hospitals'!B235","v":"Cowra Hospital (Stock data TBC)"},{"$f":"'All hospitals'!C235","v":"Cowra"},{"$f":"'All hospitals'!E235","v":"02 6340 9000"},{"$f":"'All hospitals'!F235","v":"02 6340 9000"},{"$f":"'All hospitals'!W235","v":1},{"$f":"'All hospitals'!X235","v":"ED"},{"$f":"'All hospitals'!Y235","v":" -"},{"$f":"'All hospitals'!Z235","v":" -"}]
[null,{"$f":"'All hospitals'!B236","v":"Cudal Health Service NO STOCKS HELD"},{"$f":"'All hospitals'!C236","v":"Cudal"},{"$f":"'All hospitals'!E236","v":"02 6392 3400"},{"$f":"'All hospitals'!F236","v":" -"},{"$f":"'All hospitals'!W236","v":0},{"$f":"'All hospitals'!X236","v":" -"},{"$f":"'All hospitals'!Y236","v":" -"},{"$f":"'All hospitals'!Z236","v":" -"}]
[null,{"$f":"'All hospitals'!B237","v":"Dubbo Base Hospital"},{"$f":"'All hospitals'!C237","v":"Dubbo"},{"$f":"'All hospitals'!E237","v":"02 6809 8150"},{"$f":"'All hospitals'!F237","v":"02 6809 6809"},{"$f":"'All hospitals'!W237","v":0},{"$f":"'All hospitals'!X237","v":" - "},{"$f":"'All hospitals'!Y237","v":0},{"$f":"'All hospitals'!Z237","v":" - "}]
[null,{"$f":"'All hospitals'!B238","v":"Dunedoo Multi Purpose Service (Stock data TBC)"},{"$f":"'All hospitals'!C238","v":"Dunedoo"},{"$f":"'All hospitals'!E238","v":"02 6375 1408"},{"$f":"'All hospitals'!F238","v":"02 6370 3000"},{"$f":"'All hospitals'!W238","v":0},{"$f":"'All hospitals'!X238","v":" -"},{"$f":"'All hospitals'!Y238","v":" -"},{"$f":"'All hospitals'!Z238","v":" -"}]
[null,{"$f":"'All hospitals'!B239","v":"Eugowra Multi Purpose Service (Stock data TBC)"},{"$f":"'All hospitals'!C239","v":"Eugowra"},{"$f":"'All hospitals'!E239","v":"02 6850 4000"},{"$f":"'All hospitals'!F239","v":"02 6850 4000"},{"$f":"'All hospitals'!W239","v":0},{"$f":"'All hospitals'!X239","v":" -"},{"$f":"'All hospitals'!Y239","v":" -"},{"$f":"'All hospitals'!Z239","v":" -"}]
[null,{"$f":"'All hospitals'!B240","v":"Forbes District Hospital "},{"$f":"'All hospitals'!C240","v":"Forbes"},{"$f":"'All hospitals'!E240","v":"02 6850 7100"},{"$f":"'All hospitals'!F240","v":"02 6850 7100"},{"$f":"'All hospitals'!W240","v":1},{"$f":"'All hospitals'!X240","v":"ED"},{"$f":"'All hospitals'!Y240","v":0},{"$f":"'All hospitals'!Z240","v":"-"}]
[null,{"$f":"'All hospitals'!B241","v":"Gilgandra Multi Purpose Service (Stock data TBC)"},{"$f":"'All hospitals'!C241","v":"Gilgandra"},{"$f":"'All hospitals'!E241","v":"02 6880 5900"},{"$f":"'All hospitals'!F241","v":"02 6880 5900"},{"$f":"'All hospitals'!W241","v":0},{"$f":"'All hospitals'!X241","v":" -"},{"$f":"'All hospitals'!Y241","v":" -"},{"$f":"'All hospitals'!Z241","v":" -"}]
[null,{"$f":"'All hospitals'!B242","v":"Goodooga Health Service "},{"$f":"'All hospitals'!C242","v":"Goodooga"},{"$f":"'All hospitals'!E242","v":"02 6829 5600"},{"$f":"'All hospitals'!F242","v":" - "},{"$f":"'All hospitals'!W242","v":0},{"$f":"'All hospitals'!X242","v":" -"},{"$f":"'All hospitals'!Y242","v":" -"},{"$f":"'All hospitals'!Z242","v":" -"}]
[null,{"$f":"'All hospitals'!B243","v":"Grenfell Multi Purpose Service (Stock data TBC)"},{"$f":"'All hospitals'!C243","v":"Grenfell"},{"$f":"'All hospitals'!E243","v":"02 6349 1700"},{"$f":"'All hospitals'!F243","v":"02 6349 1700"},{"$f":"'All hospitals'!W243","v":0},{"$f":"'All hospitals'!X243","v":" -"},{"$f":"'All hospitals'!Y243","v":" -"},{"$f":"'All hospitals'!Z243","v":" -"}]
[null,{"$f":"'All hospitals'!B244","v":"Gulargambone NO STOCKS HELD"},{"$f":"'All hospitals'!C244","v":"Gulargambone"},{"$f":"'All hospitals'!E244","v":"02 6825 1201"},{"$f":"'All hospitals'!F244","v":"-"},{"$f":"'All hospitals'!W244","v":0},{"$f":"'All hospitals'!X244","v":" -"},{"$f":"'All hospitals'!Y244","v":" -"},{"$f":"'All hospitals'!Z244","v":" -"}]
[null,{"$f":"'All hospitals'!B245","v":"Gulgong Health Service "},{"$f":"'All hospitals'!C245","v":"Gulgong"},{"$f":"'All hospitals'!E245","v":"02 6374 3400"},{"$f":"'All hospitals'!F245","v":"02 6374 1200"},{"$f":"'All hospitals'!W245","v":0},{"$f":"'All hospitals'!X245","v":" - "},{"$f":"'All hospitals'!Y245","v":" -"},{"$f":"'All hospitals'!Z245","v":" -"}]
[null,{"$f":"'All hospitals'!B246","v":"Lightning Ridge Multi Purpose Service "},{"$f":"'All hospitals'!C246","v":"Lightning Ridge"},{"$f":"'All hospitals'!E246","v":"02 6820 5700"},{"$f":"'All hospitals'!F246","v":"02 6820 5700"},{"$f":"'All hospitals'!W246","v":0},{"$f":"'All hospitals'!X246","v":" - "},{"$f":"'All hospitals'!Y246","v":" -"},{"$f":"'All hospitals'!Z246","v":" -"}]
[null,{"$f":"'All hospitals'!B247","v":"Molong Hospital (Stock data TBC)"},{"$f":"'All hospitals'!C247","v":"Molong"},{"$f":"'All hospitals'!E247","v":"02 6392 3300"},{"$f":"'All hospitals'!F247","v":" -"},{"$f":"'All hospitals'!W247","v":0},{"$f":"'All hospitals'!X247","v":" -"},{"$f":"'All hospitals'!Y247","v":" -"},{"$f":"'All hospitals'!Z247","v":" -"}]
[null,{"$f":"'All hospitals'!B248","v":"Mudgee Hospital "},{"$f":"'All hospitals'!C248","v":"Mudgee"},{"$f":"'All hospitals'!E248","v":"02 6371 9751"},{"$f":"'All hospitals'!F248","v":"02 6371 9700"},{"$f":"'All hospitals'!W248","v":0},{"$f":"'All hospitals'!X248","v":" - "},{"$f":"'All hospitals'!Y248","v":0},{"$f":"'All hospitals'!Z248","v":" -"}]
[null,{"$f":"'All hospitals'!B249","v":"Narromine Health Service "},{"$f":"'All hospitals'!C249","v":"Narromine"},{"$f":"'All hospitals'!E249","v":"02 6889 9600"},{"$f":"'All hospitals'!F249","v":"02 6889 9600"},{"$f":"'All hospitals'!W249","v":0},{"$f":"'All hospitals'!X249","v":" -"},{"$f":"'All hospitals'!Y249","v":" -"},{"$f":"'All hospitals'!Z249","v":" -"}]
[null,{"$f":"'All hospitals'!B250","v":"Nyngan Multi Purpose Service (Stock data TBC)"},{"$f":"'All hospitals'!C250","v":"Nyngan"},{"$f":"'All hospitals'!E250","v":"02 6832 1707"},{"$f":"'All hospitals'!F250","v":"02 6835 1700"},{"$f":"'All hospitals'!W250","v":0},{"$f":"'All hospitals'!X250","v":" -"},{"$f":"'All hospitals'!Y250","v":" -"},{"$f":"'All hospitals'!Z250","v":" -"}]
[null,{"$f":"'All hospitals'!B251","v":"Oberon Multi Purpose Service"},{"$f":"'All hospitals'!C251","v":"Oberon"},{"$f":"'All hospitals'!E251","v":"02 6336 7200"},{"$f":"'All hospitals'!F251","v":"02 6336 7200"},{"$f":"'All hospitals'!W251","v":0},{"$f":"'All hospitals'!X251","v":" -"},{"$f":"'All hospitals'!Y251","v":" -"},{"$f":"'All hospitals'!Z251","v":" -"}]
[null,{"$f":"'All hospitals'!B252","v":"Orange Health Service "},{"$f":"'All hospitals'!C252","v":"Orange"},{"$f":"'All hospitals'!E252","v":"02 6369 3740"},{"$f":"'All hospitals'!F252","v":"02 6369 3222"},{"$f":"'All hospitals'!W252","v":0},{"$f":"'All hospitals'!X252","v":"(stock no longer kept)"},{"$f":"'All hospitals'!Y252","v":0},{"$f":"'All hospitals'!Z252","v":"(stock no longer kept)"}]
[null,{"$f":"'All hospitals'!B253","v":"Parkes District Hospital "},{"$f":"'All hospitals'!C253","v":"Parkes"},{"$f":"'All hospitals'!E253","v":"02 6861 2400"},{"$f":"'All hospitals'!F253","v":"02 6861 2440"},{"$f":"'All hospitals'!W253","v":1},{"$f":"'All hospitals'!X253","v":"ED"},{"$f":"'All hospitals'!Y253","v":0},{"$f":"'All hospitals'!Z253","v":"-"}]
[null,{"$f":"'All hospitals'!B254","v":"Peak Hill Multi Purpose Service "},{"$f":"'All hospitals'!C254","v":"Peak Hill"},{"$f":"'All hospitals'!E254","v":"02 6869 5200"},{"$f":"'All hospitals'!F254","v":"02 6869 5200"},{"$f":"'All hospitals'!W254","v":0},{"$f":"'All hospitals'!X254","v":" -"},{"$f":"'All hospitals'!Y254","v":" -"},{"$f":"'All hospitals'!Z254","v":" -"}]
[null,{"$f":"'All hospitals'!B255","v":"Rylstone Multi Purpose Service "},{"$f":"'All hospitals'!C255","v":"Rylstone"},{"$f":"'All hospitals'!E255","v":"02 6357 6100"},{"$f":"'All hospitals'!F255","v":"02 6357 6100"},{"$f":"'All hospitals'!W255","v":0},"-",{"$f":"'All hospitals'!Y255","v":" -"},{"$f":"'All hospitals'!Z255","v":" -"}]
[null,{"$f":"'All hospitals'!B256","v":"Tottenham Multi Purpose Service "},{"$f":"'All hospitals'!C256","v":"Tottenham"},{"$f":"'All hospitals'!E256","v":"02 6891  6200"},{"$f":"'All hospitals'!F256","v":"02 6891  6200"},{"$f":"'All hospitals'!W256","v":1},{"$f":"'All hospitals'!X256","v":"Drug room vaccination fridge"},{"$f":"'All hospitals'!Y256","v":" -"},{"$f":"'All hospitals'!Z256","v":" -"}]
[null,{"$f":"'All hospitals'!B257","v":"Trangie Multi Purpose Service (Stock data TBC)"},{"$f":"'All hospitals'!C257","v":"Trangie"},{"$f":"'All hospitals'!E257","v":" -"},{"$f":"'All hospitals'!F257","v":"02 6880 8200"},{"$f":"'All hospitals'!W257","v":0},{"$f":"'All hospitals'!X257","v":" -"},{"$f":"'All hospitals'!Y257","v":" -"},{"$f":"'All hospitals'!Z257","v":" -"}]
[null,{"$f":"'All hospitals'!B258","v":"Trundle Multi Purpose Service "},{"$f":"'All hospitals'!C258","v":"Trundle"},{"$f":"'All hospitals'!E258","v":"02 6892 1900"},{"$f":"'All hospitals'!F258","v":"02 6892 1900"},{"$f":"'All hospitals'!W258","v":0},{"$f":"'All hospitals'!X258","v":" - "},{"$f":"'All hospitals'!Y258","v":" -"},{"$f":"'All hospitals'!Z258","v":" -"}]
[null,{"$f":"'All hospitals'!B259","v":"Tullamore Multi Purpose Service "},{"$f":"'All hospitals'!C259","v":"Tullamore"},{"$f":"'All hospitals'!E259","v":"02 6892 6400"},{"$f":"'All hospitals'!F259","v":"02 6892 6400"},{"$f":"'All hospitals'!W259","v":0},{"$f":"'All hospitals'!X259","v":" - "},{"$f":"'All hospitals'!Y259","v":" -"},{"$f":"'All hospitals'!Z259","v":" -"}]
[null,{"$f":"'All hospitals'!B260","v":"Walgett District Hospital "},{"$f":"'All hospitals'!C260","v":"Walgett"},{"$f":"'All hospitals'!E260","v":"02 6817 9400"},{"$f":"'All hospitals'!F260","v":"02 6817 9400"},{"$f":"'All hospitals'!W260","v":0},{"$f":"'All hospitals'!X260","v":" -"},{"$f":"'All hospitals'!Y260","v":" -"},{"$f":"'All hospitals'!Z260","v":" -"}]
[null,{"$f":"'All hospitals'!B261","v":"Wanaaring Health Service NO STOCKS HELD"},{"$f":"'All hospitals'!C261","v":"Wanaaring"},{"$f":"'All hospitals'!E261","v":"02 6874 7721"},{"$f":"'All hospitals'!F261","v":"02 6874 7721"},{"$f":"'All hospitals'!W261","v":0},{"$f":"'All hospitals'!X261","v":" -"},{"$f":"'All hospitals'!Y261","v":" -"},{"$f":"'All hospitals'!Z261","v":" -"}]
[null,{"$f":"'All hospitals'!B262","v":"Warren Multi Purpose Service (Stock data TBC)"},{"$f":"'All hospitals'!C262","v":"Warren"},{"$f":"'All hospitals'!E262","v":"02 6847 4303"},{"$f":"'All hospitals'!F262","v":"02 6847 5400"},{"$f":"'All hospitals'!W262","v":1},{"$f":"'All hospitals'!X262","v":"ED"},{"$f":"'All hospitals'!Y262","v":" -"},{"$f":"'All hospitals'!Z262","v":" -"}]
[null,{"$f":"'All hospitals'!B263","v":"Wellington Health Service"},{"$f":"'All hospitals'!C263","v":"Wellington"},{"$f":"'All hospitals'!E263","v":"02 6840 7200"},{"$f":"'All hospitals'!F263","v":"02 6840 8200"},{"$f":"'All hospitals'!W263","v":0},{"$f":"'All hospitals'!X263","v":" - "},{"$f":"'All hospitals'!Y263","v":" -"},{"$f":"'All hospitals'!Z263","v":" -"}]
[null,{"$f":"'All hospitals'!B264","v":"-"},{"$f":"'All hospitals'!C264","v":"-"},{"$f":"'All hospitals'!E264","v":"-"},{"$f":"'All hospitals'!F264","v":"-"},{"$f":"'All hospitals'!W264","v":"-"},{"$f":"'All hospitals'!X264","v":"-"},{"$f":"'All hospitals'!Y264","v":"-"},{"$f":"'All hospitals'!Z264","v":"-"}]
[null,{"$f":"'All hospitals'!B265","v":"WESTERN SYDNEY LHD & OTHER"}]
[null,{"$f":"'All hospitals'!B266","v":"Auburn Hospital"},{"$f":"'All hospitals'!C266","v":"Auburn"},{"$f":"'All hospitals'!E266","v":"02 8759 3302"},{"$f":"'All hospitals'!F266","v":"02 8759 3000"},{"$f":"'All hospitals'!W266","v":0},{"$f":"'All hospitals'!X266","v":" -"},{"$f":"'All hospitals'!Y266","v":" -"},{"$f":"'All hospitals'!Z266","v":" -"}]
[null,{"$f":"'All hospitals'!B267","v":"Blacktown Hospital "},{"$f":"'All hospitals'!C267","v":"Blacktown"},{"$f":"'All hospitals'!E267","v":"02 9881 8142"},{"$f":"'All hospitals'!F267","v":"02 9881 8000 (afterhours nurse manager via switch)"},{"$f":"'All hospitals'!W267","v":0},{"$f":"'All hospitals'!X267","v":"ED Resus Fridge"},{"$f":"'All hospitals'!Y267","v":" -"},{"$f":"'All hospitals'!Z267","v":" -"}]
[null,{"$f":"'All hospitals'!B268","v":"Mount Druitt Hospital "},{"$f":"'All hospitals'!C268","v":"Mount Druitt NSW"},{"$f":"'All hospitals'!E268","v":"02 9881 1581"},{"$f":"'All hospitals'!F268","v":"02 9881 1555  (afterhours nurse manager via switch)"},{"$f":"'All hospitals'!W268","v":0},{"$f":"'All hospitals'!X268","v":"ED Resus Fridge"},{"$f":"'All hospitals'!Y268","v":" -"},{"$f":"'All hospitals'!Z268","v":" -"}]
[null,{"$f":"'All hospitals'!B269","v":"Westmead Hospital "},{"$f":"'All hospitals'!C269","v":"Westmead"},{"$f":"'All hospitals'!E269","v":"02 8890 5555"},{"$f":"'All hospitals'!F269","v":"02 8890 5555 (on call pharmacist via switch)"},{"$f":"'All hospitals'!W269","v":1},{"$f":"'All hospitals'!X269","v":"Transfusion Laboratory"},{"$f":"'All hospitals'!Y269","v":" -"},{"$f":"'All hospitals'!Z269","v":" -"}]
[null,{"$f":"'All hospitals'!B270","v":"-"},{"$f":"'All hospitals'!C270","v":"-"},{"$f":"'All hospitals'!E270","v":"-"},{"$f":"'All hospitals'!F270","v":"-"},{"$f":"'All hospitals'!W270","v":"-"},{"$f":"'All hospitals'!X270","v":"-"},{"$f":"'All hospitals'!Y270","v":"-"},{"$f":"'All hospitals'!Z270","v":"-"}]
[null,{"$f":"'All hospitals'!B271","v":"PRIVATE HOSPITALS & OTHER"}]
[null,{"$f":"'All hospitals'!B272","v":"Macquarie University Hospital NO STOCKS HELD"},{"$f":"'All hospitals'!C272","v":"North Ryde"},{"$f":"'All hospitals'!E272","v":"02 98875500"},{"$f":"'All hospitals'!F272","v":"NA"},{"$f":"'All hospitals'!W272","v":0},{"$f":"'All hospitals'!X272","v":"-"},{"$f":"'All hospitals'!Y272","v":0},{"$f":"'All hospitals'!Z272","v":"-"}]
[null,{"$f":"'All hospitals'!B273","v":"Norwest Private Hospital (Stock data TBC)"},{"$f":"'All hospitals'!C273","v":"Bella Vista"},{"$f":"'All hospitals'!E273","v":"02 8882 8555"},{"$f":"'All hospitals'!F273","v":"02 8882 8555"},{"$f":"'All hospitals'!W273","v":"-"},{"$f":"'All hospitals'!X273","v":"-"},{"$f":"'All hospitals'!Y273","v":"-"},{"$f":"'All hospitals'!Z273","v":"-"},null,"Back to Index","Back to 'All hospitals' tab"]

{"sheet":"Red back spider","index":7,"n_rows":253,"n_cols":12,"rows_kept":253,"cut":false,"hidden":false,"merged":[[196,1,196,3],[201,1,201,3],[244,1,244,3],[157,1,157,3],[165,1,165,3],[173,1,173,3],[187,1,187,3],[190,1,190,3],[86,1,86,3],[95,1,95,3],[128,1,128,3],[134,1,134,3],[148,1,148,3],[14,1,14,3],[18,1,18,3],[22,1,22,3],[34,1,34,3],[74,1,74,3],[10,1,10,3],[3,1,3,8],[0,1,0,8],[2,1,2,8],[4,1,4,8],[6,1,6,4],[6,5,7,8],[7,1,9,1],[7,2,9,2],[7,3,9,3],[7,4,9,4],[8,5,9,5],[8,6,9,6],[8,7,9,7],[8,8,9,8]]}
[null,{"$f":"'All hospitals'!$B$1","v":"Last modified: 14/01/2021"}]
[]
[null,{"$f":"'All hospitals'!$AA$28","v":"RED BACK SPIDER  "}]
[null,"OTHER ANTIVENOM"]
[null,{"$f":"'All hospitals'!$AA$29","v":"Red back spider antivenom is not recommended. Analgesia is the mainstay of therapy."},null,null,null,null,null,null,null,null,"Back to Index","Back to 'All hospitals' tab"]
[]
[null,"HOSPITAL DETAILS",null,null,null,"AVAILABILITY"]
[null,"Hospital name:\n\"Stock data TBC\" indicates that the hospital has not provided an update to the stockholding data.                                            ","Town/city","Phone number (business hours)","Phone number (after hours)"]
[null,null,null,null,null,"Number of vials","Location 1","Number of vials","Location 2"]
[]
[null,{"$f":"'All hospitals'!B31","v":"ACT"},null,null,null,null,null,null,null,null,"Click to jump to LHD or network"]
[null,{"$f":"'All hospitals'!B32","v":"Calvary Public Hospital "},{"$f":"'All hospitals'!C32","v":"Canberra"},{"$f":"'All hospitals'!E32","v":"02 6201 6265 "},{"$f":"'All hospitals'!F32","v":"0413 611 319"},{"$f":"'All hospitals'!AA32","v":4},{"$f":"'All hospitals'!AB32","v":"After Hours Cupboard Fridge"},{"$f":"'All hospitals'!AC32","v":" -"},{"$f":"'All hospitals'!AD32","v":" -"},null,"ACT"]
[null,{"$f":"'All hospitals'!B33","v":"The Canberra Hospital"},{"$f":"'All hospitals'!C33","v":"Canberra"},{"$f":"'All hospitals'!E33","v":"02 5124 0000"},{"$f":"'All hospitals'!F33","v":"0401 710 831"},{"$f":"'All hospitals'!AA33","v":2},{"$f":"'All hospitals'!AB33","v":"Pharmacy"},{"$f":"'All hospitals'!AC33","v":4},{"$f":"'All hospitals'!AD33","v":"ED "},null,"ALBURY WODONGA HEALTH"]
[null,{"$f":"'All hospitals'!B34","v":"-"},{"$f":"'All hospitals'!C34","v":"-"},{"$f":"'All hospitals'!E34","v":"-"},null,{"$f":"'All hospitals'!AA34","v":"-"},{"$f":"'All hospitals'!AB34","v":"-"},{"$f":"'All hospitals'!AC34","v":"-"},{"$f":"'All hospitals'!AD34","v":"-"},null,"CENTRAL COAST LHD"]
[null,{"$f":"'All hospitals'!B35","v":"ALBURY WODONGA HEALTH"},null,null,null,null,null,null,null,null,"FAR WEST LHD"]
[null,{"$f":"'All hospitals'!B36","v":"Albury Hospital"},{"$f":"'All hospitals'!C36","v":"Albury"},{"$f":"'All hospitals'!E36","v":"02 6058 4665"},{"$f":"'All hospitals'!F36","v":"02 6058 4444"},{"$f":"'All hospitals'!AA36","v":6},{"$f":"'All hospitals'!AB36","v":"ED - Trauma/Resus Room"},{"$f":"'All hospitals'!AC36","v":0},{"$f":"'All hospitals'!AD36","v":"-"},null,"HUNTER NEW ENGLAND LHD"]
[null,{"$f":"'All hospitals'!B37","v":"Wodonga Hospital"},{"$f":"'All hospitals'!C37","v":"Wodonga"},{"$f":"'All hospitals'!E37","v":"02 6051 7485"},{"$f":"'All hospitals'!F37","v":"02 6051 7111"},{"$f":"'All hospitals'!AA37","v":6},{"$f":"'All hospitals'!AB37","v":"ED Fridge"},{"$f":"'All hospitals'!AC37","v":" -"},{"$f":"'All hospitals'!AD37","v":" -"},null,"ILLAWARRA SHOALHAVEN LHD"]
[null,{"$f":"'All hospitals'!B38","v":"-"},{"$f":"'All hospitals'!C38","v":"-"},{"$f":"'All hospitals'!E38","v":"-"},null,{"$f":"'All hospitals'!AA38","v":"-"},{"$f":"'All hospitals'!AB38","v":"-"},{"$f":"'All hospitals'!AC38","v":"-"},{"$f":"'All hospitals'!AD38","v":"-"},null,"MID NORTH COAST LHD"]
[null,"CENTRAL COAST LHD",null,null,null,null,null,null,null,null,"MURRUMBIDGEE LHD"]
[null,{"$f":"'All hospitals'!B40","v":"Gosford Hospital"},{"$f":"'All hospitals'!C40","v":"Gosford "},{"$f":"'All hospitals'!E40","v":"02 4320 2111"},{"$f":"'All hospitals'!F40","v":"02 4320 2111 (page on-call pharmacist)"},{"$f":"'All hospitals'!AA40","v":1},{"$f":"'All hospitals'!AB40","v":"ED  "},{"$f":"'All hospitals'!AC40","v":1},{"$f":"'All hospitals'!AD40","v":"Pharmacy "},null,"NEPEAN BLUE MOUNTAINS LHD"]
[null,{"$f":"'All hospitals'!B41","v":"Wyong Hospital"},{"$f":"'All hospitals'!C41","v":"Wyong"},{"$f":"'All hospitals'!E41","v":"02 4394 7930"},{"$f":"'All hospitals'!F41","v":"02 4394 8000 (page on-call pharmacist)"},{"$f":"'All hospitals'!AA41","v":3},{"$f":"'All hospitals'!AB41","v":"ED "},{"$f":"'All hospitals'!AC41","v":1},{"$f":"'All hospitals'!AD41","v":"Pharmacy "},null,"NORTHERN NSW LHD"]
[null,{"$f":"'All hospitals'!B42","v":"-"},{"$f":"'All hospitals'!C42","v":"-"},{"$f":"'All hospitals'!E42","v":"-"},null,{"$f":"'All hospitals'!AA42","v":"-"},{"$f":"'All hospitals'!AB42","v":"-"},{"$f":"'All hospitals'!AC42","v":"-"},{"$f":"'All hospitals'!AD42","v":"-"},null,"NORTHERN SYDNEY LHD"]
[null,{"$f":"'All hospitals'!B43","v":"FAR WEST LHD"},null,null,null,null,null,null,null,null,"SOUTH EASTERN SYDNEY LHD"]
[null,{"$f":"'All hospitals'!B44","v":"Balranald Multi Purpose Service "},{"$f":"'All hospitals'!C44","v":"Balranald"},{"$f":"'All hospitals'!E44","v":"03 5071 9800"},{"$f":"'All hospitals'!F44","v":"03 5071 9800"},{"$f":"'All hospitals'!AA44","v":0},{"$f":"'All hospitals'!AB44","v":" -"},{"$f":"'All hospitals'!AC44","v":" -"},{"$f":"'All hospitals'!AD44","v":" -"},null,"SOUTH WESTERN SYDNEY LHD"]
[null,{"$f":"'All hospitals'!B45","v":"Broken Hill Health Service"},{"$f":"'All hospitals'!C45","v":"Broken Hill"},{"$f":"'All hospitals'!E45","v":"08 8080 1466  "},{"$f":"'All hospitals'!F45","v":"08 8080 1333 "},{"$f":"'All hospitals'!AA45","v":2},{"$f":"'All hospitals'!AB45","v":"ED"},{"$f":"'All hospitals'!AC45","v":" - "},{"$f":"'All hospitals'!AD45","v":" - "},null,"SOUTHERN NSW"]
[null,{"$f":"'All hospitals'!B46","v":"Dareton Primary Health Service (No ED services)"},{"$f":"'All hospitals'!C46","v":"Dareton"},{"$f":"'All hospitals'!E46","v":"03 5021 7200"},{"$f":"'All hospitals'!F46","v":"BH only"},{"$f":"'All hospitals'!AA46","v":0},{"$f":"'All hospitals'!AB46","v":" -"},{"$f":"'All hospitals'!AC46","v":" -"},{"$f":"'All hospitals'!AD46","v":" -"},null,"ST VINCENT'S HEALTH"]
[null,{"$f":"'All hospitals'!B47","v":"Ivanhoe Health Service"},{"$f":"'All hospitals'!C47","v":"Ivanhoe"},{"$f":"'All hospitals'!E47","v":"02 6990 2200"},{"$f":"'All hospitals'!F47","v":"02 6990 2200"},{"$f":"'All hospitals'!AA47","v":1},{"$f":"'All hospitals'!AB47","v":"Medication Room"},{"$f":"'All hospitals'!AC47","v":" -"},{"$f":"'All hospitals'!AD47","v":" -"},null,"SYDNEY LHD"]
[null,{"$f":"'All hospitals'!B48","v":"Menindee Health Service "},{"$f":"'All hospitals'!C48","v":"Menindee"},{"$f":"'All hospitals'!E48","v":"08 8091 4209"},{"$f":"'All hospitals'!F48","v":"08 8091 4209"},{"$f":"'All hospitals'!AA48","v":0},{"$f":"'All hospitals'!AB48","v":" -"},{"$f":"'All hospitals'!AC48","v":" -"},{"$f":"'All hospitals'!AD48","v":" -"},null,"SYDNEY CHILDREN'S HOSPITALS NETWORK"]
[null,{"$f":"'All hospitals'!B49","v":"Royal Flying Doctor Service Broken Hill"},{"$f":"'All hospitals'!C49","v":"Broken Hill"},{"$f":"'All hospitals'!E49","v":"08 8080 3780"},{"$f":"'All hospitals'!F49","v":"0437 370 702"},{"$f":"'All hospitals'!AA49","v":0},{"$f":"'All hospitals'!AB49","v":" -"},{"$f":"'All hospitals'!AC49","v":" -"},{"$f":"'All hospitals'!AD49","v":" -"},null,"WESTERN NSW LHD"]
[null,{"$f":"'All hospitals'!B50","v":"Tibooburra Health Service"},{"$f":"'All hospitals'!C50","v":"Tibooburra"},{"$f":"'All hospitals'!E50","v":"08 8091 3302 "},{"$f":"'All hospitals'!F50","v":"08 8091 3302"},{"$f":"'All hospitals'!AA50","v":0},{"$f":"'All hospitals'!AB50","v":" -"},{"$f":"'All hospitals'!AC50","v":" -"},{"$f":"'All hospitals'!AD50","v":" -"},null,"WESTERN SYDNEY LHD & OTHER"]
[null,{"$f":"'All hospitals'!B51","v":"Wentworth District Hospital (No ED services)"},{"$f":"'All hospitals'!C51","v":"Wentworth"},{"$f":"'All hospitals'!E51","v":"03 5027 2345"},{"$f":"'All hospitals'!F51","v":"03 5027 2345"},{"$f":"'All hospitals'!AA51","v":0},{"$f":"'All hospitals'!AB51","v":" -"},{"$f":"'All hospitals'!AC51","v":" -"},{"$f":"'All hospitals'!AD51","v":" -"},null,"PRIVATE HOSPITALS & OTHER"]
[null,{"$f":"'All hospitals'!B52","v":"White Cliffs Health Service"},{"$f":"'All hospitals'!C52","v":"White Cliffs"},{"$f":"'All hospitals'!E52","v":"08 8091 6605 "},{"$f":"'All hospitals'!F52","v":"08 80916605"},{"$f":"'All hospitals'!AA52","v":0},{"$f":"'All hospitals'!AB52","v":" -"},{"$f":"'All hospitals'!AC52","v":" -"},{"$f":"'All hospitals'!AD52","v":" -"}]
[null,{"$f":"'All hospitals'!B53","v":"Wilcannia Multi Purpose Service"},{"$f":"'All hospitals'!C53","v":"Wilcannia"},{"$f":"'All hospitals'!E53","v":"08 8083 8777"},{"$f":"'All hospitals'!F53","v":"08 8083 8777"},{"$f":"'All hospitals'!AA53","v":1},{"$f":"'All hospitals'!AB53","v":"Medication Room"},{"$f":"'All hospitals'!AC53","v":0},{"$f":"'All hospitals'!AD53","v":"-"}]
[null,{"$f":"'All hospitals'!B54","v":"-"},{"$f":"'All hospitals'!C54","v":"-"},{"$f":"'All hospitals'!D54","v":"-"},{"$f":"'All hospitals'!E54","v":"-"},{"$f":"'All hospitals'!AA54","v":"-"},{"$f":"'All hospitals'!AB54","v":"-"},{"$f":"'All hospitals'!AC54","v":"-"},{"$f":"'All hospitals'!AD54","v":"-"}]
[null,{"$f":"'All hospitals'!B55","v":"HUNTER NEW ENGLAND LHD"}]
[null,{"$f":"'All hospitals'!B56","v":"Armidale Rural Referral Hospital"},{"$f":"'All hospitals'!C56","v":"Armidale"},{"$f":"'All hospitals'!E56","v":"02 6776 9500"},{"$f":"'All hospitals'!F56","v":"02 6776 9500     "},{"$f":"'All hospitals'!AA56","v":2},{"$f":"'All hospitals'!AB56","v":"ED "},{"$f":"'All hospitals'!AC56","v":1},{"$f":"'All hospitals'!AD56","v":"Pharmacy"}]
[null,{"$f":"'All hospitals'!B57","v":"Barraba Multi Purpose Service"},{"$f":"'All hospitals'!C57","v":"Barraba"},{"$f":"'All hospitals'!E57","v":"02 6782 2500"},{"$f":"'All hospitals'!F57","v":"02 6782 2522"},{"$f":"'All hospitals'!AA57","v":1},{"$f":"'All hospitals'!AB57","v":"ED"},{"$f":"'All hospitals'!AC57","v":" -"},{"$f":"'All hospitals'!AD57","v":" -"}]
[null,{"$f":"'All hospitals'!B58","v":"Belmont Hospital "},{"$f":"'All hospitals'!C58","v":"Belmont"},{"$f":"'All hospitals'!E58","v":"02 4923 2249"},{"$f":"'All hospitals'!F58","v":"02 4923 2000"},{"$f":"'All hospitals'!AA58","v":0},{"$f":"'All hospitals'!AB58","v":" -"},{"$f":"'All hospitals'!AC58","v":" -"},{"$f":"'All hospitals'!AD58","v":" -"}]
[null,{"$f":"'All hospitals'!B59","v":"Bingara Multi Purpose Service"},{"$f":"'All hospitals'!C59","v":"Bingara"},{"$f":"'All hospitals'!E59","v":"02 6728 0100"},{"$f":"'All hospitals'!F59","v":"02 6728 0100"},{"$f":"'All hospitals'!AA59","v":0},{"$f":"'All hospitals'!AB59","v":" - "},{"$f":"'All hospitals'!AC59","v":" -"},{"$f":"'All hospitals'!AD59","v":" -"}]
[null,{"$f":"'All hospitals'!B60","v":"Boggabri Multi Purpose Service"},{"$f":"'All hospitals'!C60","v":"Boggabri"},{"$f":"'All hospitals'!E60","v":"02 6749 7000"},{"$f":"'All hospitals'!F60","v":"02 67497000"},{"$f":"'All hospitals'!AA60","v":0},{"$f":"'All hospitals'!AB60","v":" - "},{"$f":"'All hospitals'!AC60","v":" -"},{"$f":"'All hospitals'!AD60","v":" -"}]
[null,{"$f":"'All hospitals'!B61","v":"Bulahdelah Hospital NO STOCKS HELD"},{"$f":"'All hospitals'!C61","v":"Bulahdelah"},{"$f":"'All hospitals'!E61","v":"02 4987 9900"},{"$f":"'All hospitals'!F61","v":"02 4987 9900"},{"$f":"'All hospitals'!AA61","v":0},{"$f":"'All hospitals'!AB61","v":" -"},{"$f":"'All hospitals'!AC61","v":" -"},{"$f":"'All hospitals'!AD61","v":" -"}]
[null,{"$f":"'All hospitals'!B62","v":"Calvary Mater Hospital Newcastle "},{"$f":"'All hospitals'!C62","v":"Newcastle"},{"$f":"'All hospitals'!E62","v":"02 4921 1211"},{"$f":"'All hospitals'!F62","v":"02 4921 1211"},{"$f":"'All hospitals'!AA62","v":0},{"$f":"'All hospitals'!AB62","v":" -"},{"$f":"'All hospitals'!AC62","v":" -"},{"$f":"'All hospitals'!AD62","v":" -"}]
[null,{"$f":"'All hospitals'!B63","v":"Cessnock District Hospital"},{"$f":"'All hospitals'!C63","v":"Cessnock"},{"$f":"'All hospitals'!E63","v":"02 4991 0555(hospital)\n02 4991 0456(pharmacy)"},{"$f":"'All hospitals'!F63","v":"0438 212 862"},{"$f":"'All hospitals'!AA63","v":0},{"$f":"'All hospitals'!AB63","v":" -"},{"$f":"'All hospitals'!AC63","v":" -"},{"$f":"'All hospitals'!AD63","v":" -"}]
[null,{"$f":"'All hospitals'!B64","v":"Denman Multi Purpose Service (Stock data TBC)"},{"$f":"'All hospitals'!C64","v":"Denman"},{"$f":"'All hospitals'!E64","v":"02 6547 3999"},{"$f":"'All hospitals'!F64","v":"02 6547 3905 "},{"$f":"'All hospitals'!AA64","v":0},{"$f":"'All hospitals'!AB64","v":" -"},{"$f":"'All hospitals'!AC64","v":" -"},{"$f":"'All hospitals'!AD64","v":" -"}]
[null,{"$f":"'All hospitals'!B65","v":"Dungog Community Hospital"},{"$f":"'All hospitals'!C65","v":"Dungog"},{"$f":"'All hospitals'!E65","v":"02 4939 2226"},{"$f":"'All hospitals'!F65","v":"02 4992 1266"},{"$f":"'All hospitals'!AA65","v":0},{"$f":"'All hospitals'!AB65","v":" -"},{"$f":"'All hospitals'!AC65","v":" -"},{"$f":"'All hospitals'!AD65","v":" -"}]
[null,{"$f":"'All hospitals'!B66","v":"Glen Innes District Hospital "},{"$f":"'All hospitals'!C66","v":"Glen Innes"},{"$f":"'All hospitals'!E66","v":"02 6739 0200"},{"$f":"'All hospitals'!F66","v":"02 6739 0200"},{"$f":"'All hospitals'!AA66","v":0},{"$f":"'All hospitals'!AB66","v":"ED"},{"$f":"'All hospitals'!AC66","v":" -"},{"$f":"'All hospitals'!AD66","v":" -"}]
[null,{"$f":"'All hospitals'!B67","v":"Gloucester Soldiers Memorial Hospital (Stock data TBC)"},{"$f":"'All hospitals'!C67","v":"Gloucester"},{"$f":"'All hospitals'!E67","v":"02 6538 5000"},{"$f":"'All hospitals'!F67","v":"02 6538 5000"},{"$f":"'All hospitals'!AA67","v":0},{"$f":"'All hospitals'!AB67","v":" -"},{"$f":"'All hospitals'!AC67","v":" -"},{"$f":"'All hospitals'!AD67","v":" -"}]
[null,{"$f":"'All hospitals'!B68","v":"Gunnedah Hospital"},{"$f":"'All hospitals'!C68","v":"Gunnedah"},{"$f":"'All hospitals'!E68","v":"02 6741 8000"},{"$f":"'All hospitals'!F68","v":"02 6741 8031"},{"$f":"'All hospitals'!AA68","v":0},{"$f":"'All hospitals'!AB68","v":" - "},{"$f":"'All hospitals'!AC68","v":"-"},{"$f":"'All hospitals'!AD68","v":"-"}]
[null,{"$f":"'All hospitals'!B69","v":"Guyra Multi Purpose Service "},{"$f":"'All hospitals'!C69","v":"Guyra"},{"$f":"'All hospitals'!E69","v":"02 6738 4000"},{"$f":"'All hospitals'!F69","v":"02 6738 4000"},{"$f":"'All hospitals'!AA69","v":0},{"$f":"'All hospitals'!AB69","v":"General Ward"},{"$f":"'All hospitals'!AC69","v":" -"},{"$f":"'All hospitals'!AD69","v":" -"}]
[null,{"$f":"'All hospitals'!B70","v":"Inverell Hospital "},{"$f":"'All hospitals'!C70","v":"Inverell"},{"$f":"'All hospitals'!E70","v":"02 6721 9500"},{"$f":"'All hospitals'!F70","v":"02 6721 9540"},{"$f":"'All hospitals'!AA70","v":2},{"$f":"'All hospitals'!AB70","v":"ED"},{"$f":"'All hospitals'!AC70","v":" -"},{"$f":"'All hospitals'!AD70","v":" -"}]
[null,{"$f":"'All hospitals'!B71","v":"John Hunter Hospital "},{"$f":"'All hospitals'!C71","v":"Newcastle"},{"$f":"'All hospitals'!E71","v":"02 4921 3635"},{"$f":"'All hospitals'!F71","v":"0408 263 586"},{"$f":"'All hospitals'!AA71","v":0},{"$f":"'All hospitals'!AB71","v":"-"},{"$f":"'All hospitals'!AC71","v":"-"},{"$f":"'All hospitals'!AD71","v":"-"}]
[null,{"$f":"'All hospitals'!B72","v":"Kurri Kurri Hospital"},{"$f":"'All hospitals'!C72","v":"Kurri Kurri"},{"$f":"'All hospitals'!E72","v":"02 4936 3234"},{"$f":"'All hospitals'!F72","v":"02 4936 3200"},{"$f":"'All hospitals'!AA72","v":0},{"$f":"'All hospitals'!AB72","v":" -"},{"$f":"'All hospitals'!AC72","v":" -"},{"$f":"'All hospitals'!AD72","v":" -"}]
[null,{"$f":"'All hospitals'!B73","v":"Manning Base Hospital"},{"$f":"'All hospitals'!C73","v":"Taree"},{"$f":"'All hospitals'!E73","v":"02 6592 9244"},{"$f":"'All hospitals'!F73","v":"02 6592 9014"},{"$f":"'All hospitals'!AA73","v":0},{"$f":"'All hospitals'!AB73","v":" -"},{"$f":"'All hospitals'!AC73","v":" -"},{"$f":"'All hospitals'!AD73","v":" -"}]
[null,{"$f":"'All hospitals'!B74","v":"Manilla Hospital"},{"$f":"'All hospitals'!C74","v":"Manilla"},{"$f":"'All hospitals'!E74","v":"02 6785 4000"},{"$f":"'All hospitals'!F74","v":"02 6785 4000"},{"$f":"'All hospitals'!AA74","v":0},{"$f":"'All hospitals'!AB74","v":" - "},{"$f":"'All hospitals'!AC74","v":" -"},{"$f":"'All hospitals'!AD74","v":" -"}]
[null,{"$f":"'All hospitals'!B75","v":"Merriwa Multi Purpose Service (Stock data TBC)"},{"$f":"'All hospitals'!C75","v":"Merriwa"},{"$f":"'All hospitals'!E75","v":"02 6532 5000"},{"$f":"'All hospitals'!F75","v":"02 6532 5000"},{"$f":"'All hospitals'!AA75","v":0},{"$f":"'All hospitals'!AB75","v":" -"},{"$f":"'All hospitals'!AC75","v":" -"},{"$f":"'All hospitals'!AD75","v":" -"}]
[null,{"$f":"'All hospitals'!B76","v":"Moree Hospital "},{"$f":"'All hospitals'!C76","v":"Moree"},{"$f":"'All hospitals'!E76","v":"02 6757 0031"},{"$f":"'All hospitals'!F76","v":"02 6757 0031"},{"$f":"'All hospitals'!AA76","v":2},{"$f":"'All hospitals'!AB76","v":"ED"},{"$f":"'All hospitals'!AC76","v":"-"},{"$f":"'All hospitals'!AD76","v":"-"}]
[null,{"$f":"'All hospitals'!B77","v":"Muswellbrook Hospital (Stock data TBC)"},{"$f":"'All hospitals'!C77","v":"Muswellbrook"},{"$f":"'All hospitals'!E77","v":"02 6542 2000"},{"$f":"'All hospitals'!F77","v":"02 6542 2000"},{"$f":"'All hospitals'!AA77","v":0},{"$f":"'All hospitals'!AB77","v":" -"},{"$f":"'All hospitals'!AC77","v":" -"},{"$f":"'All hospitals'!AD77","v":" -"}]
[null,{"$f":"'All hospitals'!B78","v":"Narrabri Hospital"},{"$f":"'All hospitals'!C78","v":"Narrabri"},{"$f":"'All hospitals'!E78","v":"02 6799 2800"},{"$f":"'All hospitals'!F78","v":"02 6799 2105"},{"$f":"'All hospitals'!AA78","v":2},{"$f":"'All hospitals'!AB78","v":"ED"},{"$f":"'All hospitals'!AC78","v":"-"},{"$f":"'All hospitals'!AD78","v":"-"}]
[null,{"$f":"'All hospitals'!B79","v":"Quirindi Hospital"},{"$f":"'All hospitals'!C79","v":"Quirindi"},{"$f":"'All hospitals'!E79","v":"02 6746 0200"},{"$f":"'All hospitals'!F79","v":"02 6746 0200"},{"$f":"'All hospitals'!AA79","v":0},{"$f":"'All hospitals'!AB79","v":" - "},{"$f":"'All hospitals'!AC79","v":" -"},{"$f":"'All hospitals'!AD79","v":" -"}]
[null,{"$f":"'All hospitals'!B80","v":"Scott Memorial Hospital (Stock data TBC)"},{"$f":"'All hospitals'!C80","v":"Scone"},{"$f":"'All hospitals'!E80","v":"02 6540 2100"},{"$f":"'All hospitals'!F80","v":"02 6540 2100"},{"$f":"'All hospitals'!AA80","v":0},{"$f":"'All hospitals'!AB80","v":" -"},{"$f":"'All hospitals'!AC80","v":" -"},{"$f":"'All hospitals'!AD80","v":" -"}]
[null,{"$f":"'All hospitals'!B81","v":"Singleton District Hospital (Stock data TBC)"},{"$f":"'All hospitals'!C81","v":"Singleton"},{"$f":"'All hospitals'!E81","v":"02 6571 9222"},{"$f":"'All hospitals'!F81","v":"02 6571 9222"},{"$f":"'All hospitals'!AA81","v":0},{"$f":"'All hospitals'!AB81","v":" -"},{"$f":"'All hospitals'!AC81","v":" -"},{"$f":"'All hospitals'!AD81","v":" -"}]
[null,{"$f":"'All hospitals'!B82","v":"Tamworth Rural Referral Hospital "},{"$f":"'All hospitals'!C82","v":"Tamworth"},{"$f":"'All hospitals'!E82","v":"02 6727 7370 "},{"$f":"'All hospitals'!F82","v":"02 6767 7700"},{"$f":"'All hospitals'!AA82","v":2},{"$f":"'All hospitals'!AB82","v":"ED Resus"},{"$f":"'All hospitals'!AC82","v":1},{"$f":"'All hospitals'!AD82","v":"Pharmacy"}]
[null,{"$f":"'All hospitals'!B83","v":"Tenterfield/Prince Albert Hospital "},{"$f":"'All hospitals'!C83","v":"Tenterfield"},{"$f":"'All hospitals'!E83","v":"02 6739 5200"},{"$f":"'All hospitals'!F83","v":"02 6739 5200"},{"$f":"'All hospitals'!AA83","v":2},{"$f":"'All hospitals'!AB83","v":"General Ward"},{"$f":"'All hospitals'!AC83","v":" -"},{"$f":"'All hospitals'!AD83","v":" -"}]
[null,{"$f":"'All hospitals'!B84","v":"The Maitland Hospital"},{"$f":"'All hospitals'!C84","v":"Maitland"},{"$f":"'All hospitals'!E84","v":"02 4939 2226"},{"$f":"'All hospitals'!F84","v":"02 4939 2000"},{"$f":"'All hospitals'!AA84","v":0},{"$f":"'All hospitals'!AB84","v":" -"},{"$f":"'All hospitals'!AC84","v":" -"},{"$f":"'All hospitals'!AD84","v":" -"}]
[null,{"$f":"'All hospitals'!B85","v":"Tingha Multi Purpose Service NO STOCKS HELD"},{"$f":"'All hospitals'!C85","v":"Tingha"},{"$f":"'All hospitals'!E85","v":"02 6723 3900"},{"$f":"'All hospitals'!F85","v":"02 6723 9000"},{"$f":"'All hospitals'!AA85","v":0},{"$f":"'All hospitals'!AB85","v":" -"},{"$f":"'All hospitals'!AC85","v":" -"},{"$f":"'All hospitals'!AD85","v":" -"}]
[null,{"$f":"'All hospitals'!B86","v":"Tomaree Community Hospital (Stock data TBC)"},{"$f":"'All hospitals'!C86","v":"Tomaree"},{"$f":"'All hospitals'!E86","v":"02 4923 2249"},{"$f":"'All hospitals'!F86","v":"02 4923 2000"},{"$f":"'All hospitals'!AA86","v":0},{"$f":"'All hospitals'!AB86","v":" -"},{"$f":"'All hospitals'!AC86","v":" -"},{"$f":"'All hospitals'!AD86","v":" -"}]
[null,{"$f":"'All hospitals'!B87","v":"Vegetable Creek Multipurpose Service"},{"$f":"'All hospitals'!C87","v":"Emmaville"},{"$f":"'All hospitals'!E87","v":"02 6734  7900"},{"$f":"'All hospitals'!F87","v":"02 6734 7900"},{"$f":"'All hospitals'!AA87","v":0},{"$f":"'All hospitals'!AB87","v":" -"},{"$f":"'All hospitals'!AC87","v":" -"},{"$f":"'All hospitals'!AD87","v":" -"}]
[null,{"$f":"'All hospitals'!B88","v":"Walcha Multi Purpose Service "},{"$f":"'All hospitals'!C88","v":"Walcha"},{"$f":"'All hospitals'!E88","v":"02 6777 4200"},{"$f":"'All hospitals'!F88","v":"02 6777 4200"},{"$f":"'All hospitals'!AA88","v":1},{"$f":"'All hospitals'!AB88","v":"Medication Room"},{"$f":"'All hospitals'!AC88","v":" -"},{"$f":"'All hospitals'!AD88","v":" -"}]
[null,{"$f":"'All hospitals'!B89","v":"Warialda Multi Purpose Service "},{"$f":"'All hospitals'!C89","v":"Warialda"},{"$f":"'All hospitals'!E89","v":"02 6728 9000"},{"$f":"'All hospitals'!F89","v":"0428 753 175"},{"$f":"'All hospitals'!AA89","v":0},{"$f":"'All hospitals'!AB89","v":"ED "},{"$f":"'All hospitals'!AC89","v":"-"},{"$f":"'All hospitals'!AD89","v":"-"}]
[null,{"$f":"'All hospitals'!B90","v":"Wee Waa Community Hospital"},{"$f":"'All hospitals'!C90","v":"Wee Waa"},{"$f":"'All hospitals'!E90","v":"02 6795 0400"},{"$f":"'All hospitals'!F90","v":"02 6795 0400"},{"$f":"'All hospitals'!AA90","v":2},{"$f":"'All hospitals'!AB90","v":"Medication Room"},{"$f":"'All hospitals'!AC90","v":"-"},{"$f":"'All hospitals'!AD90","v":"-"}]
[null,{"$f":"'All hospitals'!B91","v":"Werris Creek Multi Purpose Service NO STOCKS HELD"},{"$f":"'All hospitals'!C91","v":"Werris Creek"},{"$f":"'All hospitals'!E91","v":"02 6768 6600"},{"$f":"'All hospitals'!F91","v":"02 6768 6600"},{"$f":"'All hospitals'!AA91","v":0},{"$f":"'All hospitals'!AB91","v":" -"},{"$f":"'All hospitals'!AC91","v":" -"},{"$f":"'All hospitals'!AD91","v":" -"}]
[null,{"$f":"'All hospitals'!B92","v":"Westpac Rescue Helicopter Service"},{"$f":"'All hospitals'!C92","v":"Belmont Helicopter Base"},{"$f":"'All hospitals'!E92","v":"02 4952 0000"},{"$f":"'All hospitals'!F92","v":"02 4952 0055"},{"$f":"'All hospitals'!AA92","v":0},{"$f":"'All hospitals'!AB92","v":" -"},{"$f":"'All hospitals'!AC92","v":" -"},{"$f":"'All hospitals'!AD92","v":" -"}]
[null,{"$f":"'All hospitals'!B93","v":"Wilson Memorial Hospital - Murrurundi (Stock data TBC)"},{"$f":"'All hospitals'!C93","v":"Murrurundi"},{"$f":"'All hospitals'!E93","v":"02 6546 9000"},{"$f":"'All hospitals'!F93","v":"02 6546 9000"},{"$f":"'All hospitals'!AA93","v":0},{"$f":"'All hospitals'!AB93","v":" -"},{"$f":"'All hospitals'!AC93","v":" -"},{"$f":"'All hospitals'!AD93","v":" -"}]
[null,{"$f":"'All hospitals'!B94","v":"-"},{"$f":"'All hospitals'!C94","v":"-"},{"$f":"'All hospitals'!E94","v":"-"},null,{"$f":"'All hospitals'!AA94","v":"-"},{"$f":"'All hospitals'!AB94","v":"-"},{"$f":"'All hospitals'!AC94","v":"-"},{"$f":"'All hospitals'!AD94","v":"-"}]
[null,{"$f":"'All hospitals'!B95","v":"ILLAWARRA SHOALHAVEN LHD"}]
[null,{"$f":"'All hospitals'!B96","v":"Bulli Hospital NO STOCKS HELD"},{"$f":"'All hospitals'!C96","v":"Bulli"},{"$f":"'All hospitals'!E96","v":"02 4284 4344"},{"$f":"'All hospitals'!F96","v":"02 4222 5000 (request Wollongong Hospital on-call pharmacist)"},{"$f":"'All hospitals'!AA96","v":0},{"$f":"'All hospitals'!AB96","v":" -"},{"$f":"'All hospitals'!AC96","v":" -"},{"$f":"'All hospitals'!AD96","v":" -"}]
[null,{"$f":"'All hospitals'!B97","v":"Coledale Hospital NO STOCKS HELD"},{"$f":"'All hospitals'!C97","v":"Thirroul"},{"$f":"'All hospitals'!E97","v":"02 4267 0111"},{"$f":"'All hospitals'!F97","v":"02 4222 5000 (request Wollongong Hospital on-call pharmacist)"},{"$f":"'All hospitals'!AA97","v":" -"},{"$f":"'All hospitals'!AB97","v":" -"},{"$f":"'All hospitals'!AC97","v":" -"},{"$f":"'All hospitals'!AD97","v":" -"}]
[null,{"$f":"'All hospitals'!B98","v":"David Berry Hospital NO STOCKS HELD"},{"$f":"'All hospitals'!C98","v":"Berry"},{"$f":"'All hospitals'!E98","v":"02 4464 1001"},{"$f":"'All hospitals'!F98","v":" -"},{"$f":"'All hospitals'!AA98","v":" -"},{"$f":"'All hospitals'!AB98","v":" -"},{"$f":"'All hospitals'!AC98","v":" -"},{"$f":"'All hospitals'!AD98","v":" -"}]
[null,{"$f":"'All hospitals'!B99","v":"Kiama Hospital & Community Health Service NO STOCKS HELD"},{"$f":"'All hospitals'!C99","v":"Kiama"},{"$f":"'All hospitals'!E99","v":"02 4233 1033"},{"$f":"'All hospitals'!F99","v":" -"},{"$f":"'All hospitals'!AA99","v":" -"},{"$f":"'All hospitals'!AB99","v":" -"},{"$f":"'All hospitals'!AC99","v":" -"},{"$f":"'All hospitals'!AD99","v":" -"}]
[null,{"$f":"'All hospitals'!B100","v":"Milton Ulladulla Hospital"},{"$f":"'All hospitals'!C100","v":"Milton"},{"$f":"'All hospitals'!E100","v":"02 4454 9100"},{"$f":"'All hospitals'!F100","v":"02 4454 9133 (ED)"},{"$f":"'All hospitals'!AA100","v":4},{"$f":"'All hospitals'!AB100","v":"ED"},{"$f":"'All hospitals'!AC100","v":" -"},{"$f":"'All hospitals'!AD100","v":" -"}]
[null,{"$f":"'All hospitals'!B274","v":0},{"$f":"'All hospitals'!C274","v":0},{"$f":"'All hospitals'!E274","v":0},{"$f":"'All hospitals'!F274","v":0},{"$f":"'All hospitals'!AA274","v":0},{"$f":"'All hospitals'!AB274","v":0},{"$f":"'All hospitals'!AC274","v":0},{"$f":"'All hospitals'!AD274","v":0}]
[null,{"$f":"'All hospitals'!B102","v":"Port Kembla Hospital - NO STOCKS HELD"},{"$f":"'All hospitals'!C102","v":"Warrawong"},{"$f":"'All hospitals'!E102","v":"02 4223 8000"},{"$f":"'All hospitals'!F102","v":"02 4222 5000 (request Wollongong Hospital on-call pharmacist)"},{"$f":"'All hospitals'!AA102","v":" -"},{"$f":"'All hospitals'!AB102","v":" -"},{"$f":"'All hospitals'!AC102","v":" -"},{"$f":"'All hospitals'!AD102","v":" -"}]
[null,{"$f":"'All hospitals'!B103","v":"Shellharbour Hospital"},{"$f":"'All hospitals'!C103","v":"Mt Warrigal"},{"$f":"'All hospitals'!E103","v":"02 4295 2516"},{"$f":"'All hospitals'!F103","v":"02 4295 2500 (switch) - ask to page ADON"},{"$f":"'All hospitals'!AA103","v":2},{"$f":"'All hospitals'!AB103","v":"After Hours Cupboard"},{"$f":"'All hospitals'!AC103","v":" -"},{"$f":"'All hospitals'!AD103","v":" -"}]
[null,{"$f":"'All hospitals'!B104","v":"Shoalhaven Hospital "},{"$f":"'All hospitals'!C104","v":"Nowra"},{"$f":"'All hospitals'!E104","v":"02 4423 9734"},{"$f":"'All hospitals'!F104","v":"02 4423 9738/ 0427400177 (after hours patient flow manager)"},{"$f":"'All hospitals'!AA104","v":2},{"$f":"'All hospitals'!AB104","v":"ED"},{"$f":"'All hospitals'!AC104","v":2},{"$f":"'All hospitals'!AD104","v":"Pharmacy "}]
[null,{"$f":"'All hospitals'!B105","v":"Wollongong Hospital"},{"$f":"'All hospitals'!C105","v":"Wollongong "},{"$f":"'All hospitals'!E105","v":"02 4222 5340"},{"$f":"'All hospitals'!F105","v":"02 4222 5000"},{"$f":"'All hospitals'!AA105","v":"-"},{"$f":"'All hospitals'!AB105","v":"-"},{"$f":"'All hospitals'!AC105","v":2},{"$f":"'All hospitals'!AD105","v":"Pharmacy "}]
[null,{"$f":"'All hospitals'!B106","v":"-"},{"$f":"'All hospitals'!C106","v":"-"},{"$f":"'All hospitals'!E106","v":"-"},{"$f":"'All hospitals'!F106","v":"-"},{"$f":"'All hospitals'!AA106","v":"-"},{"$f":"'All hospitals'!AB106","v":"-"},{"$f":"'All hospitals'!AC106","v":"-"},{"$f":"'All hospitals'!AD106","v":"-"}]
[null,{"$f":"'All hospitals'!B107","v":"MID NORTH COAST LHD"}]
[null,{"$f":"'All hospitals'!B108","v":"Bellingen River District Hospital "},{"$f":"'All hospitals'!C108","v":"Bellingen"},{"$f":"'All hospitals'!E108","v":"02 6659 5800"},{"$f":"'All hospitals'!F108","v":"02 6656 7324"},{"$f":"'All hospitals'!AA108","v":2},{"$f":"'All hospitals'!AB108","v":"ED"},{"$f":"'All hospitals'!AC108","v":" -"},{"$f":"'All hospitals'!AD108","v":" -"}]
[null,{"$f":"'All hospitals'!B109","v":"Coffs Harbour Health Campus "},{"$f":"'All hospitals'!C109","v":"Coffs Harbour"},{"$f":"'All hospitals'!E109","v":"02 6656 7000"},{"$f":"'All hospitals'!F109","v":"02 6656 7324"},{"$f":"'All hospitals'!AA109","v":6},{"$f":"'All hospitals'!AB109","v":"ED Resus Fridge"},{"$f":"'All hospitals'!AC109","v":1},{"$f":"'All hospitals'!AD109","v":"Pharmacy"}]
[null,{"$f":"'All hospitals'!B110","v":"Dorrigo Multi Purpose Service"},{"$f":"'All hospitals'!C110","v":"Dorrigo"},{"$f":"'All hospitals'!E110","v":"02 6692 7700"},{"$f":"'All hospitals'!F110","v":"02 6656 7324"},{"$f":"'All hospitals'!AA110","v":2},{"$f":"'All hospitals'!AB110","v":"General Ward"},{"$f":"'All hospitals'!AC110","v":" -"},{"$f":"'All hospitals'!AD110","v":"-"}]
[null,{"$f":"'All hospitals'!B111","v":"Kempsey District Hospital"},{"$f":"'All hospitals'!C111","v":"Kempsey"},{"$f":"'All hospitals'!E111","v":"02 6561 2600"},{"$f":"'All hospitals'!F111","v":"02 5524 2000"},{"$f":"'All hospitals'!AA111","v":2},{"$f":"'All hospitals'!AB111","v":"ED Resus Fridge"},{"$f":"'All hospitals'!AC111","v":1},{"$f":"'All hospitals'!AD111","v":"Pharmacy"}]
[null,{"$f":"'All hospitals'!B112","v":"Macksville District Hospital "},{"$f":"'All hospitals'!C112","v":"Macksville"},{"$f":"'All hospitals'!E112","v":"02 6568 0666"},{"$f":"'All hospitals'!F112","v":"02 6656 7324"},{"$f":"'All hospitals'!AA112","v":2},{"$f":"'All hospitals'!AB112","v":"ED"},{"$f":"'All hospitals'!AC112","v":" -"},{"$f":"'All hospitals'!AD112","v":" -"}]
[null,{"$f":"'All hospitals'!B113","v":"Port Macquarie Base Hospital"},{"$f":"'All hospitals'!C113","v":"Port Macquarie"},{"$f":"'All hospitals'!E113","v":"02 5524 2206"},{"$f":"'All hospitals'!F113","v":"02 5524 2000"},{"$f":"'All hospitals'!AA113","v":2},{"$f":"'All hospitals'!AB113","v":"After Hours Cupboard"},{"$f":"'All hospitals'!AC113","v":" -"},{"$f":"'All hospitals'!AD113","v":" -"}]
[null,{"$f":"'All hospitals'!B114","v":"Wauchope Hospital (Stock data TBC)"},{"$f":"'All hospitals'!C114","v":"Wauchope"},{"$f":"'All hospitals'!E114","v":"02 5524 2206"},{"$f":"'All hospitals'!F114","v":"02 5524 2000"},{"$f":"'All hospitals'!AA114","v":1},{"$f":"'All hospitals'!AB114","v":"General Ward Fridge"},{"$f":"'All hospitals'!AC114","v":" -"},{"$f":"'All hospitals'!AD114","v":" -"}]
[null,{"$f":"'All hospitals'!B115","v":"-"},{"$f":"'All hospitals'!C115","v":"-"},{"$f":"'All hospitals'!E115","v":"-"},{"$f":"'All hospitals'!F115","v":"-"},{"$f":"'All hospitals'!AA115","v":"-"},{"$f":"'All hospitals'!AB115","v":"-"},{"$f":"'All hospitals'!AC115","v":"-"},{"$f":"'All hospitals'!AD115","v":"-"}]
[null,{"$f":"'All hospitals'!B116","v":"MURRUMBIDGEE LHD"}]
[null,{"$f":"'All hospitals'!B117","v":"Barham Koondrook Health Service"},{"$f":"'All hospitals'!C117","v":"Barham"},{"$f":"'All hospitals'!E117","v":"03 5451 1000"},{"$f":"'All hospitals'!F117","v":"03 5451 1000"},{"$f":"'All hospitals'!AA117","v":0},{"$f":"'All hospitals'!AB117","v":"-"},{"$f":"'All hospitals'!AC117","v":" -"},{"$f":"'All hospitals'!AD117","v":" -"}]
[null,{"$f":"'All hospitals'!B118","v":"Batlow Adelong Multi Purpose Service"},{"$f":"'All hospitals'!C118","v":"Batlow"},{"$f":"'All hospitals'!E118","v":"02 6941 4333"},{"$f":"'All hospitals'!F118","v":"02 6941 4333"},{"$f":"'All hospitals'!AA118","v":0},{"$f":"'All hospitals'!AB118","v":" - "},{"$f":"'All hospitals'!AC118","v":" -"},{"$f":"'All hospitals'!AD118","v":" -"}]
[null,{"$f":"'All hospitals'!B119","v":"Berrigan Multi Purpose Service"},{"$f":"'All hospitals'!C119","v":"Berrigan"},{"$f":"'All hospitals'!E119","v":"03 5888 5300"},{"$f":"'All hospitals'!F119","v":"03 5888 5300"},{"$f":"'All hospitals'!AA119","v":0},{"$f":"'All hospitals'!AB119","v":"-"},{"$f":"'All hospitals'!AC119","v":" -"},{"$f":"'All hospitals'!AD119","v":" -"}]
[null,{"$f":"'All hospitals'!B120","v":"Boorowa Multi Purpose Service Hospital"},{"$f":"'All hospitals'!C120","v":"Boorowa"},{"$f":"'All hospitals'!E120","v":"02 6380 2100"},{"$f":"'All hospitals'!F120","v":"02 6380 2100"},{"$f":"'All hospitals'!AA120","v":0},{"$f":"'All hospitals'!AB120","v":" - "},{"$f":"'All hospitals'!AC120","v":" -"},{"$f":"'All hospitals'!AD120","v":" -"}]
[null,{"$f":"'All hospitals'!B121","v":"Coolamon-Ganmain Multi Purpose Service"},{"$f":"'All hospitals'!C121","v":"Coolamon"},{"$f":"'All hospitals'!E121","v":"02 6927 3303"},{"$f":"'All hospitals'!F121","v":"02 6927 3303"},{"$f":"'All hospitals'!AA121","v":0},{"$f":"'All hospitals'!AB121","v":"-"},{"$f":"'All hospitals'!AC121","v":" -"},{"$f":"'All hospitals'!AD121","v":" -"}]
[null,{"$f":"'All hospitals'!B122","v":"Cootamundra District Hospital"},{"$f":"'All hospitals'!C122","v":"Cootamundra"},{"$f":"'All hospitals'!E122","v":"02 6942 0444"},{"$f":"'All hospitals'!F122","v":"02 6942 0444"},{"$f":"'All hospitals'!AA122","v":0},{"$f":"'All hospitals'!AB122","v":" - "},{"$f":"'All hospitals'!AC122","v":" -"},{"$f":"'All hospitals'!AD122","v":" -"}]
[null,{"$f":"'All hospitals'!B123","v":"Corowa District Hospital"},{"$f":"'All hospitals'!C123","v":"Corowa"},{"$f":"'All hospitals'!E123","v":"02 6033 7555"},{"$f":"'All hospitals'!F123","v":"02 6033 7555"},{"$f":"'All hospitals'!AA123","v":0},{"$f":"'All hospitals'!AB123","v":"-"},{"$f":"'All hospitals'!AC123","v":2},{"$f":"'All hospitals'!AD123","v":"Pharmacy Fridge"}]
[null,{"$f":"'All hospitals'!B124","v":"Culcairn Multi Purpose Service"},{"$f":"'All hospitals'!C124","v":"Culcairn"},{"$f":"'All hospitals'!E124","v":"02 6029 8203"},{"$f":"'All hospitals'!F124","v":"02 6029 8203"},{"$f":"'All hospitals'!AA124","v":0},{"$f":"'All hospitals'!AB124","v":"-"},{"$f":"'All hospitals'!AC124","v":" -"},{"$f":"'All hospitals'!AD124","v":" -"}]
[null,{"$f":"'All hospitals'!B125","v":"Deniliquin Hospital"},{"$f":"'All hospitals'!C125","v":"Deniliquin"},{"$f":"'All hospitals'!E125","v":"03 5882 2843"},{"$f":"'All hospitals'!F125","v":"03 5882 2834"},{"$f":"'All hospitals'!AA125","v":2},{"$f":"'All hospitals'!AB125","v":"ED Fridge"},{"$f":"'All hospitals'!AC125","v":" -"},{"$f":"'All hospitals'!AD125","v":" -"}]
[null,{"$f":"'All hospitals'!B126","v":"Finley Hospital"},{"$f":"'All hospitals'!C126","v":"Finley"},{"$f":"'All hospitals'!E126","v":"03 5883 1133"},{"$f":"'All hospitals'!F126","v":"03 5883 1133"},{"$f":"'All hospitals'!AA126","v":0},{"$f":"'All hospitals'!AB126","v":"-"},{"$f":"'All hospitals'!AC126","v":" -"},{"$f":"'All hospitals'!AD126","v":" -"}]
[null,{"$f":"'All hospitals'!B127","v":"Griffith Base Hospital"},{"$f":"'All hospitals'!C127","v":"Griffith NSW"},{"$f":"'All hospitals'!E127","v":"02 6969 5550"},{"$f":"'All hospitals'!F127","v":"02 6969 5600"},{"$f":"'All hospitals'!AA127","v":2},{"$f":"'All hospitals'!AB127","v":"ED Fridge"},{"$f":"'All hospitals'!AC127","v":2},{"$f":"'All hospitals'!AD127","v":"Pharmacy Fridge"}]
[null,{"$f":"'All hospitals'!B128","v":"Gundagai Multi Purpose Service"},{"$f":"'All hospitals'!C128","v":"Gundagai"},{"$f":"'All hospitals'!E128","v":"02 6950 6300"},{"$f":"'All hospitals'!F128","v":"02 6950 6300"},{"$f":"'All hospitals'!AA128","v":0},{"$f":"'All hospitals'!AB128","v":"-"},{"$f":"'All hospitals'!AC128","v":" -"},{"$f":"'All hospitals'!AD128","v":" -"}]
[null,{"$f":"'All hospitals'!B129","v":"Hay Hospital"},{"$f":"'All hospitals'!C129","v":"Hay"},{"$f":"'All hospitals'!E129","v":"02 6990 8700"},{"$f":"'All hospitals'!F129","v":"02 6990 8700"},{"$f":"'All hospitals'!AA129","v":0},{"$f":"'All hospitals'!AB129","v":"ED Fridge - data changed to zero after stock expired 04/20"},{"$f":"'All hospitals'!AC129","v":" -"},{"$f":"'All hospitals'!AD129","v":" -"}]
[null,{"$f":"'All hospitals'!B130","v":"Henty Multi Purpose Service"},{"$f":"'All hospitals'!C130","v":"Henty"},{"$f":"'All hospitals'!E130","v":"02 6929 4999"},{"$f":"'All hospitals'!F130","v":"02 6929 4999"},{"$f":"'All hospitals'!AA130","v":0},{"$f":"'All hospitals'!AB130","v":"-"},{"$f":"'All hospitals'!AC130","v":" -"},{"$f":"'All hospitals'!AD130","v":" -"}]
[null,{"$f":"'All hospitals'!B131","v":"Hillston Multi Purpose Service"},{"$f":"'All hospitals'!C131","v":"Hillston, NSW"},{"$f":"'All hospitals'!E131","v":"02 6961 7200"},{"$f":"'All hospitals'!F131","v":"02 6961 7200"},{"$f":"'All hospitals'!AA131","v":0},{"$f":"'All hospitals'!AB131","v":" - "},{"$f":"'All hospitals'!AC131","v":" -"},{"$f":"'All hospitals'!AD131","v":" -"}]
[null,{"$f":"'All hospitals'!B132","v":"Holbrook Hospital"},{"$f":"'All hospitals'!C132","v":"Holbrook"},{"$f":"'All hospitals'!E132","v":"02 6036 2522"},{"$f":"'All hospitals'!F132","v":"02 6036 2522"},{"$f":"'All hospitals'!AA132","v":0},{"$f":"'All hospitals'!AB132","v":"-"},{"$f":"'All hospitals'!AC132","v":" -"},{"$f":"'All hospitals'!AD132","v":" -"}]
[null,{"$f":"'All hospitals'!B133","v":"Jerilderie Multi Purpose Service"},{"$f":"'All hospitals'!C133","v":"Jerilderie"},{"$f":"'All hospitals'!E133","v":"03 5886 1300"},{"$f":"'All hospitals'!F133","v":"03 5886 1300"},{"$f":"'All hospitals'!AA133","v":0},{"$f":"'All hospitals'!AB133","v":"-"},{"$f":"'All hospitals'!AC133","v":" -"},{"$f":"'All hospitals'!AD133","v":" -"}]
[null,{"$f":"'All hospitals'!B134","v":"Junee Multi Purpose Service"},{"$f":"'All hospitals'!C134","v":"Junee"},{"$f":"'All hospitals'!E134","v":"02 6924 8200"},{"$f":"'All hospitals'!F134","v":"02 6924 8200"},{"$f":"'All hospitals'!AA134","v":0},{"$f":"'All hospitals'!AB134","v":"-"},{"$f":"'All hospitals'!AC134","v":" -"},{"$f":"'All hospitals'!AD134","v":" -"}]
[null,{"$f":"'All hospitals'!B135","v":"Lake Cargelligo Multi Purpose Service"},{"$f":"'All hospitals'!C135","v":"Lake Cargelligo"},{"$f":"'All hospitals'!E135","v":"02 6898 0200"},{"$f":"'All hospitals'!F135","v":"02 6898 0200"},{"$f":"'All hospitals'!AA135","v":0},{"$f":"'All hospitals'!AB135","v":" - "},{"$f":"'All hospitals'!AC135","v":" -"},{"$f":"'All hospitals'!AD135","v":" -"}]
[null,{"$f":"'All hospitals'!B136","v":"Leeton District Hospital"},{"$f":"'All hospitals'!C136","v":"Leeton"},{"$f":"'All hospitals'!E136","v":"02 6953 1111"},{"$f":"'All hospitals'!F136","v":"02 6953 1111"},{"$f":"'All hospitals'!AA136","v":0},{"$f":"'All hospitals'!AB136","v":"-"},{"$f":"'All hospitals'!AC136","v":" -"},{"$f":"'All hospitals'!AD136","v":" -"}]
[null,{"$f":"'All hospitals'!B137","v":"Lockhart Hospital"},{"$f":"'All hospitals'!C137","v":"Lockhart"},{"$f":"'All hospitals'!E137","v":"02 6930 7100"},{"$f":"'All hospitals'!F137","v":"02 6930 7100"},{"$f":"'All hospitals'!AA137","v":0},{"$f":"'All hospitals'!AB137","v":"-"},{"$f":"'All hospitals'!AC137","v":" -"},{"$f":"'All hospitals'!AD137","v":" -"}]
[null,{"$f":"'All hospitals'!B138","v":"Murrumburrah-Harden Hospital"},{"$f":"'All hospitals'!C138","v":"Harden"},{"$f":"'All hospitals'!E138","v":"02 6386 2200"},{"$f":"'All hospitals'!F138","v":"02 6386 2200"},{"$f":"'All hospitals'!AA138","v":0},{"$f":"'All hospitals'!AB138","v":" - "},{"$f":"'All hospitals'!AC138","v":" -"},{"$f":"'All hospitals'!AD138","v":" -"}]
[null,{"$f":"'All hospitals'!B139","v":"Narrandera District Hospital"},{"$f":"'All hospitals'!C139","v":"Narrandera"},{"$f":"'All hospitals'!E139","v":"02 6951 0200"},{"$f":"'All hospitals'!F139","v":"02 6951 0200"},{"$f":"'All hospitals'!AA139","v":0},{"$f":"'All hospitals'!AB139","v":"General ward medication fridge -  data changed to zero after stock expired 04/20"},{"$f":"'All hospitals'!AC139","v":" -"},{"$f":"'All hospitals'!AD139","v":" -"}]
[null,{"$f":"'All hospitals'!B140","v":"Temora District Hospital "},{"$f":"'All hospitals'!C140","v":"Temora"},{"$f":"'All hospitals'!E140","v":"02 6980 0200"},{"$f":"'All hospitals'!F140","v":"02 6980 0200"},{"$f":"'All hospitals'!AA140","v":0},{"$f":"'All hospitals'!AB140","v":" - "},{"$f":"'All hospitals'!AC140","v":" -"},{"$f":"'All hospitals'!AD140","v":" -"}]
[null,{"$f":"'All hospitals'!B141","v":"Tocumwal Hospital"},{"$f":"'All hospitals'!C141","v":"Tocumwal"},{"$f":"'All hospitals'!E141","v":"03 5874 2166"},{"$f":"'All hospitals'!F141","v":"03 5874 2166"},{"$f":"'All hospitals'!AA141","v":0},{"$f":"'All hospitals'!AB141","v":"General ward medication fridge"},{"$f":"'All hospitals'!AC141","v":" -"},{"$f":"'All hospitals'!AD141","v":" -"}]
[null,{"$f":"'All hospitals'!B142","v":"Tumbarumba Multi Purpose Service"},{"$f":"'All hospitals'!C142","v":"Tumbarumba"},{"$f":"'All hospitals'!E142","v":"02 6948 9600"},{"$f":"'All hospitals'!F142","v":"02 6948 9600"},{"$f":"'All hospitals'!AA142","v":0},{"$f":"'All hospitals'!AB142","v":"ED Fridge -  data changed to zero after stock expired 04/20"},{"$f":"'All hospitals'!AC142","v":" -"},{"$f":"'All hospitals'!AD142","v":" -"}]
[null,{"$f":"'All hospitals'!B143","v":"Tumut District Hospital"},{"$f":"'All hospitals'!C143","v":"Tumut"},{"$f":"'All hospitals'!E143","v":"02 6947 0800"},{"$f":"'All hospitals'!F143","v":"02 6947 0800"},{"$f":"'All hospitals'!AA143","v":0},{"$f":"'All hospitals'!AB143","v":"ED Fridge -  data changed to zero after stock expired 04/20"},{"$f":"'All hospitals'!AC143","v":" -"},{"$f":"'All hospitals'!AD143","v":" -"}]
[null,{"$f":"'All hospitals'!B144","v":"Urana Multi Purpose Service"},{"$f":"'All hospitals'!C144","v":"Urana"},{"$f":"'All hospitals'!E144","v":"02 6920 8106"},{"$f":"'All hospitals'!F144","v":"02 6920 8106"},{"$f":"'All hospitals'!AA144","v":0},{"$f":"'All hospitals'!AB144","v":"ED Fridge"},{"$f":"'All hospitals'!AC144","v":" -"},{"$f":"'All hospitals'!AD144","v":" -"}]
[null,{"$f":"'All hospitals'!B145","v":"Wagga Wagga Base Hospital "},{"$f":"'All hospitals'!C145","v":"Wagga Wagga"},{"$f":"'All hospitals'!E145","v":"02 5943 1000"},{"$f":"'All hospitals'!F145","v":"0429 306 566"},{"$f":"'All hospitals'!AA145","v":2},{"$f":"'All hospitals'!AB145","v":"ED"},{"$f":"'All hospitals'!AC145","v":4},{"$f":"'All hospitals'!AD145","v":"After Hours Pharmacy Fridge"}]
[null,{"$f":"'All hospitals'!B146","v":"Wyalong Hospital"},{"$f":"'All hospitals'!C146","v":"West Wyalong"},{"$f":"'All hospitals'!E146","v":"02 6979 0000"},{"$f":"'All hospitals'!F146","v":"02 6979 0000"},{"$f":"'All hospitals'!AA146","v":0},{"$f":"'All hospitals'!AB146","v":"-"},{"$f":"'All hospitals'!AC146","v":" -"},{"$f":"'All hospitals'!AD146","v":" -"}]
[null,{"$f":"'All hospitals'!B147","v":"Young District Hospital"},{"$f":"'All hospitals'!C147","v":"Young"},{"$f":"'All hospitals'!E147","v":"02 6382 8888"},{"$f":"'All hospitals'!F147","v":"02 6382 8888"},{"$f":"'All hospitals'!AA147","v":2},{"$f":"'All hospitals'!AB147","v":"ED"},{"$f":"'All hospitals'!AC147","v":" -"},{"$f":"'All hospitals'!AD147","v":" -"}]
[null,{"$f":"'All hospitals'!B148","v":"-"},{"$f":"'All hospitals'!C148","v":"-"},{"$f":"'All hospitals'!E148","v":"-"},{"$f":"'All hospitals'!F148","v":"-"},{"$f":"'All hospitals'!AA148","v":"-"},{"$f":"'All hospitals'!AB148","v":"-"},{"$f":"'All hospitals'!AC148","v":"-"},{"$f":"'All hospitals'!AD148","v":"-"}]
[null,{"$f":"'All hospitals'!B149","v":"NEPEAN BLUE MOUNTAINS LHD & OTHER"}]
[null,{"$f":"'All hospitals'!B150","v":"Blue Mountains District Hospital "},{"$f":"'All hospitals'!C150","v":"Katoomba"},{"$f":"'All hospitals'!E150","v":"02 4784 6500"},{"$f":"'All hospitals'!F150","v":"0412 117 269"},{"$f":"'All hospitals'!AA150","v":0},{"$f":"'All hospitals'!AB150","v":" -"},{"$f":"'All hospitals'!AC150","v":" -"},{"$f":"'All hospitals'!AD150","v":" -"}]
[null,{"$f":"'All hospitals'!B151","v":"Hawkesbury District Health Service"},{"$f":"'All hospitals'!C151","v":"Windsor"},{"$f":"'All hospitals'!E151","v":"02 4560 5529"},{"$f":"'All hospitals'!F151","v":"02 4560 5555 (Ask for AHNM)"},{"$f":"'All hospitals'!AA151","v":4},{"$f":"'All hospitals'!AB151","v":"Pharmacy"},{"$f":"'All hospitals'!AC151","v":" -"},{"$f":"'All hospitals'!AD151","v":" -"}]
[null,{"$f":"'All hospitals'!B152","v":"Lithgow Hospital"},{"$f":"'All hospitals'!C152","v":"Lithgow"},{"$f":"'All hospitals'!E152","v":"02 6350 2370"},{"$f":"'All hospitals'!F152","v":"02 6350 2300 (switch)"},{"$f":"'All hospitals'!AA152","v":4},{"$f":"'All hospitals'!AB152","v":"ED"},{"$f":"'All hospitals'!AC152","v":" -"},{"$f":"'All hospitals'!AD152","v":" -"}]
[null,{"$f":"'All hospitals'!B153","v":"Nepean Hospital "},{"$f":"'All hospitals'!C153","v":"Penrith"},{"$f":"'All hospitals'!E153","v":"02 4734 2256"},{"$f":"'All hospitals'!F153","v":" 0412 235 766"},{"$f":"'All hospitals'!AA153","v":4},{"$f":"'All hospitals'!AB153","v":"ED-Resus"},{"$f":"'All hospitals'!AC153","v":2},{"$f":"'All hospitals'!AD153","v":"Main Pharmacy"}]
[null,{"$f":"'All hospitals'!B154","v":"-"},{"$f":"'All hospitals'!C154","v":"-"},{"$f":"'All hospitals'!E154","v":"-"},{"$f":"'All hospitals'!F154","v":"-"},{"$f":"'All hospitals'!AA154","v":"-"},{"$f":"'All hospitals'!AB154","v":"-"},{"$f":"'All hospitals'!AC154","v":"-"},{"$f":"'All hospitals'!AD154","v":"-"}]
[null,{"$f":"'All hospitals'!B155","v":"NORTHERN NSW LHD"}]
[null,{"$f":"'All hospitals'!B156","v":"Ballina Hospital "},{"$f":"'All hospitals'!C156","v":"Ballina"},{"$f":"'All hospitals'!E156","v":"02 6620 6400"},{"$f":"'All hospitals'!F156","v":"02 6620 6202"},{"$f":"'All hospitals'!AA156","v":3},{"$f":"'All hospitals'!AB156","v":"ED"},{"$f":"'All hospitals'!AC156","v":"-"},{"$f":"'All hospitals'!AD156","v":"-"}]
[null,{"$f":"'All hospitals'!B157","v":"Bonalbo Hospital "},{"$f":"'All hospitals'!C157","v":"Bonalbo"},{"$f":"'All hospitals'!E157","v":"02 6665 4100"},{"$f":"'All hospitals'!F157","v":"02 6665 4100"},{"$f":"'All hospitals'!AA157","v":0},{"$f":"'All hospitals'!AB157","v":"(ED - not re-stocking after expiry 04/2020)"},{"$f":"'All hospitals'!AC157","v":" -"},{"$f":"'All hospitals'!AD157","v":" -"}]
[null,{"$f":"'All hospitals'!B158","v":"Byron Central Hospital (Stock data TBC)"},{"$f":"'All hospitals'!C158","v":"Byron Bay"},{"$f":"'All hospitals'!E158","v":"02 6639 9400"},{"$f":"'All hospitals'!F158","v":"02 6639 9400"},{"$f":"'All hospitals'!AA158","v":0},{"$f":"'All hospitals'!AB158","v":"-"},{"$f":"'All hospitals'!AC158","v":" -"},{"$f":"'All hospitals'!AD158","v":" -"}]
[null,{"$f":"'All hospitals'!B159","v":"Casino Hospital"},{"$f":"'All hospitals'!C159","v":"Casino"},{"$f":"'All hospitals'!E159","v":"02 6660 0642"},{"$f":"'All hospitals'!F159","v":"02 6660 0642"},{"$f":"'All hospitals'!AA159","v":0},{"$f":"'All hospitals'!AB159","v":"-"},{"$f":"'All hospitals'!AC159","v":" -"},{"$f":"'All hospitals'!AD159","v":" -"}]
[null,{"$f":"'All hospitals'!B160","v":"Grafton Base Hospital (Stock data TBC)"},{"$f":"'All hospitals'!C160","v":"Grafton"},{"$f":"'All hospitals'!E160","v":"02 6640 2222"},{"$f":"'All hospitals'!F160","v":"02 6640 2299    "},{"$f":"'All hospitals'!AA160","v":12},{"$f":"'All hospitals'!AB160","v":"x 6 in ED & x6 in M ED"},{"$f":"'All hospitals'!AC160","v":" -"},{"$f":"'All hospitals'!AD160","v":" -"}]
[null,{"$f":"'All hospitals'!B161","v":"Kyogle Multi Purpose Service"},{"$f":"'All hospitals'!C161","v":"Kyogle"},{"$f":"'All hospitals'!E161","v":"02 6630 0400"},{"$f":"'All hospitals'!F161","v":"02 6630 0400"},{"$f":"'All hospitals'!AA161","v":0},{"$f":"'All hospitals'!AB161","v":" -"},{"$f":"'All hospitals'!AC161","v":" -"},{"$f":"'All hospitals'!AD161","v":" -"}]
[null,{"$f":"'All hospitals'!B162","v":"Lismore Base Hospital "},{"$f":"'All hospitals'!C162","v":"Lismore"},{"$f":"'All hospitals'!E162","v":"02 6624 0200"},{"$f":"'All hospitals'!F162","v":"02 6624 0200"},{"$f":"'All hospitals'!AA162","v":2},{"$f":"'All hospitals'!AB162","v":"ED resus"},{"$f":"'All hospitals'!AC162","v":"-"},{"$f":"'All hospitals'!AD162","v":"-"}]
[null,{"$f":"'All hospitals'!B163","v":"Maclean District Hospital (Stock data TBC)"},{"$f":"'All hospitals'!C163","v":"Maclean"},{"$f":"'All hospitals'!E163","v":"02 6640 0111"},{"$f":"'All hospitals'!F163","v":"02 6640 0111"},{"$f":"'All hospitals'!AA163","v":0},{"$f":"'All hospitals'!AB163","v":"ED"},{"$f":"'All hospitals'!AC163","v":" -"},{"$f":"'All hospitals'!AD163","v":" -"}]
[null,{"$f":"'All hospitals'!B164","v":"Murwillumbah District Hospital (Stock data TBC)"},{"$f":"'All hospitals'!C164","v":"Murwillumbah"},{"$f":"'All hospitals'!E164","v":"02 6672 0237"},{"$f":"'All hospitals'!F164","v":"02 6672 0230"},{"$f":"'All hospitals'!AA164","v":2},{"$f":"'All hospitals'!AB164","v":"ED"},{"$f":"'All hospitals'!AC164","v":" -"},{"$f":"'All hospitals'!AD164","v":" -"}]
[null,{"$f":"'All hospitals'!B165","v":"Nimbin Multi Purpose Service"},{"$f":"'All hospitals'!C165","v":"Nimbin"},{"$f":"'All hospitals'!E165","v":"02 6689 1400"},{"$f":"'All hospitals'!F165","v":"02 6689 1400"},{"$f":"'All hospitals'!AA165","v":0},{"$f":"'All hospitals'!AB165","v":" -"},{"$f":"'All hospitals'!AC165","v":" -"},{"$f":"'All hospitals'!AD165","v":" -"}]
[null,{"$f":"'All hospitals'!B166","v":"The Tweed Hospital"},{"$f":"'All hospitals'!C166","v":"Tweed Heads"},{"$f":"'All hospitals'!E166","v":"07 5506 7420"},{"$f":"'All hospitals'!F166","v":"07 5506 7667"},{"$f":"'All hospitals'!AA166","v":4},{"$f":"'All hospitals'!AB166","v":"ED Pyxis Fridge"},{"$f":"'All hospitals'!AC166","v":" -"},{"$f":"'All hospitals'!AD166","v":" -"}]
[null,{"$f":"'All hospitals'!B167","v":"Urbenville Multi Purpose Service "},{"$f":"'All hospitals'!C167","v":"Urbenville"},{"$f":"'All hospitals'!E167","v":"02 66341600"},{"$f":"'All hospitals'!F167","v":"02 66341600"},{"$f":"'All hospitals'!AA167","v":0},{"$f":"'All hospitals'!AB167","v":"(ED - not re-stocking after expiry 04/2020)"},{"$f":"'All hospitals'!AC167","v":0},{"$f":"'All hospitals'!AD167","v":" -"}]
[null,{"$f":"'All hospitals'!B168","v":"-"},{"$f":"'All hospitals'!C168","v":"-"},{"$f":"'All hospitals'!E168","v":"-"},{"$f":"'All hospitals'!F168","v":"-"},{"$f":"'All hospitals'!AA168","v":"-"},{"$f":"'All hospitals'!AB168","v":"-"},{"$f":"'All hospitals'!AC168","v":"-"},{"$f":"'All hospitals'!AD168","v":"-"}]
[null,{"$f":"'All hospitals'!B169","v":"NORTHERN SYDNEY LHD & OTHER"}]
[null,{"$f":"'All hospitals'!B170","v":"Hornsby Hospital"},{"$f":"'All hospitals'!C170","v":"Hornsby"},{"$f":"'All hospitals'!E170","v":"02 9485 6455"},{"$f":"'All hospitals'!F170","v":"02 9485 6600 (ED)"},{"$f":"'All hospitals'!AA170","v":3},{"$f":"'All hospitals'!AB170","v":"ED "},{"$f":"'All hospitals'!AC170","v":" -"},{"$f":"'All hospitals'!AD170","v":" -"}]
[null,{"$f":"'All hospitals'!B172","v":"Manly Hospital (closed 30th Oct 2018 - See Northern Beaches Health Service)"},{"$f":"'All hospitals'!C172","v":"-"},{"$f":"'All hospitals'!E172","v":"-"},{"$f":"'All hospitals'!F172","v":" -"},{"$f":"'All hospitals'!AA172","v":" -"},{"$f":"'All hospitals'!AB172","v":" -"},{"$f":"'All hospitals'!AC172","v":" -"},{"$f":"'All hospitals'!AD172","v":" -"}]
[null,{"$f":"'All hospitals'!B173","v":"Mona Vale Hospital (Subacute hospital overseen by Hornsby Hospital; some antivenoms available on imprest)"},{"$f":"'All hospitals'!C173","v":"Mona Vale "},{"$f":"'All hospitals'!E173","v":"02 9998 6040"},{"$f":"'All hospitals'!F173","v":"02 9998 6300"},{"$f":"'All hospitals'!AA173","v":2},{"$f":"'All hospitals'!AB173","v":"Urgent Care Centre"},{"$f":"'All hospitals'!AC173","v":" -"},{"$f":"'All hospitals'!AD173","v":" -"}]
[null,{"$f":"'All hospitals'!B174","v":"Northern Beaches Health Service (replaces Manly Hospital) "},{"$f":"'All hospitals'!C174","v":"Frenchs Forest"},{"$f":"'All hospitals'!E174","v":"02 9105 5000"},{"$f":"'All hospitals'!F174","v":"0490 124 164"},{"$f":"'All hospitals'!AA174","v":2},{"$f":"'All hospitals'!AB174","v":"ED fridge"},{"$f":"'All hospitals'!AC174","v":" -"},{"$f":"'All hospitals'!AD174","v":" -"}]
[null,{"$f":"'All hospitals'!B175","v":"Royal North Shore Hospital"},{"$f":"'All hospitals'!C175","v":"St Leonards"},{"$f":"'All hospitals'!E175","v":"02 9463 1140"},{"$f":"'All hospitals'!F175","v":"02 9926 7111 On-call pharmacist via switchboard"},{"$f":"'All hospitals'!AA175","v":2},{"$f":"'All hospitals'!AB175","v":"ED Resus Room"},{"$f":"'All hospitals'!AC175","v":" -"},{"$f":"'All hospitals'!AD175","v":" -"}]
[null,{"$f":"'All hospitals'!B176","v":"Ryde Hospital"},{"$f":"'All hospitals'!C176","v":"Eastwood"},{"$f":"'All hospitals'!E176","v":"02 9858 7888"},{"$f":"'All hospitals'!F176","v":"Oncall Pharmacist (0472 809 062) AHNM (0402 990 158)"},{"$f":"'All hospitals'!AA176","v":4},{"$f":"'All hospitals'!AB176","v":"ED"},{"$f":"'All hospitals'!AC176","v":" -"},{"$f":"'All hospitals'!AD176","v":" -"}]
[null,{"$f":"'All hospitals'!B171","v":0},{"$f":"'All hospitals'!C171","v":0},{"$f":"'All hospitals'!E171","v":0},{"$f":"'All hospitals'!F171","v":0},{"$f":"'All hospitals'!AA171","v":0},{"$f":"'All hospitals'!AB171","v":0},{"$f":"'All hospitals'!AC171","v":0},{"$f":"'All hospitals'!AD171","v":0}]
[null,{"$f":"'All hospitals'!B177","v":"-"},{"$f":"'All hospitals'!C177","v":"-"},{"$f":"'All hospitals'!E177","v":"-"},{"$f":"'All hospitals'!F177","v":"-"},{"$f":"'All hospitals'!AA177","v":"-"},{"$f":"'All hospitals'!AB177","v":"-"},{"$f":"'All hospitals'!AC177","v":"-"},{"$f":"'All hospitals'!AD177","v":"-"}]
[null,{"$f":"'All hospitals'!B178","v":"SOUTH EASTERN SYDNEY LHD"}]
[null,{"$f":"'All hospitals'!B179","v":"Calvary Hospital  (Stock data TBC)"},{"$f":"'All hospitals'!C179","v":"Kogarah"},{"$f":"'All hospitals'!E179","v":"-"},{"$f":"'All hospitals'!F179","v":"-"},{"$f":"'All hospitals'!AA179","v":"-"},{"$f":"'All hospitals'!AB179","v":"-"},{"$f":"'All hospitals'!AC179","v":"-"},{"$f":"'All hospitals'!AD179","v":"-"}]
[null,{"$f":"'All hospitals'!B180","v":"Prince of Wales Hospital "},{"$f":"'All hospitals'!C180","v":"Randwick, Sydney"},{"$f":"'All hospitals'!E180","v":"02 9382 2222"},{"$f":"'All hospitals'!F180","v":"oncall pharmacist via switchboard 02 9382 2222 "},{"$f":"'All hospitals'!AA180","v":3},{"$f":"'All hospitals'!AB180","v":"ED "},{"$f":"'All hospitals'!AC180","v":3},{"$f":"'All hospitals'!AD180","v":"Pharmacy"}]
[null,{"$f":"'All hospitals'!B181","v":"Royal Hospital for Women NO STOCKS HELD"},{"$f":"'All hospitals'!C181","v":"Sydney"},{"$f":"'All hospitals'!E181","v":"02 9382 6716"},{"$f":"'All hospitals'!F181","v":"02 9382 2222 on call pharmacist"},{"$f":"'All hospitals'!AA181","v":0},{"$f":"'All hospitals'!AB181","v":" -"},{"$f":"'All hospitals'!AC181","v":" -"},{"$f":"'All hospitals'!AD181","v":" -"}]
[null,{"$f":"'All hospitals'!B182","v":"St George Hospital"},{"$f":"'All hospitals'!C182","v":"Kogarah"},{"$f":"'All hospitals'!E182","v":"02 9113 3055"},{"$f":"'All hospitals'!F182","v":"Page AHNM via switchboard 02 9113 1111"},{"$f":"'All hospitals'!AA182","v":2},{"$f":"'All hospitals'!AB182","v":"ED resus"},{"$f":"'All hospitals'!AC182","v":" -"},{"$f":"'All hospitals'!AD182","v":" -"}]
[null,{"$f":"'All hospitals'!B183","v":"Sydney Hospital and Sydney Eye Hospital"},{"$f":"'All hospitals'!C183","v":"Sydney"},{"$f":"'All hospitals'!E183","v":"02 9382 7379"},{"$f":"'All hospitals'!F183","v":"02 9382 7111  ask for Emergency Department"},{"$f":"'All hospitals'!AA183","v":2},{"$f":"'All hospitals'!AB183","v":"ED"},{"$f":"'All hospitals'!AC183","v":" -"},{"$f":"'All hospitals'!AD183","v":" -"}]
[null,{"$f":"'All hospitals'!B184","v":"The Sutherland Hospital"},{"$f":"'All hospitals'!C184","v":"Sydney"},{"$f":"'All hospitals'!E184","v":"02 9540 7466 OR 02 9540 7467"},{"$f":"'All hospitals'!F184","v":"02 9540 7111"},{"$f":"'All hospitals'!AA184","v":5},{"$f":"'All hospitals'!AB184","v":"Pharmacy fridge 3"},{"$f":"'All hospitals'!AC184","v":"-"},{"$f":"'All hospitals'!AD184","v":"-"}]
[null,{"$f":"'All hospitals'!B185","v":"-"},{"$f":"'All hospitals'!C185","v":"-"},{"$f":"'All hospitals'!E185","v":"-"},{"$f":"'All hospitals'!F185","v":"-"},{"$f":"'All hospitals'!AA185","v":"-"},{"$f":"'All hospitals'!AB185","v":"-"},{"$f":"'All hospitals'!AC185","v":"-"},{"$f":"'All hospitals'!AD185","v":"-"}]
[null,{"$f":"'All hospitals'!B186","v":"SOUTH WESTERN SYDNEY LHD"}]
[null,{"$f":"'All hospitals'!B187","v":"Bankstown-Lidcombe Hospital"},{"$f":"'All hospitals'!C187","v":"Sydney"},{"$f":"'All hospitals'!E187","v":"02 9722 8000"},{"$f":"'All hospitals'!F187","v":"02 9722 8000"},{"$f":"'All hospitals'!AA187","v":2},{"$f":"'All hospitals'!AB187","v":"ED"},{"$f":"'All hospitals'!AC187","v":" -"},{"$f":"'All hospitals'!AD187","v":" -"}]
[null,{"$f":"'All hospitals'!B188","v":"Bowral District Hospital"},{"$f":"'All hospitals'!C188","v":"Bowral"},{"$f":"'All hospitals'!E188","v":"02 4861 0274"},{"$f":"'All hospitals'!F188","v":"02 4861 0199"},{"$f":"'All hospitals'!AA188","v":1},{"$f":"'All hospitals'!AB188","v":"Pharmacy"},{"$f":"'All hospitals'!AC188","v":" -"},{"$f":"'All hospitals'!AD188","v":" -"}]
[null,{"$f":"'All hospitals'!B189","v":"Camden Hospital "},{"$f":"'All hospitals'!C189","v":"Sydney"},{"$f":"'All hospitals'!E189","v":"02 4634 3000"},{"$f":"'All hospitals'!F189","v":"0408 662 394"},{"$f":"'All hospitals'!AA189","v":2},{"$f":"'All hospitals'!AB189","v":"ED"},{"$f":"'All hospitals'!AC189","v":" -"},{"$f":"'All hospitals'!AD189","v":" -"}]
[null,{"$f":"'All hospitals'!B190","v":"Campbelltown Hospital "},{"$f":"'All hospitals'!C190","v":"Sydney"},{"$f":"'All hospitals'!E190","v":"02 4634 3000"},{"$f":"'All hospitals'!F190","v":"0408 662 394"},{"$f":"'All hospitals'!AA190","v":2},{"$f":"'All hospitals'!AB190","v":"ED"},{"$f":"'All hospitals'!AC190","v":" -"},{"$f":"'All hospitals'!AD190","v":" -"}]
[null,{"$f":"'All hospitals'!B191","v":"Fairfield Hospital"},{"$f":"'All hospitals'!C191","v":"Fairfield"},{"$f":"'All hospitals'!E191","v":"02 9616 8322"},{"$f":"'All hospitals'!F191","v":"02 9616 8111"},{"$f":"'All hospitals'!AA191","v":3},{"$f":"'All hospitals'!AB191","v":"ED"},{"$f":"'All hospitals'!AC191","v":" -"},{"$f":"'All hospitals'!AD191","v":" -"}]
[null,{"$f":"'All hospitals'!B192","v":"Liverpool Hospital"},{"$f":"'All hospitals'!C192","v":"Sydney"},{"$f":"'All hospitals'!E192","v":"02 8738 3000"},{"$f":"'All hospitals'!F192","v":"02 8738 3000"},{"$f":"'All hospitals'!AA192","v":3},{"$f":"'All hospitals'!AB192","v":"ED"},{"$f":"'All hospitals'!AC192","v":2},{"$f":"'All hospitals'!AD192","v":"Pharmacy"}]
[null,{"$f":"'All hospitals'!B193","v":"-"},{"$f":"'All hospitals'!C193","v":"-"},{"$f":"'All hospitals'!E193","v":"-"},{"$f":"'All hospitals'!F193","v":"-"},{"$f":"'All hospitals'!AA193","v":"-"},{"$f":"'All hospitals'!AB193","v":"-"},{"$f":"'All hospitals'!AC193","v":"-"},{"$f":"'All hospitals'!AD193","v":"-"}]
[null,{"$f":"'All hospitals'!B194","v":"SOUTHERN NSW"}]
[null,{"$f":"'All hospitals'!B195","v":"Bateman's Bay District Hospital "},{"$f":"'All hospitals'!C195","v":"Bateman's Bay"},{"$f":"'All hospitals'!E195","v":"02 4475 1500"},{"$f":"'All hospitals'!F195","v":"0419 421 411"},{"$f":"'All hospitals'!AA195","v":2},{"$f":"'All hospitals'!AB195","v":"ED"},{"$f":"'All hospitals'!AC195","v":" -"},{"$f":"'All hospitals'!AD195","v":" -"}]
[null,{"$f":"'All hospitals'!B196","v":"South East Regional Hospital (SERH / Bega District Hospital)"},{"$f":"'All hospitals'!C196","v":"Bega"},{"$f":"'All hospitals'!E196","v":"02 6492 9111"},{"$f":"'All hospitals'!F196","v":"0419 421 411"},{"$f":"'All hospitals'!AA196","v":2},{"$f":"'All hospitals'!AB196","v":"ED "},{"$f":"'All hospitals'!AC196","v":1},{"$f":"'All hospitals'!AD196","v":"Pharmacy"}]
[null,{"$f":"'All hospitals'!B197","v":"Bombala Hospital "},{"$f":"'All hospitals'!C197","v":"Bombala"},{"$f":"'All hospitals'!E197","v":"02 6458 5777"},{"$f":"'All hospitals'!F197","v":"0419 421 411"},{"$f":"'All hospitals'!AA197","v":2},{"$f":"'All hospitals'!AB197","v":"Hospital Fridge"},{"$f":"'All hospitals'!AC197","v":" -"},{"$f":"'All hospitals'!AD197","v":" -"}]
[null,{"$f":"'All hospitals'!B198","v":"Braidwood Hospital "},{"$f":"'All hospitals'!C198","v":"Braidwood"},{"$f":"'All hospitals'!E198","v":"02 4842 2566"},{"$f":"'All hospitals'!F198","v":"0419 421 411"},{"$f":"'All hospitals'!AA198","v":2},{"$f":"'All hospitals'!AB198","v":"ED/general ward"},{"$f":"'All hospitals'!AC198","v":" -"},{"$f":"'All hospitals'!AD198","v":" -"}]
[null,{"$f":"'All hospitals'!B199","v":"Cooma District Hospital "},{"$f":"'All hospitals'!C199","v":"Cooma"},{"$f":"'All hospitals'!E199","v":"02 6455 3222"},{"$f":"'All hospitals'!F199","v":"0419 421 411"},{"$f":"'All hospitals'!AA199","v":2},{"$f":"'All hospitals'!AB199","v":"ED "},{"$f":"'All hospitals'!AC199","v":1},{"$f":"'All hospitals'!AD199","v":"Pharmacy"}]
[null,{"$f":"'All hospitals'!B200","v":"Crookwell District Hospital "},{"$f":"'All hospitals'!C200","v":"Crookwell NSW"},{"$f":"'All hospitals'!E200","v":"02 4832 1300"},{"$f":"'All hospitals'!F200","v":"0419 421 411"},{"$f":"'All hospitals'!AA200","v":1},{"$f":"'All hospitals'!AB200","v":"ED "},{"$f":"'All hospitals'!AC200","v":" -"},{"$f":"'All hospitals'!AD200","v":" -"}]
[null,{"$f":"'All hospitals'!B201","v":"Delegate Hospital "},{"$f":"'All hospitals'!C201","v":"Delegate"},{"$f":"'All hospitals'!E201","v":"02 6459 8000"},{"$f":"'All hospitals'!F201","v":"0419 421 411"},{"$f":"'All hospitals'!AA201","v":2},{"$f":"'All hospitals'!AB201","v":"ED Hospital Fridge"},{"$f":"'All hospitals'!AC201","v":" -"},{"$f":"'All hospitals'!AD201","v":" -"}]
[null,{"$f":"'All hospitals'!B202","v":"Goulburn Base Hospital "},{"$f":"'All hospitals'!C202","v":"Goulburn"},{"$f":"'All hospitals'!E202","v":"02 4827 3111"},{"$f":"'All hospitals'!F202","v":"02 4827 3111"},{"$f":"'All hospitals'!AA202","v":2},{"$f":"'All hospitals'!AB202","v":"ED "},{"$f":"'All hospitals'!AC202","v":0},{"$f":"'All hospitals'!AD202","v":" -"}]
[null,{"$f":"'All hospitals'!B203","v":"Moruya District Hospital "},{"$f":"'All hospitals'!C203","v":"Moruya"},{"$f":"'All hospitals'!E203","v":"02 4474 2666"},{"$f":"'All hospitals'!F203","v":"0419 421 411"},{"$f":"'All hospitals'!AA203","v":2},{"$f":"'All hospitals'!AB203","v":"ED"},{"$f":"'All hospitals'!AC203","v":2},{"$f":"'All hospitals'!AD203","v":"Pharmacy"}]
[null,{"$f":"'All hospitals'!B204","v":"Pambula District Hospital "},{"$f":"'All hospitals'!C204","v":"Pambula"},{"$f":"'All hospitals'!E204","v":"02 6495 8200"},{"$f":"'All hospitals'!F204","v":"0419 421 411"},{"$f":"'All hospitals'!AA204","v":2},{"$f":"'All hospitals'!AB204","v":"ED"},{"$f":"'All hospitals'!AC204","v":" -"},{"$f":"'All hospitals'!AD204","v":" -"}]
[null,{"$f":"'All hospitals'!B205","v":"Queanbeyan Hospital "},{"$f":"'All hospitals'!C205","v":"Queanbeyan"},{"$f":"'All hospitals'!E205","v":"02 6150 7000"},{"$f":"'All hospitals'!F205","v":"0419 421 411"},{"$f":"'All hospitals'!AA205","v":2},{"$f":"'All hospitals'!AB205","v":"ED "},{"$f":"'All hospitals'!AC205","v":1},{"$f":"'All hospitals'!AD205","v":"Pharmacy"}]
[null,{"$f":"'All hospitals'!B206","v":"Yass District Hospital "},{"$f":"'All hospitals'!C206","v":"Yass"},{"$f":"'All hospitals'!E206","v":"02 6220 2000"},{"$f":"'All hospitals'!F206","v":"0419 421 411"},{"$f":"'All hospitals'!AA206","v":1},{"$f":"'All hospitals'!AB206","v":"ED"},{"$f":"'All hospitals'!AC206","v":" -"},{"$f":"'All hospitals'!AD206","v":" -"}]
[null,{"$f":"'All hospitals'!B207","v":"-"},{"$f":"'All hospitals'!C207","v":"-"},{"$f":"'All hospitals'!E207","v":"-"},{"$f":"'All hospitals'!F207","v":"-"},{"$f":"'All hospitals'!AA207","v":"-"},{"$f":"'All hospitals'!AB207","v":"-"},{"$f":"'All hospitals'!AC207","v":"-"},{"$f":"'All hospitals'!AD207","v":"-"}]
[null,{"$f":"'All hospitals'!B208","v":"ST VINCENT'S HEALTH"}]
[null,{"$f":"'All hospitals'!B209","v":"St Vincent's Hospital"},{"$f":"'All hospitals'!C209","v":"Darlinghurst"},{"$f":"'All hospitals'!E209","v":"02 8282 2125"},{"$f":"'All hospitals'!F209","v":"02 8382 1111 (on call pharmacist via switchboard)"},{"$f":"'All hospitals'!AA209","v":0},{"$f":"'All hospitals'!AB209","v":" -"},{"$f":"'All hospitals'!AC209","v":" -"},{"$f":"'All hospitals'!AD209","v":" -"}]
[null,{"$f":"'All hospitals'!B210","v":"-"},{"$f":"'All hospitals'!C210","v":"-"},{"$f":"'All hospitals'!E210","v":"-"},{"$f":"'All hospitals'!F210","v":"-"},{"$f":"'All hospitals'!AA210","v":"-"},{"$f":"'All hospitals'!AB210","v":"-"},{"$f":"'All hospitals'!AC210","v":"-"},{"$f":"'All hospitals'!AD210","v":"-"}]
[null,{"$f":"'All hospitals'!B211","v":"SYDNEY LHD"}]
[null,{"$f":"'All hospitals'!B212","v":"Balmain Hospital (No ED services) NO STOCKS HELD"},{"$f":"'All hospitals'!C212","v":"Balmain"},{"$f":"'All hospitals'!E212","v":"02 9395 2111"},{"$f":"'All hospitals'!F212","v":" -"},{"$f":"'All hospitals'!AA212","v":" -"},{"$f":"'All hospitals'!AB212","v":" -"},{"$f":"'All hospitals'!AC212","v":" -"},{"$f":"'All hospitals'!AD212","v":" -"}]
[null,{"$f":"'All hospitals'!B213","v":"Canterbury Hospital "},{"$f":"'All hospitals'!C213","v":"Campsie"},{"$f":"'All hospitals'!E213","v":"02 9787 0219"},{"$f":"'All hospitals'!F213","v":"02 9787 0000"},{"$f":"'All hospitals'!AA213","v":2},{"$f":"'All hospitals'!AB213","v":"ED"},{"$f":"'All hospitals'!AC213","v":" -"},{"$f":"'All hospitals'!AD213","v":" -"}]
[null,{"$f":"'All hospitals'!B214","v":"Concord Hospital"},{"$f":"'All hospitals'!C214","v":"Concord"},{"$f":"'All hospitals'!E214","v":"02 9767 6214"},{"$f":"'All hospitals'!F214","v":"02 9767 5000"},{"$f":"'All hospitals'!AA214","v":4},{"$f":"'All hospitals'!AB214","v":"AHC"},{"$f":"'All hospitals'!AC214","v":" -"},{"$f":"'All hospitals'!AD214","v":" -"}]
[null,{"$f":"'All hospitals'!B215","v":"Royal Prince Alfred Hospital"},{"$f":"'All hospitals'!C215","v":"Camperdown"},{"$f":"'All hospitals'!E215","v":"02 9515 6111"},{"$f":"'All hospitals'!F215","v":"02 9515 6111"},{"$f":"'All hospitals'!AA215","v":2},{"$f":"'All hospitals'!AB215","v":"ED"},{"$f":"'All hospitals'!AC215","v":0},{"$f":"'All hospitals'!AD215","v":"Pharmacy"}]
[null,{"$f":"'All hospitals'!B216","v":"-"},{"$f":"'All hospitals'!C216","v":"-"},{"$f":"'All hospitals'!E216","v":"-"},{"$f":"'All hospitals'!F216","v":"-"},{"$f":"'All hospitals'!AA216","v":"-"},{"$f":"'All hospitals'!AB216","v":"-"},{"$f":"'All hospitals'!AC216","v":"-"},{"$f":"'All hospitals'!AD216","v":"-"}]
[null,{"$f":"'All hospitals'!B217","v":"SYDNEY CHILDREN'S HOSPITALS NETWORK"}]
[null,{"$f":"'All hospitals'!B218","v":"Sydney Children's Hospital Randwick (SCH) (see also stocks kept at Prince of Wales (adjacent hospital))"},{"$f":"'All hospitals'!C218","v":"Randwick"},{"$f":"'All hospitals'!E218","v":"02 9382 1111"},{"$f":"'All hospitals'!F218","v":"029382 2222  Pharmacist on call "},{"$f":"'All hospitals'!AA218","v":" -"},{"$f":"'All hospitals'!AB218","v":" -"},{"$f":"'All hospitals'!AC218","v":" -"},{"$f":"'All hospitals'!AD218","v":" -"}]
[null,{"$f":"'All hospitals'!B219","v":"The Children's Hospital Westmead (CHW)"},{"$f":"'All hospitals'!C219","v":"Westmead"},{"$f":"'All hospitals'!E219","v":"02 9845 0000"},{"$f":"'All hospitals'!F219","v":"02 9845 0000 (on call pharmacist via switchboard)"},{"$f":"'All hospitals'!AA219","v":4},{"$f":"'All hospitals'!AB219","v":"ED"},{"$f":"'All hospitals'!AC219","v":1},{"$f":"'All hospitals'!AD219","v":"Pharmacy"}]
[null,{"$f":"'All hospitals'!B220","v":" Newborn & Paediatric Emergency Transport Service (NETS)"},{"$f":"'All hospitals'!C220","v":"Bankstown Aerodrome"},{"$f":"'All hospitals'!E220","v":1300362730},{"$f":"'All hospitals'!F220","v":1300362730},{"$f":"'All hospitals'!AA220","v":"-"},{"$f":"'All hospitals'!AB220","v":"-"},{"$f":"'All hospitals'!AC220","v":"-"},{"$f":"'All hospitals'!AD220","v":"-"}]
[null,{"$f":"'All hospitals'!B221","v":"-"},{"$f":"'All hospitals'!C221","v":"-"},{"$f":"'All hospitals'!E221","v":"-"},{"$f":"'All hospitals'!F221","v":"-"},{"$f":"'All hospitals'!AA221","v":"-"},{"$f":"'All hospitals'!AB221","v":"-"},{"$f":"'All hospitals'!AC221","v":"-"},{"$f":"'All hospitals'!AD221","v":"-"}]
[null,{"$f":"'All hospitals'!B222","v":"WESTERN NSW LHD"}]
[null,{"$f":"'All hospitals'!B223","v":"Baradine Multi Purpose Service"},{"$f":"'All hospitals'!C223","v":"Baradine, NSW"},{"$f":"'All hospitals'!E223","v":"02 6843 1605"},{"$f":"'All hospitals'!F223","v":"02 6843 4100"},{"$f":"'All hospitals'!AA223","v":2},{"$f":"'All hospitals'!AB223","v":"Imprest Room Fridge"},{"$f":"'All hospitals'!AC223","v":" -"},{"$f":"'All hospitals'!AD223","v":" -"}]
[null,{"$f":"'All hospitals'!B224","v":"Bathurst Hospital"},{"$f":"'All hospitals'!C224","v":"Bathurst"},{"$f":"'All hospitals'!E224","v":"02 6330 5304"},{"$f":"'All hospitals'!F224","v":"02 6330 5308"},{"$f":"'All hospitals'!AA224","v":2},{"$f":"'All hospitals'!AB224","v":"After Hours Cupboard"},{"$f":"'All hospitals'!AC224","v":" -"},{"$f":"'All hospitals'!AD224","v":" -"}]
[null,{"$f":"'All hospitals'!B225","v":"Blayney Multi Purpose Service"},{"$f":"'All hospitals'!C225","v":"Blayney"},{"$f":"'All hospitals'!E225","v":"02 6368 9029 "},{"$f":"'All hospitals'!F225","v":"02 6368 9029 "},{"$f":"'All hospitals'!AA225","v":0},{"$f":"'All hospitals'!AB225","v":"-"},{"$f":"'All hospitals'!AC225","v":" -"},{"$f":"'All hospitals'!AD225","v":" -"}]
[null,{"$f":"'All hospitals'!B226","v":"Bourke Multi Purpose Service "},{"$f":"'All hospitals'!C226","v":"Bourke"},{"$f":"'All hospitals'!E226","v":"02 6870 8888"},{"$f":"'All hospitals'!F226","v":"02 6870 8888"},{"$f":"'All hospitals'!AA226","v":0},{"$f":"'All hospitals'!AB226","v":" -"},{"$f":"'All hospitals'!AC226","v":" -"},{"$f":"'All hospitals'!AD226","v":" -"}]
[null,{"$f":"'All hospitals'!B227","v":"Brewarrina Multi Purpose Service "},{"$f":"'All hospitals'!C227","v":"Brewarrina"},{"$f":"'All hospitals'!E227","v":"02 6830 5000"},{"$f":"'All hospitals'!F227","v":"02 6830 5000"},{"$f":"'All hospitals'!AA227","v":0},{"$f":"'All hospitals'!AB227","v":" -"},{"$f":"'All hospitals'!AC227","v":" -"},{"$f":"'All hospitals'!AD227","v":" -"}]
[null,{"$f":"'All hospitals'!B228","v":"Canowindra Soldiers Memorial Hospital (Stock data TBC)"},{"$f":"'All hospitals'!C228","v":"Canowindra"},{"$f":"'All hospitals'!E228","v":"02 6364 4300"},{"$f":"'All hospitals'!F228","v":"02 6340 3033"},{"$f":"'All hospitals'!AA228","v":1},{"$f":"'All hospitals'!AB228","v":"ED"},{"$f":"'All hospitals'!AC228","v":" -"},{"$f":"'All hospitals'!AD228","v":" -"}]
[null,{"$f":"'All hospitals'!B229","v":"Cobar District Hospital (Stock data TBC)"},{"$f":"'All hospitals'!C229","v":"Cobar"},{"$f":"'All hospitals'!E229","v":"02 6836 2406"},{"$f":"'All hospitals'!F229","v":"02 6830 2111"},{"$f":"'All hospitals'!AA229","v":0},{"$f":"'All hospitals'!AB229","v":" -"},{"$f":"'All hospitals'!AC229","v":" -"},{"$f":"'All hospitals'!AD229","v":" -"}]
[null,{"$f":"'All hospitals'!B230","v":"Collarenebri Multi Purpose Service "},{"$f":"'All hospitals'!C230","v":"Collarenebri"},{"$f":"'All hospitals'!E230","v":"02 6756 4800"},{"$f":"'All hospitals'!F230","v":"02 6756 4800"},{"$f":"'All hospitals'!AA230","v":1},{"$f":"'All hospitals'!AB230","v":"Ward Imprest Room Fridge"},{"$f":"'All hospitals'!AC230","v":" -"},{"$f":"'All hospitals'!AD230","v":" -"}]
[null,{"$f":"'All hospitals'!B231","v":"Condobolin District Hospital"},{"$f":"'All hospitals'!C231","v":"Condobolin"},{"$f":"'All hospitals'!E231","v":"02 6890 1500"},{"$f":"'All hospitals'!F231","v":"02 6890 1500"},{"$f":"'All hospitals'!AA231","v":2},{"$f":"'All hospitals'!AB231","v":"ED"},{"$f":"'All hospitals'!AC231","v":" -"},{"$f":"'All hospitals'!AD231","v":" -"}]
[null,{"$f":"'All hospitals'!B232","v":"Coolah Multi Purpose Service (Stock data TBC)"},{"$f":"'All hospitals'!C232","v":"Coolah"},{"$f":"'All hospitals'!E232","v":"02 6377 9100"},{"$f":"'All hospitals'!F232","v":"02 6377 9100"},{"$f":"'All hospitals'!AA232","v":2},{"$f":"'All hospitals'!AB232","v":"Ward Fridge-Antivenoms"},{"$f":"'All hospitals'!AC232","v":" -"},{"$f":"'All hospitals'!AD232","v":" -"}]
[null,{"$f":"'All hospitals'!B233","v":"Coonabarabran District Hospital"},{"$f":"'All hospitals'!C233","v":"Coonabarabran"},{"$f":"'All hospitals'!E233","v":"02 6849 1600"},{"$f":"'All hospitals'!F233","v":"02 6849 1600"},{"$f":"'All hospitals'!AA233","v":2},{"$f":"'All hospitals'!AB233","v":"Ward Imprest Room Fridge"},{"$f":"'All hospitals'!AC233","v":" -"},{"$f":"'All hospitals'!AD233","v":" -"}]
[null,{"$f":"'All hospitals'!B234","v":"Coonamble Multi Purpose Service (Stock data TBC)"},{"$f":"'All hospitals'!C234","v":"Coonamble"},{"$f":"'All hospitals'!E234","v":"02 6827 1100"},{"$f":"'All hospitals'!F234","v":"02 6827 1100"},{"$f":"'All hospitals'!AA234","v":2},{"$f":"'All hospitals'!AB234","v":"Ward Fridge-Antivenoms"},{"$f":"'All hospitals'!AC234","v":" -"},{"$f":"'All hospitals'!AD234","v":" -"}]
[null,{"$f":"'All hospitals'!B235","v":"Cowra Hospital (Stock data TBC)"},{"$f":"'All hospitals'!C235","v":"Cowra"},{"$f":"'All hospitals'!E235","v":"02 6340 9000"},{"$f":"'All hospitals'!F235","v":"02 6340 9000"},{"$f":"'All hospitals'!AA235","v":2},{"$f":"'All hospitals'!AB235","v":"ED"},{"$f":"'All hospitals'!AC235","v":1},{"$f":"'All hospitals'!AD235","v":"TBC"}]
[null,{"$f":"'All hospitals'!B236","v":"Cudal Health Service NO STOCKS HELD"},{"$f":"'All hospitals'!C236","v":"Cudal"},{"$f":"'All hospitals'!E236","v":"02 6392 3400"},{"$f":"'All hospitals'!F236","v":" -"},{"$f":"'All hospitals'!AA236","v":0},{"$f":"'All hospitals'!AB236","v":" -"},{"$f":"'All hospitals'!AC236","v":" -"},{"$f":"'All hospitals'!AD236","v":" -"}]
[null,{"$f":"'All hospitals'!B237","v":"Dubbo Base Hospital"},{"$f":"'All hospitals'!C237","v":"Dubbo"},{"$f":"'All hospitals'!E237","v":"02 6809 8150"},{"$f":"'All hospitals'!F237","v":"02 6809 6809"},{"$f":"'All hospitals'!AA237","v":1},{"$f":"'All hospitals'!AB237","v":"ED"},{"$f":"'All hospitals'!AC237","v":"8 + 2"},{"$f":"'All hospitals'!AD237","v":"x7 Pharmacy & x2 after hours cupboard "}]
[null,{"$f":"'All hospitals'!B238","v":"Dunedoo Multi Purpose Service (Stock data TBC)"},{"$f":"'All hospitals'!C238","v":"Dunedoo"},{"$f":"'All hospitals'!E238","v":"02 6375 1408"},{"$f":"'All hospitals'!F238","v":"02 6370 3000"},{"$f":"'All hospitals'!AA238","v":2},{"$f":"'All hospitals'!AB238","v":"Fridge-Antivenoms"},{"$f":"'All hospitals'!AC238","v":" -"},{"$f":"'All hospitals'!AD238","v":" -"}]
[null,{"$f":"'All hospitals'!B239","v":"Eugowra Multi Purpose Service (Stock data TBC)"},{"$f":"'All hospitals'!C239","v":"Eugowra"},{"$f":"'All hospitals'!E239","v":"02 6850 4000"},{"$f":"'All hospitals'!F239","v":"02 6850 4000"},{"$f":"'All hospitals'!AA239","v":0},{"$f":"'All hospitals'!AB239","v":" -"},{"$f":"'All hospitals'!AC239","v":" -"},{"$f":"'All hospitals'!AD239","v":" -"}]
[null,{"$f":"'All hospitals'!B240","v":"Forbes District Hospital "},{"$f":"'All hospitals'!C240","v":"Forbes"},{"$f":"'All hospitals'!E240","v":"02 6850 7100"},{"$f":"'All hospitals'!F240","v":"02 6850 7100"},{"$f":"'All hospitals'!AA240","v":2},{"$f":"'All hospitals'!AB240","v":"ED"},{"$f":"'All hospitals'!AC240","v":" -"},{"$f":"'All hospitals'!AD240","v":" -"}]
[null,{"$f":"'All hospitals'!B241","v":"Gilgandra Multi Purpose Service (Stock data TBC)"},{"$f":"'All hospitals'!C241","v":"Gilgandra"},{"$f":"'All hospitals'!E241","v":"02 6880 5900"},{"$f":"'All hospitals'!F241","v":"02 6880 5900"},{"$f":"'All hospitals'!AA241","v":0},{"$f":"'All hospitals'!AB241","v":" -"},{"$f":"'All hospitals'!AC241","v":" -"},{"$f":"'All hospitals'!AD241","v":" -"}]
[null,{"$f":"'All hospitals'!B242","v":"Goodooga Health Service "},{"$f":"'All hospitals'!C242","v":"Goodooga"},{"$f":"'All hospitals'!E242","v":"02 6829 5600"},{"$f":"'All hospitals'!F242","v":" - "},{"$f":"'All hospitals'!AA242","v":1},{"$f":"'All hospitals'!AB242","v":" Imprest Room Fridge"},{"$f":"'All hospitals'!AC242","v":" -"},{"$f":"'All hospitals'!AD242","v":" -"}]
[null,{"$f":"'All hospitals'!B243","v":"Grenfell Multi Purpose Service (Stock data TBC)"},{"$f":"'All hospitals'!C243","v":"Grenfell"},{"$f":"'All hospitals'!E243","v":"02 6349 1700"},{"$f":"'All hospitals'!F243","v":"02 6349 1700"},{"$f":"'All hospitals'!AA243","v":0},{"$f":"'All hospitals'!AB243","v":" -"},{"$f":"'All hospitals'!AC243","v":" -"},{"$f":"'All hospitals'!AD243","v":" -"}]
[null,{"$f":"'All hospitals'!B244","v":"Gulargambone NO STOCKS HELD"},{"$f":"'All hospitals'!C244","v":"Gulargambone"},{"$f":"'All hospitals'!E244","v":"02 6825 1201"},{"$f":"'All hospitals'!F244","v":"-"},{"$f":"'All hospitals'!AA244","v":0},{"$f":"'All hospitals'!AB244","v":" -"},{"$f":"'All hospitals'!AC244","v":" -"},{"$f":"'All hospitals'!AD244","v":" -"}]
[null,{"$f":"'All hospitals'!B245","v":"Gulgong Health Service "},{"$f":"'All hospitals'!C245","v":"Gulgong"},{"$f":"'All hospitals'!E245","v":"02 6374 3400"},{"$f":"'All hospitals'!F245","v":"02 6374 1200"},{"$f":"'All hospitals'!AA245","v":0},{"$f":"'All hospitals'!AB245","v":" - "},{"$f":"'All hospitals'!AC245","v":" -"},{"$f":"'All hospitals'!AD245","v":" -"}]
[null,{"$f":"'All hospitals'!B246","v":"Lightning Ridge Multi Purpose Service "},{"$f":"'All hospitals'!C246","v":"Lightning Ridge"},{"$f":"'All hospitals'!E246","v":"02 6820 5700"},{"$f":"'All hospitals'!F246","v":"02 6820 5700"},{"$f":"'All hospitals'!AA246","v":1},{"$f":"'All hospitals'!AB246","v":"Imprest Room Fridge"},{"$f":"'All hospitals'!AC246","v":" -"},{"$f":"'All hospitals'!AD246","v":" -"}]
[null,{"$f":"'All hospitals'!B247","v":"Molong Hospital (Stock data TBC)"},{"$f":"'All hospitals'!C247","v":"Molong"},{"$f":"'All hospitals'!E247","v":"02 6392 3300"},{"$f":"'All hospitals'!F247","v":" -"},{"$f":"'All hospitals'!AA247","v":2},{"$f":"'All hospitals'!AB247","v":"TBC - Fridge"},{"$f":"'All hospitals'!AC247","v":" -"},{"$f":"'All hospitals'!AD247","v":" -"}]
[null,{"$f":"'All hospitals'!B248","v":"Mudgee Hospital "},{"$f":"'All hospitals'!C248","v":"Mudgee"},{"$f":"'All hospitals'!E248","v":"02 6371 9751"},{"$f":"'All hospitals'!F248","v":"02 6371 9700"},{"$f":"'All hospitals'!AA248","v":0},{"$f":"'All hospitals'!AB248","v":" -"},{"$f":"'All hospitals'!AC248","v":0},{"$f":"'All hospitals'!AD248","v":" -"}]
[null,{"$f":"'All hospitals'!B249","v":"Narromine Health Service "},{"$f":"'All hospitals'!C249","v":"Narromine"},{"$f":"'All hospitals'!E249","v":"02 6889 9600"},{"$f":"'All hospitals'!F249","v":"02 6889 9600"},{"$f":"'All hospitals'!AA249","v":2},{"$f":"'All hospitals'!AB249","v":"Pharmacy Fridge "},{"$f":"'All hospitals'!AC249","v":" -"},{"$f":"'All hospitals'!AD249","v":" -"}]
[null,{"$f":"'All hospitals'!B250","v":"Nyngan Multi Purpose Service (Stock data TBC)"},{"$f":"'All hospitals'!C250","v":"Nyngan"},{"$f":"'All hospitals'!E250","v":"02 6832 1707"},{"$f":"'All hospitals'!F250","v":"02 6835 1700"},{"$f":"'All hospitals'!AA250","v":1},{"$f":"'All hospitals'!AB250","v":"ED"},{"$f":"'All hospitals'!AC250","v":" -"},{"$f":"'All hospitals'!AD250","v":" -"}]
[null,{"$f":"'All hospitals'!B251","v":"Oberon Multi Purpose Service"},{"$f":"'All hospitals'!C251","v":"Oberon"},{"$f":"'All hospitals'!E251","v":"02 6336 7200"},{"$f":"'All hospitals'!F251","v":"02 6336 7200"},{"$f":"'All hospitals'!AA251","v":0},{"$f":"'All hospitals'!AB251","v":" -"},{"$f":"'All hospitals'!AC251","v":" -"},{"$f":"'All hospitals'!AD251","v":" -"}]
[null,{"$f":"'All hospitals'!B252","v":"Orange Health Service "},{"$f":"'All hospitals'!C252","v":"Orange"},{"$f":"'All hospitals'!E252","v":"02 6369 3740"},{"$f":"'All hospitals'!F252","v":"02 6369 3222"},{"$f":"'All hospitals'!AA252","v":4},{"$f":"'All hospitals'!AB252","v":"ED"},{"$f":"'All hospitals'!AC252","v":10},{"$f":"'All hospitals'!AD252","v":"x 6 Pharmacy + x 4 After hours cupboard"}]
[null,{"$f":"'All hospitals'!B253","v":"Parkes District Hospital "},{"$f":"'All hospitals'!C253","v":"Parkes"},{"$f":"'All hospitals'!E253","v":"02 6861 2400"},{"$f":"'All hospitals'!F253","v":"02 6861 2440"},{"$f":"'All hospitals'!AA253","v":2},{"$f":"'All hospitals'!AB253","v":"ED"},{"$f":"'All hospitals'!AC253","v":" -"},{"$f":"'All hospitals'!AD253","v":" -"}]
[null,{"$f":"'All hospitals'!B254","v":"Peak Hill Multi Purpose Service "},{"$f":"'All hospitals'!C254","v":"Peak Hill"},{"$f":"'All hospitals'!E254","v":"02 6869 5200"},{"$f":"'All hospitals'!F254","v":"02 6869 5200"},{"$f":"'All hospitals'!AA254","v":2},{"$f":"'All hospitals'!AB254","v":"TBC - Fridge"},{"$f":"'All hospitals'!AC254","v":" -"},{"$f":"'All hospitals'!AD254","v":" -"}]
[null,{"$f":"'All hospitals'!B255","v":"Rylstone Multi Purpose Service "},{"$f":"'All hospitals'!C255","v":"Rylstone"},{"$f":"'All hospitals'!E255","v":"02 6357 6100"},{"$f":"'All hospitals'!F255","v":"02 6357 6100"},{"$f":"'All hospitals'!AA255","v":0},{"$f":"'All hospitals'!AB255","v":"ED fridge"},{"$f":"'All hospitals'!AC255","v":" -"},{"$f":"'All hospitals'!AD255","v":" -"}]
[null,{"$f":"'All hospitals'!B256","v":"Tottenham Multi Purpose Service "},{"$f":"'All hospitals'!C256","v":"Tottenham"},{"$f":"'All hospitals'!E256","v":"02 6891  6200"},{"$f":"'All hospitals'!F256","v":"02 6891  6200"},{"$f":"'All hospitals'!AA256","v":2},{"$f":"'All hospitals'!AB256","v":"Drug room vaccination fridge"},{"$f":"'All hospitals'!AC256","v":" -"},{"$f":"'All hospitals'!AD256","v":" -"}]
[null,{"$f":"'All hospitals'!B257","v":"Trangie Multi Purpose Service (Stock data TBC)"},{"$f":"'All hospitals'!C257","v":"Trangie"},{"$f":"'All hospitals'!E257","v":" -"},{"$f":"'All hospitals'!F257","v":"02 6880 8200"},{"$f":"'All hospitals'!AA257","v":0},{"$f":"'All hospitals'!AB257","v":" -"},{"$f":"'All hospitals'!AC257","v":" -"},{"$f":"'All hospitals'!AD257","v":" -"}]
[null,{"$f":"'All hospitals'!B258","v":"Trundle Multi Purpose Service "},{"$f":"'All hospitals'!C258","v":"Trundle"},{"$f":"'All hospitals'!E258","v":"02 6892 1900"},{"$f":"'All hospitals'!F258","v":"02 6892 1900"},{"$f":"'All hospitals'!AA258","v":2},{"$f":"'All hospitals'!AB258","v":"ED"},{"$f":"'All hospitals'!AC258","v":" -"},{"$f":"'All hospitals'!AD258","v":" -"}]
[null,{"$f":"'All hospitals'!B259","v":"Tullamore Multi Purpose Service "},{"$f":"'All hospitals'!C259","v":"Tullamore"},{"$f":"'All hospitals'!E259","v":"02 6892 6400"},{"$f":"'All hospitals'!F259","v":"02 6892 6400"},{"$f":"'All hospitals'!AA259","v":2},{"$f":"'All hospitals'!AB259","v":"TBC-Drug room vaccination fridge"},{"$f":"'All hospitals'!AC259","v":" -"},{"$f":"'All hospitals'!AD259","v":" -"}]
[null,{"$f":"'All hospitals'!B260","v":"Walgett District Hospital "},{"$f":"'All hospitals'!C260","v":"Walgett"},{"$f":"'All hospitals'!E260","v":"02 6817 9400"},{"$f":"'All hospitals'!F260","v":"02 6817 9400"},{"$f":"'All hospitals'!AA260","v":1},{"$f":"'All hospitals'!AB260","v":"TBC-Imprest Room Fridge"},{"$f":"'All hospitals'!AC260","v":" -"},{"$f":"'All hospitals'!AD260","v":" -"}]
[null,{"$f":"'All hospitals'!B261","v":"Wanaaring Health Service NO STOCKS HELD"},{"$f":"'All hospitals'!C261","v":"Wanaaring"},{"$f":"'All hospitals'!E261","v":"02 6874 7721"},{"$f":"'All hospitals'!F261","v":"02 6874 7721"},{"$f":"'All hospitals'!AA261","v":0},{"$f":"'All hospitals'!AB261","v":" -"},{"$f":"'All hospitals'!AC261","v":" -"},{"$f":"'All hospitals'!AD261","v":" -"}]
[null,{"$f":"'All hospitals'!B262","v":"Warren Multi Purpose Service (Stock data TBC)"},{"$f":"'All hospitals'!C262","v":"Warren"},{"$f":"'All hospitals'!E262","v":"02 6847 4303"},{"$f":"'All hospitals'!F262","v":"02 6847 5400"},{"$f":"'All hospitals'!AA262","v":1},{"$f":"'All hospitals'!AB262","v":"ED"},{"$f":"'All hospitals'!AC262","v":" -"},{"$f":"'All hospitals'!AD262","v":" -"}]
[null,{"$f":"'All hospitals'!B263","v":"Wellington Health Service"},{"$f":"'All hospitals'!C263","v":"Wellington"},{"$f":"'All hospitals'!E263","v":"02 6840 7200"},{"$f":"'All hospitals'!F263","v":"02 6840 8200"},{"$f":"'All hospitals'!AA263","v":1},{"$f":"'All hospitals'!AB263","v":"ED"},{"$f":"'All hospitals'!AC263","v":" -"},{"$f":"'All hospitals'!AD263","v":" -"}]
[null,{"$f":"'All hospitals'!B264","v":"-"},{"$f":"'All hospitals'!C264","v":"-"},{"$f":"'All hospitals'!E264","v":"-"},{"$f":"'All hospitals'!F264","v":"-"},{"$f":"'All hospitals'!AA264","v":"-"},{"$f":"'All hospitals'!AB264","v":"-"},{"$f":"'All hospitals'!AC264","v":"-"},{"$f":"'All hospitals'!AD264","v":"-"}]
[null,{"$f":"'All hospitals'!B265","v":"WESTERN SYDNEY LHD & OTHER"}]
[null,{"$f":"'All hospitals'!B266","v":"Auburn Hospital"},{"$f":"'All hospitals'!C266","v":"Auburn"},{"$f":"'All hospitals'!E266","v":"02 8759 3302"},{"$f":"'All hospitals'!F266","v":"02 8759 3000"},{"$f":"'All hospitals'!AA266","v":2},{"$f":"'All hospitals'!AB266","v":"After Hours Medication Room"},{"$f":"'All hospitals'!AC266","v":" -"},{"$f":"'All hospitals'!AD266","v":" -"}]
[null,{"$f":"'All hospitals'!B267","v":"Blacktown Hospital "},{"$f":"'All hospitals'!C267","v":"Blacktown"},{"$f":"'All hospitals'!E267","v":"02 9881 8142"},{"$f":"'All hospitals'!F267","v":"02 9881 8000 (afterhours nurse manager via switch)"},{"$f":"'All hospitals'!AA267","v":2},{"$f":"'All hospitals'!AB267","v":"ED Resus Fridge"},{"$f":"'All hospitals'!AC267","v":" -"},{"$f":"'All hospitals'!AD267","v":" -"}]
[null,{"$f":"'All hospitals'!B268","v":"Mount Druitt Hospital "},{"$f":"'All hospitals'!C268","v":"Mount Druitt NSW"},{"$f":"'All hospitals'!E268","v":"02 9881 1581"},{"$f":"'All hospitals'!F268","v":"02 9881 1555  (afterhours nurse manager via switch)"},{"$f":"'All hospitals'!AA268","v":2},{"$f":"'All hospitals'!AB268","v":"ED Resus Fridge "},{"$f":"'All hospitals'!AC268","v":" -"},{"$f":"'All hospitals'!AD268","v":" -"}]
[null,{"$f":"'All hospitals'!B269","v":"Westmead Hospital "},{"$f":"'All hospitals'!C269","v":"Westmead"},{"$f":"'All hospitals'!E269","v":"02 8890 5555"},{"$f":"'All hospitals'!F269","v":"02 8890 5555 (on call pharmacist via switch)"},{"$f":"'All hospitals'!AA269","v":4},{"$f":"'All hospitals'!AB269","v":"ED"},{"$f":"'All hospitals'!AC269","v":2},{"$f":"'All hospitals'!AD269","v":"Pharmacy Store"}]
[null,{"$f":"'All hospitals'!B270","v":"-"},{"$f":"'All hospitals'!C270","v":"-"},{"$f":"'All hospitals'!E270","v":"-"},{"$f":"'All hospitals'!F270","v":"-"},{"$f":"'All hospitals'!AA270","v":"-"},{"$f":"'All hospitals'!AB270","v":"-"},{"$f":"'All hospitals'!AC270","v":"-"},{"$f":"'All hospitals'!AD270","v":"-"}]
[null,{"$f":"'All hospitals'!B271","v":"PRIVATE HOSPITALS & OTHER"}]
[null,{"$f":"'All hospitals'!B272","v":"Macquarie University Hospital NO STOCKS HELD"},{"$f":"'All hospitals'!C272","v":"North Ryde"},{"$f":"'All hospitals'!E272","v":"02 98875500"},{"$f":"'All hospitals'!F272","v":"NA"},{"$f":"'All hospitals'!AA272","v":0},{"$f":"'All hospitals'!AB272","v":"-"},{"$f":"'All hospitals'!AC272","v":0},{"$f":"'All hospitals'!AD272","v":"-"}]
[null,{"$f":"'All hospitals'!B273","v":"Norwest Private Hospital (Stock data TBC)"},{"$f":"'All hospitals'!C273","v":"Bella Vista"},{"$f":"'All hospitals'!E273","v":"02 8882 8555"},{"$f":"'All hospitals'!F273","v":"02 8882 8555"},{"$f":"'All hospitals'!AA273","v":2},{"$f":"'All hospitals'!AB273","v":"ED"},{"$f":"'All hospitals'!AC273","v":"-"},{"$f":"'All hospitals'!AD273","v":"-"},null,"Back to Index","Back to 'All hospitals' tab"]

{"sheet":"Black snake","index":8,"n_rows":253,"n_cols":12,"rows_kept":253,"cut":false,"hidden":false,"merged":[[196,1,196,3],[201,1,201,3],[244,1,244,3],[157,1,157,3],[165,1,165,3],[173,1,173,3],[187,1,187,3],[190,1,190,3],[86,1,86,3],[95,1,95,3],[128,1,128,3],[134,1,134,3],[148,1,148,3],[14,1,14,3],[18,1,18,3],[22,1,22,3],[34,1,34,3],[74,1,74,3],[10,1,10,3],[3,1,3,8],[0,1,0,8],[2,1,2,8],[4,1,4,8],[6,1,6,4],[6,5,7,8],[7,1,9,1],[7,2,9,2],[7,3,9,3],[7,4,9,4],[8,5,9,5],[8,6,9,6],[8,7,9,7],[8,8,9,8]]}
[null,{"$f":"'All hospitals'!$B$1","v":"Last modified: 14/01/2021"}]
[]
[null,{"$f":"'All hospitals'!$AE$28","v":"BLACK SNAKE"}]
[null,"OTHER ANTIVENOM"]
[null,{"$f":"'All hospitals'!$AE$29","v":"Rarely used - tiger snake antivenom is recommended for red bellied black snake bites and polyvalent recommended for mulga snakes. Clinical toxicologist advice recommended. "},null,null,null,null,null,null,null,null,"Back to Index","Back to 'All hospitals' tab"]
[]
[null,"HOSPITAL DETAILS",null,null,null,"AVAILABILITY"]
[null,"Hospital name:\n\"Stock data TBC\" indicates that the hospital has not provided an update to the stockholding data.                                            ","Town/city","Phone number (business hours)","Phone number (after hours)"]
[null,null,null,null,null,"Number of vials","Location 1","Number of vials","Location 2"]
[]
[null,{"$f":"'All hospitals'!B31","v":"ACT"},null,null,null,null,null,null,null,null,"Click to jump to LHD or network"]
[null,{"$f":"'All hospitals'!B32","v":"Calvary Public Hospital "},{"$f":"'All hospitals'!C32","v":"Canberra"},{"$f":"'All hospitals'!E32","v":"02 6201 6265 "},{"$f":"'All hospitals'!F32","v":"0413 611 319"},{"$f":"'All hospitals'!AE32","v":0},{"$f":"'All hospitals'!AF32","v":" -"},{"$f":"'All hospitals'!AG32","v":" -"},{"$f":"'All hospitals'!AH32","v":" -"},null,"ACT"]
[null,{"$f":"'All hospitals'!B33","v":"The Canberra Hospital"},{"$f":"'All hospitals'!C33","v":"Canberra"},{"$f":"'All hospitals'!E33","v":"02 5124 0000"},{"$f":"'All hospitals'!F33","v":"0401 710 831"},{"$f":"'All hospitals'!AE33","v":1},{"$f":"'All hospitals'!AF33","v":"Pharmacy"},{"$f":"'All hospitals'!AG33","v":1},{"$f":"'All hospitals'!AH33","v":"ED "},null,"ALBURY WODONGA HEALTH"]
[null,{"$f":"'All hospitals'!B34","v":"-"},{"$f":"'All hospitals'!C34","v":"-"},{"$f":"'All hospitals'!E34","v":"-"},null,{"$f":"'All hospitals'!AE34","v":"-"},{"$f":"'All hospitals'!AF34","v":"-"},{"$f":"'All hospitals'!AG34","v":"-"},{"$f":"'All hospitals'!AH34","v":"-"},null,"CENTRAL COAST LHD"]
[null,{"$f":"'All hospitals'!B35","v":"ALBURY WODONGA HEALTH"},null,null,null,null,null,null,null,null,"FAR WEST LHD"]
[null,{"$f":"'All hospitals'!B36","v":"Albury Hospital"},{"$f":"'All hospitals'!C36","v":"Albury"},{"$f":"'All hospitals'!E36","v":"02 6058 4665"},{"$f":"'All hospitals'!F36","v":"02 6058 4444"},{"$f":"'All hospitals'!AE36","v":0},{"$f":"'All hospitals'!AF36","v":" -"},{"$f":"'All hospitals'!AG36","v":" -"},{"$f":"'All hospitals'!AH36","v":" -"},null,"HUNTER NEW ENGLAND LHD"]
[null,{"$f":"'All hospitals'!B37","v":"Wodonga Hospital"},{"$f":"'All hospitals'!C37","v":"Wodonga"},{"$f":"'All hospitals'!E37","v":"02 6051 7485"},{"$f":"'All hospitals'!F37","v":"02 6051 7111"},{"$f":"'All hospitals'!AE37","v":0},{"$f":"'All hospitals'!AF37","v":" -"},{"$f":"'All hospitals'!AG37","v":" -"},{"$f":"'All hospitals'!AH37","v":" -"},null,"ILLAWARRA SHOALHAVEN LHD"]
[null,{"$f":"'All hospitals'!B38","v":"-"},{"$f":"'All hospitals'!C38","v":"-"},{"$f":"'All hospitals'!E38","v":"-"},null,{"$f":"'All hospitals'!AE38","v":"-"},{"$f":"'All hospitals'!AF38","v":"-"},{"$f":"'All hospitals'!AG38","v":"-"},{"$f":"'All hospitals'!AH38","v":"-"},null,"MID NORTH COAST LHD"]
[null,"CENTRAL COAST LHD",null,null,null,null,null,null,null,null,"MURRUMBIDGEE LHD"]
[null,{"$f":"'All hospitals'!B40","v":"Gosford Hospital"},{"$f":"'All hospitals'!C40","v":"Gosford "},{"$f":"'All hospitals'!E40","v":"02 4320 2111"},{"$f":"'All hospitals'!F40","v":"02 4320 2111 (page on-call pharmacist)"},{"$f":"'All hospitals'!AE40","v":1},{"$f":"'All hospitals'!AF40","v":"ED"},{"$f":"'All hospitals'!AG40","v":1},{"$f":"'All hospitals'!AH40","v":"Pharmacy "},null,"NEPEAN BLUE MOUNTAINS LHD"]
[null,{"$f":"'All hospitals'!B41","v":"Wyong Hospital"},{"$f":"'All hospitals'!C41","v":"Wyong"},{"$f":"'All hospitals'!E41","v":"02 4394 7930"},{"$f":"'All hospitals'!F41","v":"02 4394 8000 (page on-call pharmacist)"},{"$f":"'All hospitals'!AE41","v":1},{"$f":"'All hospitals'!AF41","v":"ED "},{"$f":"'All hospitals'!AG41","v":2},{"$f":"'All hospitals'!AH41","v":"Pharmacy "},null,"NORTHERN NSW LHD"]
[null,{"$f":"'All hospitals'!B42","v":"-"},{"$f":"'All hospitals'!C42","v":"-"},{"$f":"'All hospitals'!E42","v":"-"},null,{"$f":"'All hospitals'!AE42","v":"-"},{"$f":"'All hospitals'!AF42","v":"-"},{"$f":"'All hospitals'!AG42","v":"-"},{"$f":"'All hospitals'!AH42","v":"-"},null,"NORTHERN SYDNEY LHD"]
[null,{"$f":"'All hospitals'!B43","v":"FAR WEST LHD"},null,null,null,null,null,null,null,null,"SOUTH EASTERN SYDNEY LHD"]
[null,{"$f":"'All hospitals'!B44","v":"Balranald Multi Purpose Service "},{"$f":"'All hospitals'!C44","v":"Balranald"},{"$f":"'All hospitals'!E44","v":"03 5071 9800"},{"$f":"'All hospitals'!F44","v":"03 5071 9800"},{"$f":"'All hospitals'!AE44","v":0},{"$f":"'All hospitals'!AF44","v":" -"},{"$f":"'All hospitals'!AG44","v":" -"},{"$f":"'All hospitals'!AH44","v":" -"},null,"SOUTH WESTERN SYDNEY LHD"]
[null,{"$f":"'All hospitals'!B45","v":"Broken Hill Health Service"},{"$f":"'All hospitals'!C45","v":"Broken Hill"},{"$f":"'All hospitals'!E45","v":"08 8080 1466  "},{"$f":"'All hospitals'!F45","v":"08 8080 1333 "},{"$f":"'All hospitals'!AE45","v":0},{"$f":"'All hospitals'!AF45","v":" - "},{"$f":"'All hospitals'!AG45","v":" -"},{"$f":"'All hospitals'!AH45","v":" -"},null,"SOUTHERN NSW"]
[null,{"$f":"'All hospitals'!B46","v":"Dareton Primary Health Service (No ED services)"},{"$f":"'All hospitals'!C46","v":"Dareton"},{"$f":"'All hospitals'!E46","v":"03 5021 7200"},{"$f":"'All hospitals'!F46","v":"BH only"},{"$f":"'All hospitals'!AE46","v":0},{"$f":"'All hospitals'!AF46","v":" -"},{"$f":"'All hospitals'!AG46","v":" -"},{"$f":"'All hospitals'!AH46","v":" -"},null,"ST VINCENT'S HEALTH"]
[null,{"$f":"'All hospitals'!B47","v":"Ivanhoe Health Service"},{"$f":"'All hospitals'!C47","v":"Ivanhoe"},{"$f":"'All hospitals'!E47","v":"02 6990 2200"},{"$f":"'All hospitals'!F47","v":"02 6990 2200"},{"$f":"'All hospitals'!AE47","v":0},{"$f":"'All hospitals'!AF47","v":" -"},{"$f":"'All hospitals'!AG47","v":" -"},{"$f":"'All hospitals'!AH47","v":" -"},null,"SYDNEY LHD"]
[null,{"$f":"'All hospitals'!B48","v":"Menindee Health Service "},{"$f":"'All hospitals'!C48","v":"Menindee"},{"$f":"'All hospitals'!E48","v":"08 8091 4209"},{"$f":"'All hospitals'!F48","v":"08 8091 4209"},{"$f":"'All hospitals'!AE48","v":0},{"$f":"'All hospitals'!AF48","v":" -"},{"$f":"'All hospitals'!AG48","v":" -"},{"$f":"'All hospitals'!AH48","v":" -"},null,"SYDNEY CHILDREN'S HOSPITALS NETWORK"]
[null,{"$f":"'All hospitals'!B49","v":"Royal Flying Doctor Service Broken Hill"},{"$f":"'All hospitals'!C49","v":"Broken Hill"},{"$f":"'All hospitals'!E49","v":"08 8080 3780"},{"$f":"'All hospitals'!F49","v":"0437 370 702"},{"$f":"'All hospitals'!AE49","v":0},{"$f":"'All hospitals'!AF49","v":" -"},{"$f":"'All hospitals'!AG49","v":" -"},{"$f":"'All hospitals'!AH49","v":" -"},null,"WESTERN NSW LHD"]
[null,{"$f":"'All hospitals'!B50","v":"Tibooburra Health Service"},{"$f":"'All hospitals'!C50","v":"Tibooburra"},{"$f":"'All hospitals'!E50","v":"08 8091 3302 "},{"$f":"'All hospitals'!F50","v":"08 8091 3302"},{"$f":"'All hospitals'!AE50","v":0},{"$f":"'All hospitals'!AF50","v":" -"},{"$f":"'All hospitals'!AG50","v":" -"},{"$f":"'All hospitals'!AH50","v":" -"},null,"WESTERN SYDNEY LHD & OTHER"]
[null,{"$f":"'All hospitals'!B51","v":"Wentworth District Hospital (No ED services)"},{"$f":"'All hospitals'!C51","v":"Wentworth"},{"$f":"'All hospitals'!E51","v":"03 5027 2345"},{"$f":"'All hospitals'!F51","v":"03 5027 2345"},{"$f":"'All hospitals'!AE51","v":0},{"$f":"'All hospitals'!AF51","v":" -"},{"$f":"'All hospitals'!AG51","v":" -"},{"$f":"'All hospitals'!AH51","v":" -"},null,"PRIVATE HOSPITALS & OTHER"]
[null,{"$f":"'All hospitals'!B52","v":"White Cliffs Health Service"},{"$f":"'All hospitals'!C52","v":"White Cliffs"},{"$f":"'All hospitals'!E52","v":"08 8091 6605 "},{"$f":"'All hospitals'!F52","v":"08 80916605"},{"$f":"'All hospitals'!AE52","v":0},{"$f":"'All hospitals'!AF52","v":" -"},{"$f":"'All hospitals'!AG52","v":" -"},{"$f":"'All hospitals'!AH52","v":" -"}]
[null,{"$f":"'All hospitals'!B53","v":"Wilcannia Multi Purpose Service"},{"$f":"'All hospitals'!C53","v":"Wilcannia"},{"$f":"'All hospitals'!E53","v":"08 8083 8777"},{"$f":"'All hospitals'!F53","v":"08 8083 8777"},{"$f":"'All hospitals'!AE53","v":0},{"$f":"'All hospitals'!AF53","v":" -"},{"$f":"'All hospitals'!AG53","v":" -"},{"$f":"'All hospitals'!AH53","v":" -"}]
[null,{"$f":"'All hospitals'!B54","v":"-"},{"$f":"'All hospitals'!C54","v":"-"},{"$f":"'All hospitals'!D54","v":"-"},{"$f":"'All hospitals'!E54","v":"-"},{"$f":"'All hospitals'!AE54","v":"-"},{"$f":"'All hospitals'!AF54","v":"-"},{"$f":"'All hospitals'!AG54","v":"-"},{"$f":"'All hospitals'!AH54","v":"-"}]
[null,{"$f":"'All hospitals'!B55","v":"HUNTER NEW ENGLAND LHD"}]
[null,{"$f":"'All hospitals'!B56","v":"Armidale Rural Referral Hospital"},{"$f":"'All hospitals'!C56","v":"Armidale"},{"$f":"'All hospitals'!E56","v":"02 6776 9500"},{"$f":"'All hospitals'!F56","v":"02 6776 9500     "},{"$f":"'All hospitals'!AE56","v":0},{"$f":"'All hospitals'!AF56","v":" -"},{"$f":"'All hospitals'!AG56","v":" -"},{"$f":"'All hospitals'!AH56","v":" -"}]
[null,{"$f":"'All hospitals'!B57","v":"Barraba Multi Purpose Service"},{"$f":"'All hospitals'!C57","v":"Barraba"},{"$f":"'All hospitals'!E57","v":"02 6782 2500"},{"$f":"'All hospitals'!F57","v":"02 6782 2522"},{"$f":"'All hospitals'!AE57","v":0},{"$f":"'All hospitals'!AF57","v":" -"},{"$f":"'All hospitals'!AG57","v":" -"},{"$f":"'All hospitals'!AH57","v":" -"}]
[null,{"$f":"'All hospitals'!B58","v":"Belmont Hospital "},{"$f":"'All hospitals'!C58","v":"Belmont"},{"$f":"'All hospitals'!E58","v":"02 4923 2249"},{"$f":"'All hospitals'!F58","v":"02 4923 2000"},{"$f":"'All hospitals'!AE58","v":0},{"$f":"'All hospitals'!AF58","v":" -"},{"$f":"'All hospitals'!AG58","v":" -"},{"$f":"'All hospitals'!AH58","v":" -"}]
[null,{"$f":"'All hospitals'!B59","v":"Bingara Multi Purpose Service"},{"$f":"'All hospitals'!C59","v":"Bingara"},{"$f":"'All hospitals'!E59","v":"02 6728 0100"},{"$f":"'All hospitals'!F59","v":"02 6728 0100"},{"$f":"'All hospitals'!AE59","v":0},{"$f":"'All hospitals'!AF59","v":" -"},{"$f":"'All hospitals'!AG59","v":" -"},{"$f":"'All hospitals'!AH59","v":" -"}]
[null,{"$f":"'All hospitals'!B60","v":"Boggabri Multi Purpose Service"},{"$f":"'All hospitals'!C60","v":"Boggabri"},{"$f":"'All hospitals'!E60","v":"02 6749 7000"},{"$f":"'All hospitals'!F60","v":"02 67497000"},{"$f":"'All hospitals'!AE60","v":0},{"$f":"'All hospitals'!AF60","v":" -"},{"$f":"'All hospitals'!AG60","v":" -"},{"$f":"'All hospitals'!AH60","v":" -"}]
[null,{"$f":"'All hospitals'!B61","v":"Bulahdelah Hospital NO STOCKS HELD"},{"$f":"'All hospitals'!C61","v":"Bulahdelah"},{"$f":"'All hospitals'!E61","v":"02 4987 9900"},{"$f":"'All hospitals'!F61","v":"02 4987 9900"},{"$f":"'All hospitals'!AE61","v":0},{"$f":"'All hospitals'!AF61","v":" -"},{"$f":"'All hospitals'!AG61","v":" -"},{"$f":"'All hospitals'!AH61","v":" -"}]
[null,{"$f":"'All hospitals'!B62","v":"Calvary Mater Hospital Newcastle "},{"$f":"'All hospitals'!C62","v":"Newcastle"},{"$f":"'All hospitals'!E62","v":"02 4921 1211"},{"$f":"'All hospitals'!F62","v":"02 4921 1211"},{"$f":"'All hospitals'!AE62","v":0},{"$f":"'All hospitals'!AF62","v":" -"},{"$f":"'All hospitals'!AG62","v":" -"},{"$f":"'All hospitals'!AH62","v":" -"}]
[null,{"$f":"'All hospitals'!B63","v":"Cessnock District Hospital"},{"$f":"'All hospitals'!C63","v":"Cessnock"},{"$f":"'All hospitals'!E63","v":"02 4991 0555(hospital)\n02 4991 0456(pharmacy)"},{"$f":"'All hospitals'!F63","v":"0438 212 862"},{"$f":"'All hospitals'!AE63","v":0},{"$f":"'All hospitals'!AF63","v":" -"},{"$f":"'All hospitals'!AG63","v":" -"},{"$f":"'All hospitals'!AH63","v":" -"}]
[null,{"$f":"'All hospitals'!B64","v":"Denman Multi Purpose Service (Stock data TBC)"},{"$f":"'All hospitals'!C64","v":"Denman"},{"$f":"'All hospitals'!E64","v":"02 6547 3999"},{"$f":"'All hospitals'!F64","v":"02 6547 3905 "},{"$f":"'All hospitals'!AE64","v":0},{"$f":"'All hospitals'!AF64","v":" -"},{"$f":"'All hospitals'!AG64","v":" -"},{"$f":"'All hospitals'!AH64","v":" -"}]
[null,{"$f":"'All hospitals'!B65","v":"Dungog Community Hospital"},{"$f":"'All hospitals'!C65","v":"Dungog"},{"$f":"'All hospitals'!E65","v":"02 4939 2226"},{"$f":"'All hospitals'!F65","v":"02 4992 1266"},{"$f":"'All hospitals'!AE65","v":0},{"$f":"'All hospitals'!AF65","v":" -"},{"$f":"'All hospitals'!AG65","v":" -"},{"$f":"'All hospitals'!AH65","v":" -"}]
[null,{"$f":"'All hospitals'!B66","v":"Glen Innes District Hospital "},{"$f":"'All hospitals'!C66","v":"Glen Innes"},{"$f":"'All hospitals'!E66","v":"02 6739 0200"},{"$f":"'All hospitals'!F66","v":"02 6739 0200"},{"$f":"'All hospitals'!AE66","v":0},{"$f":"'All hospitals'!AF66","v":" -"},{"$f":"'All hospitals'!AG66","v":" -"},{"$f":"'All hospitals'!AH66","v":" -"}]
[null,{"$f":"'All hospitals'!B67","v":"Gloucester Soldiers Memorial Hospital (Stock data TBC)"},{"$f":"'All hospitals'!C67","v":"Gloucester"},{"$f":"'All hospitals'!E67","v":"02 6538 5000"},{"$f":"'All hospitals'!F67","v":"02 6538 5000"},{"$f":"'All hospitals'!AE67","v":0},{"$f":"'All hospitals'!AF67","v":" -"},{"$f":"'All hospitals'!AG67","v":" -"},{"$f":"'All hospitals'!AH67","v":" -"}]
[null,{"$f":"'All hospitals'!B68","v":"Gunnedah Hospital"},{"$f":"'All hospitals'!C68","v":"Gunnedah"},{"$f":"'All hospitals'!E68","v":"02 6741 8000"},{"$f":"'All hospitals'!F68","v":"02 6741 8031"},{"$f":"'All hospitals'!AE68","v":0},{"$f":"'All hospitals'!AF68","v":"-"},{"$f":"'All hospitals'!AG68","v":"-"},{"$f":"'All hospitals'!AH68","v":"-"}]
[null,{"$f":"'All hospitals'!B69","v":"Guyra Multi Purpose Service "},{"$f":"'All hospitals'!C69","v":"Guyra"},{"$f":"'All hospitals'!E69","v":"02 6738 4000"},{"$f":"'All hospitals'!F69","v":"02 6738 4000"},{"$f":"'All hospitals'!AE69","v":0},{"$f":"'All hospitals'!AF69","v":" -"},{"$f":"'All hospitals'!AG69","v":" -"},{"$f":"'All hospitals'!AH69","v":" -"}]
[null,{"$f":"'All hospitals'!B70","v":"Inverell Hospital "},{"$f":"'All hospitals'!C70","v":"Inverell"},{"$f":"'All hospitals'!E70","v":"02 6721 9500"},{"$f":"'All hospitals'!F70","v":"02 6721 9540"},{"$f":"'All hospitals'!AE70","v":0},{"$f":"'All hospitals'!AF70","v":" -"},{"$f":"'All hospitals'!AG70","v":" -"},{"$f":"'All hospitals'!AH70","v":" -"}]
[null,{"$f":"'All hospitals'!B71","v":"John Hunter Hospital "},{"$f":"'All hospitals'!C71","v":"Newcastle"},{"$f":"'All hospitals'!E71","v":"02 4921 3635"},{"$f":"'All hospitals'!F71","v":"0408 263 586"},{"$f":"'All hospitals'!AE71","v":0},{"$f":"'All hospitals'!AF71","v":"-"},{"$f":"'All hospitals'!AG71","v":"-"},{"$f":"'All hospitals'!AH71","v":"-"}]
[null,{"$f":"'All hospitals'!B72","v":"Kurri Kurri Hospital"},{"$f":"'All hospitals'!C72","v":"Kurri Kurri"},{"$f":"'All hospitals'!E72","v":"02 4936 3234"},{"$f":"'All hospitals'!F72","v":"02 4936 3200"},{"$f":"'All hospitals'!AE72","v":0},{"$f":"'All hospitals'!AF72","v":" -"},{"$f":"'All hospitals'!AG72","v":" -"},{"$f":"'All hospitals'!AH72","v":" -"}]
[null,{"$f":"'All hospitals'!B73","v":"Manning Base Hospital"},{"$f":"'All hospitals'!C73","v":"Taree"},{"$f":"'All hospitals'!E73","v":"02 6592 9244"},{"$f":"'All hospitals'!F73","v":"02 6592 9014"},{"$f":"'All hospitals'!AE73","v":0},{"$f":"'All hospitals'!AF73","v":"-"},{"$f":"'All hospitals'!AG73","v":" -"},{"$f":"'All hospitals'!AH73","v":" -"}]
[null,{"$f":"'All hospitals'!B74","v":"Manilla Hospital"},{"$f":"'All hospitals'!C74","v":"Manilla"},{"$f":"'All hospitals'!E74","v":"02 6785 4000"},{"$f":"'All hospitals'!F74","v":"02 6785 4000"},{"$f":"'All hospitals'!AE74","v":0},{"$f":"'All hospitals'!AF74","v":" -"},{"$f":"'All hospitals'!AG74","v":" -"},{"$f":"'All hospitals'!AH74","v":" -"}]
[null,{"$f":"'All hospitals'!B75","v":"Merriwa Multi Purpose Service (Stock data TBC)"},{"$f":"'All hospitals'!C75","v":"Merriwa"},{"$f":"'All hospitals'!E75","v":"02 6532 5000"},{"$f":"'All hospitals'!F75","v":"02 6532 5000"},{"$f":"'All hospitals'!AE75","v":0},{"$f":"'All hospitals'!AF75","v":" -"},{"$f":"'All hospitals'!AG75","v":" -"},{"$f":"'All hospitals'!AH75","v":" -"}]
[null,{"$f":"'All hospitals'!B76","v":"Moree Hospital "},{"$f":"'All hospitals'!C76","v":"Moree"},{"$f":"'All hospitals'!E76","v":"02 6757 0031"},{"$f":"'All hospitals'!F76","v":"02 6757 0031"},{"$f":"'All hospitals'!AE76","v":1},{"$f":"'All hospitals'!AF76","v":"ED"},{"$f":"'All hospitals'!AG76","v":"-"},{"$f":"'All hospitals'!AH76","v":"-"}]
[null,{"$f":"'All hospitals'!B77","v":"Muswellbrook Hospital (Stock data TBC)"},{"$f":"'All hospitals'!C77","v":"Muswellbrook"},{"$f":"'All hospitals'!E77","v":"02 6542 2000"},{"$f":"'All hospitals'!F77","v":"02 6542 2000"},{"$f":"'All hospitals'!AE77","v":0},{"$f":"'All hospitals'!AF77","v":" -"},{"$f":"'All hospitals'!AG77","v":" -"},{"$f":"'All hospitals'!AH77","v":"-"}]
[null,{"$f":"'All hospitals'!B78","v":"Narrabri Hospital"},{"$f":"'All hospitals'!C78","v":"Narrabri"},{"$f":"'All hospitals'!E78","v":"02 6799 2800"},{"$f":"'All hospitals'!F78","v":"02 6799 2105"},{"$f":"'All hospitals'!AE78","v":1},{"$f":"'All hospitals'!AF78","v":"ED"},{"$f":"'All hospitals'!AG78","v":"-"},{"$f":"'All hospitals'!AH78","v":"-"}]
[null,{"$f":"'All hospitals'!B79","v":"Quirindi Hospital"},{"$f":"'All hospitals'!C79","v":"Quirindi"},{"$f":"'All hospitals'!E79","v":"02 6746 0200"},{"$f":"'All hospitals'!F79","v":"02 6746 0200"},{"$f":"'All hospitals'!AE79","v":0},{"$f":"'All hospitals'!AF79","v":" -"},{"$f":"'All hospitals'!AG79","v":" -"},{"$f":"'All hospitals'!AH79","v":" -"}]
[null,{"$f":"'All hospitals'!B80","v":"Scott Memorial Hospital (Stock data TBC)"},{"$f":"'All hospitals'!C80","v":"Scone"},{"$f":"'All hospitals'!E80","v":"02 6540 2100"},{"$f":"'All hospitals'!F80","v":"02 6540 2100"},{"$f":"'All hospitals'!AE80","v":0},{"$f":"'All hospitals'!AF80","v":" -"},{"$f":"'All hospitals'!AG80","v":" -"},{"$f":"'All hospitals'!AH80","v":" -"}]
[null,{"$f":"'All hospitals'!B81","v":"Singleton District Hospital (Stock data TBC)"},{"$f":"'All hospitals'!C81","v":"Singleton"},{"$f":"'All hospitals'!E81","v":"02 6571 9222"},{"$f":"'All hospitals'!F81","v":"02 6571 9222"},{"$f":"'All hospitals'!AE81","v":0},{"$f":"'All hospitals'!AF81","v":" -"},{"$f":"'All hospitals'!AG81","v":" -"},{"$f":"'All hospitals'!AH81","v":" -"}]
[null,{"$f":"'All hospitals'!B82","v":"Tamworth Rural Referral Hospital "},{"$f":"'All hospitals'!C82","v":"Tamworth"},{"$f":"'All hospitals'!E82","v":"02 6727 7370 "},{"$f":"'All hospitals'!F82","v":"02 6767 7700"},{"$f":"'All hospitals'!AE82","v":1},{"$f":"'All hospitals'!AF82","v":"ED Resus"},{"$f":"'All hospitals'!AG82","v":1},{"$f":"'All hospitals'!AH82","v":"Pharmacy"}]
[null,{"$f":"'All hospitals'!B83","v":"Tenterfield/Prince Albert Hospital "},{"$f":"'All hospitals'!C83","v":"Tenterfield"},{"$f":"'All hospitals'!E83","v":"02 6739 5200"},{"$f":"'All hospitals'!F83","v":"02 6739 5200"},{"$f":"'All hospitals'!AE83","v":0},{"$f":"'All hospitals'!AF83","v":" -"},{"$f":"'All hospitals'!AG83","v":" -"},{"$f":"'All hospitals'!AH83","v":" -"}]
[null,{"$f":"'All hospitals'!B84","v":"The Maitland Hospital"},{"$f":"'All hospitals'!C84","v":"Maitland"},{"$f":"'All hospitals'!E84","v":"02 4939 2226"},{"$f":"'All hospitals'!F84","v":"02 4939 2000"},{"$f":"'All hospitals'!AE84","v":0},{"$f":"'All hospitals'!AF84","v":" -"},{"$f":"'All hospitals'!AG84","v":" -"},{"$f":"'All hospitals'!AH84","v":" -"}]
[null,{"$f":"'All hospitals'!B85","v":"Tingha Multi Purpose Service NO STOCKS HELD"},{"$f":"'All hospitals'!C85","v":"Tingha"},{"$f":"'All hospitals'!E85","v":"02 6723 3900"},{"$f":"'All hospitals'!F85","v":"02 6723 9000"},{"$f":"'All hospitals'!AE85","v":0},{"$f":"'All hospitals'!AF85","v":" -"},{"$f":"'All hospitals'!AG85","v":" -"},{"$f":"'All hospitals'!AH85","v":" -"}]
[null,{"$f":"'All hospitals'!B86","v":"Tomaree Community Hospital (Stock data TBC)"},{"$f":"'All hospitals'!C86","v":"Tomaree"},{"$f":"'All hospitals'!E86","v":"02 4923 2249"},{"$f":"'All hospitals'!F86","v":"02 4923 2000"},{"$f":"'All hospitals'!AE86","v":0},{"$f":"'All hospitals'!AF86","v":" -"},{"$f":"'All hospitals'!AG86","v":" -"},{"$f":"'All hospitals'!AH86","v":" -"}]
[null,{"$f":"'All hospitals'!B87","v":"Vegetable Creek Multipurpose Service"},{"$f":"'All hospitals'!C87","v":"Emmaville"},{"$f":"'All hospitals'!E87","v":"02 6734  7900"},{"$f":"'All hospitals'!F87","v":"02 6734 7900"},{"$f":"'All hospitals'!AE87","v":0},{"$f":"'All hospitals'!AF87","v":" -"},{"$f":"'All hospitals'!AG87","v":" -"},{"$f":"'All hospitals'!AH87","v":" -"}]
[null,{"$f":"'All hospitals'!B88","v":"Walcha Multi Purpose Service "},{"$f":"'All hospitals'!C88","v":"Walcha"},{"$f":"'All hospitals'!E88","v":"02 6777 4200"},{"$f":"'All hospitals'!F88","v":"02 6777 4200"},{"$f":"'All hospitals'!AE88","v":0},{"$f":"'All hospitals'!AF88","v":" -"},{"$f":"'All hospitals'!AG88","v":" -"},{"$f":"'All hospitals'!AH88","v":" -"}]
[null,{"$f":"'All hospitals'!B89","v":"Warialda Multi Purpose Service "},{"$f":"'All hospitals'!C89","v":"Warialda"},{"$f":"'All hospitals'!E89","v":"02 6728 9000"},{"$f":"'All hospitals'!F89","v":"0428 753 175"},{"$f":"'All hospitals'!AE89","v":0},{"$f":"'All hospitals'!AF89","v":"-"},{"$f":"'All hospitals'!AG89","v":"-"},{"$f":"'All hospitals'!AH89","v":"-"}]
[null,{"$f":"'All hospitals'!B90","v":"Wee Waa Community Hospital"},{"$f":"'All hospitals'!C90","v":"Wee Waa"},{"$f":"'All hospitals'!E90","v":"02 6795 0400"},{"$f":"'All hospitals'!F90","v":"02 6795 0400"},{"$f":"'All hospitals'!AE90","v":0},{"$f":"'All hospitals'!AF90","v":"-"},{"$f":"'All hospitals'!AG90","v":"-"},{"$f":"'All hospitals'!AH90","v":"-"}]
[null,{"$f":"'All hospitals'!B91","v":"Werris Creek Multi Purpose Service NO STOCKS HELD"},{"$f":"'All hospitals'!C91","v":"Werris Creek"},{"$f":"'All hospitals'!E91","v":"02 6768 6600"},{"$f":"'All hospitals'!F91","v":"02 6768 6600"},{"$f":"'All hospitals'!AE91","v":0},{"$f":"'All hospitals'!AF91","v":" -"},{"$f":"'All hospitals'!AG91","v":" -"},{"$f":"'All hospitals'!AH91","v":" -"}]
[null,{"$f":"'All hospitals'!B92","v":"Westpac Rescue Helicopter Service"},{"$f":"'All hospitals'!C92","v":"Belmont Helicopter Base"},{"$f":"'All hospitals'!E92","v":"02 4952 0000"},{"$f":"'All hospitals'!F92","v":"02 4952 0055"},{"$f":"'All hospitals'!AE92","v":0},{"$f":"'All hospitals'!AF92","v":" -"},{"$f":"'All hospitals'!AG92","v":" -"},{"$f":"'All hospitals'!AH92","v":" -"}]
[null,{"$f":"'All hospitals'!B93","v":"Wilson Memorial Hospital - Murrurundi (Stock data TBC)"},{"$f":"'All hospitals'!C93","v":"Murrurundi"},{"$f":"'All hospitals'!E93","v":"02 6546 9000"},{"$f":"'All hospitals'!F93","v":"02 6546 9000"},{"$f":"'All hospitals'!AE93","v":0},{"$f":"'All hospitals'!AF93","v":" -"},{"$f":"'All hospitals'!AG93","v":" -"},{"$f":"'All hospitals'!AH93","v":" -"}]
[null,{"$f":"'All hospitals'!B94","v":"-"},{"$f":"'All hospitals'!C94","v":"-"},{"$f":"'All hospitals'!E94","v":"-"},null,{"$f":"'All hospitals'!AE94","v":"-"},{"$f":"'All hospitals'!AF94","v":"-"},{"$f":"'All hospitals'!AG94","v":"-"},{"$f":"'All hospitals'!AH94","v":"-"}]
[null,{"$f":"'All hospitals'!B95","v":"ILLAWARRA SHOALHAVEN LHD"}]
[null,{"$f":"'All hospitals'!B96","v":"Bulli Hospital NO STOCKS HELD"},{"$f":"'All hospitals'!C96","v":"Bulli"},{"$f":"'All hospitals'!E96","v":"02 4284 4344"},{"$f":"'All hospitals'!F96","v":"02 4222 5000 (request Wollongong Hospital on-call pharmacist)"},{"$f":"'All hospitals'!AE96","v":0},{"$f":"'All hospitals'!AF96","v":" -"},{"$f":"'All hospitals'!AG96","v":" -"},{"$f":"'All hospitals'!AH96","v":" -"}]
[null,{"$f":"'All hospitals'!B97","v":"Coledale Hospital NO STOCKS HELD"},{"$f":"'All hospitals'!C97","v":"Thirroul"},{"$f":"'All hospitals'!E97","v":"02 4267 0111"},{"$f":"'All hospitals'!F97","v":"02 4222 5000 (request Wollongong Hospital on-call pharmacist)"},{"$f":"'All hospitals'!AE97","v":" -"},{"$f":"'All hospitals'!AF97","v":" -"},{"$f":"'All hospitals'!AG97","v":" -"},{"$f":"'All hospitals'!AH97","v":" -"}]
[null,{"$f":"'All hospitals'!B98","v":"David Berry Hospital NO STOCKS HELD"},{"$f":"'All hospitals'!C98","v":"Berry"},{"$f":"'All hospitals'!E98","v":"02 4464 1001"},{"$f":"'All hospitals'!F98","v":" -"},{"$f":"'All hospitals'!AE98","v":" -"},{"$f":"'All hospitals'!AF98","v":" -"},{"$f":"'All hospitals'!AG98","v":" -"},{"$f":"'All hospitals'!AH98","v":" -"}]
[null,{"$f":"'All hospitals'!B99","v":"Kiama Hospital & Community Health Service NO STOCKS HELD"},{"$f":"'All hospitals'!C99","v":"Kiama"},{"$f":"'All hospitals'!E99","v":"02 4233 1033"},{"$f":"'All hospitals'!F99","v":" -"},{"$f":"'All hospitals'!AE99","v":" -"},{"$f":"'All hospitals'!AF99","v":" -"},{"$f":"'All hospitals'!AG99","v":" -"},{"$f":"'All hospitals'!AH99","v":" -"}]
[null,{"$f":"'All hospitals'!B100","v":"Milton Ulladulla Hospital"},{"$f":"'All hospitals'!C100","v":"Milton"},{"$f":"'All hospitals'!E100","v":"02 4454 9100"},{"$f":"'All hospitals'!F100","v":"02 4454 9133 (ED)"},{"$f":"'All hospitals'!AE100","v":0},{"$f":"'All hospitals'!AF100","v":" -"},{"$f":"'All hospitals'!AG100","v":" -"},{"$f":"'All hospitals'!AH100","v":" -"}]
[null,{"$f":"'All hospitals'!B274","v":0},{"$f":"'All hospitals'!C274","v":0},{"$f":"'All hospitals'!E274","v":0},{"$f":"'All hospitals'!F274","v":0},{"$f":"'All hospitals'!AE274","v":0},{"$f":"'All hospitals'!AF274","v":0},{"$f":"'All hospitals'!AG274","v":0},{"$f":"'All hospitals'!AH274","v":0}]
[null,{"$f":"'All hospitals'!B102","v":"Port Kembla Hospital - NO STOCKS HELD"},{"$f":"'All hospitals'!C102","v":"Warrawong"},{"$f":"'All hospitals'!E102","v":"02 4223 8000"},{"$f":"'All hospitals'!F102","v":"02 4222 5000 (request Wollongong Hospital on-call pharmacist)"},{"$f":"'All hospitals'!AE102","v":" -"},{"$f":"'All hospitals'!AF102","v":" -"},{"$f":"'All hospitals'!AG102","v":" -"},{"$f":"'All hospitals'!AH102","v":" -"}]
[null,{"$f":"'All hospitals'!B103","v":"Shellharbour Hospital"},{"$f":"'All hospitals'!C103","v":"Mt Warrigal"},{"$f":"'All hospitals'!E103","v":"02 4295 2516"},{"$f":"'All hospitals'!F103","v":"02 4295 2500 (switch) - ask to page ADON"},{"$f":"'All hospitals'!AE103","v":0},{"$f":"'All hospitals'!AF103","v":" -"},{"$f":"'All hospitals'!AG103","v":" -"},{"$f":"'All hospitals'!AH103","v":" -"}]
[null,{"$f":"'All hospitals'!B104","v":"Shoalhaven Hospital "},{"$f":"'All hospitals'!C104","v":"Nowra"},{"$f":"'All hospitals'!E104","v":"02 4423 9734"},{"$f":"'All hospitals'!F104","v":"02 4423 9738/ 0427400177 (after hours patient flow manager)"},{"$f":"'All hospitals'!AE104","v":0},{"$f":"'All hospitals'!AF104","v":" -"},{"$f":"'All hospitals'!AG104","v":" -"},{"$f":"'All hospitals'!AH104","v":" -"}]
[null,{"$f":"'All hospitals'!B105","v":"Wollongong Hospital"},{"$f":"'All hospitals'!C105","v":"Wollongong "},{"$f":"'All hospitals'!E105","v":"02 4222 5340"},{"$f":"'All hospitals'!F105","v":"02 4222 5000"},{"$f":"'All hospitals'!AE105","v":0},{"$f":"'All hospitals'!AF105","v":" -"},{"$f":"'All hospitals'!AG105","v":0},{"$f":"'All hospitals'!AH105","v":" -"}]
[null,{"$f":"'All hospitals'!B106","v":"-"},{"$f":"'All hospitals'!C106","v":"-"},{"$f":"'All hospitals'!E106","v":"-"},{"$f":"'All hospitals'!F106","v":"-"},{"$f":"'All hospitals'!AE106","v":"-"},{"$f":"'All hospitals'!AF106","v":"-"},{"$f":"'All hospitals'!AG106","v":"-"},{"$f":"'All hospitals'!AH106","v":"-"}]
[null,{"$f":"'All hospitals'!B107","v":"MID NORTH COAST LHD"}]
[null,{"$f":"'All hospitals'!B108","v":"Bellingen River District Hospital "},{"$f":"'All hospitals'!C108","v":"Bellingen"},{"$f":"'All hospitals'!E108","v":"02 6659 5800"},{"$f":"'All hospitals'!F108","v":"02 6656 7324"},{"$f":"'All hospitals'!AE108","v":0},{"$f":"'All hospitals'!AF108","v":" -"},{"$f":"'All hospitals'!AG108","v":" -"},{"$f":"'All hospitals'!AH108","v":" -"}]
[null,{"$f":"'All hospitals'!B109","v":"Coffs Harbour Health Campus "},{"$f":"'All hospitals'!C109","v":"Coffs Harbour"},{"$f":"'All hospitals'!E109","v":"02 6656 7000"},{"$f":"'All hospitals'!F109","v":"02 6656 7324"},{"$f":"'All hospitals'!AE109","v":1},{"$f":"'All hospitals'!AF109","v":"ED Resus Fridge"},{"$f":"'All hospitals'!AG109","v":" -"},{"$f":"'All hospitals'!AH109","v":" -"}]
[null,{"$f":"'All hospitals'!B110","v":"Dorrigo Multi Purpose Service"},{"$f":"'All hospitals'!C110","v":"Dorrigo"},{"$f":"'All hospitals'!E110","v":"02 6692 7700"},{"$f":"'All hospitals'!F110","v":"02 6656 7324"},{"$f":"'All hospitals'!AE110","v":0},{"$f":"'All hospitals'!AF110","v":" -"},{"$f":"'All hospitals'!AG110","v":" -"},{"$f":"'All hospitals'!AH110","v":" -"}]
[null,{"$f":"'All hospitals'!B111","v":"Kempsey District Hospital"},{"$f":"'All hospitals'!C111","v":"Kempsey"},{"$f":"'All hospitals'!E111","v":"02 6561 2600"},{"$f":"'All hospitals'!F111","v":"02 5524 2000"},{"$f":"'All hospitals'!AE111","v":0},{"$f":"'All hospitals'!AF111","v":" -"},{"$f":"'All hospitals'!AG111","v":" -"},{"$f":"'All hospitals'!AH111","v":" -"}]
[null,{"$f":"'All hospitals'!B112","v":"Macksville District Hospital "},{"$f":"'All hospitals'!C112","v":"Macksville"},{"$f":"'All hospitals'!E112","v":"02 6568 0666"},{"$f":"'All hospitals'!F112","v":"02 6656 7324"},{"$f":"'All hospitals'!AE112","v":0},{"$f":"'All hospitals'!AF112","v":" -"},{"$f":"'All hospitals'!AG112","v":" -"},{"$f":"'All hospitals'!AH112","v":" -"}]
[null,{"$f":"'All hospitals'!B113","v":"Port Macquarie Base Hospital"},{"$f":"'All hospitals'!C113","v":"Port Macquarie"},{"$f":"'All hospitals'!E113","v":"02 5524 2206"},{"$f":"'All hospitals'!F113","v":"02 5524 2000"},{"$f":"'All hospitals'!AE113","v":1},{"$f":"'All hospitals'!AF113","v":"After Hours Cupboard"},{"$f":"'All hospitals'!AG113","v":" -"},{"$f":"'All hospitals'!AH113","v":" -"}]
[null,{"$f":"'All hospitals'!B114","v":"Wauchope Hospital (Stock data TBC)"},{"$f":"'All hospitals'!C114","v":"Wauchope"},{"$f":"'All hospitals'!E114","v":"02 5524 2206"},{"$f":"'All hospitals'!F114","v":"02 5524 2000"},{"$f":"'All hospitals'!AE114","v":0},{"$f":"'All hospitals'!AF114","v":" -"},{"$f":"'All hospitals'!AG114","v":" -"},{"$f":"'All hospitals'!AH114","v":" -"}]
[null,{"$f":"'All hospitals'!B115","v":"-"},{"$f":"'All hospitals'!C115","v":"-"},{"$f":"'All hospitals'!E115","v":"-"},{"$f":"'All hospitals'!F115","v":"-"},{"$f":"'All hospitals'!AE115","v":"-"},{"$f":"'All hospitals'!AF115","v":"-"},{"$f":"'All hospitals'!AG115","v":"-"},{"$f":"'All hospitals'!AH115","v":"-"}]
[null,{"$f":"'All hospitals'!B116","v":"MURRUMBIDGEE LHD"}]
[null,{"$f":"'All hospitals'!B117","v":"Barham Koondrook Health Service"},{"$f":"'All hospitals'!C117","v":"Barham"},{"$f":"'All hospitals'!E117","v":"03 5451 1000"},{"$f":"'All hospitals'!F117","v":"03 5451 1000"},{"$f":"'All hospitals'!AE117","v":0},{"$f":"'All hospitals'!AF117","v":" -"},{"$f":"'All hospitals'!AG117","v":" -"},{"$f":"'All hospitals'!AH117","v":" -"}]
[null,{"$f":"'All hospitals'!B118","v":"Batlow Adelong Multi Purpose Service"},{"$f":"'All hospitals'!C118","v":"Batlow"},{"$f":"'All hospitals'!E118","v":"02 6941 4333"},{"$f":"'All hospitals'!F118","v":"02 6941 4333"},{"$f":"'All hospitals'!AE118","v":0},{"$f":"'All hospitals'!AF118","v":" -"},{"$f":"'All hospitals'!AG118","v":" -"},{"$f":"'All hospitals'!AH118","v":" -"}]
[null,{"$f":"'All hospitals'!B119","v":"Berrigan Multi Purpose Service"},{"$f":"'All hospitals'!C119","v":"Berrigan"},{"$f":"'All hospitals'!E119","v":"03 5888 5300"},{"$f":"'All hospitals'!F119","v":"03 5888 5300"},{"$f":"'All hospitals'!AE119","v":0},{"$f":"'All hospitals'!AF119","v":" -"},{"$f":"'All hospitals'!AG119","v":" -"},{"$f":"'All hospitals'!AH119","v":" -"}]
[null,{"$f":"'All hospitals'!B120","v":"Boorowa Multi Purpose Service Hospital"},{"$f":"'All hospitals'!C120","v":"Boorowa"},{"$f":"'All hospitals'!E120","v":"02 6380 2100"},{"$f":"'All hospitals'!F120","v":"02 6380 2100"},{"$f":"'All hospitals'!AE120","v":0},{"$f":"'All hospitals'!AF120","v":" -"},{"$f":"'All hospitals'!AG120","v":" -"},{"$f":"'All hospitals'!AH120","v":" -"}]
[null,{"$f":"'All hospitals'!B121","v":"Coolamon-Ganmain Multi Purpose Service"},{"$f":"'All hospitals'!C121","v":"Coolamon"},{"$f":"'All hospitals'!E121","v":"02 6927 3303"},{"$f":"'All hospitals'!F121","v":"02 6927 3303"},{"$f":"'All hospitals'!AE121","v":0},{"$f":"'All hospitals'!AF121","v":" -"},{"$f":"'All hospitals'!AG121","v":" -"},{"$f":"'All hospitals'!AH121","v":" -"}]
[null,{"$f":"'All hospitals'!B122","v":"Cootamundra District Hospital"},{"$f":"'All hospitals'!C122","v":"Cootamundra"},{"$f":"'All hospitals'!E122","v":"02 6942 0444"},{"$f":"'All hospitals'!F122","v":"02 6942 0444"},{"$f":"'All hospitals'!AE122","v":0},{"$f":"'All hospitals'!AF122","v":" -"},{"$f":"'All hospitals'!AG122","v":" -"},{"$f":"'All hospitals'!AH122","v":" -"}]
[null,{"$f":"'All hospitals'!B123","v":"Corowa District Hospital"},{"$f":"'All hospitals'!C123","v":"Corowa"},{"$f":"'All hospitals'!E123","v":"02 6033 7555"},{"$f":"'All hospitals'!F123","v":"02 6033 7555"},{"$f":"'All hospitals'!AE123","v":0},{"$f":"'All hospitals'!AF123","v":" -"},{"$f":"'All hospitals'!AG123","v":" -"},{"$f":"'All hospitals'!AH123","v":" -"}]
[null,{"$f":"'All hospitals'!B124","v":"Culcairn Multi Purpose Service"},{"$f":"'All hospitals'!C124","v":"Culcairn"},{"$f":"'All hospitals'!E124","v":"02 6029 8203"},{"$f":"'All hospitals'!F124","v":"02 6029 8203"},{"$f":"'All hospitals'!AE124","v":0},{"$f":"'All hospitals'!AF124","v":" -"},{"$f":"'All hospitals'!AG124","v":" -"},{"$f":"'All hospitals'!AH124","v":" -"}]
[null,{"$f":"'All hospitals'!B125","v":"Deniliquin Hospital"},{"$f":"'All hospitals'!C125","v":"Deniliquin"},{"$f":"'All hospitals'!E125","v":"03 5882 2843"},{"$f":"'All hospitals'!F125","v":"03 5882 2834"},{"$f":"'All hospitals'!AE125","v":0},{"$f":"'All hospitals'!AF125","v":" -"},{"$f":"'All hospitals'!AG125","v":" -"},{"$f":"'All hospitals'!AH125","v":" -"}]
[null,{"$f":"'All hospitals'!B126","v":"Finley Hospital"},{"$f":"'All hospitals'!C126","v":"Finley"},{"$f":"'All hospitals'!E126","v":"03 5883 1133"},{"$f":"'All hospitals'!F126","v":"03 5883 1133"},{"$f":"'All hospitals'!AE126","v":0},{"$f":"'All hospitals'!AF126","v":" -"},{"$f":"'All hospitals'!AG126","v":" -"},{"$f":"'All hospitals'!AH126","v":" -"}]
[null,{"$f":"'All hospitals'!B127","v":"Griffith Base Hospital"},{"$f":"'All hospitals'!C127","v":"Griffith NSW"},{"$f":"'All hospitals'!E127","v":"02 6969 5550"},{"$f":"'All hospitals'!F127","v":"02 6969 5600"},{"$f":"'All hospitals'!AE127","v":0},{"$f":"'All hospitals'!AF127","v":" -"},{"$f":"'All hospitals'!AG127","v":" -"},{"$f":"'All hospitals'!AH127","v":" -"}]
[null,{"$f":"'All hospitals'!B128","v":"Gundagai Multi Purpose Service"},{"$f":"'All hospitals'!C128","v":"Gundagai"},{"$f":"'All hospitals'!E128","v":"02 6950 6300"},{"$f":"'All hospitals'!F128","v":"02 6950 6300"},{"$f":"'All hospitals'!AE128","v":0},{"$f":"'All hospitals'!AF128","v":" -"},{"$f":"'All hospitals'!AG128","v":" -"},{"$f":"'All hospitals'!AH128","v":" -"}]
[null,{"$f":"'All hospitals'!B129","v":"Hay Hospital"},{"$f":"'All hospitals'!C129","v":"Hay"},{"$f":"'All hospitals'!E129","v":"02 6990 8700"},{"$f":"'All hospitals'!F129","v":"02 6990 8700"},{"$f":"'All hospitals'!AE129","v":0},{"$f":"'All hospitals'!AF129","v":" -"},{"$f":"'All hospitals'!AG129","v":" -"},{"$f":"'All hospitals'!AH129","v":" -"}]
[null,{"$f":"'All hospitals'!B130","v":"Henty Multi Purpose Service"},{"$f":"'All hospitals'!C130","v":"Henty"},{"$f":"'All hospitals'!E130","v":"02 6929 4999"},{"$f":"'All hospitals'!F130","v":"02 6929 4999"},{"$f":"'All hospitals'!AE130","v":0},{"$f":"'All hospitals'!AF130","v":" -"},{"$f":"'All hospitals'!AG130","v":" -"},{"$f":"'All hospitals'!AH130","v":" -"}]
[null,{"$f":"'All hospitals'!B131","v":"Hillston Multi Purpose Service"},{"$f":"'All hospitals'!C131","v":"Hillston, NSW"},{"$f":"'All hospitals'!E131","v":"02 6961 7200"},{"$f":"'All hospitals'!F131","v":"02 6961 7200"},{"$f":"'All hospitals'!AE131","v":0},{"$f":"'All hospitals'!AF131","v":" -"},{"$f":"'All hospitals'!AG131","v":" -"},{"$f":"'All hospitals'!AH131","v":" -"}]
[null,{"$f":"'All hospitals'!B132","v":"Holbrook Hospital"},{"$f":"'All hospitals'!C132","v":"Holbrook"},{"$f":"'All hospitals'!E132","v":"02 6036 2522"},{"$f":"'All hospitals'!F132","v":"02 6036 2522"},{"$f":"'All hospitals'!AE132","v":0},{"$f":"'All hospitals'!AF132","v":" -"},{"$f":"'All hospitals'!AG132","v":" -"},{"$f":"'All hospitals'!AH132","v":" -"}]
[null,{"$f":"'All hospitals'!B133","v":"Jerilderie Multi Purpose Service"},{"$f":"'All hospitals'!C133","v":"Jerilderie"},{"$f":"'All hospitals'!E133","v":"03 5886 1300"},{"$f":"'All hospitals'!F133","v":"03 5886 1300"},{"$f":"'All hospitals'!AE133","v":0},{"$f":"'All hospitals'!AF133","v":" -"},{"$f":"'All hospitals'!AG133","v":" -"},{"$f":"'All hospitals'!AH133","v":" -"}]
[null,{"$f":"'All hospitals'!B134","v":"Junee Multi Purpose Service"},{"$f":"'All hospitals'!C134","v":"Junee"},{"$f":"'All hospitals'!E134","v":"02 6924 8200"},{"$f":"'All hospitals'!F134","v":"02 6924 8200"},{"$f":"'All hospitals'!AE134","v":0},{"$f":"'All hospitals'!AF134","v":" -"},{"$f":"'All hospitals'!AG134","v":" -"},{"$f":"'All hospitals'!AH134","v":" -"}]
[null,{"$f":"'All hospitals'!B135","v":"Lake Cargelligo Multi Purpose Service"},{"$f":"'All hospitals'!C135","v":"Lake Cargelligo"},{"$f":"'All hospitals'!E135","v":"02 6898 0200"},{"$f":"'All hospitals'!F135","v":"02 6898 0200"},{"$f":"'All hospitals'!AE135","v":0},{"$f":"'All hospitals'!AF135","v":" -"},{"$f":"'All hospitals'!AG135","v":" -"},{"$f":"'All hospitals'!AH135","v":" -"}]
[null,{"$f":"'All hospitals'!B136","v":"Leeton District Hospital"},{"$f":"'All hospitals'!C136","v":"Leeton"},{"$f":"'All hospitals'!E136","v":"02 6953 1111"},{"$f":"'All hospitals'!F136","v":"02 6953 1111"},{"$f":"'All hospitals'!AE136","v":0},{"$f":"'All hospitals'!AF136","v":" -"},{"$f":"'All hospitals'!AG136","v":" -"},{"$f":"'All hospitals'!AH136","v":" -"}]
[null,{"$f":"'All hospitals'!B137","v":"Lockhart Hospital"},{"$f":"'All hospitals'!C137","v":"Lockhart"},{"$f":"'All hospitals'!E137","v":"02 6930 7100"},{"$f":"'All hospitals'!F137","v":"02 6930 7100"},{"$f":"'All hospitals'!AE137","v":0},{"$f":"'All hospitals'!AF137","v":" -"},{"$f":"'All hospitals'!AG137","v":" -"},{"$f":"'All hospitals'!AH137","v":" -"}]
[null,{"$f":"'All hospitals'!B138","v":"Murrumburrah-Harden Hospital"},{"$f":"'All hospitals'!C138","v":"Harden"},{"$f":"'All hospitals'!E138","v":"02 6386 2200"},{"$f":"'All hospitals'!F138","v":"02 6386 2200"},{"$f":"'All hospitals'!AE138","v":0},{"$f":"'All hospitals'!AF138","v":" -"},{"$f":"'All hospitals'!AG138","v":" -"},{"$f":"'All hospitals'!AH138","v":" -"}]
[null,{"$f":"'All hospitals'!B139","v":"Narrandera District Hospital"},{"$f":"'All hospitals'!C139","v":"Narrandera"},{"$f":"'All hospitals'!E139","v":"02 6951 0200"},{"$f":"'All hospitals'!F139","v":"02 6951 0200"},{"$f":"'All hospitals'!AE139","v":0},{"$f":"'All hospitals'!AF139","v":" -"},{"$f":"'All hospitals'!AG139","v":" -"},{"$f":"'All hospitals'!AH139","v":" -"}]
[null,{"$f":"'All hospitals'!B140","v":"Temora District Hospital "},{"$f":"'All hospitals'!C140","v":"Temora"},{"$f":"'All hospitals'!E140","v":"02 6980 0200"},{"$f":"'All hospitals'!F140","v":"02 6980 0200"},{"$f":"'All hospitals'!AE140","v":0},{"$f":"'All hospitals'!AF140","v":" -"},{"$f":"'All hospitals'!AG140","v":" -"},{"$f":"'All hospitals'!AH140","v":" -"}]
[null,{"$f":"'All hospitals'!B141","v":"Tocumwal Hospital"},{"$f":"'All hospitals'!C141","v":"Tocumwal"},{"$f":"'All hospitals'!E141","v":"03 5874 2166"},{"$f":"'All hospitals'!F141","v":"03 5874 2166"},{"$f":"'All hospitals'!AE141","v":0},{"$f":"'All hospitals'!AF141","v":" -"},{"$f":"'All hospitals'!AG141","v":" -"},{"$f":"'All hospitals'!AH141","v":" -"}]
[null,{"$f":"'All hospitals'!B142","v":"Tumbarumba Multi Purpose Service"},{"$f":"'All hospitals'!C142","v":"Tumbarumba"},{"$f":"'All hospitals'!E142","v":"02 6948 9600"},{"$f":"'All hospitals'!F142","v":"02 6948 9600"},{"$f":"'All hospitals'!AE142","v":0},{"$f":"'All hospitals'!AF142","v":" -"},{"$f":"'All hospitals'!AG142","v":" -"},{"$f":"'All hospitals'!AH142","v":" -"}]
[null,{"$f":"'All hospitals'!B143","v":"Tumut District Hospital"},{"$f":"'All hospitals'!C143","v":"Tumut"},{"$f":"'All hospitals'!E143","v":"02 6947 0800"},{"$f":"'All hospitals'!F143","v":"02 6947 0800"},{"$f":"'All hospitals'!AE143","v":0},{"$f":"'All hospitals'!AF143","v":" -"},{"$f":"'All hospitals'!AG143","v":" -"},{"$f":"'All hospitals'!AH143","v":" -"}]
[null,{"$f":"'All hospitals'!B144","v":"Urana Multi Purpose Service"},{"$f":"'All hospitals'!C144","v":"Urana"},{"$f":"'All hospitals'!E144","v":"02 6920 8106"},{"$f":"'All hospitals'!F144","v":"02 6920 8106"},{"$f":"'All hospitals'!AE144","v":0},{"$f":"'All hospitals'!AF144","v":" -"},{"$f":"'All hospitals'!AG144","v":" -"},{"$f":"'All hospitals'!AH144","v":" -"}]
[null,{"$f":"'All hospitals'!B145","v":"Wagga Wagga Base Hospital "},{"$f":"'All hospitals'!C145","v":"Wagga Wagga"},{"$f":"'All hospitals'!E145","v":"02 5943 1000"},{"$f":"'All hospitals'!F145","v":"0429 306 566"},{"$f":"'All hospitals'!AE145","v":0},{"$f":"'All hospitals'!AF145","v":" -"},{"$f":"'All hospitals'!AG145","v":" -"},{"$f":"'All hospitals'!AH145","v":" -"}]
[null,{"$f":"'All hospitals'!B146","v":"Wyalong Hospital"},{"$f":"'All hospitals'!C146","v":"West Wyalong"},{"$f":"'All hospitals'!E146","v":"02 6979 0000"},{"$f":"'All hospitals'!F146","v":"02 6979 0000"},{"$f":"'All hospitals'!AE146","v":0},{"$f":"'All hospitals'!AF146","v":" -"},{"$f":"'All hospitals'!AG146","v":" -"},{"$f":"'All hospitals'!AH146","v":" -"}]
[null,{"$f":"'All hospitals'!B147","v":"Young District Hospital"},{"$f":"'All hospitals'!C147","v":"Young"},{"$f":"'All hospitals'!E147","v":"02 6382 8888"},{"$f":"'All hospitals'!F147","v":"02 6382 8888"},{"$f":"'All hospitals'!AE147","v":0},{"$f":"'All hospitals'!AF147","v":" -"},{"$f":"'All hospitals'!AG147","v":" -"},{"$f":"'All hospitals'!AH147","v":" -"}]
[null,{"$f":"'All hospitals'!B148","v":"-"},{"$f":"'All hospitals'!C148","v":"-"},{"$f":"'All hospitals'!E148","v":"-"},{"$f":"'All hospitals'!F148","v":"-"},{"$f":"'All hospitals'!AE148","v":"-"},{"$f":"'All hospitals'!AF148","v":"-"},{"$f":"'All hospitals'!AG148","v":"-"},{"$f":"'All hospitals'!AH148","v":"-"}]
[null,{"$f":"'All hospitals'!B149","v":"NEPEAN BLUE MOUNTAINS LHD & OTHER"}]
[null,{"$f":"'All hospitals'!B150","v":"Blue Mountains District Hospital "},{"$f":"'All hospitals'!C150","v":"Katoomba"},{"$f":"'All hospitals'!E150","v":"02 4784 6500"},{"$f":"'All hospitals'!F150","v":"0412 117 269"},{"$f":"'All hospitals'!AE150","v":0},{"$f":"'All hospitals'!AF150","v":" -"},{"$f":"'All hospitals'!AG150","v":" -"},{"$f":"'All hospitals'!AH150","v":" -"}]
[null,{"$f":"'All hospitals'!B151","v":"Hawkesbury District Health Service"},{"$f":"'All hospitals'!C151","v":"Windsor"},{"$f":"'All hospitals'!E151","v":"02 4560 5529"},{"$f":"'All hospitals'!F151","v":"02 4560 5555 (Ask for AHNM)"},{"$f":"'All hospitals'!AE151","v":0},{"$f":"'All hospitals'!AF151","v":" -"},{"$f":"'All hospitals'!AG151","v":" -"},{"$f":"'All hospitals'!AH151","v":" -"}]
[null,{"$f":"'All hospitals'!B152","v":"Lithgow Hospital"},{"$f":"'All hospitals'!C152","v":"Lithgow"},{"$f":"'All hospitals'!E152","v":"02 6350 2370"},{"$f":"'All hospitals'!F152","v":"02 6350 2300 (switch)"},{"$f":"'All hospitals'!AE152","v":1},{"$f":"'All hospitals'!AF152","v":"ED"},{"$f":"'All hospitals'!AG152","v":" -"},{"$f":"'All hospitals'!AH152","v":" -"}]
[null,{"$f":"'All hospitals'!B153","v":"Nepean Hospital "},{"$f":"'All hospitals'!C153","v":"Penrith"},{"$f":"'All hospitals'!E153","v":"02 4734 2256"},{"$f":"'All hospitals'!F153","v":" 0412 235 766"},{"$f":"'All hospitals'!AE153","v":1},{"$f":"'All hospitals'!AF153","v":"ED-Resus"},{"$f":"'All hospitals'!AG153","v":2},{"$f":"'All hospitals'!AH153","v":"Main Pharmacy"}]
[null,{"$f":"'All hospitals'!B154","v":"-"},{"$f":"'All hospitals'!C154","v":"-"},{"$f":"'All hospitals'!E154","v":"-"},{"$f":"'All hospitals'!F154","v":"-"},{"$f":"'All hospitals'!AE154","v":"-"},{"$f":"'All hospitals'!AF154","v":"-"},{"$f":"'All hospitals'!AG154","v":"-"},{"$f":"'All hospitals'!AH154","v":"-"}]
[null,{"$f":"'All hospitals'!B155","v":"NORTHERN NSW LHD"}]
[null,{"$f":"'All hospitals'!B156","v":"Ballina Hospital "},{"$f":"'All hospitals'!C156","v":"Ballina"},{"$f":"'All hospitals'!E156","v":"02 6620 6400"},{"$f":"'All hospitals'!F156","v":"02 6620 6202"},{"$f":"'All hospitals'!AE156","v":0},{"$f":"'All hospitals'!AF156","v":" -"},{"$f":"'All hospitals'!AG156","v":" -"},{"$f":"'All hospitals'!AH156","v":" -"}]
[null,{"$f":"'All hospitals'!B157","v":"Bonalbo Hospital "},{"$f":"'All hospitals'!C157","v":"Bonalbo"},{"$f":"'All hospitals'!E157","v":"02 6665 4100"},{"$f":"'All hospitals'!F157","v":"02 6665 4100"},{"$f":"'All hospitals'!AE157","v":0},{"$f":"'All hospitals'!AF157","v":" -"},{"$f":"'All hospitals'!AG157","v":" -"},{"$f":"'All hospitals'!AH157","v":" -"}]
[null,{"$f":"'All hospitals'!B158","v":"Byron Central Hospital (Stock data TBC)"},{"$f":"'All hospitals'!C158","v":"Byron Bay"},{"$f":"'All hospitals'!E158","v":"02 6639 9400"},{"$f":"'All hospitals'!F158","v":"02 6639 9400"},{"$f":"'All hospitals'!AE158","v":0},{"$f":"'All hospitals'!AF158","v":" -"},{"$f":"'All hospitals'!AG158","v":" -"},{"$f":"'All hospitals'!AH158","v":" -"}]
[null,{"$f":"'All hospitals'!B159","v":"Casino Hospital"},{"$f":"'All hospitals'!C159","v":"Casino"},{"$f":"'All hospitals'!E159","v":"02 6660 0642"},{"$f":"'All hospitals'!F159","v":"02 6660 0642"},{"$f":"'All hospitals'!AE159","v":0},{"$f":"'All hospitals'!AF159","v":" -"},{"$f":"'All hospitals'!AG159","v":" -"},{"$f":"'All hospitals'!AH159","v":" -"}]
[null,{"$f":"'All hospitals'!B160","v":"Grafton Base Hospital (Stock data TBC)"},{"$f":"'All hospitals'!C160","v":"Grafton"},{"$f":"'All hospitals'!E160","v":"02 6640 2222"},{"$f":"'All hospitals'!F160","v":"02 6640 2299    "},{"$f":"'All hospitals'!AE160","v":2},{"$f":"'All hospitals'!AF160","v":"ED"},{"$f":"'All hospitals'!AG160","v":" -"},{"$f":"'All hospitals'!AH160","v":" -"}]
[null,{"$f":"'All hospitals'!B161","v":"Kyogle Multi Purpose Service"},{"$f":"'All hospitals'!C161","v":"Kyogle"},{"$f":"'All hospitals'!E161","v":"02 6630 0400"},{"$f":"'All hospitals'!F161","v":"02 6630 0400"},{"$f":"'All hospitals'!AE161","v":0},{"$f":"'All hospitals'!AF161","v":" -"},{"$f":"'All hospitals'!AG161","v":" -"},{"$f":"'All hospitals'!AH161","v":" -"}]
[null,{"$f":"'All hospitals'!B162","v":"Lismore Base Hospital "},{"$f":"'All hospitals'!C162","v":"Lismore"},{"$f":"'All hospitals'!E162","v":"02 6624 0200"},{"$f":"'All hospitals'!F162","v":"02 6624 0200"},{"$f":"'All hospitals'!AE162","v":4},{"$f":"'All hospitals'!AF162","v":"ED resus"},{"$f":"'All hospitals'!AG162","v":"-"},{"$f":"'All hospitals'!AH162","v":"-"}]
[null,{"$f":"'All hospitals'!B163","v":"Maclean District Hospital (Stock data TBC)"},{"$f":"'All hospitals'!C163","v":"Maclean"},{"$f":"'All hospitals'!E163","v":"02 6640 0111"},{"$f":"'All hospitals'!F163","v":"02 6640 0111"},{"$f":"'All hospitals'!AE163","v":0},{"$f":"'All hospitals'!AF163","v":" -"},{"$f":"'All hospitals'!AG163","v":" -"},{"$f":"'All hospitals'!AH163","v":" -"}]
[null,{"$f":"'All hospitals'!B164","v":"Murwillumbah District Hospital (Stock data TBC)"},{"$f":"'All hospitals'!C164","v":"Murwillumbah"},{"$f":"'All hospitals'!E164","v":"02 6672 0237"},{"$f":"'All hospitals'!F164","v":"02 6672 0230"},{"$f":"'All hospitals'!AE164","v":0},{"$f":"'All hospitals'!AF164","v":" -"},{"$f":"'All hospitals'!AG164","v":" -"},{"$f":"'All hospitals'!AH164","v":" -"}]
[null,{"$f":"'All hospitals'!B165","v":"Nimbin Multi Purpose Service"},{"$f":"'All hospitals'!C165","v":"Nimbin"},{"$f":"'All hospitals'!E165","v":"02 6689 1400"},{"$f":"'All hospitals'!F165","v":"02 6689 1400"},{"$f":"'All hospitals'!AE165","v":0},{"$f":"'All hospitals'!AF165","v":" -"},{"$f":"'All hospitals'!AG165","v":" -"},{"$f":"'All hospitals'!AH165","v":" -"}]
[null,{"$f":"'All hospitals'!B166","v":"The Tweed Hospital"},{"$f":"'All hospitals'!C166","v":"Tweed Heads"},{"$f":"'All hospitals'!E166","v":"07 5506 7420"},{"$f":"'All hospitals'!F166","v":"07 5506 7667"},{"$f":"'All hospitals'!AE166","v":0},{"$f":"'All hospitals'!AF166","v":" "},{"$f":"'All hospitals'!AG166","v":" -"},{"$f":"'All hospitals'!AH166","v":" -"}]
[null,{"$f":"'All hospitals'!B167","v":"Urbenville Multi Purpose Service "},{"$f":"'All hospitals'!C167","v":"Urbenville"},{"$f":"'All hospitals'!E167","v":"02 66341600"},{"$f":"'All hospitals'!F167","v":"02 66341600"},{"$f":"'All hospitals'!AE167","v":0},{"$f":"'All hospitals'!AF167","v":" -"},{"$f":"'All hospitals'!AG167","v":" -"},{"$f":"'All hospitals'!AH167","v":" -"}]
[null,{"$f":"'All hospitals'!B168","v":"-"},{"$f":"'All hospitals'!C168","v":"-"},{"$f":"'All hospitals'!E168","v":"-"},{"$f":"'All hospitals'!F168","v":"-"},{"$f":"'All hospitals'!AE168","v":"-"},{"$f":"'All hospitals'!AF168","v":"-"},{"$f":"'All hospitals'!AG168","v":"-"},{"$f":"'All hospitals'!AH168","v":"-"}]
[null,{"$f":"'All hospitals'!B169","v":"NORTHERN SYDNEY LHD & OTHER"}]
[null,{"$f":"'All hospitals'!B170","v":"Hornsby Hospital"},{"$f":"'All hospitals'!C170","v":"Hornsby"},{"$f":"'All hospitals'!E170","v":"02 9485 6455"},{"$f":"'All hospitals'!F170","v":"02 9485 6600 (ED)"},{"$f":"'All hospitals'!AE170","v":2},{"$f":"'All hospitals'!AF170","v":"ED"},{"$f":"'All hospitals'!AG170","v":" -"},{"$f":"'All hospitals'!AH170","v":" -"}]
[null,{"$f":"'All hospitals'!B172","v":"Manly Hospital (closed 30th Oct 2018 - See Northern Beaches Health Service)"},{"$f":"'All hospitals'!C172","v":"-"},{"$f":"'All hospitals'!E172","v":"-"},{"$f":"'All hospitals'!F172","v":" -"},{"$f":"'All hospitals'!AE172","v":" -"},{"$f":"'All hospitals'!AF172","v":" -"},{"$f":"'All hospitals'!AG172","v":" -"},{"$f":"'All hospitals'!AH172","v":" -"}]
[null,{"$f":"'All hospitals'!B173","v":"Mona Vale Hospital (Subacute hospital overseen by Hornsby Hospital; some antivenoms available on imprest)"},{"$f":"'All hospitals'!C173","v":"Mona Vale "},{"$f":"'All hospitals'!E173","v":"02 9998 6040"},{"$f":"'All hospitals'!F173","v":"02 9998 6300"},{"$f":"'All hospitals'!AE173","v":0},{"$f":"'All hospitals'!AF173","v":" -"},{"$f":"'All hospitals'!AG173","v":" -"},{"$f":"'All hospitals'!AH173","v":" -"}]
[null,{"$f":"'All hospitals'!B174","v":"Northern Beaches Health Service (replaces Manly Hospital) "},{"$f":"'All hospitals'!C174","v":"Frenchs Forest"},{"$f":"'All hospitals'!E174","v":"02 9105 5000"},{"$f":"'All hospitals'!F174","v":"0490 124 164"},{"$f":"'All hospitals'!AE174","v":0},{"$f":"'All hospitals'!AF174","v":"-"},{"$f":"'All hospitals'!AG174","v":" -"},{"$f":"'All hospitals'!AH174","v":" -"}]
[null,{"$f":"'All hospitals'!B175","v":"Royal North Shore Hospital"},{"$f":"'All hospitals'!C175","v":"St Leonards"},{"$f":"'All hospitals'!E175","v":"02 9463 1140"},{"$f":"'All hospitals'!F175","v":"02 9926 7111 On-call pharmacist via switchboard"},{"$f":"'All hospitals'!AE175","v":1},{"$f":"'All hospitals'!AF175","v":"ED Resus Room"},{"$f":"'All hospitals'!AG175","v":" -"},{"$f":"'All hospitals'!AH175","v":" -"}]
[null,{"$f":"'All hospitals'!B176","v":"Ryde Hospital"},{"$f":"'All hospitals'!C176","v":"Eastwood"},{"$f":"'All hospitals'!E176","v":"02 9858 7888"},{"$f":"'All hospitals'!F176","v":"Oncall Pharmacist (0472 809 062) AHNM (0402 990 158)"},{"$f":"'All hospitals'!AE176","v":0},{"$f":"'All hospitals'!AF176","v":" -"},{"$f":"'All hospitals'!AG176","v":" -"},{"$f":"'All hospitals'!AH176","v":" -"}]
[null,{"$f":"'All hospitals'!B171","v":0},{"$f":"'All hospitals'!C171","v":0},{"$f":"'All hospitals'!E171","v":0},{"$f":"'All hospitals'!F171","v":0},{"$f":"'All hospitals'!AE171","v":0},{"$f":"'All hospitals'!AF171","v":0},{"$f":"'All hospitals'!AG171","v":0},{"$f":"'All hospitals'!AH171","v":0}]
[null,{"$f":"'All hospitals'!B177","v":"-"},{"$f":"'All hospitals'!C177","v":"-"},{"$f":"'All hospitals'!E177","v":"-"},{"$f":"'All hospitals'!F177","v":"-"},{"$f":"'All hospitals'!AE177","v":"-"},{"$f":"'All hospitals'!AF177","v":"-"},{"$f":"'All hospitals'!AG177","v":"-"},{"$f":"'All hospitals'!AH177","v":"-"}]
[null,{"$f":"'All hospitals'!B178","v":"SOUTH EASTERN SYDNEY LHD"}]
[null,{"$f":"'All hospitals'!B179","v":"Calvary Hospital  (Stock data TBC)"},{"$f":"'All hospitals'!C179","v":"Kogarah"},{"$f":"'All hospitals'!E179","v":"-"},{"$f":"'All hospitals'!F179","v":"-"},{"$f":"'All hospitals'!AE179","v":"-"},{"$f":"'All hospitals'!AF179","v":"-"},{"$f":"'All hospitals'!AG179","v":"-"},{"$f":"'All hospitals'!AH179","v":"-"}]
[null,{"$f":"'All hospitals'!B180","v":"Prince of Wales Hospital "},{"$f":"'All hospitals'!C180","v":"Randwick, Sydney"},{"$f":"'All hospitals'!E180","v":"02 9382 2222"},{"$f":"'All hospitals'!F180","v":"oncall pharmacist via switchboard 02 9382 2222 "},{"$f":"'All hospitals'!AE180","v":2},{"$f":"'All hospitals'!AF180","v":"ED"},{"$f":"'All hospitals'!AG180","v":3},{"$f":"'All hospitals'!AH180","v":"Pharmacy"}]
[null,{"$f":"'All hospitals'!B181","v":"Royal Hospital for Women NO STOCKS HELD"},{"$f":"'All hospitals'!C181","v":"Sydney"},{"$f":"'All hospitals'!E181","v":"02 9382 6716"},{"$f":"'All hospitals'!F181","v":"02 9382 2222 on call pharmacist"},{"$f":"'All hospitals'!AE181","v":0},{"$f":"'All hospitals'!AF181","v":" -"},{"$f":"'All hospitals'!AG181","v":" -"},{"$f":"'All hospitals'!AH181","v":" -"}]
[null,{"$f":"'All hospitals'!B182","v":"St George Hospital"},{"$f":"'All hospitals'!C182","v":"Kogarah"},{"$f":"'All hospitals'!E182","v":"02 9113 3055"},{"$f":"'All hospitals'!F182","v":"Page AHNM via switchboard 02 9113 1111"},{"$f":"'All hospitals'!AE182","v":0},{"$f":"'All hospitals'!AF182","v":" -"},{"$f":"'All hospitals'!AG182","v":" -"},{"$f":"'All hospitals'!AH182","v":" -"}]
[null,{"$f":"'All hospitals'!B183","v":"Sydney Hospital and Sydney Eye Hospital"},{"$f":"'All hospitals'!C183","v":"Sydney"},{"$f":"'All hospitals'!E183","v":"02 9382 7379"},{"$f":"'All hospitals'!F183","v":"02 9382 7111  ask for Emergency Department"},{"$f":"'All hospitals'!AE183","v":0},{"$f":"'All hospitals'!AF183","v":" -"},{"$f":"'All hospitals'!AG183","v":" -"},{"$f":"'All hospitals'!AH183","v":" -"}]
[null,{"$f":"'All hospitals'!B184","v":"The Sutherland Hospital"},{"$f":"'All hospitals'!C184","v":"Sydney"},{"$f":"'All hospitals'!E184","v":"02 9540 7466 OR 02 9540 7467"},{"$f":"'All hospitals'!F184","v":"02 9540 7111"},{"$f":"'All hospitals'!AE184","v":0},{"$f":"'All hospitals'!AF184","v":" -"},{"$f":"'All hospitals'!AG184","v":" -"},{"$f":"'All hospitals'!AH184","v":" -"}]
[null,{"$f":"'All hospitals'!B185","v":"-"},{"$f":"'All hospitals'!C185","v":"-"},{"$f":"'All hospitals'!E185","v":"-"},{"$f":"'All hospitals'!F185","v":"-"},{"$f":"'All hospitals'!AE185","v":"-"},{"$f":"'All hospitals'!AF185","v":"-"},{"$f":"'All hospitals'!AG185","v":"-"},{"$f":"'All hospitals'!AH185","v":"-"}]
[null,{"$f":"'All hospitals'!B186","v":"SOUTH WESTERN SYDNEY LHD"}]
[null,{"$f":"'All hospitals'!B187","v":"Bankstown-Lidcombe Hospital"},{"$f":"'All hospitals'!C187","v":"Sydney"},{"$f":"'All hospitals'!E187","v":"02 9722 8000"},{"$f":"'All hospitals'!F187","v":"02 9722 8000"},{"$f":"'All hospitals'!AE187","v":1},{"$f":"'All hospitals'!AF187","v":"ED"},{"$f":"'All hospitals'!AG187","v":" -"},{"$f":"'All hospitals'!AH187","v":" -"}]
[null,{"$f":"'All hospitals'!B188","v":"Bowral District Hospital"},{"$f":"'All hospitals'!C188","v":"Bowral"},{"$f":"'All hospitals'!E188","v":"02 4861 0274"},{"$f":"'All hospitals'!F188","v":"02 4861 0199"},{"$f":"'All hospitals'!AE188","v":0},{"$f":"'All hospitals'!AF188","v":" -"},{"$f":"'All hospitals'!AG188","v":" -"},{"$f":"'All hospitals'!AH188","v":" -"}]
[null,{"$f":"'All hospitals'!B189","v":"Camden Hospital "},{"$f":"'All hospitals'!C189","v":"Sydney"},{"$f":"'All hospitals'!E189","v":"02 4634 3000"},{"$f":"'All hospitals'!F189","v":"0408 662 394"},{"$f":"'All hospitals'!AE189","v":0},{"$f":"'All hospitals'!AF189","v":" -"},{"$f":"'All hospitals'!AG189","v":" -"},{"$f":"'All hospitals'!AH189","v":" -"}]
[null,{"$f":"'All hospitals'!B190","v":"Campbelltown Hospital "},{"$f":"'All hospitals'!C190","v":"Sydney"},{"$f":"'All hospitals'!E190","v":"02 4634 3000"},{"$f":"'All hospitals'!F190","v":"0408 662 394"},{"$f":"'All hospitals'!AE190","v":0},{"$f":"'All hospitals'!AF190","v":" -"},{"$f":"'All hospitals'!AG190","v":" -"},{"$f":"'All hospitals'!AH190","v":" -"}]
[null,{"$f":"'All hospitals'!B191","v":"Fairfield Hospital"},{"$f":"'All hospitals'!C191","v":"Fairfield"},{"$f":"'All hospitals'!E191","v":"02 9616 8322"},{"$f":"'All hospitals'!F191","v":"02 9616 8111"},{"$f":"'All hospitals'!AE191","v":0},{"$f":"'All hospitals'!AF191","v":" -"},{"$f":"'All hospitals'!AG191","v":" -"},{"$f":"'All hospitals'!AH191","v":" -"}]
[null,{"$f":"'All hospitals'!B192","v":"Liverpool Hospital"},{"$f":"'All hospitals'!C192","v":"Sydney"},{"$f":"'All hospitals'!E192","v":"02 8738 3000"},{"$f":"'All hospitals'!F192","v":"02 8738 3000"},{"$f":"'All hospitals'!AE192","v":0},{"$f":"'All hospitals'!AF192","v":" -"},{"$f":"'All hospitals'!AG192","v":" -"},{"$f":"'All hospitals'!AH192","v":" -"}]
[null,{"$f":"'All hospitals'!B193","v":"-"},{"$f":"'All hospitals'!C193","v":"-"},{"$f":"'All hospitals'!E193","v":"-"},{"$f":"'All hospitals'!F193","v":"-"},{"$f":"'All hospitals'!AE193","v":"-"},{"$f":"'All hospitals'!AF193","v":"-"},{"$f":"'All hospitals'!AG193","v":"-"},{"$f":"'All hospitals'!AH193","v":"-"}]
[null,{"$f":"'All hospitals'!B194","v":"SOUTHERN NSW"}]
[null,{"$f":"'All hospitals'!B195","v":"Bateman's Bay District Hospital "},{"$f":"'All hospitals'!C195","v":"Bateman's Bay"},{"$f":"'All hospitals'!E195","v":"02 4475 1500"},{"$f":"'All hospitals'!F195","v":"0419 421 411"},{"$f":"'All hospitals'!AE195","v":0},{"$f":"'All hospitals'!AF195","v":" -"},{"$f":"'All hospitals'!AG195","v":" -"},{"$f":"'All hospitals'!AH195","v":" -"}]
[null,{"$f":"'All hospitals'!B196","v":"South East Regional Hospital (SERH / Bega District Hospital)"},{"$f":"'All hospitals'!C196","v":"Bega"},{"$f":"'All hospitals'!E196","v":"02 6492 9111"},{"$f":"'All hospitals'!F196","v":"0419 421 411"},{"$f":"'All hospitals'!AE196","v":0},{"$f":"'All hospitals'!AF196","v":" -"},{"$f":"'All hospitals'!AG196","v":" -"},{"$f":"'All hospitals'!AH196","v":" -"}]
[null,{"$f":"'All hospitals'!B197","v":"Bombala Hospital "},{"$f":"'All hospitals'!C197","v":"Bombala"},{"$f":"'All hospitals'!E197","v":"02 6458 5777"},{"$f":"'All hospitals'!F197","v":"0419 421 411"},{"$f":"'All hospitals'!AE197","v":0},{"$f":"'All hospitals'!AF197","v":" -"},{"$f":"'All hospitals'!AG197","v":" -"},{"$f":"'All hospitals'!AH197","v":" -"}]
[null,{"$f":"'All hospitals'!B198","v":"Braidwood Hospital "},{"$f":"'All hospitals'!C198","v":"Braidwood"},{"$f":"'All hospitals'!E198","v":"02 4842 2566"},{"$f":"'All hospitals'!F198","v":"0419 421 411"},{"$f":"'All hospitals'!AE198","v":0},{"$f":"'All hospitals'!AF198","v":" -"},{"$f":"'All hospitals'!AG198","v":" -"},{"$f":"'All hospitals'!AH198","v":" -"}]
[null,{"$f":"'All hospitals'!B199","v":"Cooma District Hospital "},{"$f":"'All hospitals'!C199","v":"Cooma"},{"$f":"'All hospitals'!E199","v":"02 6455 3222"},{"$f":"'All hospitals'!F199","v":"0419 421 411"},{"$f":"'All hospitals'!AE199","v":0},{"$f":"'All hospitals'!AF199","v":" -"},{"$f":"'All hospitals'!AG199","v":" -"},{"$f":"'All hospitals'!AH199","v":" -"}]
[null,{"$f":"'All hospitals'!B200","v":"Crookwell District Hospital "},{"$f":"'All hospitals'!C200","v":"Crookwell NSW"},{"$f":"'All hospitals'!E200","v":"02 4832 1300"},{"$f":"'All hospitals'!F200","v":"0419 421 411"},{"$f":"'All hospitals'!AE200","v":0},{"$f":"'All hospitals'!AF200","v":" -"},{"$f":"'All hospitals'!AG200","v":" -"},{"$f":"'All hospitals'!AH200","v":" -"}]
[null,{"$f":"'All hospitals'!B201","v":"Delegate Hospital "},{"$f":"'All hospitals'!C201","v":"Delegate"},{"$f":"'All hospitals'!E201","v":"02 6459 8000"},{"$f":"'All hospitals'!F201","v":"0419 421 411"},{"$f":"'All hospitals'!AE201","v":0},{"$f":"'All hospitals'!AF201","v":" -"},{"$f":"'All hospitals'!AG201","v":" -"},{"$f":"'All hospitals'!AH201","v":" -"}]
[null,{"$f":"'All hospitals'!B202","v":"Goulburn Base Hospital "},{"$f":"'All hospitals'!C202","v":"Goulburn"},{"$f":"'All hospitals'!E202","v":"02 4827 3111"},{"$f":"'All hospitals'!F202","v":"02 4827 3111"},{"$f":"'All hospitals'!AE202","v":0},{"$f":"'All hospitals'!AF202","v":" -"},{"$f":"'All hospitals'!AG202","v":" -"},{"$f":"'All hospitals'!AH202","v":" -"}]
[null,{"$f":"'All hospitals'!B203","v":"Moruya District Hospital "},{"$f":"'All hospitals'!C203","v":"Moruya"},{"$f":"'All hospitals'!E203","v":"02 4474 2666"},{"$f":"'All hospitals'!F203","v":"0419 421 411"},{"$f":"'All hospitals'!AE203","v":0},{"$f":"'All hospitals'!AF203","v":" -"},{"$f":"'All hospitals'!AG203","v":" -"},{"$f":"'All hospitals'!AH203","v":" -"}]
[null,{"$f":"'All hospitals'!B204","v":"Pambula District Hospital "},{"$f":"'All hospitals'!C204","v":"Pambula"},{"$f":"'All hospitals'!E204","v":"02 6495 8200"},{"$f":"'All hospitals'!F204","v":"0419 421 411"},{"$f":"'All hospitals'!AE204","v":0},{"$f":"'All hospitals'!AF204","v":" -"},{"$f":"'All hospitals'!AG204","v":" -"},{"$f":"'All hospitals'!AH204","v":" -"}]
[null,{"$f":"'All hospitals'!B205","v":"Queanbeyan Hospital "},{"$f":"'All hospitals'!C205","v":"Queanbeyan"},{"$f":"'All hospitals'!E205","v":"02 6150 7000"},{"$f":"'All hospitals'!F205","v":"0419 421 411"},{"$f":"'All hospitals'!AE205","v":0},{"$f":"'All hospitals'!AF205","v":" -"},{"$f":"'All hospitals'!AG205","v":" -"},{"$f":"'All hospitals'!AH205","v":" -"}]
[null,{"$f":"'All hospitals'!B206","v":"Yass District Hospital "},{"$f":"'All hospitals'!C206","v":"Yass"},{"$f":"'All hospitals'!E206","v":"02 6220 2000"},{"$f":"'All hospitals'!F206","v":"0419 421 411"},{"$f":"'All hospitals'!AE206","v":0},{"$f":"'All hospitals'!AF206","v":" -"},{"$f":"'All hospitals'!AG206","v":" -"},{"$f":"'All hospitals'!AH206","v":" -"}]
[null,{"$f":"'All hospitals'!B207","v":"-"},{"$f":"'All hospitals'!C207","v":"-"},{"$f":"'All hospitals'!E207","v":"-"},{"$f":"'All hospitals'!F207","v":"-"},{"$f":"'All hospitals'!AE207","v":"-"},{"$f":"'All hospitals'!AF207","v":"-"},{"$f":"'All hospitals'!AG207","v":"-"},{"$f":"'All hospitals'!AH207","v":"-"}]
[null,{"$f":"'All hospitals'!B208","v":"ST VINCENT'S HEALTH"}]
[null,{"$f":"'All hospitals'!B209","v":"St Vincent's Hospital"},{"$f":"'All hospitals'!C209","v":"Darlinghurst"},{"$f":"'All hospitals'!E209","v":"02 8282 2125"},{"$f":"'All hospitals'!F209","v":"02 8382 1111 (on call pharmacist via switchboard)"},{"$f":"'All hospitals'!AE209","v":0},{"$f":"'All hospitals'!AF209","v":" -"},{"$f":"'All hospitals'!AG209","v":" -"},{"$f":"'All hospitals'!AH209","v":" -"}]
[null,{"$f":"'All hospitals'!B210","v":"-"},{"$f":"'All hospitals'!C210","v":"-"},{"$f":"'All hospitals'!E210","v":"-"},{"$f":"'All hospitals'!F210","v":"-"},{"$f":"'All hospitals'!AE210","v":"-"},{"$f":"'All hospitals'!AF210","v":"-"},{"$f":"'All hospitals'!AG210","v":"-"},{"$f":"'All hospitals'!AH210","v":"-"}]
[null,{"$f":"'All hospitals'!B211","v":"SYDNEY LHD"}]
[null,{"$f":"'All hospitals'!B212","v":"Balmain Hospital (No ED services) NO STOCKS HELD"},{"$f":"'All hospitals'!C212","v":"Balmain"},{"$f":"'All hospitals'!E212","v":"02 9395 2111"},{"$f":"'All hospitals'!F212","v":" -"},{"$f":"'All hospitals'!AE212","v":" -"},{"$f":"'All hospitals'!AF212","v":" -"},{"$f":"'All hospitals'!AG212","v":" -"},{"$f":"'All hospitals'!AH212","v":" -"}]
[null,{"$f":"'All hospitals'!B213","v":"Canterbury Hospital "},{"$f":"'All hospitals'!C213","v":"Campsie"},{"$f":"'All hospitals'!E213","v":"02 9787 0219"},{"$f":"'All hospitals'!F213","v":"02 9787 0000"},{"$f":"'All hospitals'!AE213","v":0},{"$f":"'All hospitals'!AF213","v":" -"},{"$f":"'All hospitals'!AG213","v":" -"},{"$f":"'All hospitals'!AH213","v":" -"}]
[null,{"$f":"'All hospitals'!B214","v":"Concord Hospital"},{"$f":"'All hospitals'!C214","v":"Concord"},{"$f":"'All hospitals'!E214","v":"02 9767 6214"},{"$f":"'All hospitals'!F214","v":"02 9767 5000"},{"$f":"'All hospitals'!AE214","v":0},{"$f":"'All hospitals'!AF214","v":" -"},{"$f":"'All hospitals'!AG214","v":" -"},{"$f":"'All hospitals'!AH214","v":" -"}]
[null,{"$f":"'All hospitals'!B215","v":"Royal Prince Alfred Hospital"},{"$f":"'All hospitals'!C215","v":"Camperdown"},{"$f":"'All hospitals'!E215","v":"02 9515 6111"},{"$f":"'All hospitals'!F215","v":"02 9515 6111"},{"$f":"'All hospitals'!AE215","v":0},{"$f":"'All hospitals'!AF215","v":" -"},{"$f":"'All hospitals'!AG215","v":" -"},{"$f":"'All hospitals'!AH215","v":" -"}]
[null,{"$f":"'All hospitals'!B216","v":"-"},{"$f":"'All hospitals'!C216","v":"-"},{"$f":"'All hospitals'!E216","v":"-"},{"$f":"'All hospitals'!F216","v":"-"},{"$f":"'All hospitals'!AE216","v":"-"},{"$f":"'All hospitals'!AF216","v":"-"},{"$f":"'All hospitals'!AG216","v":"-"},{"$f":"'All hospitals'!AH216","v":"-"}]
[null,{"$f":"'All hospitals'!B217","v":"SYDNEY CHILDREN'S HOSPITALS NETWORK"}]
[null,{"$f":"'All hospitals'!B218","v":"Sydney Children's Hospital Randwick (SCH) (see also stocks kept at Prince of Wales (adjacent hospital))"},{"$f":"'All hospitals'!C218","v":"Randwick"},{"$f":"'All hospitals'!E218","v":"02 9382 1111"},{"$f":"'All hospitals'!F218","v":"029382 2222  Pharmacist on call "},{"$f":"'All hospitals'!AE218","v":" -"},{"$f":"'All hospitals'!AF218","v":" -"},{"$f":"'All hospitals'!AG218","v":" -"},{"$f":"'All hospitals'!AH218","v":" -"}]
[null,{"$f":"'All hospitals'!B219","v":"The Children's Hospital Westmead (CHW)"},{"$f":"'All hospitals'!C219","v":"Westmead"},{"$f":"'All hospitals'!E219","v":"02 9845 0000"},{"$f":"'All hospitals'!F219","v":"02 9845 0000 (on call pharmacist via switchboard)"},{"$f":"'All hospitals'!AE219","v":0},{"$f":"'All hospitals'!AF219","v":" -"},{"$f":"'All hospitals'!AG219","v":" -"},{"$f":"'All hospitals'!AH219","v":" -"}]
[null,{"$f":"'All hospitals'!B220","v":" Newborn & Paediatric Emergency Transport Service (NETS)"},{"$f":"'All hospitals'!C220","v":"Bankstown Aerodrome"},{"$f":"'All hospitals'!E220","v":1300362730},{"$f":"'All hospitals'!F220","v":1300362730},{"$f":"'All hospitals'!AE220","v":"-"},{"$f":"'All hospitals'!AF220","v":"-"},{"$f":"'All hospitals'!AG220","v":"-"},{"$f":"'All hospitals'!AH220","v":"-"}]
[null,{"$f":"'All hospitals'!B221","v":"-"},{"$f":"'All hospitals'!C221","v":"-"},{"$f":"'All hospitals'!E221","v":"-"},{"$f":"'All hospitals'!F221","v":"-"},{"$f":"'All hospitals'!AE221","v":"-"},{"$f":"'All hospitals'!AF221","v":"-"},{"$f":"'All hospitals'!AG221","v":"-"},{"$f":"'All hospitals'!AH221","v":"-"}]
[null,{"$f":"'All hospitals'!B222","v":"WESTERN NSW LHD"}]
[null,{"$f":"'All hospitals'!B223","v":"Baradine Multi Purpose Service"},{"$f":"'All hospitals'!C223","v":"Baradine, NSW"},{"$f":"'All hospitals'!E223","v":"02 6843 1605"},{"$f":"'All hospitals'!F223","v":"02 6843 4100"},{"$f":"'All hospitals'!AE223","v":0},{"$f":"'All hospitals'!AF223","v":" -"},{"$f":"'All hospitals'!AG223","v":" -"},{"$f":"'All hospitals'!AH223","v":" -"}]
[null,{"$f":"'All hospitals'!B224","v":"Bathurst Hospital"},{"$f":"'All hospitals'!C224","v":"Bathurst"},{"$f":"'All hospitals'!E224","v":"02 6330 5304"},{"$f":"'All hospitals'!F224","v":"02 6330 5308"},{"$f":"'All hospitals'!AE224","v":1},{"$f":"'All hospitals'!AF224","v":"After Hours Cupboard"},{"$f":"'All hospitals'!AG224","v":" -"},{"$f":"'All hospitals'!AH224","v":" -"}]
[null,{"$f":"'All hospitals'!B225","v":"Blayney Multi Purpose Service"},{"$f":"'All hospitals'!C225","v":"Blayney"},{"$f":"'All hospitals'!E225","v":"02 6368 9029 "},{"$f":"'All hospitals'!F225","v":"02 6368 9029 "},{"$f":"'All hospitals'!AE225","v":0},{"$f":"'All hospitals'!AF225","v":" -"},{"$f":"'All hospitals'!AG225","v":" -"},{"$f":"'All hospitals'!AH225","v":" -"}]
[null,{"$f":"'All hospitals'!B226","v":"Bourke Multi Purpose Service "},{"$f":"'All hospitals'!C226","v":"Bourke"},{"$f":"'All hospitals'!E226","v":"02 6870 8888"},{"$f":"'All hospitals'!F226","v":"02 6870 8888"},{"$f":"'All hospitals'!AE226","v":0},{"$f":"'All hospitals'!AF226","v":" -"},{"$f":"'All hospitals'!AG226","v":" -"},{"$f":"'All hospitals'!AH226","v":" -"}]
[null,{"$f":"'All hospitals'!B227","v":"Brewarrina Multi Purpose Service "},{"$f":"'All hospitals'!C227","v":"Brewarrina"},{"$f":"'All hospitals'!E227","v":"02 6830 5000"},{"$f":"'All hospitals'!F227","v":"02 6830 5000"},{"$f":"'All hospitals'!AE227","v":0},{"$f":"'All hospitals'!AF227","v":" - "},{"$f":"'All hospitals'!AG227","v":" -"},{"$f":"'All hospitals'!AH227","v":" -"}]
[null,{"$f":"'All hospitals'!B228","v":"Canowindra Soldiers Memorial Hospital (Stock data TBC)"},{"$f":"'All hospitals'!C228","v":"Canowindra"},{"$f":"'All hospitals'!E228","v":"02 6364 4300"},{"$f":"'All hospitals'!F228","v":"02 6340 3033"},{"$f":"'All hospitals'!AE228","v":0},{"$f":"'All hospitals'!AF228","v":" -"},{"$f":"'All hospitals'!AG228","v":" -"},{"$f":"'All hospitals'!AH228","v":" -"}]
[null,{"$f":"'All hospitals'!B229","v":"Cobar District Hospital (Stock data TBC)"},{"$f":"'All hospitals'!C229","v":"Cobar"},{"$f":"'All hospitals'!E229","v":"02 6836 2406"},{"$f":"'All hospitals'!F229","v":"02 6830 2111"},{"$f":"'All hospitals'!AE229","v":0},{"$f":"'All hospitals'!AF229","v":" -"},{"$f":"'All hospitals'!AG229","v":" -"},{"$f":"'All hospitals'!AH229","v":" -"}]
[null,{"$f":"'All hospitals'!B230","v":"Collarenebri Multi Purpose Service "},{"$f":"'All hospitals'!C230","v":"Collarenebri"},{"$f":"'All hospitals'!E230","v":"02 6756 4800"},{"$f":"'All hospitals'!F230","v":"02 6756 4800"},{"$f":"'All hospitals'!AE230","v":0},{"$f":"'All hospitals'!AF230","v":" - "},{"$f":"'All hospitals'!AG230","v":" -"},{"$f":"'All hospitals'!AH230","v":" -"}]
[null,{"$f":"'All hospitals'!B231","v":"Condobolin District Hospital"},{"$f":"'All hospitals'!C231","v":"Condobolin"},{"$f":"'All hospitals'!E231","v":"02 6890 1500"},{"$f":"'All hospitals'!F231","v":"02 6890 1500"},{"$f":"'All hospitals'!AE231","v":0},{"$f":"'All hospitals'!AF231","v":" -"},{"$f":"'All hospitals'!AG231","v":" -"},{"$f":"'All hospitals'!AH231","v":" -"}]
[null,{"$f":"'All hospitals'!B232","v":"Coolah Multi Purpose Service (Stock data TBC)"},{"$f":"'All hospitals'!C232","v":"Coolah"},{"$f":"'All hospitals'!E232","v":"02 6377 9100"},{"$f":"'All hospitals'!F232","v":"02 6377 9100"},{"$f":"'All hospitals'!AE232","v":0},{"$f":"'All hospitals'!AF232","v":" -"},{"$f":"'All hospitals'!AG232","v":" -"},{"$f":"'All hospitals'!AH232","v":" -"}]
[null,{"$f":"'All hospitals'!B233","v":"Coonabarabran District Hospital"},{"$f":"'All hospitals'!C233","v":"Coonabarabran"},{"$f":"'All hospitals'!E233","v":"02 6849 1600"},{"$f":"'All hospitals'!F233","v":"02 6849 1600"},{"$f":"'All hospitals'!AE233","v":0},{"$f":"'All hospitals'!AF233","v":" -"},{"$f":"'All hospitals'!AG233","v":" -"},{"$f":"'All hospitals'!AH233","v":" -"}]
[null,{"$f":"'All hospitals'!B234","v":"Coonamble Multi Purpose Service (Stock data TBC)"},{"$f":"'All hospitals'!C234","v":"Coonamble"},{"$f":"'All hospitals'!E234","v":"02 6827 1100"},{"$f":"'All hospitals'!F234","v":"02 6827 1100"},{"$f":"'All hospitals'!AE234","v":0},{"$f":"'All hospitals'!AF234","v":" -"},{"$f":"'All hospitals'!AG234","v":" -"},{"$f":"'All hospitals'!AH234","v":" -"}]
[null,{"$f":"'All hospitals'!B235","v":"Cowra Hospital (Stock data TBC)"},{"$f":"'All hospitals'!C235","v":"Cowra"},{"$f":"'All hospitals'!E235","v":"02 6340 9000"},{"$f":"'All hospitals'!F235","v":"02 6340 9000"},{"$f":"'All hospitals'!AE235","v":0},{"$f":"'All hospitals'!AF235","v":" -"},{"$f":"'All hospitals'!AG235","v":0},{"$f":"'All hospitals'!AH235","v":" -"}]
[null,{"$f":"'All hospitals'!B236","v":"Cudal Health Service NO STOCKS HELD"},{"$f":"'All hospitals'!C236","v":"Cudal"},{"$f":"'All hospitals'!E236","v":"02 6392 3400"},{"$f":"'All hospitals'!F236","v":" -"},{"$f":"'All hospitals'!AE236","v":0},{"$f":"'All hospitals'!AF236","v":" -"},{"$f":"'All hospitals'!AG236","v":" -"},{"$f":"'All hospitals'!AH236","v":" -"}]
[null,{"$f":"'All hospitals'!B237","v":"Dubbo Base Hospital"},{"$f":"'All hospitals'!C237","v":"Dubbo"},{"$f":"'All hospitals'!E237","v":"02 6809 8150"},{"$f":"'All hospitals'!F237","v":"02 6809 6809"},{"$f":"'All hospitals'!AE237","v":1},{"$f":"'All hospitals'!AF237","v":"After Hours Pharmacy"},{"$f":"'All hospitals'!AG237","v":" -"},{"$f":"'All hospitals'!AH237","v":" -"}]
[null,{"$f":"'All hospitals'!B238","v":"Dunedoo Multi Purpose Service (Stock data TBC)"},{"$f":"'All hospitals'!C238","v":"Dunedoo"},{"$f":"'All hospitals'!E238","v":"02 6375 1408"},{"$f":"'All hospitals'!F238","v":"02 6370 3000"},{"$f":"'All hospitals'!AE238","v":0},{"$f":"'All hospitals'!AF238","v":" -"},{"$f":"'All hospitals'!AG238","v":" -"},{"$f":"'All hospitals'!AH238","v":" -"}]
[null,{"$f":"'All hospitals'!B239","v":"Eugowra Multi Purpose Service (Stock data TBC)"},{"$f":"'All hospitals'!C239","v":"Eugowra"},{"$f":"'All hospitals'!E239","v":"02 6850 4000"},{"$f":"'All hospitals'!F239","v":"02 6850 4000"},{"$f":"'All hospitals'!AE239","v":0},{"$f":"'All hospitals'!AF239","v":" -"},{"$f":"'All hospitals'!AG239","v":" -"},{"$f":"'All hospitals'!AH239","v":" -"}]
[null,{"$f":"'All hospitals'!B240","v":"Forbes District Hospital "},{"$f":"'All hospitals'!C240","v":"Forbes"},{"$f":"'All hospitals'!E240","v":"02 6850 7100"},{"$f":"'All hospitals'!F240","v":"02 6850 7100"},{"$f":"'All hospitals'!AE240","v":1},{"$f":"'All hospitals'!AF240","v":"ED"},{"$f":"'All hospitals'!AG240","v":" -"},{"$f":"'All hospitals'!AH240","v":" -"}]
[null,{"$f":"'All hospitals'!B241","v":"Gilgandra Multi Purpose Service (Stock data TBC)"},{"$f":"'All hospitals'!C241","v":"Gilgandra"},{"$f":"'All hospitals'!E241","v":"02 6880 5900"},{"$f":"'All hospitals'!F241","v":"02 6880 5900"},{"$f":"'All hospitals'!AE241","v":0},{"$f":"'All hospitals'!AF241","v":" -"},{"$f":"'All hospitals'!AG241","v":" -"},{"$f":"'All hospitals'!AH241","v":" -"}]
[null,{"$f":"'All hospitals'!B242","v":"Goodooga Health Service "},{"$f":"'All hospitals'!C242","v":"Goodooga"},{"$f":"'All hospitals'!E242","v":"02 6829 5600"},{"$f":"'All hospitals'!F242","v":" - "},{"$f":"'All hospitals'!AE242","v":0},{"$f":"'All hospitals'!AF242","v":" -"},{"$f":"'All hospitals'!AG242","v":" -"},{"$f":"'All hospitals'!AH242","v":" -"}]
[null,{"$f":"'All hospitals'!B243","v":"Grenfell Multi Purpose Service (Stock data TBC)"},{"$f":"'All hospitals'!C243","v":"Grenfell"},{"$f":"'All hospitals'!E243","v":"02 6349 1700"},{"$f":"'All hospitals'!F243","v":"02 6349 1700"},{"$f":"'All hospitals'!AE243","v":0},{"$f":"'All hospitals'!AF243","v":" -"},{"$f":"'All hospitals'!AG243","v":" -"},{"$f":"'All hospitals'!AH243","v":" -"}]
[null,{"$f":"'All hospitals'!B244","v":"Gulargambone NO STOCKS HELD"},{"$f":"'All hospitals'!C244","v":"Gulargambone"},{"$f":"'All hospitals'!E244","v":"02 6825 1201"},{"$f":"'All hospitals'!F244","v":"-"},{"$f":"'All hospitals'!AE244","v":0},{"$f":"'All hospitals'!AF244","v":" -"},{"$f":"'All hospitals'!AG244","v":" -"},{"$f":"'All hospitals'!AH244","v":" -"}]
[null,{"$f":"'All hospitals'!B245","v":"Gulgong Health Service "},{"$f":"'All hospitals'!C245","v":"Gulgong"},{"$f":"'All hospitals'!E245","v":"02 6374 3400"},{"$f":"'All hospitals'!F245","v":"02 6374 1200"},{"$f":"'All hospitals'!AE245","v":0},{"$f":"'All hospitals'!AF245","v":" -"},{"$f":"'All hospitals'!AG245","v":" -"},{"$f":"'All hospitals'!AH245","v":" -"}]
[null,{"$f":"'All hospitals'!B246","v":"Lightning Ridge Multi Purpose Service "},{"$f":"'All hospitals'!C246","v":"Lightning Ridge"},{"$f":"'All hospitals'!E246","v":"02 6820 5700"},{"$f":"'All hospitals'!F246","v":"02 6820 5700"},{"$f":"'All hospitals'!AE246","v":0},{"$f":"'All hospitals'!AF246","v":" -"},{"$f":"'All hospitals'!AG246","v":" -"},{"$f":"'All hospitals'!AH246","v":" -"}]
[null,{"$f":"'All hospitals'!B247","v":"Molong Hospital (Stock data TBC)"},{"$f":"'All hospitals'!C247","v":"Molong"},{"$f":"'All hospitals'!E247","v":"02 6392 3300"},{"$f":"'All hospitals'!F247","v":" -"},{"$f":"'All hospitals'!AE247","v":0},{"$f":"'All hospitals'!AF247","v":" -"},{"$f":"'All hospitals'!AG247","v":" -"},{"$f":"'All hospitals'!AH247","v":" -"}]
[null,{"$f":"'All hospitals'!B248","v":"Mudgee Hospital "},{"$f":"'All hospitals'!C248","v":"Mudgee"},{"$f":"'All hospitals'!E248","v":"02 6371 9751"},{"$f":"'All hospitals'!F248","v":"02 6371 9700"},{"$f":"'All hospitals'!AE248","v":0},{"$f":"'All hospitals'!AF248","v":" -"},{"$f":"'All hospitals'!AG248","v":" -"},{"$f":"'All hospitals'!AH248","v":" -"}]
[null,{"$f":"'All hospitals'!B249","v":"Narromine Health Service "},{"$f":"'All hospitals'!C249","v":"Narromine"},{"$f":"'All hospitals'!E249","v":"02 6889 9600"},{"$f":"'All hospitals'!F249","v":"02 6889 9600"},{"$f":"'All hospitals'!AE249","v":0},{"$f":"'All hospitals'!AF249","v":" -"},{"$f":"'All hospitals'!AG249","v":" -"},{"$f":"'All hospitals'!AH249","v":" -"}]
[null,{"$f":"'All hospitals'!B250","v":"Nyngan Multi Purpose Service (Stock data TBC)"},{"$f":"'All hospitals'!C250","v":"Nyngan"},{"$f":"'All hospitals'!E250","v":"02 6832 1707"},{"$f":"'All hospitals'!F250","v":"02 6835 1700"},{"$f":"'All hospitals'!AE250","v":0},{"$f":"'All hospitals'!AF250","v":" -"},{"$f":"'All hospitals'!AG250","v":" -"},{"$f":"'All hospitals'!AH250","v":" -"}]
[null,{"$f":"'All hospitals'!B251","v":"Oberon Multi Purpose Service"},{"$f":"'All hospitals'!C251","v":"Oberon"},{"$f":"'All hospitals'!E251","v":"02 6336 7200"},{"$f":"'All hospitals'!F251","v":"02 6336 7200"},{"$f":"'All hospitals'!AE251","v":0},{"$f":"'All hospitals'!AF251","v":" -"},{"$f":"'All hospitals'!AG251","v":" -"},{"$f":"'All hospitals'!AH251","v":" -"}]
[null,{"$f":"'All hospitals'!B252","v":"Orange Health Service "},{"$f":"'All hospitals'!C252","v":"Orange"},{"$f":"'All hospitals'!E252","v":"02 6369 3740"},{"$f":"'All hospitals'!F252","v":"02 6369 3222"},{"$f":"'All hospitals'!AE252","v":1},{"$f":"'All hospitals'!AF252","v":"After Hours Cupboard"},{"$f":"'All hospitals'!AG252","v":" -"},{"$f":"'All hospitals'!AH252","v":" -"}]
[null,{"$f":"'All hospitals'!B253","v":"Parkes District Hospital "},{"$f":"'All hospitals'!C253","v":"Parkes"},{"$f":"'All hospitals'!E253","v":"02 6861 2400"},{"$f":"'All hospitals'!F253","v":"02 6861 2440"},{"$f":"'All hospitals'!AE253","v":1},{"$f":"'All hospitals'!AF253","v":"ED"},{"$f":"'All hospitals'!AG253","v":" -"},{"$f":"'All hospitals'!AH253","v":" -"}]
[null,{"$f":"'All hospitals'!B254","v":"Peak Hill Multi Purpose Service "},{"$f":"'All hospitals'!C254","v":"Peak Hill"},{"$f":"'All hospitals'!E254","v":"02 6869 5200"},{"$f":"'All hospitals'!F254","v":"02 6869 5200"},{"$f":"'All hospitals'!AE254","v":0},{"$f":"'All hospitals'!AF254","v":" -"},{"$f":"'All hospitals'!AG254","v":" -"},{"$f":"'All hospitals'!AH254","v":" -"}]
[null,{"$f":"'All hospitals'!B255","v":"Rylstone Multi Purpose Service "},{"$f":"'All hospitals'!C255","v":"Rylstone"},{"$f":"'All hospitals'!E255","v":"02 6357 6100"},{"$f":"'All hospitals'!F255","v":"02 6357 6100"},{"$f":"'All hospitals'!AE255","v":0},{"$f":"'All hospitals'!AF255","v":" -"},{"$f":"'All hospitals'!AG255","v":" -"},{"$f":"'All hospitals'!AH255","v":" -"}]
[null,{"$f":"'All hospitals'!B256","v":"Tottenham Multi Purpose Service "},{"$f":"'All hospitals'!C256","v":"Tottenham"},{"$f":"'All hospitals'!E256","v":"02 6891  6200"},{"$f":"'All hospitals'!F256","v":"02 6891  6200"},{"$f":"'All hospitals'!AE256","v":0},{"$f":"'All hospitals'!AF256","v":" -"},{"$f":"'All hospitals'!AG256","v":" -"},{"$f":"'All hospitals'!AH256","v":" -"}]
[null,{"$f":"'All hospitals'!B257","v":"Trangie Multi Purpose Service (Stock data TBC)"},{"$f":"'All hospitals'!C257","v":"Trangie"},{"$f":"'All hospitals'!E257","v":" -"},{"$f":"'All hospitals'!F257","v":"02 6880 8200"},{"$f":"'All hospitals'!AE257","v":0},{"$f":"'All hospitals'!AF257","v":" -"},{"$f":"'All hospitals'!AG257","v":" -"},{"$f":"'All hospitals'!AH257","v":" -"}]
[null,{"$f":"'All hospitals'!B258","v":"Trundle Multi Purpose Service "},{"$f":"'All hospitals'!C258","v":"Trundle"},{"$f":"'All hospitals'!E258","v":"02 6892 1900"},{"$f":"'All hospitals'!F258","v":"02 6892 1900"},{"$f":"'All hospitals'!AE258","v":0},{"$f":"'All hospitals'!AF258","v":" -"},{"$f":"'All hospitals'!AG258","v":" -"},{"$f":"'All hospitals'!AH258","v":" -"}]
[null,{"$f":"'All hospitals'!B259","v":"Tullamore Multi Purpose Service "},{"$f":"'All hospitals'!C259","v":"Tullamore"},{"$f":"'All hospitals'!E259","v":"02 6892 6400"},{"$f":"'All hospitals'!F259","v":"02 6892 6400"},{"$f":"'All hospitals'!AE259","v":0},{"$f":"'All hospitals'!AF259","v":" -"},{"$f":"'All hospitals'!AG259","v":" -"},{"$f":"'All hospitals'!AH259","v":" -"}]
[null,{"$f":"'All hospitals'!B260","v":"Walgett District Hospital "},{"$f":"'All hospitals'!C260","v":"Walgett"},{"$f":"'All hospitals'!E260","v":"02 6817 9400"},{"$f":"'All hospitals'!F260","v":"02 6817 9400"},{"$f":"'All hospitals'!AE260","v":0},{"$f":"'All hospitals'!AF260","v":" - "},{"$f":"'All hospitals'!AG260","v":" -"},{"$f":"'All hospitals'!AH260","v":" -"}]
[null,{"$f":"'All hospitals'!B261","v":"Wanaaring Health Service NO STOCKS HELD"},{"$f":"'All hospitals'!C261","v":"Wanaaring"},{"$f":"'All hospitals'!E261","v":"02 6874 7721"},{"$f":"'All hospitals'!F261","v":"02 6874 7721"},{"$f":"'All hospitals'!AE261","v":0},{"$f":"'All hospitals'!AF261","v":" -"},{"$f":"'All hospitals'!AG261","v":" -"},{"$f":"'All hospitals'!AH261","v":" -"}]
[null,{"$f":"'All hospitals'!B262","v":"Warren Multi Purpose Service (Stock data TBC)"},{"$f":"'All hospitals'!C262","v":"Warren"},{"$f":"'All hospitals'!E262","v":"02 6847 4303"},{"$f":"'All hospitals'!F262","v":"02 6847 5400"},{"$f":"'All hospitals'!AE262","v":0},{"$f":"'All hospitals'!AF262","v":" -"},{"$f":"'All hospitals'!AG262","v":" -"},{"$f":"'All hospitals'!AH262","v":" -"}]
[null,{"$f":"'All hospitals'!B263","v":"Wellington Health Service"},{"$f":"'All hospitals'!C263","v":"Wellington"},{"$f":"'All hospitals'!E263","v":"02 6840 7200"},{"$f":"'All hospitals'!F263","v":"02 6840 8200"},{"$f":"'All hospitals'!AE263","v":0},{"$f":"'All hospitals'!AF263","v":" -"},{"$f":"'All hospitals'!AG263","v":" -"},{"$f":"'All hospitals'!AH263","v":" -"}]
[null,{"$f":"'All hospitals'!B264","v":"-"},{"$f":"'All hospitals'!C264","v":"-"},{"$f":"'All hospitals'!E264","v":"-"},{"$f":"'All hospitals'!F264","v":"-"},{"$f":"'All hospitals'!AE264","v":"-"},{"$f":"'All hospitals'!AF264","v":"-"},{"$f":"'All hospitals'!AG264","v":"-"},{"$f":"'All hospitals'!AH264","v":"-"}]
[null,{"$f":"'All hospitals'!B265","v":"WESTERN SYDNEY LHD & OTHER"}]
[null,{"$f":"'All hospitals'!B266","v":"Auburn Hospital"},{"$f":"'All hospitals'!C266","v":"Auburn"},{"$f":"'All hospitals'!E266","v":"02 8759 3302"},{"$f":"'All hospitals'!F266","v":"02 8759 3000"},{"$f":"'All hospitals'!AE266","v":0},{"$f":"'All hospitals'!AF266","v":" -"},{"$f":"'All hospitals'!AG266","v":" -"},{"$f":"'All hospitals'!AH266","v":" -"}]
[null,{"$f":"'All hospitals'!B267","v":"Blacktown Hospital "},{"$f":"'All hospitals'!C267","v":"Blacktown"},{"$f":"'All hospitals'!E267","v":"02 9881 8142"},{"$f":"'All hospitals'!F267","v":"02 9881 8000 (afterhours nurse manager via switch)"},{"$f":"'All hospitals'!AE267","v":1},{"$f":"'All hospitals'!AF267","v":" -"},{"$f":"'All hospitals'!AG267","v":" -"},{"$f":"'All hospitals'!AH267","v":" -"}]
[null,{"$f":"'All hospitals'!B268","v":"Mount Druitt Hospital "},{"$f":"'All hospitals'!C268","v":"Mount Druitt NSW"},{"$f":"'All hospitals'!E268","v":"02 9881 1581"},{"$f":"'All hospitals'!F268","v":"02 9881 1555  (afterhours nurse manager via switch)"},{"$f":"'All hospitals'!AE268","v":0},{"$f":"'All hospitals'!AF268","v":" -"},{"$f":"'All hospitals'!AG268","v":" -"},{"$f":"'All hospitals'!AH268","v":" -"}]
[null,{"$f":"'All hospitals'!B269","v":"Westmead Hospital "},{"$f":"'All hospitals'!C269","v":"Westmead"},{"$f":"'All hospitals'!E269","v":"02 8890 5555"},{"$f":"'All hospitals'!F269","v":"02 8890 5555 (on call pharmacist via switch)"},{"$f":"'All hospitals'!AE269","v":1},{"$f":"'All hospitals'!AF269","v":"ED"},{"$f":"'All hospitals'!AG269","v":" -"},{"$f":"'All hospitals'!AH269","v":" -"}]
[null,{"$f":"'All hospitals'!B270","v":"-"},{"$f":"'All hospitals'!C270","v":"-"},{"$f":"'All hospitals'!E270","v":"-"},{"$f":"'All hospitals'!F270","v":"-"},{"$f":"'All hospitals'!AE270","v":"-"},{"$f":"'All hospitals'!AF270","v":"-"},{"$f":"'All hospitals'!AG270","v":"-"},{"$f":"'All hospitals'!AH270","v":"-"}]
[null,{"$f":"'All hospitals'!B271","v":"PRIVATE HOSPITALS & OTHER"}]
[null,{"$f":"'All hospitals'!B272","v":"Macquarie University Hospital NO STOCKS HELD"},{"$f":"'All hospitals'!C272","v":"North Ryde"},{"$f":"'All hospitals'!E272","v":"02 98875500"},{"$f":"'All hospitals'!F272","v":"NA"},{"$f":"'All hospitals'!AE272","v":0},{"$f":"'All hospitals'!AF272","v":"-"},{"$f":"'All hospitals'!AG272","v":0},{"$f":"'All hospitals'!AH272","v":"-"}]
[null,{"$f":"'All hospitals'!B273","v":"Norwest Private Hospital (Stock data TBC)"},{"$f":"'All hospitals'!C273","v":"Bella Vista"},{"$f":"'All hospitals'!E273","v":"02 8882 8555"},{"$f":"'All hospitals'!F273","v":"02 8882 8555"},{"$f":"'All hospitals'!AE273","v":0},{"$f":"'All hospitals'!AF273","v":"-"},{"$f":"'All hospitals'!AG273","v":"-"},{"$f":"'All hospitals'!AH273","v":"-"},null,"Back to Index","Back to 'All hospitals' tab"]

{"sheet":"Death adder snake","index":9,"n_rows":253,"n_cols":12,"rows_kept":253,"cut":false,"hidden":false,"merged":[[196,1,196,3],[201,1,201,3],[244,1,244,3],[157,1,157,3],[165,1,165,3],[173,1,173,3],[187,1,187,3],[190,1,190,3],[86,1,86,3],[95,1,95,3],[128,1,128,3],[134,1,134,3],[148,1,148,3],[14,1,14,3],[18,1,18,3],[22,1,22,3],[34,1,34,3],[74,1,74,3],[10,1,10,3],[3,1,3,8],[0,1,0,8],[2,1,2,8],[4,1,4,8],[6,1,6,4],[6,5,7,8],[7,1,9,1],[7,2,9,2],[7,3,9,3],[7,4,9,4],[8,5,9,5],[8,6,9,6],[8,7,9,7],[8,8,9,8]]}
[null,{"$f":"'All hospitals'!$B$1","v":"Last modified: 14/01/2021"}]
[]
[null,{"$f":"'All hospitals'!$AI$28","v":"DEATH ADDER SNAKE"}]
[null,"OTHER ANTIVENOM"]
[null,{"$f":"'All hospitals'!$AI$29","v":"Rarely used, polyvalent antivenom can be used instead. "},null,null,null,null,null,null,null,null,"Back to Index","Back to 'All hospitals' tab"]
[]
[null,"HOSPITAL DETAILS",null,null,null,"AVAILABILITY"]
[null,"Hospital name:\n\"Stock data TBC\" indicates that the hospital has not provided an update to the stockholding data.                                            ","Town/city","Phone number (business hours)","Phone number (after hours)"]
[null,null,null,null,null,"Number of vials","Location 1","Number of vials","Location 2"]
[]
[null,{"$f":"'All hospitals'!B31","v":"ACT"},null,null,null,null,null,null,null,null,"Click to jump to LHD or network"]
[null,{"$f":"'All hospitals'!B32","v":"Calvary Public Hospital "},{"$f":"'All hospitals'!C32","v":"Canberra"},{"$f":"'All hospitals'!E32","v":"02 6201 6265 "},{"$f":"'All hospitals'!F32","v":"0413 611 319"},{"$f":"'All hospitals'!AI32","v":0},{"$f":"'All hospitals'!AJ32","v":" -"},{"$f":"'All hospitals'!AK32","v":" -"},{"$f":"'All hospitals'!AL32","v":" -"},null,"ACT"]
[null,{"$f":"'All hospitals'!B33","v":"The Canberra Hospital"},{"$f":"'All hospitals'!C33","v":"Canberra"},{"$f":"'All hospitals'!E33","v":"02 5124 0000"},{"$f":"'All hospitals'!F33","v":"0401 710 831"},{"$f":"'All hospitals'!AI33","v":1},{"$f":"'All hospitals'!AJ33","v":"Pharmacy"},{"$f":"'All hospitals'!AK33","v":1},{"$f":"'All hospitals'!AL33","v":"ED"},null,"ALBURY WODONGA HEALTH"]
[null,{"$f":"'All hospitals'!B34","v":"-"},{"$f":"'All hospitals'!C34","v":"-"},{"$f":"'All hospitals'!E34","v":"-"},null,{"$f":"'All hospitals'!AI34","v":"-"},{"$f":"'All hospitals'!AJ34","v":"-"},{"$f":"'All hospitals'!AK34","v":"-"},{"$f":"'All hospitals'!AL34","v":"-"},null,"CENTRAL COAST LHD"]
[null,{"$f":"'All hospitals'!B35","v":"ALBURY WODONGA HEALTH"},null,null,null,null,null,null,null,null,"FAR WEST LHD"]
[null,{"$f":"'All hospitals'!B36","v":"Albury Hospital"},{"$f":"'All hospitals'!C36","v":"Albury"},{"$f":"'All hospitals'!E36","v":"02 6058 4665"},{"$f":"'All hospitals'!F36","v":"02 6058 4444"},{"$f":"'All hospitals'!AI36","v":0},{"$f":"'All hospitals'!AJ36","v":" -"},{"$f":"'All hospitals'!AK36","v":" -"},{"$f":"'All hospitals'!AL36","v":" -"},null,"HUNTER NEW ENGLAND LHD"]
[null,{"$f":"'All hospitals'!B37","v":"Wodonga Hospital"},{"$f":"'All hospitals'!C37","v":"Wodonga"},{"$f":"'All hospitals'!E37","v":"02 6051 7485"},{"$f":"'All hospitals'!F37","v":"02 6051 7111"},{"$f":"'All hospitals'!AI37","v":0},{"$f":"'All hospitals'!AJ37","v":" -"},{"$f":"'All hospitals'!AK37","v":" -"},{"$f":"'All hospitals'!AL37","v":" -"},null,"ILLAWARRA SHOALHAVEN LHD"]
[null,{"$f":"'All hospitals'!B38","v":"-"},{"$f":"'All hospitals'!C38","v":"-"},{"$f":"'All hospitals'!E38","v":"-"},null,{"$f":"'All hospitals'!AI38","v":"-"},{"$f":"'All hospitals'!AJ38","v":"-"},{"$f":"'All hospitals'!AK38","v":"-"},{"$f":"'All hospitals'!AL38","v":"-"},null,"MID NORTH COAST LHD"]
[null,"CENTRAL COAST LHD",null,null,null,null,null,null,null,null,"MURRUMBIDGEE LHD"]
[null,{"$f":"'All hospitals'!B40","v":"Gosford Hospital"},{"$f":"'All hospitals'!C40","v":"Gosford "},{"$f":"'All hospitals'!E40","v":"02 4320 2111"},{"$f":"'All hospitals'!F40","v":"02 4320 2111 (page on-call pharmacist)"},{"$f":"'All hospitals'!AI40","v":1},{"$f":"'All hospitals'!AJ40","v":"ED  "},{"$f":"'All hospitals'!AK40","v":1},{"$f":"'All hospitals'!AL40","v":"Pharmacy "},null,"NEPEAN BLUE MOUNTAINS LHD"]
[null,{"$f":"'All hospitals'!B41","v":"Wyong Hospital"},{"$f":"'All hospitals'!C41","v":"Wyong"},{"$f":"'All hospitals'!E41","v":"02 4394 7930"},{"$f":"'All hospitals'!F41","v":"02 4394 8000 (page on-call pharmacist)"},{"$f":"'All hospitals'!AI41","v":1},{"$f":"'All hospitals'!AJ41","v":"ED "},{"$f":"'All hospitals'!AK41","v":1},{"$f":"'All hospitals'!AL41","v":"Pharmacy "},null,"NORTHERN NSW LHD"]
[null,{"$f":"'All hospitals'!B42","v":"-"},{"$f":"'All hospitals'!C42","v":"-"},{"$f":"'All hospitals'!E42","v":"-"},null,{"$f":"'All hospitals'!AI42","v":"-"},{"$f":"'All hospitals'!AJ42","v":"-"},{"$f":"'All hospitals'!AK42","v":"-"},{"$f":"'All hospitals'!AL42","v":"-"},null,"NORTHERN SYDNEY LHD"]
[null,{"$f":"'All hospitals'!B43","v":"FAR WEST LHD"},null,null,null,null,null,null,null,null,"SOUTH EASTERN SYDNEY LHD"]
[null,{"$f":"'All hospitals'!B44","v":"Balranald Multi Purpose Service "},{"$f":"'All hospitals'!C44","v":"Balranald"},{"$f":"'All hospitals'!E44","v":"03 5071 9800"},{"$f":"'All hospitals'!F44","v":"03 5071 9800"},{"$f":"'All hospitals'!AI44","v":0},{"$f":"'All hospitals'!AJ44","v":" -"},{"$f":"'All hospitals'!AK44","v":" -"},{"$f":"'All hospitals'!AL44","v":" -"},null,"SOUTH WESTERN SYDNEY LHD"]
[null,{"$f":"'All hospitals'!B45","v":"Broken Hill Health Service"},{"$f":"'All hospitals'!C45","v":"Broken Hill"},{"$f":"'All hospitals'!E45","v":"08 8080 1466  "},{"$f":"'All hospitals'!F45","v":"08 8080 1333 "},{"$f":"'All hospitals'!AI45","v":0},{"$f":"'All hospitals'!AJ45","v":" -"},{"$f":"'All hospitals'!AK45","v":" -"},{"$f":"'All hospitals'!AL45","v":" -"},null,"SOUTHERN NSW"]
[null,{"$f":"'All hospitals'!B46","v":"Dareton Primary Health Service (No ED services)"},{"$f":"'All hospitals'!C46","v":"Dareton"},{"$f":"'All hospitals'!E46","v":"03 5021 7200"},{"$f":"'All hospitals'!F46","v":"BH only"},{"$f":"'All hospitals'!AI46","v":0},{"$f":"'All hospitals'!AJ46","v":" -"},{"$f":"'All hospitals'!AK46","v":" -"},{"$f":"'All hospitals'!AL46","v":" -"},null,"ST VINCENT'S HEALTH"]
[null,{"$f":"'All hospitals'!B47","v":"Ivanhoe Health Service"},{"$f":"'All hospitals'!C47","v":"Ivanhoe"},{"$f":"'All hospitals'!E47","v":"02 6990 2200"},{"$f":"'All hospitals'!F47","v":"02 6990 2200"},{"$f":"'All hospitals'!AI47","v":0},{"$f":"'All hospitals'!AJ47","v":" -"},{"$f":"'All hospitals'!AK47","v":" -"},{"$f":"'All hospitals'!AL47","v":" -"},null,"SYDNEY LHD"]
[null,{"$f":"'All hospitals'!B48","v":"Menindee Health Service "},{"$f":"'All hospitals'!C48","v":"Menindee"},{"$f":"'All hospitals'!E48","v":"08 8091 4209"},{"$f":"'All hospitals'!F48","v":"08 8091 4209"},{"$f":"'All hospitals'!AI48","v":0},{"$f":"'All hospitals'!AJ48","v":" -"},{"$f":"'All hospitals'!AK48","v":" -"},{"$f":"'All hospitals'!AL48","v":" -"},null,"SYDNEY CHILDREN'S HOSPITALS NETWORK"]
[null,{"$f":"'All hospitals'!B49","v":"Royal Flying Doctor Service Broken Hill"},{"$f":"'All hospitals'!C49","v":"Broken Hill"},{"$f":"'All hospitals'!E49","v":"08 8080 3780"},{"$f":"'All hospitals'!F49","v":"0437 370 702"},{"$f":"'All hospitals'!AI49","v":0},{"$f":"'All hospitals'!AJ49","v":" -"},{"$f":"'All hospitals'!AK49","v":" -"},{"$f":"'All hospitals'!AL49","v":" -"},null,"WESTERN NSW LHD"]
[null,{"$f":"'All hospitals'!B50","v":"Tibooburra Health Service"},{"$f":"'All hospitals'!C50","v":"Tibooburra"},{"$f":"'All hospitals'!E50","v":"08 8091 3302 "},{"$f":"'All hospitals'!F50","v":"08 8091 3302"},{"$f":"'All hospitals'!AI50","v":0},{"$f":"'All hospitals'!AJ50","v":" -"},{"$f":"'All hospitals'!AK50","v":" -"},{"$f":"'All hospitals'!AL50","v":" -"},null,"WESTERN SYDNEY LHD & OTHER"]
[null,{"$f":"'All hospitals'!B51","v":"Wentworth District Hospital (No ED services)"},{"$f":"'All hospitals'!C51","v":"Wentworth"},{"$f":"'All hospitals'!E51","v":"03 5027 2345"},{"$f":"'All hospitals'!F51","v":"03 5027 2345"},{"$f":"'All hospitals'!AI51","v":0},{"$f":"'All hospitals'!AJ51","v":" -"},{"$f":"'All hospitals'!AK51","v":" -"},{"$f":"'All hospitals'!AL51","v":" -"},null,"PRIVATE HOSPITALS & OTHER"]
[null,{"$f":"'All hospitals'!B52","v":"White Cliffs Health Service"},{"$f":"'All hospitals'!C52","v":"White Cliffs"},{"$f":"'All hospitals'!E52","v":"08 8091 6605 "},{"$f":"'All hospitals'!F52","v":"08 80916605"},{"$f":"'All hospitals'!AI52","v":0},{"$f":"'All hospitals'!AJ52","v":" -"},{"$f":"'All hospitals'!AK52","v":" -"},{"$f":"'All hospitals'!AL52","v":" -"}]
[null,{"$f":"'All hospitals'!B53","v":"Wilcannia Multi Purpose Service"},{"$f":"'All hospitals'!C53","v":"Wilcannia"},{"$f":"'All hospitals'!E53","v":"08 8083 8777"},{"$f":"'All hospitals'!F53","v":"08 8083 8777"},{"$f":"'All hospitals'!AI53","v":0},{"$f":"'All hospitals'!AJ53","v":" -"},{"$f":"'All hospitals'!AK53","v":" -"},{"$f":"'All hospitals'!AL53","v":" -"}]
[null,{"$f":"'All hospitals'!B54","v":"-"},{"$f":"'All hospitals'!C54","v":"-"},{"$f":"'All hospitals'!D54","v":"-"},{"$f":"'All hospitals'!E54","v":"-"},{"$f":"'All hospitals'!AI54","v":"-"},{"$f":"'All hospitals'!AJ54","v":"-"},{"$f":"'All hospitals'!AK54","v":"-"},{"$f":"'All hospitals'!AL54","v":"-"}]
[null,{"$f":"'All hospitals'!B55","v":"HUNTER NEW ENGLAND LHD"}]
[null,{"$f":"'All hospitals'!B56","v":"Armidale Rural Referral Hospital"},{"$f":"'All hospitals'!C56","v":"Armidale"},{"$f":"'All hospitals'!E56","v":"02 6776 9500"},{"$f":"'All hospitals'!F56","v":"02 6776 9500     "},{"$f":"'All hospitals'!AI56","v":0},{"$f":"'All hospitals'!AJ56","v":" -"},{"$f":"'All hospitals'!AK56","v":" -"},{"$f":"'All hospitals'!AL56","v":" -"}]
[null,{"$f":"'All hospitals'!B57","v":"Barraba Multi Purpose Service"},{"$f":"'All hospitals'!C57","v":"Barraba"},{"$f":"'All hospitals'!E57","v":"02 6782 2500"},{"$f":"'All hospitals'!F57","v":"02 6782 2522"},{"$f":"'All hospitals'!AI57","v":0},{"$f":"'All hospitals'!AJ57","v":" -"},{"$f":"'All hospitals'!AK57","v":" -"},{"$f":"'All hospitals'!AL57","v":" -"}]
[null,{"$f":"'All hospitals'!B58","v":"Belmont Hospital "},{"$f":"'All hospitals'!C58","v":"Belmont"},{"$f":"'All hospitals'!E58","v":"02 4923 2249"},{"$f":"'All hospitals'!F58","v":"02 4923 2000"},{"$f":"'All hospitals'!AI58","v":0},{"$f":"'All hospitals'!AJ58","v":" -"},{"$f":"'All hospitals'!AK58","v":" -"},{"$f":"'All hospitals'!AL58","v":" -"}]
[null,{"$f":"'All hospitals'!B59","v":"Bingara Multi Purpose Service"},{"$f":"'All hospitals'!C59","v":"Bingara"},{"$f":"'All hospitals'!E59","v":"02 6728 0100"},{"$f":"'All hospitals'!F59","v":"02 6728 0100"},{"$f":"'All hospitals'!AI59","v":0},{"$f":"'All hospitals'!AJ59","v":" -"},{"$f":"'All hospitals'!AK59","v":" -"},{"$f":"'All hospitals'!AL59","v":" -"}]
[null,{"$f":"'All hospitals'!B60","v":"Boggabri Multi Purpose Service"},{"$f":"'All hospitals'!C60","v":"Boggabri"},{"$f":"'All hospitals'!E60","v":"02 6749 7000"},{"$f":"'All hospitals'!F60","v":"02 67497000"},{"$f":"'All hospitals'!AI60","v":0},{"$f":"'All hospitals'!AJ60","v":" -"},{"$f":"'All hospitals'!AK60","v":" -"},{"$f":"'All hospitals'!AL60","v":" -"}]
[null,{"$f":"'All hospitals'!B61","v":"Bulahdelah Hospital NO STOCKS HELD"},{"$f":"'All hospitals'!C61","v":"Bulahdelah"},{"$f":"'All hospitals'!E61","v":"02 4987 9900"},{"$f":"'All hospitals'!F61","v":"02 4987 9900"},{"$f":"'All hospitals'!AI61","v":0},{"$f":"'All hospitals'!AJ61","v":" -"},{"$f":"'All hospitals'!AK61","v":" -"},{"$f":"'All hospitals'!AL61","v":" -"}]
[null,{"$f":"'All hospitals'!B62","v":"Calvary Mater Hospital Newcastle "},{"$f":"'All hospitals'!C62","v":"Newcastle"},{"$f":"'All hospitals'!E62","v":"02 4921 1211"},{"$f":"'All hospitals'!F62","v":"02 4921 1211"},{"$f":"'All hospitals'!AI62","v":0},{"$f":"'All hospitals'!AJ62","v":" -"},{"$f":"'All hospitals'!AK62","v":" -"},{"$f":"'All hospitals'!AL62","v":" -"}]
[null,{"$f":"'All hospitals'!B63","v":"Cessnock District Hospital"},{"$f":"'All hospitals'!C63","v":"Cessnock"},{"$f":"'All hospitals'!E63","v":"02 4991 0555(hospital)\n02 4991 0456(pharmacy)"},{"$f":"'All hospitals'!F63","v":"0438 212 862"},{"$f":"'All hospitals'!AI63","v":0},{"$f":"'All hospitals'!AJ63","v":" -"},{"$f":"'All hospitals'!AK63","v":" -"},{"$f":"'All hospitals'!AL63","v":" -"}]
[null,{"$f":"'All hospitals'!B64","v":"Denman Multi Purpose Service (Stock data TBC)"},{"$f":"'All hospitals'!C64","v":"Denman"},{"$f":"'All hospitals'!E64","v":"02 6547 3999"},{"$f":"'All hospitals'!F64","v":"02 6547 3905 "},{"$f":"'All hospitals'!AI64","v":0},{"$f":"'All hospitals'!AJ64","v":" -"},{"$f":"'All hospitals'!AK64","v":" -"},{"$f":"'All hospitals'!AL64","v":" -"}]
[null,{"$f":"'All hospitals'!B65","v":"Dungog Community Hospital"},{"$f":"'All hospitals'!C65","v":"Dungog"},{"$f":"'All hospitals'!E65","v":"02 4939 2226"},{"$f":"'All hospitals'!F65","v":"02 4992 1266"},{"$f":"'All hospitals'!AI65","v":0},{"$f":"'All hospitals'!AJ65","v":" -"},{"$f":"'All hospitals'!AK65","v":" -"},{"$f":"'All hospitals'!AL65","v":" -"}]
[null,{"$f":"'All hospitals'!B66","v":"Glen Innes District Hospital "},{"$f":"'All hospitals'!C66","v":"Glen Innes"},{"$f":"'All hospitals'!E66","v":"02 6739 0200"},{"$f":"'All hospitals'!F66","v":"02 6739 0200"},{"$f":"'All hospitals'!AI66","v":0},{"$f":"'All hospitals'!AJ66","v":" -"},{"$f":"'All hospitals'!AK66","v":" -"},{"$f":"'All hospitals'!AL66","v":" -"}]
[null,{"$f":"'All hospitals'!B67","v":"Gloucester Soldiers Memorial Hospital (Stock data TBC)"},{"$f":"'All hospitals'!C67","v":"Gloucester"},{"$f":"'All hospitals'!E67","v":"02 6538 5000"},{"$f":"'All hospitals'!F67","v":"02 6538 5000"},{"$f":"'All hospitals'!AI67","v":0},{"$f":"'All hospitals'!AJ67","v":" -"},{"$f":"'All hospitals'!AK67","v":" -"},{"$f":"'All hospitals'!AL67","v":" -"}]
[null,{"$f":"'All hospitals'!B68","v":"Gunnedah Hospital"},{"$f":"'All hospitals'!C68","v":"Gunnedah"},{"$f":"'All hospitals'!E68","v":"02 6741 8000"},{"$f":"'All hospitals'!F68","v":"02 6741 8031"},{"$f":"'All hospitals'!AI68","v":0},{"$f":"'All hospitals'!AJ68","v":"-"},{"$f":"'All hospitals'!AK68","v":"-"},{"$f":"'All hospitals'!AL68","v":"-"}]
[null,{"$f":"'All hospitals'!B69","v":"Guyra Multi Purpose Service "},{"$f":"'All hospitals'!C69","v":"Guyra"},{"$f":"'All hospitals'!E69","v":"02 6738 4000"},{"$f":"'All hospitals'!F69","v":"02 6738 4000"},{"$f":"'All hospitals'!AI69","v":0},{"$f":"'All hospitals'!AJ69","v":" -"},{"$f":"'All hospitals'!AK69","v":" -"},{"$f":"'All hospitals'!AL69","v":" -"}]
[null,{"$f":"'All hospitals'!B70","v":"Inverell Hospital "},{"$f":"'All hospitals'!C70","v":"Inverell"},{"$f":"'All hospitals'!E70","v":"02 6721 9500"},{"$f":"'All hospitals'!F70","v":"02 6721 9540"},{"$f":"'All hospitals'!AI70","v":0},{"$f":"'All hospitals'!AJ70","v":" -"},{"$f":"'All hospitals'!AK70","v":" -"},{"$f":"'All hospitals'!AL70","v":" -"}]
[null,{"$f":"'All hospitals'!B71","v":"John Hunter Hospital "},{"$f":"'All hospitals'!C71","v":"Newcastle"},{"$f":"'All hospitals'!E71","v":"02 4921 3635"},{"$f":"'All hospitals'!F71","v":"0408 263 586"},{"$f":"'All hospitals'!AI71","v":0},{"$f":"'All hospitals'!AJ71","v":"-"},{"$f":"'All hospitals'!AK71","v":"-"},{"$f":"'All hospitals'!AL71","v":"-"}]
[null,{"$f":"'All hospitals'!B72","v":"Kurri Kurri Hospital"},{"$f":"'All hospitals'!C72","v":"Kurri Kurri"},{"$f":"'All hospitals'!E72","v":"02 4936 3234"},{"$f":"'All hospitals'!F72","v":"02 4936 3200"},{"$f":"'All hospitals'!AI72","v":0},{"$f":"'All hospitals'!AJ72","v":" -"},{"$f":"'All hospitals'!AK72","v":" -"},{"$f":"'All hospitals'!AL72","v":" -"}]
[null,{"$f":"'All hospitals'!B73","v":"Manning Base Hospital"},{"$f":"'All hospitals'!C73","v":"Taree"},{"$f":"'All hospitals'!E73","v":"02 6592 9244"},{"$f":"'All hospitals'!F73","v":"02 6592 9014"},{"$f":"'All hospitals'!AI73","v":0},{"$f":"'All hospitals'!AJ73","v":" -"},{"$f":"'All hospitals'!AK73","v":" -"},{"$f":"'All hospitals'!AL73","v":" -"}]
[null,{"$f":"'All hospitals'!B74","v":"Manilla Hospital"},{"$f":"'All hospitals'!C74","v":"Manilla"},{"$f":"'All hospitals'!E74","v":"02 6785 4000"},{"$f":"'All hospitals'!F74","v":"02 6785 4000"},{"$f":"'All hospitals'!AI74","v":0},{"$f":"'All hospitals'!AJ74","v":" -"},{"$f":"'All hospitals'!AK74","v":" -"},{"$f":"'All hospitals'!AL74","v":" -"}]
[null,{"$f":"'All hospitals'!B75","v":"Merriwa Multi Purpose Service (Stock data TBC)"},{"$f":"'All hospitals'!C75","v":"Merriwa"},{"$f":"'All hospitals'!E75","v":"02 6532 5000"},{"$f":"'All hospitals'!F75","v":"02 6532 5000"},{"$f":"'All hospitals'!AI75","v":0},{"$f":"'All hospitals'!AJ75","v":" -"},{"$f":"'All hospitals'!AK75","v":" -"},{"$f":"'All hospitals'!AL75","v":" -"}]
[null,{"$f":"'All hospitals'!B76","v":"Moree Hospital "},{"$f":"'All hospitals'!C76","v":"Moree"},{"$f":"'All hospitals'!E76","v":"02 6757 0031"},{"$f":"'All hospitals'!F76","v":"02 6757 0031"},{"$f":"'All hospitals'!AI76","v":0},{"$f":"'All hospitals'!AJ76","v":"-"},{"$f":"'All hospitals'!AK76","v":"-"},{"$f":"'All hospitals'!AL76","v":"-"}]
[null,{"$f":"'All hospitals'!B77","v":"Muswellbrook Hospital (Stock data TBC)"},{"$f":"'All hospitals'!C77","v":"Muswellbrook"},{"$f":"'All hospitals'!E77","v":"02 6542 2000"},{"$f":"'All hospitals'!F77","v":"02 6542 2000"},{"$f":"'All hospitals'!AI77","v":0},{"$f":"'All hospitals'!AJ77","v":" -"},{"$f":"'All hospitals'!AK77","v":" -"},{"$f":"'All hospitals'!AL77","v":"-"}]
[null,{"$f":"'All hospitals'!B78","v":"Narrabri Hospital"},{"$f":"'All hospitals'!C78","v":"Narrabri"},{"$f":"'All hospitals'!E78","v":"02 6799 2800"},{"$f":"'All hospitals'!F78","v":"02 6799 2105"},{"$f":"'All hospitals'!AI78","v":0},{"$f":"'All hospitals'!AJ78","v":"-"},{"$f":"'All hospitals'!AK78","v":"-"},{"$f":"'All hospitals'!AL78","v":"-"}]
[null,{"$f":"'All hospitals'!B79","v":"Quirindi Hospital"},{"$f":"'All hospitals'!C79","v":"Quirindi"},{"$f":"'All hospitals'!E79","v":"02 6746 0200"},{"$f":"'All hospitals'!F79","v":"02 6746 0200"},{"$f":"'All hospitals'!AI79","v":0},{"$f":"'All hospitals'!AJ79","v":" -"},{"$f":"'All hospitals'!AK79","v":" -"},{"$f":"'All hospitals'!AL79","v":" -"}]
[null,{"$f":"'All hospitals'!B80","v":"Scott Memorial Hospital (Stock data TBC)"},{"$f":"'All hospitals'!C80","v":"Scone"},{"$f":"'All hospitals'!E80","v":"02 6540 2100"},{"$f":"'All hospitals'!F80","v":"02 6540 2100"},{"$f":"'All hospitals'!AI80","v":0},{"$f":"'All hospitals'!AJ80","v":" -"},{"$f":"'All hospitals'!AK80","v":" -"},{"$f":"'All hospitals'!AL80","v":" -"}]
[null,{"$f":"'All hospitals'!B81","v":"Singleton District Hospital (Stock data TBC)"},{"$f":"'All hospitals'!C81","v":"Singleton"},{"$f":"'All hospitals'!E81","v":"02 6571 9222"},{"$f":"'All hospitals'!F81","v":"02 6571 9222"},{"$f":"'All hospitals'!AI81","v":0},{"$f":"'All hospitals'!AJ81","v":" -"},{"$f":"'All hospitals'!AK81","v":" -"},{"$f":"'All hospitals'!AL81","v":" -"}]
[null,{"$f":"'All hospitals'!B82","v":"Tamworth Rural Referral Hospital "},{"$f":"'All hospitals'!C82","v":"Tamworth"},{"$f":"'All hospitals'!E82","v":"02 6727 7370 "},{"$f":"'All hospitals'!F82","v":"02 6767 7700"},{"$f":"'All hospitals'!AI82","v":0},{"$f":"'All hospitals'!AJ82","v":"-"},{"$f":"'All hospitals'!AK82","v":"-"},{"$f":"'All hospitals'!AL82","v":"-"}]
[null,{"$f":"'All hospitals'!B83","v":"Tenterfield/Prince Albert Hospital "},{"$f":"'All hospitals'!C83","v":"Tenterfield"},{"$f":"'All hospitals'!E83","v":"02 6739 5200"},{"$f":"'All hospitals'!F83","v":"02 6739 5200"},{"$f":"'All hospitals'!AI83","v":0},{"$f":"'All hospitals'!AJ83","v":" -"},{"$f":"'All hospitals'!AK83","v":" -"},{"$f":"'All hospitals'!AL83","v":" -"}]
[null,{"$f":"'All hospitals'!B84","v":"The Maitland Hospital"},{"$f":"'All hospitals'!C84","v":"Maitland"},{"$f":"'All hospitals'!E84","v":"02 4939 2226"},{"$f":"'All hospitals'!F84","v":"02 4939 2000"},{"$f":"'All hospitals'!AI84","v":0},{"$f":"'All hospitals'!AJ84","v":" -"},{"$f":"'All hospitals'!AK84","v":" -"},{"$f":"'All hospitals'!AL84","v":" -"}]
[null,{"$f":"'All hospitals'!B85","v":"Tingha Multi Purpose Service NO STOCKS HELD"},{"$f":"'All hospitals'!C85","v":"Tingha"},{"$f":"'All hospitals'!E85","v":"02 6723 3900"},{"$f":"'All hospitals'!F85","v":"02 6723 9000"},{"$f":"'All hospitals'!AI85","v":0},{"$f":"'All hospitals'!AJ85","v":" -"},{"$f":"'All hospitals'!AK85","v":" -"},{"$f":"'All hospitals'!AL85","v":" -"}]
[null,{"$f":"'All hospitals'!B86","v":"Tomaree Community Hospital (Stock data TBC)"},{"$f":"'All hospitals'!C86","v":"Tomaree"},{"$f":"'All hospitals'!E86","v":"02 4923 2249"},{"$f":"'All hospitals'!F86","v":"02 4923 2000"},{"$f":"'All hospitals'!AI86","v":0},{"$f":"'All hospitals'!AJ86","v":" -"},{"$f":"'All hospitals'!AK86","v":" -"},{"$f":"'All hospitals'!AL86","v":" -"}]
[null,{"$f":"'All hospitals'!B87","v":"Vegetable Creek Multipurpose Service"},{"$f":"'All hospitals'!C87","v":"Emmaville"},{"$f":"'All hospitals'!E87","v":"02 6734  7900"},{"$f":"'All hospitals'!F87","v":"02 6734 7900"},{"$f":"'All hospitals'!AI87","v":0},{"$f":"'All hospitals'!AJ87","v":" -"},{"$f":"'All hospitals'!AK87","v":" -"},{"$f":"'All hospitals'!AL87","v":" -"}]
[null,{"$f":"'All hospitals'!B88","v":"Walcha Multi Purpose Service "},{"$f":"'All hospitals'!C88","v":"Walcha"},{"$f":"'All hospitals'!E88","v":"02 6777 4200"},{"$f":"'All hospitals'!F88","v":"02 6777 4200"},{"$f":"'All hospitals'!AI88","v":0},{"$f":"'All hospitals'!AJ88","v":" -"},{"$f":"'All hospitals'!AK88","v":" -"},{"$f":"'All hospitals'!AL88","v":" -"}]
[null,{"$f":"'All hospitals'!B89","v":"Warialda Multi Purpose Service "},{"$f":"'All hospitals'!C89","v":"Warialda"},{"$f":"'All hospitals'!E89","v":"02 6728 9000"},{"$f":"'All hospitals'!F89","v":"0428 753 175"},{"$f":"'All hospitals'!AI89","v":0},{"$f":"'All hospitals'!AJ89","v":"-"},{"$f":"'All hospitals'!AK89","v":"-"},{"$f":"'All hospitals'!AL89","v":"-"}]
[null,{"$f":"'All hospitals'!B90","v":"Wee Waa Community Hospital"},{"$f":"'All hospitals'!C90","v":"Wee Waa"},{"$f":"'All hospitals'!E90","v":"02 6795 0400"},{"$f":"'All hospitals'!F90","v":"02 6795 0400"},{"$f":"'All hospitals'!AI90","v":0},{"$f":"'All hospitals'!AJ90","v":"-"},{"$f":"'All hospitals'!AK90","v":"-"},{"$f":"'All hospitals'!AL90","v":"-"}]
[null,{"$f":"'All hospitals'!B91","v":"Werris Creek Multi Purpose Service NO STOCKS HELD"},{"$f":"'All hospitals'!C91","v":"Werris Creek"},{"$f":"'All hospitals'!E91","v":"02 6768 6600"},{"$f":"'All hospitals'!F91","v":"02 6768 6600"},{"$f":"'All hospitals'!AI91","v":0},{"$f":"'All hospitals'!AJ91","v":" -"},{"$f":"'All hospitals'!AK91","v":" -"},{"$f":"'All hospitals'!AL91","v":"-"}]
[null,{"$f":"'All hospitals'!B92","v":"Westpac Rescue Helicopter Service"},{"$f":"'All hospitals'!C92","v":"Belmont Helicopter Base"},{"$f":"'All hospitals'!E92","v":"02 4952 0000"},{"$f":"'All hospitals'!F92","v":"02 4952 0055"},{"$f":"'All hospitals'!AI92","v":0},{"$f":"'All hospitals'!AJ92","v":" -"},{"$f":"'All hospitals'!AK92","v":" -"},{"$f":"'All hospitals'!AL92","v":" -"}]
[null,{"$f":"'All hospitals'!B93","v":"Wilson Memorial Hospital - Murrurundi (Stock data TBC)"},{"$f":"'All hospitals'!C93","v":"Murrurundi"},{"$f":"'All hospitals'!E93","v":"02 6546 9000"},{"$f":"'All hospitals'!F93","v":"02 6546 9000"},{"$f":"'All hospitals'!AI93","v":0},{"$f":"'All hospitals'!AJ93","v":" -"},{"$f":"'All hospitals'!AK93","v":" -"},{"$f":"'All hospitals'!AL93","v":" -"}]
[null,{"$f":"'All hospitals'!B94","v":"-"},{"$f":"'All hospitals'!C94","v":"-"},{"$f":"'All hospitals'!E94","v":"-"},null,{"$f":"'All hospitals'!AI94","v":"-"},{"$f":"'All hospitals'!AJ94","v":"-"},{"$f":"'All hospitals'!AK94","v":"-"},{"$f":"'All hospitals'!AL94","v":"-"}]
[null,{"$f":"'All hospitals'!B95","v":"ILLAWARRA SHOALHAVEN LHD"}]
[null,{"$f":"'All hospitals'!B96","v":"Bulli Hospital NO STOCKS HELD"},{"$f":"'All hospitals'!C96","v":"Bulli"},{"$f":"'All hospitals'!E96","v":"02 4284 4344"},{"$f":"'All hospitals'!F96","v":"02 4222 5000 (request Wollongong Hospital on-call pharmacist)"},{"$f":"'All hospitals'!AI96","v":0},{"$f":"'All hospitals'!AJ96","v":" -"},{"$f":"'All hospitals'!AK96","v":" -"},{"$f":"'All hospitals'!AL96","v":" -"}]
[null,{"$f":"'All hospitals'!B97","v":"Coledale Hospital NO STOCKS HELD"},{"$f":"'All hospitals'!C97","v":"Thirroul"},{"$f":"'All hospitals'!E97","v":"02 4267 0111"},{"$f":"'All hospitals'!F97","v":"02 4222 5000 (request Wollongong Hospital on-call pharmacist)"},{"$f":"'All hospitals'!AI97","v":" -"},{"$f":"'All hospitals'!AJ97","v":" -"},{"$f":"'All hospitals'!AK97","v":" -"},{"$f":"'All hospitals'!AL97","v":" -"}]
[null,{"$f":"'All hospitals'!B98","v":"David Berry Hospital NO STOCKS HELD"},{"$f":"'All hospitals'!C98","v":"Berry"},{"$f":"'All hospitals'!E98","v":"02 4464 1001"},{"$f":"'All hospitals'!F98","v":" -"},{"$f":"'All hospitals'!AI98","v":" -"},{"$f":"'All hospitals'!AJ98","v":" -"},{"$f":"'All hospitals'!AK98","v":" -"},{"$f":"'All hospitals'!AL98","v":" -"}]
[null,{"$f":"'All hospitals'!B99","v":"Kiama Hospital & Community Health Service NO STOCKS HELD"},{"$f":"'All hospitals'!C99","v":"Kiama"},{"$f":"'All hospitals'!E99","v":"02 4233 1033"},{"$f":"'All hospitals'!F99","v":" -"},{"$f":"'All hospitals'!AI99","v":" -"},{"$f":"'All hospitals'!AJ99","v":" -"},{"$f":"'All hospitals'!AK99","v":" -"},{"$f":"'All hospitals'!AL99","v":" -"}]
[null,{"$f":"'All hospitals'!B100","v":"Milton Ulladulla Hospital"},{"$f":"'All hospitals'!C100","v":"Milton"},{"$f":"'All hospitals'!E100","v":"02 4454 9100"},{"$f":"'All hospitals'!F100","v":"02 4454 9133 (ED)"},{"$f":"'All hospitals'!AI100","v":0},{"$f":"'All hospitals'!AJ100","v":" -"},{"$f":"'All hospitals'!AK100","v":" -"},{"$f":"'All hospitals'!AL100","v":" -"}]
[null,{"$f":"'All hospitals'!B274","v":0},{"$f":"'All hospitals'!C274","v":0},{"$f":"'All hospitals'!E274","v":0},{"$f":"'All hospitals'!F274","v":0},{"$f":"'All hospitals'!AI274","v":0},{"$f":"'All hospitals'!AJ274","v":0},{"$f":"'All hospitals'!AK274","v":0},{"$f":"'All hospitals'!AL274","v":0}]
[null,{"$f":"'All hospitals'!B102","v":"Port Kembla Hospital - NO STOCKS HELD"},{"$f":"'All hospitals'!C102","v":"Warrawong"},{"$f":"'All hospitals'!E102","v":"02 4223 8000"},{"$f":"'All hospitals'!F102","v":"02 4222 5000 (request Wollongong Hospital on-call pharmacist)"},{"$f":"'All hospitals'!AI102","v":" -"},{"$f":"'All hospitals'!AJ102","v":" -"},{"$f":"'All hospitals'!AK102","v":" -"},{"$f":"'All hospitals'!AL102","v":" -"}]
[null,{"$f":"'All hospitals'!B103","v":"Shellharbour Hospital"},{"$f":"'All hospitals'!C103","v":"Mt Warrigal"},{"$f":"'All hospitals'!E103","v":"02 4295 2516"},{"$f":"'All hospitals'!F103","v":"02 4295 2500 (switch) - ask to page ADON"},{"$f":"'All hospitals'!AI103","v":0},{"$f":"'All hospitals'!AJ103","v":" -"},{"$f":"'All hospitals'!AK103","v":" -"},{"$f":"'All hospitals'!AL103","v":" -"}]
[null,{"$f":"'All hospitals'!B104","v":"Shoalhaven Hospital "},{"$f":"'All hospitals'!C104","v":"Nowra"},{"$f":"'All hospitals'!E104","v":"02 4423 9734"},{"$f":"'All hospitals'!F104","v":"02 4423 9738/ 0427400177 (after hours patient flow manager)"},{"$f":"'All hospitals'!AI104","v":1},{"$f":"'All hospitals'!AJ104","v":"ED"},{"$f":"'All hospitals'!AK104","v":" -"},{"$f":"'All hospitals'!AL104","v":" -"}]
[null,{"$f":"'All hospitals'!B105","v":"Wollongong Hospital"},{"$f":"'All hospitals'!C105","v":"Wollongong "},{"$f":"'All hospitals'!E105","v":"02 4222 5340"},{"$f":"'All hospitals'!F105","v":"02 4222 5000"},{"$f":"'All hospitals'!AI105","v":0},{"$f":"'All hospitals'!AJ105","v":" -"},{"$f":"'All hospitals'!AK105","v":" -"},{"$f":"'All hospitals'!AL105","v":" -"}]
[null,{"$f":"'All hospitals'!B106","v":"-"},{"$f":"'All hospitals'!C106","v":"-"},{"$f":"'All hospitals'!E106","v":"-"},{"$f":"'All hospitals'!F106","v":"-"},{"$f":"'All hospitals'!AI106","v":"-"},{"$f":"'All hospitals'!AJ106","v":"-"},{"$f":"'All hospitals'!AK106","v":"-"},{"$f":"'All hospitals'!AL106","v":"-"}]
[null,{"$f":"'All hospitals'!B107","v":"MID NORTH COAST LHD"}]
[null,{"$f":"'All hospitals'!B108","v":"Bellingen River District Hospital "},{"$f":"'All hospitals'!C108","v":"Bellingen"},{"$f":"'All hospitals'!E108","v":"02 6659 5800"},{"$f":"'All hospitals'!F108","v":"02 6656 7324"},{"$f":"'All hospitals'!AI108","v":0},{"$f":"'All hospitals'!AJ108","v":" -"},{"$f":"'All hospitals'!AK108","v":" -"},{"$f":"'All hospitals'!AL108","v":" -"}]
[null,{"$f":"'All hospitals'!B109","v":"Coffs Harbour Health Campus "},{"$f":"'All hospitals'!C109","v":"Coffs Harbour"},{"$f":"'All hospitals'!E109","v":"02 6656 7000"},{"$f":"'All hospitals'!F109","v":"02 6656 7324"},{"$f":"'All hospitals'!AI109","v":2},{"$f":"'All hospitals'!AJ109","v":"ED Resus Fridge"},{"$f":"'All hospitals'!AK109","v":" -"},{"$f":"'All hospitals'!AL109","v":" -"}]
[null,{"$f":"'All hospitals'!B110","v":"Dorrigo Multi Purpose Service"},{"$f":"'All hospitals'!C110","v":"Dorrigo"},{"$f":"'All hospitals'!E110","v":"02 6692 7700"},{"$f":"'All hospitals'!F110","v":"02 6656 7324"},{"$f":"'All hospitals'!AI110","v":0},{"$f":"'All hospitals'!AJ110","v":" -"},{"$f":"'All hospitals'!AK110","v":" -"},{"$f":"'All hospitals'!AL110","v":" -"}]
[null,{"$f":"'All hospitals'!B111","v":"Kempsey District Hospital"},{"$f":"'All hospitals'!C111","v":"Kempsey"},{"$f":"'All hospitals'!E111","v":"02 6561 2600"},{"$f":"'All hospitals'!F111","v":"02 5524 2000"},{"$f":"'All hospitals'!AI111","v":1},{"$f":"'All hospitals'!AJ111","v":"Pharmacy"},{"$f":"'All hospitals'!AK111","v":" -"},{"$f":"'All hospitals'!AL111","v":" -"}]
[null,{"$f":"'All hospitals'!B112","v":"Macksville District Hospital "},{"$f":"'All hospitals'!C112","v":"Macksville"},{"$f":"'All hospitals'!E112","v":"02 6568 0666"},{"$f":"'All hospitals'!F112","v":"02 6656 7324"},{"$f":"'All hospitals'!AI112","v":0},{"$f":"'All hospitals'!AJ112","v":" -"},{"$f":"'All hospitals'!AK112","v":" -"},{"$f":"'All hospitals'!AL112","v":" -"}]
[null,{"$f":"'All hospitals'!B113","v":"Port Macquarie Base Hospital"},{"$f":"'All hospitals'!C113","v":"Port Macquarie"},{"$f":"'All hospitals'!E113","v":"02 5524 2206"},{"$f":"'All hospitals'!F113","v":"02 5524 2000"},{"$f":"'All hospitals'!AI113","v":1},{"$f":"'All hospitals'!AJ113","v":"After Hours Cupboard"},{"$f":"'All hospitals'!AK113","v":" -"},{"$f":"'All hospitals'!AL113","v":" -"}]
[null,{"$f":"'All hospitals'!B114","v":"Wauchope Hospital (Stock data TBC)"},{"$f":"'All hospitals'!C114","v":"Wauchope"},{"$f":"'All hospitals'!E114","v":"02 5524 2206"},{"$f":"'All hospitals'!F114","v":"02 5524 2000"},{"$f":"'All hospitals'!AI114","v":0},{"$f":"'All hospitals'!AJ114","v":" -"},{"$f":"'All hospitals'!AK114","v":" -"},{"$f":"'All hospitals'!AL114","v":" -"}]
[null,{"$f":"'All hospitals'!B115","v":"-"},{"$f":"'All hospitals'!C115","v":"-"},{"$f":"'All hospitals'!E115","v":"-"},{"$f":"'All hospitals'!F115","v":"-"},{"$f":"'All hospitals'!AI115","v":"-"},{"$f":"'All hospitals'!AJ115","v":"-"},{"$f":"'All hospitals'!AK115","v":"-"},{"$f":"'All hospitals'!AL115","v":"-"}]
[null,{"$f":"'All hospitals'!B116","v":"MURRUMBIDGEE LHD"}]
[null,{"$f":"'All hospitals'!B117","v":"Barham Koondrook Health Service"},{"$f":"'All hospitals'!C117","v":"Barham"},{"$f":"'All hospitals'!E117","v":"03 5451 1000"},{"$f":"'All hospitals'!F117","v":"03 5451 1000"},{"$f":"'All hospitals'!AI117","v":0},{"$f":"'All hospitals'!AJ117","v":" -"},{"$f":"'All hospitals'!AK117","v":" -"},{"$f":"'All hospitals'!AL117","v":" -"}]
[null,{"$f":"'All hospitals'!B118","v":"Batlow Adelong Multi Purpose Service"},{"$f":"'All hospitals'!C118","v":"Batlow"},{"$f":"'All hospitals'!E118","v":"02 6941 4333"},{"$f":"'All hospitals'!F118","v":"02 6941 4333"},{"$f":"'All hospitals'!AI118","v":0},{"$f":"'All hospitals'!AJ118","v":" -"},{"$f":"'All hospitals'!AK118","v":" -"},{"$f":"'All hospitals'!AL118","v":" -"}]
[null,{"$f":"'All hospitals'!B119","v":"Berrigan Multi Purpose Service"},{"$f":"'All hospitals'!C119","v":"Berrigan"},{"$f":"'All hospitals'!E119","v":"03 5888 5300"},{"$f":"'All hospitals'!F119","v":"03 5888 5300"},{"$f":"'All hospitals'!AI119","v":0},{"$f":"'All hospitals'!AJ119","v":" -"},{"$f":"'All hospitals'!AK119","v":" -"},{"$f":"'All hospitals'!AL119","v":" -"}]
[null,{"$f":"'All hospitals'!B120","v":"Boorowa Multi Purpose Service Hospital"},{"$f":"'All hospitals'!C120","v":"Boorowa"},{"$f":"'All hospitals'!E120","v":"02 6380 2100"},{"$f":"'All hospitals'!F120","v":"02 6380 2100"},{"$f":"'All hospitals'!AI120","v":0},{"$f":"'All hospitals'!AJ120","v":" -"},{"$f":"'All hospitals'!AK120","v":" -"},{"$f":"'All hospitals'!AL120","v":" -"}]
[null,{"$f":"'All hospitals'!B121","v":"Coolamon-Ganmain Multi Purpose Service"},{"$f":"'All hospitals'!C121","v":"Coolamon"},{"$f":"'All hospitals'!E121","v":"02 6927 3303"},{"$f":"'All hospitals'!F121","v":"02 6927 3303"},{"$f":"'All hospitals'!AI121","v":0},{"$f":"'All hospitals'!AJ121","v":" -"},{"$f":"'All hospitals'!AK121","v":" -"},{"$f":"'All hospitals'!AL121","v":" -"}]
[null,{"$f":"'All hospitals'!B122","v":"Cootamundra District Hospital"},{"$f":"'All hospitals'!C122","v":"Cootamundra"},{"$f":"'All hospitals'!E122","v":"02 6942 0444"},{"$f":"'All hospitals'!F122","v":"02 6942 0444"},{"$f":"'All hospitals'!AI122","v":0},{"$f":"'All hospitals'!AJ122","v":" -"},{"$f":"'All hospitals'!AK122","v":" -"},{"$f":"'All hospitals'!AL122","v":" -"}]
[null,{"$f":"'All hospitals'!B123","v":"Corowa District Hospital"},{"$f":"'All hospitals'!C123","v":"Corowa"},{"$f":"'All hospitals'!E123","v":"02 6033 7555"},{"$f":"'All hospitals'!F123","v":"02 6033 7555"},{"$f":"'All hospitals'!AI123","v":0},{"$f":"'All hospitals'!AJ123","v":" -"},{"$f":"'All hospitals'!AK123","v":" -"},{"$f":"'All hospitals'!AL123","v":" -"}]
[null,{"$f":"'All hospitals'!B124","v":"Culcairn Multi Purpose Service"},{"$f":"'All hospitals'!C124","v":"Culcairn"},{"$f":"'All hospitals'!E124","v":"02 6029 8203"},{"$f":"'All hospitals'!F124","v":"02 6029 8203"},{"$f":"'All hospitals'!AI124","v":0},{"$f":"'All hospitals'!AJ124","v":" -"},{"$f":"'All hospitals'!AK124","v":" -"},{"$f":"'All hospitals'!AL124","v":" -"}]
[null,{"$f":"'All hospitals'!B125","v":"Deniliquin Hospital"},{"$f":"'All hospitals'!C125","v":"Deniliquin"},{"$f":"'All hospitals'!E125","v":"03 5882 2843"},{"$f":"'All hospitals'!F125","v":"03 5882 2834"},{"$f":"'All hospitals'!AI125","v":0},{"$f":"'All hospitals'!AJ125","v":" -"},{"$f":"'All hospitals'!AK125","v":" -"},{"$f":"'All hospitals'!AL125","v":" -"}]
[null,{"$f":"'All hospitals'!B126","v":"Finley Hospital"},{"$f":"'All hospitals'!C126","v":"Finley"},{"$f":"'All hospitals'!E126","v":"03 5883 1133"},{"$f":"'All hospitals'!F126","v":"03 5883 1133"},{"$f":"'All hospitals'!AI126","v":0},{"$f":"'All hospitals'!AJ126","v":" -"},{"$f":"'All hospitals'!AK126","v":" -"},{"$f":"'All hospitals'!AL126","v":" -"}]
[null,{"$f":"'All hospitals'!B127","v":"Griffith Base Hospital"},{"$f":"'All hospitals'!C127","v":"Griffith NSW"},{"$f":"'All hospitals'!E127","v":"02 6969 5550"},{"$f":"'All hospitals'!F127","v":"02 6969 5600"},{"$f":"'All hospitals'!AI127","v":0},{"$f":"'All hospitals'!AJ127","v":" -"},{"$f":"'All hospitals'!AK127","v":" -"},{"$f":"'All hospitals'!AL127","v":" -"}]
[null,{"$f":"'All hospitals'!B128","v":"Gundagai Multi Purpose Service"},{"$f":"'All hospitals'!C128","v":"Gundagai"},{"$f":"'All hospitals'!E128","v":"02 6950 6300"},{"$f":"'All hospitals'!F128","v":"02 6950 6300"},{"$f":"'All hospitals'!AI128","v":0},{"$f":"'All hospitals'!AJ128","v":" -"},{"$f":"'All hospitals'!AK128","v":" -"},{"$f":"'All hospitals'!AL128","v":" -"}]
[null,{"$f":"'All hospitals'!B129","v":"Hay Hospital"},{"$f":"'All hospitals'!C129","v":"Hay"},{"$f":"'All hospitals'!E129","v":"02 6990 8700"},{"$f":"'All hospitals'!F129","v":"02 6990 8700"},{"$f":"'All hospitals'!AI129","v":0},{"$f":"'All hospitals'!AJ129","v":" -"},{"$f":"'All hospitals'!AK129","v":" -"},{"$f":"'All hospitals'!AL129","v":" -"}]
[null,{"$f":"'All hospitals'!B130","v":"Henty Multi Purpose Service"},{"$f":"'All hospitals'!C130","v":"Henty"},{"$f":"'All hospitals'!E130","v":"02 6929 4999"},{"$f":"'All hospitals'!F130","v":"02 6929 4999"},{"$f":"'All hospitals'!AI130","v":0},{"$f":"'All hospitals'!AJ130","v":" -"},{"$f":"'All hospitals'!AK130","v":" -"},{"$f":"'All hospitals'!AL130","v":" -"}]
[null,{"$f":"'All hospitals'!B131","v":"Hillston Multi Purpose Service"},{"$f":"'All hospitals'!C131","v":"Hillston, NSW"},{"$f":"'All hospitals'!E131","v":"02 6961 7200"},{"$f":"'All hospitals'!F131","v":"02 6961 7200"},{"$f":"'All hospitals'!AI131","v":0},{"$f":"'All hospitals'!AJ131","v":" -"},{"$f":"'All hospitals'!AK131","v":" -"},{"$f":"'All hospitals'!AL131","v":" -"}]
[null,{"$f":"'All hospitals'!B132","v":"Holbrook Hospital"},{"$f":"'All hospitals'!C132","v":"Holbrook"},{"$f":"'All hospitals'!E132","v":"02 6036 2522"},{"$f":"'All hospitals'!F132","v":"02 6036 2522"},{"$f":"'All hospitals'!AI132","v":0},{"$f":"'All hospitals'!AJ132","v":" -"},{"$f":"'All hospitals'!AK132","v":" -"},{"$f":"'All hospitals'!AL132","v":" -"}]
[null,{"$f":"'All hospitals'!B133","v":"Jerilderie Multi Purpose Service"},{"$f":"'All hospitals'!C133","v":"Jerilderie"},{"$f":"'All hospitals'!E133","v":"03 5886 1300"},{"$f":"'All hospitals'!F133","v":"03 5886 1300"},{"$f":"'All hospitals'!AI133","v":0},{"$f":"'All hospitals'!AJ133","v":" -"},{"$f":"'All hospitals'!AK133","v":" -"},{"$f":"'All hospitals'!AL133","v":" -"}]
[null,{"$f":"'All hospitals'!B134","v":"Junee Multi Purpose Service"},{"$f":"'All hospitals'!C134","v":"Junee"},{"$f":"'All hospitals'!E134","v":"02 6924 8200"},{"$f":"'All hospitals'!F134","v":"02 6924 8200"},{"$f":"'All hospitals'!AI134","v":0},{"$f":"'All hospitals'!AJ134","v":" -"},{"$f":"'All hospitals'!AK134","v":" -"},{"$f":"'All hospitals'!AL134","v":" -"}]
[null,{"$f":"'All hospitals'!B135","v":"Lake Cargelligo Multi Purpose Service"},{"$f":"'All hospitals'!C135","v":"Lake Cargelligo"},{"$f":"'All hospitals'!E135","v":"02 6898 0200"},{"$f":"'All hospitals'!F135","v":"02 6898 0200"},{"$f":"'All hospitals'!AI135","v":0},{"$f":"'All hospitals'!AJ135","v":" -"},{"$f":"'All hospitals'!AK135","v":" -"},{"$f":"'All hospitals'!AL135","v":" -"}]
[null,{"$f":"'All hospitals'!B136","v":"Leeton District Hospital"},{"$f":"'All hospitals'!C136","v":"Leeton"},{"$f":"'All hospitals'!E136","v":"02 6953 1111"},{"$f":"'All hospitals'!F136","v":"02 6953 1111"},{"$f":"'All hospitals'!AI136","v":0},{"$f":"'All hospitals'!AJ136","v":" -"},{"$f":"'All hospitals'!AK136","v":" -"},{"$f":"'All hospitals'!AL136","v":" -"}]
[null,{"$f":"'All hospitals'!B137","v":"Lockhart Hospital"},{"$f":"'All hospitals'!C137","v":"Lockhart"},{"$f":"'All hospitals'!E137","v":"02 6930 7100"},{"$f":"'All hospitals'!F137","v":"02 6930 7100"},{"$f":"'All hospitals'!AI137","v":0},{"$f":"'All hospitals'!AJ137","v":" -"},{"$f":"'All hospitals'!AK137","v":" -"},{"$f":"'All hospitals'!AL137","v":" -"}]
[null,{"$f":"'All hospitals'!B138","v":"Murrumburrah-Harden Hospital"},{"$f":"'All hospitals'!C138","v":"Harden"},{"$f":"'All hospitals'!E138","v":"02 6386 2200"},{"$f":"'All hospitals'!F138","v":"02 6386 2200"},{"$f":"'All hospitals'!AI138","v":0},{"$f":"'All hospitals'!AJ138","v":" -"},{"$f":"'All hospitals'!AK138","v":" -"},{"$f":"'All hospitals'!AL138","v":" -"}]
[null,{"$f":"'All hospitals'!B139","v":"Narrandera District Hospital"},{"$f":"'All hospitals'!C139","v":"Narrandera"},{"$f":"'All hospitals'!E139","v":"02 6951 0200"},{"$f":"'All hospitals'!F139","v":"02 6951 0200"},{"$f":"'All hospitals'!AI139","v":0},{"$f":"'All hospitals'!AJ139","v":" -"},{"$f":"'All hospitals'!AK139","v":" -"},{"$f":"'All hospitals'!AL139","v":" -"}]
[null,{"$f":"'All hospitals'!B140","v":"Temora District Hospital "},{"$f":"'All hospitals'!C140","v":"Temora"},{"$f":"'All hospitals'!E140","v":"02 6980 0200"},{"$f":"'All hospitals'!F140","v":"02 6980 0200"},{"$f":"'All hospitals'!AI140","v":0},{"$f":"'All hospitals'!AJ140","v":" -"},{"$f":"'All hospitals'!AK140","v":" -"},{"$f":"'All hospitals'!AL140","v":" -"}]
[null,{"$f":"'All hospitals'!B141","v":"Tocumwal Hospital"},{"$f":"'All hospitals'!C141","v":"Tocumwal"},{"$f":"'All hospitals'!E141","v":"03 5874 2166"},{"$f":"'All hospitals'!F141","v":"03 5874 2166"},{"$f":"'All hospitals'!AI141","v":0},{"$f":"'All hospitals'!AJ141","v":" -"},{"$f":"'All hospitals'!AK141","v":" -"},{"$f":"'All hospitals'!AL141","v":" -"}]
[null,{"$f":"'All hospitals'!B142","v":"Tumbarumba Multi Purpose Service"},{"$f":"'All hospitals'!C142","v":"Tumbarumba"},{"$f":"'All hospitals'!E142","v":"02 6948 9600"},{"$f":"'All hospitals'!F142","v":"02 6948 9600"},{"$f":"'All hospitals'!AI142","v":0},{"$f":"'All hospitals'!AJ142","v":" -"},{"$f":"'All hospitals'!AK142","v":" -"},{"$f":"'All hospitals'!AL142","v":" -"}]
[null,{"$f":"'All hospitals'!B143","v":"Tumut District Hospital"},{"$f":"'All hospitals'!C143","v":"Tumut"},{"$f":"'All hospitals'!E143","v":"02 6947 0800"},{"$f":"'All hospitals'!F143","v":"02 6947 0800"},{"$f":"'All hospitals'!AI143","v":0},{"$f":"'All hospitals'!AJ143","v":" -"},{"$f":"'All hospitals'!AK143","v":" -"},{"$f":"'All hospitals'!AL143","v":" -"}]
[null,{"$f":"'All hospitals'!B144","v":"Urana Multi Purpose Service"},{"$f":"'All hospitals'!C144","v":"Urana"},{"$f":"'All hospitals'!E144","v":"02 6920 8106"},{"$f":"'All hospitals'!F144","v":"02 6920 8106"},{"$f":"'All hospitals'!AI144","v":0},{"$f":"'All hospitals'!AJ144","v":" -"},{"$f":"'All hospitals'!AK144","v":" -"},{"$f":"'All hospitals'!AL144","v":" -"}]
[null,{"$f":"'All hospitals'!B145","v":"Wagga Wagga Base Hospital "},{"$f":"'All hospitals'!C145","v":"Wagga Wagga"},{"$f":"'All hospitals'!E145","v":"02 5943 1000"},{"$f":"'All hospitals'!F145","v":"0429 306 566"},{"$f":"'All hospitals'!AI145","v":0},{"$f":"'All hospitals'!AJ145","v":" -"},{"$f":"'All hospitals'!AK145","v":" -"},{"$f":"'All hospitals'!AL145","v":" -"}]
[null,{"$f":"'All hospitals'!B146","v":"Wyalong Hospital"},{"$f":"'All hospitals'!C146","v":"West Wyalong"},{"$f":"'All hospitals'!E146","v":"02 6979 0000"},{"$f":"'All hospitals'!F146","v":"02 6979 0000"},{"$f":"'All hospitals'!AI146","v":0},{"$f":"'All hospitals'!AJ146","v":" -"},{"$f":"'All hospitals'!AK146","v":" -"},{"$f":"'All hospitals'!AL146","v":" -"}]
[null,{"$f":"'All hospitals'!B147","v":"Young District Hospital"},{"$f":"'All hospitals'!C147","v":"Young"},{"$f":"'All hospitals'!E147","v":"02 6382 8888"},{"$f":"'All hospitals'!F147","v":"02 6382 8888"},{"$f":"'All hospitals'!AI147","v":0},{"$f":"'All hospitals'!AJ147","v":" -"},{"$f":"'All hospitals'!AK147","v":" -"},{"$f":"'All hospitals'!AL147","v":" -"}]
[null,{"$f":"'All hospitals'!B148","v":"-"},{"$f":"'All hospitals'!C148","v":"-"},{"$f":"'All hospitals'!E148","v":"-"},{"$f":"'All hospitals'!F148","v":"-"},{"$f":"'All hospitals'!AI148","v":"-"},{"$f":"'All hospitals'!AJ148","v":"-"},{"$f":"'All hospitals'!AK148","v":"-"},{"$f":"'All hospitals'!AL148","v":"-"}]
[null,{"$f":"'All hospitals'!B149","v":"NEPEAN BLUE MOUNTAINS LHD & OTHER"}]
[null,{"$f":"'All hospitals'!B150","v":"Blue Mountains District Hospital "},{"$f":"'All hospitals'!C150","v":"Katoomba"},{"$f":"'All hospitals'!E150","v":"02 4784 6500"},{"$f":"'All hospitals'!F150","v":"0412 117 269"},{"$f":"'All hospitals'!AI150","v":0},{"$f":"'All hospitals'!AJ150","v":" -"},{"$f":"'All hospitals'!AK150","v":" -"},{"$f":"'All hospitals'!AL150","v":" -"}]
[null,{"$f":"'All hospitals'!B151","v":"Hawkesbury District Health Service"},{"$f":"'All hospitals'!C151","v":"Windsor"},{"$f":"'All hospitals'!E151","v":"02 4560 5529"},{"$f":"'All hospitals'!F151","v":"02 4560 5555 (Ask for AHNM)"},{"$f":"'All hospitals'!AI151","v":0},{"$f":"'All hospitals'!AJ151","v":" -"},{"$f":"'All hospitals'!AK151","v":" -"},{"$f":"'All hospitals'!AL151","v":" -"}]
[null,{"$f":"'All hospitals'!B152","v":"Lithgow Hospital"},{"$f":"'All hospitals'!C152","v":"Lithgow"},{"$f":"'All hospitals'!E152","v":"02 6350 2370"},{"$f":"'All hospitals'!F152","v":"02 6350 2300 (switch)"},{"$f":"'All hospitals'!AI152","v":0},{"$f":"'All hospitals'!AJ152","v":" -"},{"$f":"'All hospitals'!AK152","v":" -"},{"$f":"'All hospitals'!AL152","v":" -"}]
[null,{"$f":"'All hospitals'!B153","v":"Nepean Hospital "},{"$f":"'All hospitals'!C153","v":"Penrith"},{"$f":"'All hospitals'!E153","v":"02 4734 2256"},{"$f":"'All hospitals'!F153","v":" 0412 235 766"},{"$f":"'All hospitals'!AI153","v":1},{"$f":"'All hospitals'!AJ153","v":"ED-Resus"},{"$f":"'All hospitals'!AK153","v":1},{"$f":"'All hospitals'!AL153","v":"Main Pharmacy"}]
[null,{"$f":"'All hospitals'!B154","v":"-"},{"$f":"'All hospitals'!C154","v":"-"},{"$f":"'All hospitals'!E154","v":"-"},{"$f":"'All hospitals'!F154","v":"-"},{"$f":"'All hospitals'!AI154","v":"-"},{"$f":"'All hospitals'!AJ154","v":"-"},{"$f":"'All hospitals'!AK154","v":"-"},{"$f":"'All hospitals'!AL154","v":"-"}]
[null,{"$f":"'All hospitals'!B155","v":"NORTHERN NSW LHD"}]
[null,{"$f":"'All hospitals'!B156","v":"Ballina Hospital "},{"$f":"'All hospitals'!C156","v":"Ballina"},{"$f":"'All hospitals'!E156","v":"02 6620 6400"},{"$f":"'All hospitals'!F156","v":"02 6620 6202"},{"$f":"'All hospitals'!AI156","v":0},{"$f":"'All hospitals'!AJ156","v":" -"},{"$f":"'All hospitals'!AK156","v":" -"},{"$f":"'All hospitals'!AL156","v":" -"}]
[null,{"$f":"'All hospitals'!B157","v":"Bonalbo Hospital "},{"$f":"'All hospitals'!C157","v":"Bonalbo"},{"$f":"'All hospitals'!E157","v":"02 6665 4100"},{"$f":"'All hospitals'!F157","v":"02 6665 4100"},{"$f":"'All hospitals'!AI157","v":0},{"$f":"'All hospitals'!AJ157","v":" -"},{"$f":"'All hospitals'!AK157","v":" -"},{"$f":"'All hospitals'!AL157","v":" -"}]
[null,{"$f":"'All hospitals'!B158","v":"Byron Central Hospital (Stock data TBC)"},{"$f":"'All hospitals'!C158","v":"Byron Bay"},{"$f":"'All hospitals'!E158","v":"02 6639 9400"},{"$f":"'All hospitals'!F158","v":"02 6639 9400"},{"$f":"'All hospitals'!AI158","v":0},{"$f":"'All hospitals'!AJ158","v":" -"},{"$f":"'All hospitals'!AK158","v":" -"},{"$f":"'All hospitals'!AL158","v":" -"}]
[null,{"$f":"'All hospitals'!B159","v":"Casino Hospital"},{"$f":"'All hospitals'!C159","v":"Casino"},{"$f":"'All hospitals'!E159","v":"02 6660 0642"},{"$f":"'All hospitals'!F159","v":"02 6660 0642"},{"$f":"'All hospitals'!AI159","v":0},{"$f":"'All hospitals'!AJ159","v":" -"},{"$f":"'All hospitals'!AK159","v":" -"},{"$f":"'All hospitals'!AL159","v":" -"}]
[null,{"$f":"'All hospitals'!B160","v":"Grafton Base Hospital (Stock data TBC)"},{"$f":"'All hospitals'!C160","v":"Grafton"},{"$f":"'All hospitals'!E160","v":"02 6640 2222"},{"$f":"'All hospitals'!F160","v":"02 6640 2299    "},{"$f":"'All hospitals'!AI160","v":2},{"$f":"'All hospitals'!AJ160","v":"ED"},{"$f":"'All hospitals'!AK160","v":" -"},{"$f":"'All hospitals'!AL160","v":" -"}]
[null,{"$f":"'All hospitals'!B161","v":"Kyogle Multi Purpose Service"},{"$f":"'All hospitals'!C161","v":"Kyogle"},{"$f":"'All hospitals'!E161","v":"02 6630 0400"},{"$f":"'All hospitals'!F161","v":"02 6630 0400"},{"$f":"'All hospitals'!AI161","v":0},{"$f":"'All hospitals'!AJ161","v":" -"},{"$f":"'All hospitals'!AK161","v":" -"},{"$f":"'All hospitals'!AL161","v":" -"}]
[null,{"$f":"'All hospitals'!B162","v":"Lismore Base Hospital "},{"$f":"'All hospitals'!C162","v":"Lismore"},{"$f":"'All hospitals'!E162","v":"02 6624 0200"},{"$f":"'All hospitals'!F162","v":"02 6624 0200"},{"$f":"'All hospitals'!AI162","v":1},{"$f":"'All hospitals'!AJ162","v":"ED resus"},{"$f":"'All hospitals'!AK162","v":"-"},{"$f":"'All hospitals'!AL162","v":"-"}]
[null,{"$f":"'All hospitals'!B163","v":"Maclean District Hospital (Stock data TBC)"},{"$f":"'All hospitals'!C163","v":"Maclean"},{"$f":"'All hospitals'!E163","v":"02 6640 0111"},{"$f":"'All hospitals'!F163","v":"02 6640 0111"},{"$f":"'All hospitals'!AI163","v":0},{"$f":"'All hospitals'!AJ163","v":" -"},{"$f":"'All hospitals'!AK163","v":" -"},{"$f":"'All hospitals'!AL163","v":" -"}]
[null,{"$f":"'All hospitals'!B164","v":"Murwillumbah District Hospital (Stock data TBC)"},{"$f":"'All hospitals'!C164","v":"Murwillumbah"},{"$f":"'All hospitals'!E164","v":"02 6672 0237"},{"$f":"'All hospitals'!F164","v":"02 6672 0230"},{"$f":"'All hospitals'!AI164","v":0},{"$f":"'All hospitals'!AJ164","v":" -"},{"$f":"'All hospitals'!AK164","v":" -"},{"$f":"'All hospitals'!AL164","v":" -"}]
[null,{"$f":"'All hospitals'!B165","v":"Nimbin Multi Purpose Service"},{"$f":"'All hospitals'!C165","v":"Nimbin"},{"$f":"'All hospitals'!E165","v":"02 6689 1400"},{"$f":"'All hospitals'!F165","v":"02 6689 1400"},{"$f":"'All hospitals'!AI165","v":0},{"$f":"'All hospitals'!AJ165","v":" -"},{"$f":"'All hospitals'!AK165","v":" -"},{"$f":"'All hospitals'!AL165","v":" -"}]
[null,{"$f":"'All hospitals'!B166","v":"The Tweed Hospital"},{"$f":"'All hospitals'!C166","v":"Tweed Heads"},{"$f":"'All hospitals'!E166","v":"07 5506 7420"},{"$f":"'All hospitals'!F166","v":"07 5506 7667"},{"$f":"'All hospitals'!AI166","v":0},{"$f":"'All hospitals'!AJ166","v":" -"},{"$f":"'All hospitals'!AK166","v":" -"},{"$f":"'All hospitals'!AL166","v":" -"}]
[null,{"$f":"'All hospitals'!B167","v":"Urbenville Multi Purpose Service "},{"$f":"'All hospitals'!C167","v":"Urbenville"},{"$f":"'All hospitals'!E167","v":"02 66341600"},{"$f":"'All hospitals'!F167","v":"02 66341600"},{"$f":"'All hospitals'!AI167","v":0},{"$f":"'All hospitals'!AJ167","v":" -"},{"$f":"'All hospitals'!AK167","v":" -"},{"$f":"'All hospitals'!AL167","v":" -"}]
[null,{"$f":"'All hospitals'!B168","v":"-"},{"$f":"'All hospitals'!C168","v":"-"},{"$f":"'All hospitals'!E168","v":"-"},{"$f":"'All hospitals'!F168","v":"-"},{"$f":"'All hospitals'!AI168","v":"-"},{"$f":"'All hospitals'!AJ168","v":"-"},{"$f":"'All hospitals'!AK168","v":"-"},{"$f":"'All hospitals'!AL168","v":"-"}]
[null,{"$f":"'All hospitals'!B169","v":"NORTHERN SYDNEY LHD & OTHER"}]
[null,{"$f":"'All hospitals'!B170","v":"Hornsby Hospital"},{"$f":"'All hospitals'!C170","v":"Hornsby"},{"$f":"'All hospitals'!E170","v":"02 9485 6455"},{"$f":"'All hospitals'!F170","v":"02 9485 6600 (ED)"},{"$f":"'All hospitals'!AI170","v":1},{"$f":"'All hospitals'!AJ170","v":"ED "},{"$f":"'All hospitals'!AK170","v":" -"},{"$f":"'All hospitals'!AL170","v":" -"}]
[null,{"$f":"'All hospitals'!B172","v":"Manly Hospital (closed 30th Oct 2018 - See Northern Beaches Health Service)"},{"$f":"'All hospitals'!C172","v":"-"},{"$f":"'All hospitals'!E172","v":"-"},{"$f":"'All hospitals'!F172","v":" -"},{"$f":"'All hospitals'!AI172","v":" -"},{"$f":"'All hospitals'!AJ172","v":" -"},{"$f":"'All hospitals'!AK172","v":" -"},{"$f":"'All hospitals'!AL172","v":" -"}]
[null,{"$f":"'All hospitals'!B173","v":"Mona Vale Hospital (Subacute hospital overseen by Hornsby Hospital; some antivenoms available on imprest)"},{"$f":"'All hospitals'!C173","v":"Mona Vale "},{"$f":"'All hospitals'!E173","v":"02 9998 6040"},{"$f":"'All hospitals'!F173","v":"02 9998 6300"},{"$f":"'All hospitals'!AI173","v":1},{"$f":"'All hospitals'!AJ173","v":"Urgent Care Centre"},{"$f":"'All hospitals'!AK173","v":" -"},{"$f":"'All hospitals'!AL173","v":" -"}]
[null,{"$f":"'All hospitals'!B174","v":"Northern Beaches Health Service (replaces Manly Hospital) "},{"$f":"'All hospitals'!C174","v":"Frenchs Forest"},{"$f":"'All hospitals'!E174","v":"02 9105 5000"},{"$f":"'All hospitals'!F174","v":"0490 124 164"},{"$f":"'All hospitals'!AI174","v":"1 (will not keep on hand once this one expired on 08/2021 or used)"},{"$f":"'All hospitals'!AJ174","v":"ED fridge"},{"$f":"'All hospitals'!AK174","v":" -"},{"$f":"'All hospitals'!AL174","v":" -"}]
[null,{"$f":"'All hospitals'!B175","v":"Royal North Shore Hospital"},{"$f":"'All hospitals'!C175","v":"St Leonards"},{"$f":"'All hospitals'!E175","v":"02 9463 1140"},{"$f":"'All hospitals'!F175","v":"02 9926 7111 On-call pharmacist via switchboard"},{"$f":"'All hospitals'!AI175","v":1},{"$f":"'All hospitals'!AJ175","v":"ED Resus Room"},{"$f":"'All hospitals'!AK175","v":" -"},{"$f":"'All hospitals'!AL175","v":" -"}]
[null,{"$f":"'All hospitals'!B176","v":"Ryde Hospital"},{"$f":"'All hospitals'!C176","v":"Eastwood"},{"$f":"'All hospitals'!E176","v":"02 9858 7888"},{"$f":"'All hospitals'!F176","v":"Oncall Pharmacist (0472 809 062) AHNM (0402 990 158)"},{"$f":"'All hospitals'!AI176","v":0},{"$f":"'All hospitals'!AJ176","v":" -"},{"$f":"'All hospitals'!AK176","v":" -"},{"$f":"'All hospitals'!AL176","v":" -"}]
[null,{"$f":"'All hospitals'!B171","v":0},{"$f":"'All hospitals'!C171","v":0},{"$f":"'All hospitals'!E171","v":0},{"$f":"'All hospitals'!F171","v":0},{"$f":"'All hospitals'!AI171","v":0},{"$f":"'All hospitals'!AJ171","v":0},{"$f":"'All hospitals'!AK171","v":0},{"$f":"'All hospitals'!AL171","v":0}]
[null,{"$f":"'All hospitals'!B177","v":"-"},{"$f":"'All hospitals'!C177","v":"-"},{"$f":"'All hospitals'!E177","v":"-"},{"$f":"'All hospitals'!F177","v":"-"},{"$f":"'All hospitals'!AI177","v":"-"},{"$f":"'All hospitals'!AJ177","v":"-"},{"$f":"'All hospitals'!AK177","v":"-"},{"$f":"'All hospitals'!AL177","v":"-"}]
[null,{"$f":"'All hospitals'!B178","v":"SOUTH EASTERN SYDNEY LHD"}]
[null,{"$f":"'All hospitals'!B179","v":"Calvary Hospital  (Stock data TBC)"},{"$f":"'All hospitals'!C179","v":"Kogarah"},{"$f":"'All hospitals'!E179","v":"-"},{"$f":"'All hospitals'!F179","v":"-"},{"$f":"'All hospitals'!AI179","v":"-"},{"$f":"'All hospitals'!AJ179","v":"-"},{"$f":"'All hospitals'!AK179","v":"-"},{"$f":"'All hospitals'!AL179","v":"-"}]
[null,{"$f":"'All hospitals'!B180","v":"Prince of Wales Hospital "},{"$f":"'All hospitals'!C180","v":"Randwick, Sydney"},{"$f":"'All hospitals'!E180","v":"02 9382 2222"},{"$f":"'All hospitals'!F180","v":"oncall pharmacist via switchboard 02 9382 2222 "},{"$f":"'All hospitals'!AI180","v":2},{"$f":"'All hospitals'!AJ180","v":"ED"},{"$f":"'All hospitals'!AK180","v":3},{"$f":"'All hospitals'!AL180","v":"Pharmacy"}]
[null,{"$f":"'All hospitals'!B181","v":"Royal Hospital for Women NO STOCKS HELD"},{"$f":"'All hospitals'!C181","v":"Sydney"},{"$f":"'All hospitals'!E181","v":"02 9382 6716"},{"$f":"'All hospitals'!F181","v":"02 9382 2222 on call pharmacist"},{"$f":"'All hospitals'!AI181","v":0},{"$f":"'All hospitals'!AJ181","v":" -"},{"$f":"'All hospitals'!AK181","v":" -"},{"$f":"'All hospitals'!AL181","v":" -"}]
[null,{"$f":"'All hospitals'!B182","v":"St George Hospital"},{"$f":"'All hospitals'!C182","v":"Kogarah"},{"$f":"'All hospitals'!E182","v":"02 9113 3055"},{"$f":"'All hospitals'!F182","v":"Page AHNM via switchboard 02 9113 1111"},{"$f":"'All hospitals'!AI182","v":0},{"$f":"'All hospitals'!AJ182","v":" -"},{"$f":"'All hospitals'!AK182","v":" -"},{"$f":"'All hospitals'!AL182","v":" -"}]
[null,{"$f":"'All hospitals'!B183","v":"Sydney Hospital and Sydney Eye Hospital"},{"$f":"'All hospitals'!C183","v":"Sydney"},{"$f":"'All hospitals'!E183","v":"02 9382 7379"},{"$f":"'All hospitals'!F183","v":"02 9382 7111  ask for Emergency Department"},{"$f":"'All hospitals'!AI183","v":0},{"$f":"'All hospitals'!AJ183","v":" -"},{"$f":"'All hospitals'!AK183","v":" -"},{"$f":"'All hospitals'!AL183","v":" -"}]
[null,{"$f":"'All hospitals'!B184","v":"The Sutherland Hospital"},{"$f":"'All hospitals'!C184","v":"Sydney"},{"$f":"'All hospitals'!E184","v":"02 9540 7466 OR 02 9540 7467"},{"$f":"'All hospitals'!F184","v":"02 9540 7111"},{"$f":"'All hospitals'!AI184","v":0},{"$f":"'All hospitals'!AJ184","v":" -"},{"$f":"'All hospitals'!AK184","v":" -"},{"$f":"'All hospitals'!AL184","v":" -"}]
[null,{"$f":"'All hospitals'!B185","v":"-"},{"$f":"'All hospitals'!C185","v":"-"},{"$f":"'All hospitals'!E185","v":"-"},{"$f":"'All hospitals'!F185","v":"-"},{"$f":"'All hospitals'!AI185","v":"-"},{"$f":"'All hospitals'!AJ185","v":"-"},{"$f":"'All hospitals'!AK185","v":"-"},{"$f":"'All hospitals'!AL185","v":"-"}]
[null,{"$f":"'All hospitals'!B186","v":"SOUTH WESTERN SYDNEY LHD"}]
[null,{"$f":"'All hospitals'!B187","v":"Bankstown-Lidcombe Hospital"},{"$f":"'All hospitals'!C187","v":"Sydney"},{"$f":"'All hospitals'!E187","v":"02 9722 8000"},{"$f":"'All hospitals'!F187","v":"02 9722 8000"},{"$f":"'All hospitals'!AI187","v":1},{"$f":"'All hospitals'!AJ187","v":"ED"},{"$f":"'All hospitals'!AK187","v":" -"},{"$f":"'All hospitals'!AL187","v":" -"}]
[null,{"$f":"'All hospitals'!B188","v":"Bowral District Hospital"},{"$f":"'All hospitals'!C188","v":"Bowral"},{"$f":"'All hospitals'!E188","v":"02 4861 0274"},{"$f":"'All hospitals'!F188","v":"02 4861 0199"},{"$f":"'All hospitals'!AI188","v":0},{"$f":"'All hospitals'!AJ188","v":" -"},{"$f":"'All hospitals'!AK188","v":" -"},{"$f":"'All hospitals'!AL188","v":" -"}]
[null,{"$f":"'All hospitals'!B189","v":"Camden Hospital "},{"$f":"'All hospitals'!C189","v":"Sydney"},{"$f":"'All hospitals'!E189","v":"02 4634 3000"},{"$f":"'All hospitals'!F189","v":"0408 662 394"},{"$f":"'All hospitals'!AI189","v":0},{"$f":"'All hospitals'!AJ189","v":" -"},{"$f":"'All hospitals'!AK189","v":" -"},{"$f":"'All hospitals'!AL189","v":" -"}]
[null,{"$f":"'All hospitals'!B190","v":"Campbelltown Hospital "},{"$f":"'All hospitals'!C190","v":"Sydney"},{"$f":"'All hospitals'!E190","v":"02 4634 3000"},{"$f":"'All hospitals'!F190","v":"0408 662 394"},{"$f":"'All hospitals'!AI190","v":0},{"$f":"'All hospitals'!AJ190","v":" -"},{"$f":"'All hospitals'!AK190","v":" -"},{"$f":"'All hospitals'!AL190","v":" -"}]
[null,{"$f":"'All hospitals'!B191","v":"Fairfield Hospital"},{"$f":"'All hospitals'!C191","v":"Fairfield"},{"$f":"'All hospitals'!E191","v":"02 9616 8322"},{"$f":"'All hospitals'!F191","v":"02 9616 8111"},{"$f":"'All hospitals'!AI191","v":0},{"$f":"'All hospitals'!AJ191","v":" -"},{"$f":"'All hospitals'!AK191","v":" -"},{"$f":"'All hospitals'!AL191","v":" -"}]
[null,{"$f":"'All hospitals'!B192","v":"Liverpool Hospital"},{"$f":"'All hospitals'!C192","v":"Sydney"},{"$f":"'All hospitals'!E192","v":"02 8738 3000"},{"$f":"'All hospitals'!F192","v":"02 8738 3000"},{"$f":"'All hospitals'!AI192","v":0},{"$f":"'All hospitals'!AJ192","v":" -"},{"$f":"'All hospitals'!AK192","v":" -"},{"$f":"'All hospitals'!AL192","v":" -"}]
[null,{"$f":"'All hospitals'!B193","v":"-"},{"$f":"'All hospitals'!C193","v":"-"},{"$f":"'All hospitals'!E193","v":"-"},{"$f":"'All hospitals'!F193","v":"-"},{"$f":"'All hospitals'!AI193","v":"-"},{"$f":"'All hospitals'!AJ193","v":"-"},{"$f":"'All hospitals'!AK193","v":"-"},{"$f":"'All hospitals'!AL193","v":"-"}]
[null,{"$f":"'All hospitals'!B194","v":"SOUTHERN NSW"}]
[null,{"$f":"'All hospitals'!B195","v":"Bateman's Bay District Hospital "},{"$f":"'All hospitals'!C195","v":"Bateman's Bay"},{"$f":"'All hospitals'!E195","v":"02 4475 1500"},{"$f":"'All hospitals'!F195","v":"0419 421 411"},{"$f":"'All hospitals'!AI195","v":0},{"$f":"'All hospitals'!AJ195","v":" -"},{"$f":"'All hospitals'!AK195","v":" -"},{"$f":"'All hospitals'!AL195","v":" -"}]
[null,{"$f":"'All hospitals'!B196","v":"South East Regional Hospital (SERH / Bega District Hospital)"},{"$f":"'All hospitals'!C196","v":"Bega"},{"$f":"'All hospitals'!E196","v":"02 6492 9111"},{"$f":"'All hospitals'!F196","v":"0419 421 411"},{"$f":"'All hospitals'!AI196","v":0},{"$f":"'All hospitals'!AJ196","v":" -"},{"$f":"'All hospitals'!AK196","v":" -"},{"$f":"'All hospitals'!AL196","v":" -"}]
[null,{"$f":"'All hospitals'!B197","v":"Bombala Hospital "},{"$f":"'All hospitals'!C197","v":"Bombala"},{"$f":"'All hospitals'!E197","v":"02 6458 5777"},{"$f":"'All hospitals'!F197","v":"0419 421 411"},{"$f":"'All hospitals'!AI197","v":0},{"$f":"'All hospitals'!AJ197","v":" -"},{"$f":"'All hospitals'!AK197","v":" -"},{"$f":"'All hospitals'!AL197","v":" -"}]
[null,{"$f":"'All hospitals'!B198","v":"Braidwood Hospital "},{"$f":"'All hospitals'!C198","v":"Braidwood"},{"$f":"'All hospitals'!E198","v":"02 4842 2566"},{"$f":"'All hospitals'!F198","v":"0419 421 411"},{"$f":"'All hospitals'!AI198","v":0},{"$f":"'All hospitals'!AJ198","v":" -"},{"$f":"'All hospitals'!AK198","v":" -"},{"$f":"'All hospitals'!AL198","v":" -"}]
[null,{"$f":"'All hospitals'!B199","v":"Cooma District Hospital "},{"$f":"'All hospitals'!C199","v":"Cooma"},{"$f":"'All hospitals'!E199","v":"02 6455 3222"},{"$f":"'All hospitals'!F199","v":"0419 421 411"},{"$f":"'All hospitals'!AI199","v":0},{"$f":"'All hospitals'!AJ199","v":" -"},{"$f":"'All hospitals'!AK199","v":" -"},{"$f":"'All hospitals'!AL199","v":" -"}]
[null,{"$f":"'All hospitals'!B200","v":"Crookwell District Hospital "},{"$f":"'All hospitals'!C200","v":"Crookwell NSW"},{"$f":"'All hospitals'!E200","v":"02 4832 1300"},{"$f":"'All hospitals'!F200","v":"0419 421 411"},{"$f":"'All hospitals'!AI200","v":0},{"$f":"'All hospitals'!AJ200","v":" -"},{"$f":"'All hospitals'!AK200","v":" -"},{"$f":"'All hospitals'!AL200","v":" -"}]
[null,{"$f":"'All hospitals'!B201","v":"Delegate Hospital "},{"$f":"'All hospitals'!C201","v":"Delegate"},{"$f":"'All hospitals'!E201","v":"02 6459 8000"},{"$f":"'All hospitals'!F201","v":"0419 421 411"},{"$f":"'All hospitals'!AI201","v":0},{"$f":"'All hospitals'!AJ201","v":" -"},{"$f":"'All hospitals'!AK201","v":" -"},{"$f":"'All hospitals'!AL201","v":" -"}]
[null,{"$f":"'All hospitals'!B202","v":"Goulburn Base Hospital "},{"$f":"'All hospitals'!C202","v":"Goulburn"},{"$f":"'All hospitals'!E202","v":"02 4827 3111"},{"$f":"'All hospitals'!F202","v":"02 4827 3111"},{"$f":"'All hospitals'!AI202","v":0},{"$f":"'All hospitals'!AJ202","v":" -"},{"$f":"'All hospitals'!AK202","v":" -"},{"$f":"'All hospitals'!AL202","v":" -"}]
[null,{"$f":"'All hospitals'!B203","v":"Moruya District Hospital "},{"$f":"'All hospitals'!C203","v":"Moruya"},{"$f":"'All hospitals'!E203","v":"02 4474 2666"},{"$f":"'All hospitals'!F203","v":"0419 421 411"},{"$f":"'All hospitals'!AI203","v":0},{"$f":"'All hospitals'!AJ203","v":" -"},{"$f":"'All hospitals'!AK203","v":" -"},{"$f":"'All hospitals'!AL203","v":" -"}]
[null,{"$f":"'All hospitals'!B204","v":"Pambula District Hospital "},{"$f":"'All hospitals'!C204","v":"Pambula"},{"$f":"'All hospitals'!E204","v":"02 6495 8200"},{"$f":"'All hospitals'!F204","v":"0419 421 411"},{"$f":"'All hospitals'!AI204","v":0},{"$f":"'All hospitals'!AJ204","v":" -"},{"$f":"'All hospitals'!AK204","v":" -"},{"$f":"'All hospitals'!AL204","v":" -"}]
[null,{"$f":"'All hospitals'!B205","v":"Queanbeyan Hospital "},{"$f":"'All hospitals'!C205","v":"Queanbeyan"},{"$f":"'All hospitals'!E205","v":"02 6150 7000"},{"$f":"'All hospitals'!F205","v":"0419 421 411"},{"$f":"'All hospitals'!AI205","v":0},{"$f":"'All hospitals'!AJ205","v":" -"},{"$f":"'All hospitals'!AK205","v":" -"},{"$f":"'All hospitals'!AL205","v":" -"}]
[null,{"$f":"'All hospitals'!B206","v":"Yass District Hospital "},{"$f":"'All hospitals'!C206","v":"Yass"},{"$f":"'All hospitals'!E206","v":"02 6220 2000"},{"$f":"'All hospitals'!F206","v":"0419 421 411"},{"$f":"'All hospitals'!AI206","v":0},{"$f":"'All hospitals'!AJ206","v":" -"},{"$f":"'All hospitals'!AK206","v":" -"},{"$f":"'All hospitals'!AL206","v":" -"}]
[null,{"$f":"'All hospitals'!B207","v":"-"},{"$f":"'All hospitals'!C207","v":"-"},{"$f":"'All hospitals'!E207","v":"-"},{"$f":"'All hospitals'!F207","v":"-"},{"$f":"'All hospitals'!AI207","v":"-"},{"$f":"'All hospitals'!AJ207","v":"-"},{"$f":"'All hospitals'!AK207","v":"-"},{"$f":"'All hospitals'!AL207","v":"-"}]
[null,{"$f":"'All hospitals'!B208","v":"ST VINCENT'S HEALTH"}]
[null,{"$f":"'All hospitals'!B209","v":"St Vincent's Hospital"},{"$f":"'All hospitals'!C209","v":"Darlinghurst"},{"$f":"'All hospitals'!E209","v":"02 8282 2125"},{"$f":"'All hospitals'!F209","v":"02 8382 1111 (on call pharmacist via switchboard)"},{"$f":"'All hospitals'!AI209","v":0},{"$f":"'All hospitals'!AJ209","v":" -"},{"$f":"'All hospitals'!AK209","v":" -"},{"$f":"'All hospitals'!AL209","v":" -"}]
[null,{"$f":"'All hospitals'!B210","v":"-"},{"$f":"'All hospitals'!C210","v":"-"},{"$f":"'All hospitals'!E210","v":"-"},{"$f":"'All hospitals'!F210","v":"-"},{"$f":"'All hospitals'!AI210","v":"-"},{"$f":"'All hospitals'!AJ210","v":"-"},{"$f":"'All hospitals'!AK210","v":"-"},{"$f":"'All hospitals'!AL210","v":"-"}]
[null,{"$f":"'All hospitals'!B211","v":"SYDNEY LHD"}]
[null,{"$f":"'All hospitals'!B212","v":"Balmain Hospital (No ED services) NO STOCKS HELD"},{"$f":"'All hospitals'!C212","v":"Balmain"},{"$f":"'All hospitals'!E212","v":"02 9395 2111"},{"$f":"'All hospitals'!F212","v":" -"},{"$f":"'All hospitals'!AI212","v":" -"},{"$f":"'All hospitals'!AJ212","v":" -"},{"$f":"'All hospitals'!AK212","v":" -"},{"$f":"'All hospitals'!AL212","v":" -"}]
[null,{"$f":"'All hospitals'!B213","v":"Canterbury Hospital "},{"$f":"'All hospitals'!C213","v":"Campsie"},{"$f":"'All hospitals'!E213","v":"02 9787 0219"},{"$f":"'All hospitals'!F213","v":"02 9787 0000"},{"$f":"'All hospitals'!AI213","v":0},{"$f":"'All hospitals'!AJ213","v":" -"},{"$f":"'All hospitals'!AK213","v":" -"},{"$f":"'All hospitals'!AL213","v":" -"}]
[null,{"$f":"'All hospitals'!B214","v":"Concord Hospital"},{"$f":"'All hospitals'!C214","v":"Concord"},{"$f":"'All hospitals'!E214","v":"02 9767 6214"},{"$f":"'All hospitals'!F214","v":"02 9767 5000"},{"$f":"'All hospitals'!AI214","v":0},{"$f":"'All hospitals'!AJ214","v":" - "},{"$f":"'All hospitals'!AK214","v":" -"},{"$f":"'All hospitals'!AL214","v":" -"}]
[null,{"$f":"'All hospitals'!B215","v":"Royal Prince Alfred Hospital"},{"$f":"'All hospitals'!C215","v":"Camperdown"},{"$f":"'All hospitals'!E215","v":"02 9515 6111"},{"$f":"'All hospitals'!F215","v":"02 9515 6111"},{"$f":"'All hospitals'!AI215","v":0},{"$f":"'All hospitals'!AJ215","v":" -"},{"$f":"'All hospitals'!AK215","v":" -"},{"$f":"'All hospitals'!AL215","v":" -"}]
[null,{"$f":"'All hospitals'!B216","v":"-"},{"$f":"'All hospitals'!C216","v":"-"},{"$f":"'All hospitals'!E216","v":"-"},{"$f":"'All hospitals'!F216","v":"-"},{"$f":"'All hospitals'!AI216","v":"-"},{"$f":"'All hospitals'!AJ216","v":"-"},{"$f":"'All hospitals'!AK216","v":"-"},{"$f":"'All hospitals'!AL216","v":"-"}]
[null,{"$f":"'All hospitals'!B217","v":"SYDNEY CHILDREN'S HOSPITALS NETWORK"}]
[null,{"$f":"'All hospitals'!B218","v":"Sydney Children's Hospital Randwick (SCH) (see also stocks kept at Prince of Wales (adjacent hospital))"},{"$f":"'All hospitals'!C218","v":"Randwick"},{"$f":"'All hospitals'!E218","v":"02 9382 1111"},{"$f":"'All hospitals'!F218","v":"029382 2222  Pharmacist on call "},{"$f":"'All hospitals'!AI218","v":1},{"$f":"'All hospitals'!AJ218","v":"Paediatric afterhours drug room"},{"$f":"'All hospitals'!AK218","v":" -"},{"$f":"'All hospitals'!AL218","v":" -"}]
[null,{"$f":"'All hospitals'!B219","v":"The Children's Hospital Westmead (CHW)"},{"$f":"'All hospitals'!C219","v":"Westmead"},{"$f":"'All hospitals'!E219","v":"02 9845 0000"},{"$f":"'All hospitals'!F219","v":"02 9845 0000 (on call pharmacist via switchboard)"},{"$f":"'All hospitals'!AI219","v":0},{"$f":"'All hospitals'!AJ219","v":"-"},{"$f":"'All hospitals'!AK219","v":" -"},{"$f":"'All hospitals'!AL219","v":" -"}]
[null,{"$f":"'All hospitals'!B220","v":" Newborn & Paediatric Emergency Transport Service (NETS)"},{"$f":"'All hospitals'!C220","v":"Bankstown Aerodrome"},{"$f":"'All hospitals'!E220","v":1300362730},{"$f":"'All hospitals'!F220","v":1300362730},{"$f":"'All hospitals'!AI220","v":"-"},{"$f":"'All hospitals'!AJ220","v":"-"},{"$f":"'All hospitals'!AK220","v":"-"},{"$f":"'All hospitals'!AL220","v":"-"}]
[null,{"$f":"'All hospitals'!B221","v":"-"},{"$f":"'All hospitals'!C221","v":"-"},{"$f":"'All hospitals'!E221","v":"-"},{"$f":"'All hospitals'!F221","v":"-"},{"$f":"'All hospitals'!AI221","v":"-"},{"$f":"'All hospitals'!AJ221","v":"-"},{"$f":"'All hospitals'!AK221","v":"-"},{"$f":"'All hospitals'!AL221","v":"-"}]
[null,{"$f":"'All hospitals'!B222","v":"WESTERN NSW LHD"}]
[null,{"$f":"'All hospitals'!B223","v":"Baradine Multi Purpose Service"},{"$f":"'All hospitals'!C223","v":"Baradine, NSW"},{"$f":"'All hospitals'!E223","v":"02 6843 1605"},{"$f":"'All hospitals'!F223","v":"02 6843 4100"},{"$f":"'All hospitals'!AI223","v":0},{"$f":"'All hospitals'!AJ223","v":" -"},{"$f":"'All hospitals'!AK223","v":" -"},{"$f":"'All hospitals'!AL223","v":" -"}]
[null,{"$f":"'All hospitals'!B224","v":"Bathurst Hospital"},{"$f":"'All hospitals'!C224","v":"Bathurst"},{"$f":"'All hospitals'!E224","v":"02 6330 5304"},{"$f":"'All hospitals'!F224","v":"02 6330 5308"},{"$f":"'All hospitals'!AI224","v":0},{"$f":"'All hospitals'!AJ224","v":" -"},{"$f":"'All hospitals'!AK224","v":" -"},{"$f":"'All hospitals'!AL224","v":" -"}]
[null,{"$f":"'All hospitals'!B225","v":"Blayney Multi Purpose Service"},{"$f":"'All hospitals'!C225","v":"Blayney"},{"$f":"'All hospitals'!E225","v":"02 6368 9029 "},{"$f":"'All hospitals'!F225","v":"02 6368 9029 "},{"$f":"'All hospitals'!AI225","v":0},{"$f":"'All hospitals'!AJ225","v":" -"},{"$f":"'All hospitals'!AK225","v":" -"},{"$f":"'All hospitals'!AL225","v":" -"}]
[null,{"$f":"'All hospitals'!B226","v":"Bourke Multi Purpose Service "},{"$f":"'All hospitals'!C226","v":"Bourke"},{"$f":"'All hospitals'!E226","v":"02 6870 8888"},{"$f":"'All hospitals'!F226","v":"02 6870 8888"},{"$f":"'All hospitals'!AI226","v":0},{"$f":"'All hospitals'!AJ226","v":" -"},{"$f":"'All hospitals'!AK226","v":" -"},{"$f":"'All hospitals'!AL226","v":" -"}]
[null,{"$f":"'All hospitals'!B227","v":"Brewarrina Multi Purpose Service "},{"$f":"'All hospitals'!C227","v":"Brewarrina"},{"$f":"'All hospitals'!E227","v":"02 6830 5000"},{"$f":"'All hospitals'!F227","v":"02 6830 5000"},{"$f":"'All hospitals'!AI227","v":0},{"$f":"'All hospitals'!AJ227","v":" -"},{"$f":"'All hospitals'!AK227","v":" -"},{"$f":"'All hospitals'!AL227","v":" -"}]
[null,{"$f":"'All hospitals'!B228","v":"Canowindra Soldiers Memorial Hospital (Stock data TBC)"},{"$f":"'All hospitals'!C228","v":"Canowindra"},{"$f":"'All hospitals'!E228","v":"02 6364 4300"},{"$f":"'All hospitals'!F228","v":"02 6340 3033"},{"$f":"'All hospitals'!AI228","v":0},{"$f":"'All hospitals'!AJ228","v":" -"},{"$f":"'All hospitals'!AK228","v":" -"},{"$f":"'All hospitals'!AL228","v":" -"}]
[null,{"$f":"'All hospitals'!B229","v":"Cobar District Hospital (Stock data TBC)"},{"$f":"'All hospitals'!C229","v":"Cobar"},{"$f":"'All hospitals'!E229","v":"02 6836 2406"},{"$f":"'All hospitals'!F229","v":"02 6830 2111"},{"$f":"'All hospitals'!AI229","v":0},{"$f":"'All hospitals'!AJ229","v":" -"},{"$f":"'All hospitals'!AK229","v":" -"},{"$f":"'All hospitals'!AL229","v":" -"}]
[null,{"$f":"'All hospitals'!B230","v":"Collarenebri Multi Purpose Service "},{"$f":"'All hospitals'!C230","v":"Collarenebri"},{"$f":"'All hospitals'!E230","v":"02 6756 4800"},{"$f":"'All hospitals'!F230","v":"02 6756 4800"},{"$f":"'All hospitals'!AI230","v":0},{"$f":"'All hospitals'!AJ230","v":" -"},{"$f":"'All hospitals'!AK230","v":" -"},{"$f":"'All hospitals'!AL230","v":" -"}]
[null,{"$f":"'All hospitals'!B231","v":"Condobolin District Hospital"},{"$f":"'All hospitals'!C231","v":"Condobolin"},{"$f":"'All hospitals'!E231","v":"02 6890 1500"},{"$f":"'All hospitals'!F231","v":"02 6890 1500"},{"$f":"'All hospitals'!AI231","v":0},{"$f":"'All hospitals'!AJ231","v":" -"},{"$f":"'All hospitals'!AK231","v":" -"},{"$f":"'All hospitals'!AL231","v":" -"}]
[null,{"$f":"'All hospitals'!B232","v":"Coolah Multi Purpose Service (Stock data TBC)"},{"$f":"'All hospitals'!C232","v":"Coolah"},{"$f":"'All hospitals'!E232","v":"02 6377 9100"},{"$f":"'All hospitals'!F232","v":"02 6377 9100"},{"$f":"'All hospitals'!AI232","v":0},{"$f":"'All hospitals'!AJ232","v":" -"},{"$f":"'All hospitals'!AK232","v":" -"},{"$f":"'All hospitals'!AL232","v":" -"}]
[null,{"$f":"'All hospitals'!B233","v":"Coonabarabran District Hospital"},{"$f":"'All hospitals'!C233","v":"Coonabarabran"},{"$f":"'All hospitals'!E233","v":"02 6849 1600"},{"$f":"'All hospitals'!F233","v":"02 6849 1600"},{"$f":"'All hospitals'!AI233","v":0},{"$f":"'All hospitals'!AJ233","v":" -"},{"$f":"'All hospitals'!AK233","v":" -"},{"$f":"'All hospitals'!AL233","v":" -"}]
[null,{"$f":"'All hospitals'!B234","v":"Coonamble Multi Purpose Service (Stock data TBC)"},{"$f":"'All hospitals'!C234","v":"Coonamble"},{"$f":"'All hospitals'!E234","v":"02 6827 1100"},{"$f":"'All hospitals'!F234","v":"02 6827 1100"},{"$f":"'All hospitals'!AI234","v":0},{"$f":"'All hospitals'!AJ234","v":" -"},{"$f":"'All hospitals'!AK234","v":" -"},{"$f":"'All hospitals'!AL234","v":" -"}]
[null,{"$f":"'All hospitals'!B235","v":"Cowra Hospital (Stock data TBC)"},{"$f":"'All hospitals'!C235","v":"Cowra"},{"$f":"'All hospitals'!E235","v":"02 6340 9000"},{"$f":"'All hospitals'!F235","v":"02 6340 9000"},{"$f":"'All hospitals'!AI235","v":0},{"$f":"'All hospitals'!AJ235","v":" -"},{"$f":"'All hospitals'!AK235","v":" -"},{"$f":"'All hospitals'!AL235","v":" -"}]
[null,{"$f":"'All hospitals'!B236","v":"Cudal Health Service NO STOCKS HELD"},{"$f":"'All hospitals'!C236","v":"Cudal"},{"$f":"'All hospitals'!E236","v":"02 6392 3400"},{"$f":"'All hospitals'!F236","v":" -"},{"$f":"'All hospitals'!AI236","v":0},{"$f":"'All hospitals'!AJ236","v":" -"},{"$f":"'All hospitals'!AK236","v":" -"},{"$f":"'All hospitals'!AL236","v":" -"}]
[null,{"$f":"'All hospitals'!B237","v":"Dubbo Base Hospital"},{"$f":"'All hospitals'!C237","v":"Dubbo"},{"$f":"'All hospitals'!E237","v":"02 6809 8150"},{"$f":"'All hospitals'!F237","v":"02 6809 6809"},{"$f":"'All hospitals'!AI237","v":0},{"$f":"'All hospitals'!AJ237","v":" -"},{"$f":"'All hospitals'!AK237","v":" -"},{"$f":"'All hospitals'!AL237","v":" -"}]
[null,{"$f":"'All hospitals'!B238","v":"Dunedoo Multi Purpose Service (Stock data TBC)"},{"$f":"'All hospitals'!C238","v":"Dunedoo"},{"$f":"'All hospitals'!E238","v":"02 6375 1408"},{"$f":"'All hospitals'!F238","v":"02 6370 3000"},{"$f":"'All hospitals'!AI238","v":0},{"$f":"'All hospitals'!AJ238","v":" -"},{"$f":"'All hospitals'!AK238","v":" -"},{"$f":"'All hospitals'!AL238","v":" -"}]
[null,{"$f":"'All hospitals'!B239","v":"Eugowra Multi Purpose Service (Stock data TBC)"},{"$f":"'All hospitals'!C239","v":"Eugowra"},{"$f":"'All hospitals'!E239","v":"02 6850 4000"},{"$f":"'All hospitals'!F239","v":"02 6850 4000"},{"$f":"'All hospitals'!AI239","v":0},{"$f":"'All hospitals'!AJ239","v":" -"},{"$f":"'All hospitals'!AK239","v":" -"},{"$f":"'All hospitals'!AL239","v":" -"}]
[null,{"$f":"'All hospitals'!B240","v":"Forbes District Hospital "},{"$f":"'All hospitals'!C240","v":"Forbes"},{"$f":"'All hospitals'!E240","v":"02 6850 7100"},{"$f":"'All hospitals'!F240","v":"02 6850 7100"},{"$f":"'All hospitals'!AI240","v":0},{"$f":"'All hospitals'!AJ240","v":" -"},{"$f":"'All hospitals'!AK240","v":" -"},{"$f":"'All hospitals'!AL240","v":" -"}]
[null,{"$f":"'All hospitals'!B241","v":"Gilgandra Multi Purpose Service (Stock data TBC)"},{"$f":"'All hospitals'!C241","v":"Gilgandra"},{"$f":"'All hospitals'!E241","v":"02 6880 5900"},{"$f":"'All hospitals'!F241","v":"02 6880 5900"},{"$f":"'All hospitals'!AI241","v":0},{"$f":"'All hospitals'!AJ241","v":" -"},{"$f":"'All hospitals'!AK241","v":" -"},{"$f":"'All hospitals'!AL241","v":" -"}]
[null,{"$f":"'All hospitals'!B242","v":"Goodooga Health Service "},{"$f":"'All hospitals'!C242","v":"Goodooga"},{"$f":"'All hospitals'!E242","v":"02 6829 5600"},{"$f":"'All hospitals'!F242","v":" - "},{"$f":"'All hospitals'!AI242","v":0},{"$f":"'All hospitals'!AJ242","v":" -"},{"$f":"'All hospitals'!AK242","v":" -"},{"$f":"'All hospitals'!AL242","v":" -"}]
[null,{"$f":"'All hospitals'!B243","v":"Grenfell Multi Purpose Service (Stock data TBC)"},{"$f":"'All hospitals'!C243","v":"Grenfell"},{"$f":"'All hospitals'!E243","v":"02 6349 1700"},{"$f":"'All hospitals'!F243","v":"02 6349 1700"},{"$f":"'All hospitals'!AI243","v":0},{"$f":"'All hospitals'!AJ243","v":" -"},{"$f":"'All hospitals'!AK243","v":" -"},{"$f":"'All hospitals'!AL243","v":" -"}]
[null,{"$f":"'All hospitals'!B244","v":"Gulargambone NO STOCKS HELD"},{"$f":"'All hospitals'!C244","v":"Gulargambone"},{"$f":"'All hospitals'!E244","v":"02 6825 1201"},{"$f":"'All hospitals'!F244","v":"-"},{"$f":"'All hospitals'!AI244","v":0},{"$f":"'All hospitals'!AJ244","v":" -"},{"$f":"'All hospitals'!AK244","v":" -"},{"$f":"'All hospitals'!AL244","v":" -"}]
[null,{"$f":"'All hospitals'!B245","v":"Gulgong Health Service "},{"$f":"'All hospitals'!C245","v":"Gulgong"},{"$f":"'All hospitals'!E245","v":"02 6374 3400"},{"$f":"'All hospitals'!F245","v":"02 6374 1200"},{"$f":"'All hospitals'!AI245","v":0},{"$f":"'All hospitals'!AJ245","v":" -"},{"$f":"'All hospitals'!AK245","v":" -"},{"$f":"'All hospitals'!AL245","v":" -"}]
[null,{"$f":"'All hospitals'!B246","v":"Lightning Ridge Multi Purpose Service "},{"$f":"'All hospitals'!C246","v":"Lightning Ridge"},{"$f":"'All hospitals'!E246","v":"02 6820 5700"},{"$f":"'All hospitals'!F246","v":"02 6820 5700"},{"$f":"'All hospitals'!AI246","v":0},{"$f":"'All hospitals'!AJ246","v":" -"},{"$f":"'All hospitals'!AK246","v":" -"},{"$f":"'All hospitals'!AL246","v":" -"}]
[null,{"$f":"'All hospitals'!B247","v":"Molong Hospital (Stock data TBC)"},{"$f":"'All hospitals'!C247","v":"Molong"},{"$f":"'All hospitals'!E247","v":"02 6392 3300"},{"$f":"'All hospitals'!F247","v":" -"},{"$f":"'All hospitals'!AI247","v":0},{"$f":"'All hospitals'!AJ247","v":" -"},{"$f":"'All hospitals'!AK247","v":" -"},{"$f":"'All hospitals'!AL247","v":" -"}]
[null,{"$f":"'All hospitals'!B248","v":"Mudgee Hospital "},{"$f":"'All hospitals'!C248","v":"Mudgee"},{"$f":"'All hospitals'!E248","v":"02 6371 9751"},{"$f":"'All hospitals'!F248","v":"02 6371 9700"},{"$f":"'All hospitals'!AI248","v":0},{"$f":"'All hospitals'!AJ248","v":" -"},{"$f":"'All hospitals'!AK248","v":" -"},{"$f":"'All hospitals'!AL248","v":" -"}]
[null,{"$f":"'All hospitals'!B249","v":"Narromine Health Service "},{"$f":"'All hospitals'!C249","v":"Narromine"},{"$f":"'All hospitals'!E249","v":"02 6889 9600"},{"$f":"'All hospitals'!F249","v":"02 6889 9600"},{"$f":"'All hospitals'!AI249","v":0},{"$f":"'All hospitals'!AJ249","v":" -"},{"$f":"'All hospitals'!AK249","v":" -"},{"$f":"'All hospitals'!AL249","v":" -"}]
[null,{"$f":"'All hospitals'!B250","v":"Nyngan Multi Purpose Service (Stock data TBC)"},{"$f":"'All hospitals'!C250","v":"Nyngan"},{"$f":"'All hospitals'!E250","v":"02 6832 1707"},{"$f":"'All hospitals'!F250","v":"02 6835 1700"},{"$f":"'All hospitals'!AI250","v":0},{"$f":"'All hospitals'!AJ250","v":" -"},{"$f":"'All hospitals'!AK250","v":" -"},{"$f":"'All hospitals'!AL250","v":" -"}]
[null,{"$f":"'All hospitals'!B251","v":"Oberon Multi Purpose Service"},{"$f":"'All hospitals'!C251","v":"Oberon"},{"$f":"'All hospitals'!E251","v":"02 6336 7200"},{"$f":"'All hospitals'!F251","v":"02 6336 7200"},{"$f":"'All hospitals'!AI251","v":0},{"$f":"'All hospitals'!AJ251","v":" -"},{"$f":"'All hospitals'!AK251","v":" -"},{"$f":"'All hospitals'!AL251","v":" -"}]
[null,{"$f":"'All hospitals'!B252","v":"Orange Health Service "},{"$f":"'All hospitals'!C252","v":"Orange"},{"$f":"'All hospitals'!E252","v":"02 6369 3740"},{"$f":"'All hospitals'!F252","v":"02 6369 3222"},{"$f":"'All hospitals'!AI252","v":1},{"$f":"'All hospitals'!AJ252","v":"After Hours Cupboard"},{"$f":"'All hospitals'!AK252","v":" -"},{"$f":"'All hospitals'!AL252","v":" -"}]
[null,{"$f":"'All hospitals'!B253","v":"Parkes District Hospital "},{"$f":"'All hospitals'!C253","v":"Parkes"},{"$f":"'All hospitals'!E253","v":"02 6861 2400"},{"$f":"'All hospitals'!F253","v":"02 6861 2440"},{"$f":"'All hospitals'!AI253","v":0},{"$f":"'All hospitals'!AJ253","v":" -"},{"$f":"'All hospitals'!AK253","v":" -"},{"$f":"'All hospitals'!AL253","v":" -"}]
[null,{"$f":"'All hospitals'!B254","v":"Peak Hill Multi Purpose Service "},{"$f":"'All hospitals'!C254","v":"Peak Hill"},{"$f":"'All hospitals'!E254","v":"02 6869 5200"},{"$f":"'All hospitals'!F254","v":"02 6869 5200"},{"$f":"'All hospitals'!AI254","v":0},{"$f":"'All hospitals'!AJ254","v":" -"},{"$f":"'All hospitals'!AK254","v":" -"},{"$f":"'All hospitals'!AL254","v":" -"}]
[null,{"$f":"'All hospitals'!B255","v":"Rylstone Multi Purpose Service "},{"$f":"'All hospitals'!C255","v":"Rylstone"},{"$f":"'All hospitals'!E255","v":"02 6357 6100"},{"$f":"'All hospitals'!F255","v":"02 6357 6100"},{"$f":"'All hospitals'!AI255","v":0},{"$f":"'All hospitals'!AJ255","v":" -"},{"$f":"'All hospitals'!AK255","v":" -"},{"$f":"'All hospitals'!AL255","v":" -"}]
[null,{"$f":"'All hospitals'!B256","v":"Tottenham Multi Purpose Service "},{"$f":"'All hospitals'!C256","v":"Tottenham"},{"$f":"'All hospitals'!E256","v":"02 6891  6200"},{"$f":"'All hospitals'!F256","v":"02 6891  6200"},{"$f":"'All hospitals'!AI256","v":0},{"$f":"'All hospitals'!AJ256","v":" -"},{"$f":"'All hospitals'!AK256","v":" -"},{"$f":"'All hospitals'!AL256","v":" -"}]
[null,{"$f":"'All hospitals'!B257","v":"Trangie Multi Purpose Service (Stock data TBC)"},{"$f":"'All hospitals'!C257","v":"Trangie"},{"$f":"'All hospitals'!E257","v":" -"},{"$f":"'All hospitals'!F257","v":"02 6880 8200"},{"$f":"'All hospitals'!AI257","v":0},{"$f":"'All hospitals'!AJ257","v":" -"},{"$f":"'All hospitals'!AK257","v":" -"},{"$f":"'All hospitals'!AL257","v":" -"}]
[null,{"$f":"'All hospitals'!B258","v":"Trundle Multi Purpose Service "},{"$f":"'All hospitals'!C258","v":"Trundle"},{"$f":"'All hospitals'!E258","v":"02 6892 1900"},{"$f":"'All hospitals'!F258","v":"02 6892 1900"},{"$f":"'All hospitals'!AI258","v":0},{"$f":"'All hospitals'!AJ258","v":" -"},{"$f":"'All hospitals'!AK258","v":" -"},{"$f":"'All hospitals'!AL258","v":" -"}]
[null,{"$f":"'All hospitals'!B259","v":"Tullamore Multi Purpose Service "},{"$f":"'All hospitals'!C259","v":"Tullamore"},{"$f":"'All hospitals'!E259","v":"02 6892 6400"},{"$f":"'All hospitals'!F259","v":"02 6892 6400"},{"$f":"'All hospitals'!AI259","v":0},{"$f":"'All hospitals'!AJ259","v":" -"},{"$f":"'All hospitals'!AK259","v":" -"},{"$f":"'All hospitals'!AL259","v":" -"}]
[null,{"$f":"'All hospitals'!B260","v":"Walgett District Hospital "},{"$f":"'All hospitals'!C260","v":"Walgett"},{"$f":"'All hospitals'!E260","v":"02 6817 9400"},{"$f":"'All hospitals'!F260","v":"02 6817 9400"},{"$f":"'All hospitals'!AI260","v":0},{"$f":"'All hospitals'!AJ260","v":" -"},{"$f":"'All hospitals'!AK260","v":" -"},{"$f":"'All hospitals'!AL260","v":" -"}]
[null,{"$f":"'All hospitals'!B261","v":"Wanaaring Health Service NO STOCKS HELD"},{"$f":"'All hospitals'!C261","v":"Wanaaring"},{"$f":"'All hospitals'!E261","v":"02 6874 7721"},{"$f":"'All hospitals'!F261","v":"02 6874 7721"},{"$f":"'All hospitals'!AI261","v":0},{"$f":"'All hospitals'!AJ261","v":" -"},{"$f":"'All hospitals'!AK261","v":" -"},{"$f":"'All hospitals'!AL261","v":" -"}]
[null,{"$f":"'All hospitals'!B262","v":"Warren Multi Purpose Service (Stock data TBC)"},{"$f":"'All hospitals'!C262","v":"Warren"},{"$f":"'All hospitals'!E262","v":"02 6847 4303"},{"$f":"'All hospitals'!F262","v":"02 6847 5400"},{"$f":"'All hospitals'!AI262","v":0},{"$f":"'All hospitals'!AJ262","v":" -"},{"$f":"'All hospitals'!AK262","v":" -"},{"$f":"'All hospitals'!AL262","v":" -"}]
[null,{"$f":"'All hospitals'!B263","v":"Wellington Health Service"},{"$f":"'All hospitals'!C263","v":"Wellington"},{"$f":"'All hospitals'!E263","v":"02 6840 7200"},{"$f":"'All hospitals'!F263","v":"02 6840 8200"},{"$f":"'All hospitals'!AI263","v":0},{"$f":"'All hospitals'!AJ263","v":" -"},{"$f":"'All hospitals'!AK263","v":" -"},{"$f":"'All hospitals'!AL263","v":" -"}]
[null,{"$f":"'All hospitals'!B264","v":"-"},{"$f":"'All hospitals'!C264","v":"-"},{"$f":"'All hospitals'!E264","v":"-"},{"$f":"'All hospitals'!F264","v":"-"},{"$f":"'All hospitals'!AI264","v":"-"},{"$f":"'All hospitals'!AJ264","v":"-"},{"$f":"'All hospitals'!AK264","v":"-"},{"$f":"'All hospitals'!AL264","v":"-"}]
[null,{"$f":"'All hospitals'!B265","v":"WESTERN SYDNEY LHD & OTHER"}]
[null,{"$f":"'All hospitals'!B266","v":"Auburn Hospital"},{"$f":"'All hospitals'!C266","v":"Auburn"},{"$f":"'All hospitals'!E266","v":"02 8759 3302"},{"$f":"'All hospitals'!F266","v":"02 8759 3000"},{"$f":"'All hospitals'!AI266","v":0},{"$f":"'All hospitals'!AJ266","v":" -"},{"$f":"'All hospitals'!AK266","v":" -"},{"$f":"'All hospitals'!AL266","v":" -"}]
[null,{"$f":"'All hospitals'!B267","v":"Blacktown Hospital "},{"$f":"'All hospitals'!C267","v":"Blacktown"},{"$f":"'All hospitals'!E267","v":"02 9881 8142"},{"$f":"'All hospitals'!F267","v":"02 9881 8000 (afterhours nurse manager via switch)"},{"$f":"'All hospitals'!AI267","v":1},{"$f":"'All hospitals'!AJ267","v":" -"},{"$f":"'All hospitals'!AK267","v":" -"},{"$f":"'All hospitals'!AL267","v":" -"}]
[null,{"$f":"'All hospitals'!B268","v":"Mount Druitt Hospital "},{"$f":"'All hospitals'!C268","v":"Mount Druitt NSW"},{"$f":"'All hospitals'!E268","v":"02 9881 1581"},{"$f":"'All hospitals'!F268","v":"02 9881 1555  (afterhours nurse manager via switch)"},{"$f":"'All hospitals'!AI268","v":0},{"$f":"'All hospitals'!AJ268","v":" -"},{"$f":"'All hospitals'!AK268","v":" -"},{"$f":"'All hospitals'!AL268","v":" -"}]
[null,{"$f":"'All hospitals'!B269","v":"Westmead Hospital "},{"$f":"'All hospitals'!C269","v":"Westmead"},{"$f":"'All hospitals'!E269","v":"02 8890 5555"},{"$f":"'All hospitals'!F269","v":"02 8890 5555 (on call pharmacist via switch)"},{"$f":"'All hospitals'!AI269","v":2},{"$f":"'All hospitals'!AJ269","v":"ED"},{"$f":"'All hospitals'!AK269","v":0},{"$f":"'All hospitals'!AL269","v":"-"}]
[null,{"$f":"'All hospitals'!B270","v":"-"},{"$f":"'All hospitals'!C270","v":"-"},{"$f":"'All hospitals'!E270","v":"-"},{"$f":"'All hospitals'!F270","v":"-"},{"$f":"'All hospitals'!AI270","v":"-"},{"$f":"'All hospitals'!AJ270","v":"-"},{"$f":"'All hospitals'!AK270","v":"-"},{"$f":"'All hospitals'!AL270","v":"-"}]
[null,{"$f":"'All hospitals'!B271","v":"PRIVATE HOSPITALS & OTHER"}]
[null,{"$f":"'All hospitals'!B272","v":"Macquarie University Hospital NO STOCKS HELD"},{"$f":"'All hospitals'!C272","v":"North Ryde"},{"$f":"'All hospitals'!E272","v":"02 98875500"},{"$f":"'All hospitals'!F272","v":"NA"},{"$f":"'All hospitals'!AI272","v":0},{"$f":"'All hospitals'!AJ272","v":"-"},{"$f":"'All hospitals'!AK272","v":0},{"$f":"'All hospitals'!AL272","v":"-"}]
[null,{"$f":"'All hospitals'!B273","v":"Norwest Private Hospital (Stock data TBC)"},{"$f":"'All hospitals'!C273","v":"Bella Vista"},{"$f":"'All hospitals'!E273","v":"02 8882 8555"},{"$f":"'All hospitals'!F273","v":"02 8882 8555"},{"$f":"'All hospitals'!AI273","v":0},{"$f":"'All hospitals'!AJ273","v":"-"},{"$f":"'All hospitals'!AK273","v":"-"},{"$f":"'All hospitals'!AL273","v":"-"},null,"Back to index","Back to 'All hospitals' tab"]

{"sheet":"Taipan snake","index":10,"n_rows":253,"n_cols":10,"rows_kept":253,"cut":false,"hidden":false,"merged":[[196,1,196,3],[201,1,201,3],[244,1,244,3],[157,1,157,3],[165,1,165,3],[173,1,173,3],[187,1,187,3],[190,1,190,3],[86,1,86,3],[95,1,95,3],[128,1,128,3],[134,1,134,3],[148,1,148,3],[14,1,14,3],[18,1,18,3],[22,1,22,3],[34,1,34,3],[74,1,74,3],[8,6,9,6],[10,1,10,3],[3,1,3,6],[0,1,0,6],[2,1,2,6],[4,1,4,6],[6,1,6,4],[6,5,7,6],[7,1,9,1],[7,2,9,2],[7,3,9,3],[7,4,9,4],[8,5,9,5]]}
[null,{"$f":"'All hospitals'!$B$1","v":"Last modified: 14/01/2021"}]
[]
[null,{"$f":"'All hospitals'!$AM$28","v":"TAIPAN SNAKE"}]
[null,"OTHER ANTIVENOM"]
[null,null,null,null,null,null,null,null,"Back to Index","Back to 'All hospitals' tab"]
[]
[null,"HOSPITAL DETAILS",null,null,null,"AVAILABILITY"]
[null,"Hospital name:\n\"Stock data TBC\" indicates that the hospital has not provided an update to the stockholding data.                                            ","Town/city","Phone number (business hours)","Phone number (after hours)"]
[null,null,null,null,null,"Number of vials","Location"]
[]
[null,{"$f":"'All hospitals'!B31","v":"ACT"},null,null,null,null,null,null,"Click to jump to LHD or network"]
[null,{"$f":"'All hospitals'!B32","v":"Calvary Public Hospital "},{"$f":"'All hospitals'!C32","v":"Canberra"},{"$f":"'All hospitals'!E32","v":"02 6201 6265 "},{"$f":"'All hospitals'!F32","v":"0413 611 319"},{"$f":"'All hospitals'!AM32","v":0},{"$f":"'All hospitals'!AN32","v":" -"},null,"ACT"]
[null,{"$f":"'All hospitals'!B33","v":"The Canberra Hospital"},{"$f":"'All hospitals'!C33","v":"Canberra"},{"$f":"'All hospitals'!E33","v":"02 5124 0000"},{"$f":"'All hospitals'!F33","v":"0401 710 831"},{"$f":"'All hospitals'!AM33","v":0},{"$f":"'All hospitals'!AN33","v":" -"},null,"ALBURY WODONGA HEALTH"]
[null,{"$f":"'All hospitals'!B34","v":"-"},{"$f":"'All hospitals'!C34","v":"-"},{"$f":"'All hospitals'!E34","v":"-"},null,{"$f":"'All hospitals'!AM34","v":"-"},{"$f":"'All hospitals'!AN34","v":"-"},null,"CENTRAL COAST LHD"]
[null,{"$f":"'All hospitals'!B35","v":"ALBURY WODONGA HEALTH"},null,null,null,null,null,null,"FAR WEST LHD"]
[null,{"$f":"'All hospitals'!B36","v":"Albury Hospital"},{"$f":"'All hospitals'!C36","v":"Albury"},{"$f":"'All hospitals'!E36","v":"02 6058 4665"},{"$f":"'All hospitals'!F36","v":"02 6058 4444"},{"$f":"'All hospitals'!AM36","v":0},{"$f":"'All hospitals'!AN36","v":" -"},null,"HUNTER NEW ENGLAND LHD"]
[null,{"$f":"'All hospitals'!B37","v":"Wodonga Hospital"},{"$f":"'All hospitals'!C37","v":"Wodonga"},{"$f":"'All hospitals'!E37","v":"02 6051 7485"},{"$f":"'All hospitals'!F37","v":"02 6051 7111"},{"$f":"'All hospitals'!AM37","v":0},{"$f":"'All hospitals'!AN37","v":" -"},null,"ILLAWARRA SHOALHAVEN LHD"]
[null,{"$f":"'All hospitals'!B38","v":"-"},{"$f":"'All hospitals'!C38","v":"-"},{"$f":"'All hospitals'!E38","v":"-"},null,{"$f":"'All hospitals'!AM38","v":"-"},{"$f":"'All hospitals'!AN38","v":"-"},null,"MID NORTH COAST LHD"]
[null,"CENTRAL COAST LHD",null,null,null,null,null,null,"MURRUMBIDGEE LHD"]
[null,{"$f":"'All hospitals'!B40","v":"Gosford Hospital"},{"$f":"'All hospitals'!C40","v":"Gosford "},{"$f":"'All hospitals'!E40","v":"02 4320 2111"},{"$f":"'All hospitals'!F40","v":"02 4320 2111 (page on-call pharmacist)"},{"$f":"'All hospitals'!AM40","v":0},{"$f":"'All hospitals'!AN40","v":" -"},null,"NEPEAN BLUE MOUNTAINS LHD"]
[null,{"$f":"'All hospitals'!B41","v":"Wyong Hospital"},{"$f":"'All hospitals'!C41","v":"Wyong"},{"$f":"'All hospitals'!E41","v":"02 4394 7930"},{"$f":"'All hospitals'!F41","v":"02 4394 8000 (page on-call pharmacist)"},{"$f":"'All hospitals'!AM41","v":0},{"$f":"'All hospitals'!AN41","v":" -"},null,"NORTHERN NSW LHD"]
[null,{"$f":"'All hospitals'!B42","v":"-"},{"$f":"'All hospitals'!C42","v":"-"},{"$f":"'All hospitals'!E42","v":"-"},null,{"$f":"'All hospitals'!AM42","v":"-"},{"$f":"'All hospitals'!AN42","v":"-"},null,"NORTHERN SYDNEY LHD"]
[null,{"$f":"'All hospitals'!B43","v":"FAR WEST LHD"},null,null,null,null,null,null,"SOUTH EASTERN SYDNEY LHD"]
[null,{"$f":"'All hospitals'!B44","v":"Balranald Multi Purpose Service "},{"$f":"'All hospitals'!C44","v":"Balranald"},{"$f":"'All hospitals'!E44","v":"03 5071 9800"},{"$f":"'All hospitals'!F44","v":"03 5071 9800"},{"$f":"'All hospitals'!AM44","v":0},{"$f":"'All hospitals'!AN44","v":" -"},null,"SOUTH WESTERN SYDNEY LHD"]
[null,{"$f":"'All hospitals'!B45","v":"Broken Hill Health Service"},{"$f":"'All hospitals'!C45","v":"Broken Hill"},{"$f":"'All hospitals'!E45","v":"08 8080 1466  "},{"$f":"'All hospitals'!F45","v":"08 8080 1333 "},{"$f":"'All hospitals'!AM45","v":0},{"$f":"'All hospitals'!AN45","v":" -"},null,"SOUTHERN NSW"]
[null,{"$f":"'All hospitals'!B46","v":"Dareton Primary Health Service (No ED services)"},{"$f":"'All hospitals'!C46","v":"Dareton"},{"$f":"'All hospitals'!E46","v":"03 5021 7200"},{"$f":"'All hospitals'!F46","v":"BH only"},{"$f":"'All hospitals'!AM46","v":0},{"$f":"'All hospitals'!AN46","v":" -"},null,"ST VINCENT'S HEALTH"]
[null,{"$f":"'All hospitals'!B47","v":"Ivanhoe Health Service"},{"$f":"'All hospitals'!C47","v":"Ivanhoe"},{"$f":"'All hospitals'!E47","v":"02 6990 2200"},{"$f":"'All hospitals'!F47","v":"02 6990 2200"},{"$f":"'All hospitals'!AM47","v":0},{"$f":"'All hospitals'!AN47","v":" -"},null,"SYDNEY LHD"]
[null,{"$f":"'All hospitals'!B48","v":"Menindee Health Service "},{"$f":"'All hospitals'!C48","v":"Menindee"},{"$f":"'All hospitals'!E48","v":"08 8091 4209"},{"$f":"'All hospitals'!F48","v":"08 8091 4209"},{"$f":"'All hospitals'!AM48","v":0},{"$f":"'All hospitals'!AN48","v":" -"},null,"SYDNEY CHILDREN'S HOSPITALS NETWORK"]
[null,{"$f":"'All hospitals'!B49","v":"Royal Flying Doctor Service Broken Hill"},{"$f":"'All hospitals'!C49","v":"Broken Hill"},{"$f":"'All hospitals'!E49","v":"08 8080 3780"},{"$f":"'All hospitals'!F49","v":"0437 370 702"},{"$f":"'All hospitals'!AM49","v":0},{"$f":"'All hospitals'!AN49","v":" -"},null,"WESTERN NSW LHD"]
[null,{"$f":"'All hospitals'!B50","v":"Tibooburra Health Service"},{"$f":"'All hospitals'!C50","v":"Tibooburra"},{"$f":"'All hospitals'!E50","v":"08 8091 3302 "},{"$f":"'All hospitals'!F50","v":"08 8091 3302"},{"$f":"'All hospitals'!AM50","v":0},{"$f":"'All hospitals'!AN50","v":" -"},null,"WESTERN SYDNEY LHD & OTHER"]
[null,{"$f":"'All hospitals'!B51","v":"Wentworth District Hospital (No ED services)"},{"$f":"'All hospitals'!C51","v":"Wentworth"},{"$f":"'All hospitals'!E51","v":"03 5027 2345"},{"$f":"'All hospitals'!F51","v":"03 5027 2345"},{"$f":"'All hospitals'!AM51","v":0},{"$f":"'All hospitals'!AN51","v":" -"},null,"PRIVATE HOSPITALS & OTHER"]
[null,{"$f":"'All hospitals'!B52","v":"White Cliffs Health Service"},{"$f":"'All hospitals'!C52","v":"White Cliffs"},{"$f":"'All hospitals'!E52","v":"08 8091 6605 "},{"$f":"'All hospitals'!F52","v":"08 80916605"},{"$f":"'All hospitals'!AM52","v":0},{"$f":"'All hospitals'!AN52","v":" -"}]
[null,{"$f":"'All hospitals'!B53","v":"Wilcannia Multi Purpose Service"},{"$f":"'All hospitals'!C53","v":"Wilcannia"},{"$f":"'All hospitals'!E53","v":"08 8083 8777"},{"$f":"'All hospitals'!F53","v":"08 8083 8777"},{"$f":"'All hospitals'!AM53","v":0},{"$f":"'All hospitals'!AN53","v":" -"}]
[null,{"$f":"'All hospitals'!B54","v":"-"},{"$f":"'All hospitals'!C54","v":"-"},{"$f":"'All hospitals'!D54","v":"-"},{"$f":"'All hospitals'!E54","v":"-"},{"$f":"'All hospitals'!AM54","v":"-"},{"$f":"'All hospitals'!AN54","v":"-"}]
[null,{"$f":"'All hospitals'!B55","v":"HUNTER NEW ENGLAND LHD"}]
[null,{"$f":"'All hospitals'!B56","v":"Armidale Rural Referral Hospital"},{"$f":"'All hospitals'!C56","v":"Armidale"},{"$f":"'All hospitals'!E56","v":"02 6776 9500"},{"$f":"'All hospitals'!F56","v":"02 6776 9500     "},{"$f":"'All hospitals'!AM56","v":0},{"$f":"'All hospitals'!AN56","v":" -"}]
[null,{"$f":"'All hospitals'!B57","v":"Barraba Multi Purpose Service"},{"$f":"'All hospitals'!C57","v":"Barraba"},{"$f":"'All hospitals'!E57","v":"02 6782 2500"},{"$f":"'All hospitals'!F57","v":"02 6782 2522"},{"$f":"'All hospitals'!AM57","v":0},{"$f":"'All hospitals'!AN57","v":" -"}]
[null,{"$f":"'All hospitals'!B58","v":"Belmont Hospital "},{"$f":"'All hospitals'!C58","v":"Belmont"},{"$f":"'All hospitals'!E58","v":"02 4923 2249"},{"$f":"'All hospitals'!F58","v":"02 4923 2000"},{"$f":"'All hospitals'!AM58","v":0},{"$f":"'All hospitals'!AN58","v":" -"}]
[null,{"$f":"'All hospitals'!B59","v":"Bingara Multi Purpose Service"},{"$f":"'All hospitals'!C59","v":"Bingara"},{"$f":"'All hospitals'!E59","v":"02 6728 0100"},{"$f":"'All hospitals'!F59","v":"02 6728 0100"},{"$f":"'All hospitals'!AM59","v":0},{"$f":"'All hospitals'!AN59","v":" -"}]
[null,{"$f":"'All hospitals'!B60","v":"Boggabri Multi Purpose Service"},{"$f":"'All hospitals'!C60","v":"Boggabri"},{"$f":"'All hospitals'!E60","v":"02 6749 7000"},{"$f":"'All hospitals'!F60","v":"02 67497000"},{"$f":"'All hospitals'!AM60","v":0},{"$f":"'All hospitals'!AN60","v":" -"}]
[null,{"$f":"'All hospitals'!B61","v":"Bulahdelah Hospital NO STOCKS HELD"},{"$f":"'All hospitals'!C61","v":"Bulahdelah"},{"$f":"'All hospitals'!E61","v":"02 4987 9900"},{"$f":"'All hospitals'!F61","v":"02 4987 9900"},{"$f":"'All hospitals'!AM61","v":0},{"$f":"'All hospitals'!AN61","v":" -"}]
[null,{"$f":"'All hospitals'!B62","v":"Calvary Mater Hospital Newcastle "},{"$f":"'All hospitals'!C62","v":"Newcastle"},{"$f":"'All hospitals'!E62","v":"02 4921 1211"},{"$f":"'All hospitals'!F62","v":"02 4921 1211"},{"$f":"'All hospitals'!AM62","v":0},{"$f":"'All hospitals'!AN62","v":" -"}]
[null,{"$f":"'All hospitals'!B63","v":"Cessnock District Hospital"},{"$f":"'All hospitals'!C63","v":"Cessnock"},{"$f":"'All hospitals'!E63","v":"02 4991 0555(hospital)\n02 4991 0456(pharmacy)"},{"$f":"'All hospitals'!F63","v":"0438 212 862"},{"$f":"'All hospitals'!AM63","v":0},{"$f":"'All hospitals'!AN63","v":" -"}]
[null,{"$f":"'All hospitals'!B64","v":"Denman Multi Purpose Service (Stock data TBC)"},{"$f":"'All hospitals'!C64","v":"Denman"},{"$f":"'All hospitals'!E64","v":"02 6547 3999"},{"$f":"'All hospitals'!F64","v":"02 6547 3905 "},{"$f":"'All hospitals'!AM64","v":0},{"$f":"'All hospitals'!AN64","v":" -"}]
[null,{"$f":"'All hospitals'!B65","v":"Dungog Community Hospital"},{"$f":"'All hospitals'!C65","v":"Dungog"},{"$f":"'All hospitals'!E65","v":"02 4939 2226"},{"$f":"'All hospitals'!F65","v":"02 4992 1266"},{"$f":"'All hospitals'!AM65","v":0},{"$f":"'All hospitals'!AN65","v":" -"}]
[null,{"$f":"'All hospitals'!B66","v":"Glen Innes District Hospital "},{"$f":"'All hospitals'!C66","v":"Glen Innes"},{"$f":"'All hospitals'!E66","v":"02 6739 0200"},{"$f":"'All hospitals'!F66","v":"02 6739 0200"},{"$f":"'All hospitals'!AM66","v":0},{"$f":"'All hospitals'!AN66","v":" -"}]
[null,{"$f":"'All hospitals'!B67","v":"Gloucester Soldiers Memorial Hospital (Stock data TBC)"},{"$f":"'All hospitals'!C67","v":"Gloucester"},{"$f":"'All hospitals'!E67","v":"02 6538 5000"},{"$f":"'All hospitals'!F67","v":"02 6538 5000"},{"$f":"'All hospitals'!AM67","v":0},{"$f":"'All hospitals'!AN67","v":" -"}]
[null,{"$f":"'All hospitals'!B68","v":"Gunnedah Hospital"},{"$f":"'All hospitals'!C68","v":"Gunnedah"},{"$f":"'All hospitals'!E68","v":"02 6741 8000"},{"$f":"'All hospitals'!F68","v":"02 6741 8031"},{"$f":"'All hospitals'!AM68","v":0},{"$f":"'All hospitals'!AN68","v":"-"}]
[null,{"$f":"'All hospitals'!B69","v":"Guyra Multi Purpose Service "},{"$f":"'All hospitals'!C69","v":"Guyra"},{"$f":"'All hospitals'!E69","v":"02 6738 4000"},{"$f":"'All hospitals'!F69","v":"02 6738 4000"},{"$f":"'All hospitals'!AM69","v":0},{"$f":"'All hospitals'!AN69","v":" -"}]
[null,{"$f":"'All hospitals'!B70","v":"Inverell Hospital "},{"$f":"'All hospitals'!C70","v":"Inverell"},{"$f":"'All hospitals'!E70","v":"02 6721 9500"},{"$f":"'All hospitals'!F70","v":"02 6721 9540"},{"$f":"'All hospitals'!AM70","v":0},{"$f":"'All hospitals'!AN70","v":" -"}]
[null,{"$f":"'All hospitals'!B71","v":"John Hunter Hospital "},{"$f":"'All hospitals'!C71","v":"Newcastle"},{"$f":"'All hospitals'!E71","v":"02 4921 3635"},{"$f":"'All hospitals'!F71","v":"0408 263 586"},{"$f":"'All hospitals'!AM71","v":0},{"$f":"'All hospitals'!AN71","v":"-"}]
[null,{"$f":"'All hospitals'!B72","v":"Kurri Kurri Hospital"},{"$f":"'All hospitals'!C72","v":"Kurri Kurri"},{"$f":"'All hospitals'!E72","v":"02 4936 3234"},{"$f":"'All hospitals'!F72","v":"02 4936 3200"},{"$f":"'All hospitals'!AM72","v":0},{"$f":"'All hospitals'!AN72","v":" -"}]
[null,{"$f":"'All hospitals'!B73","v":"Manning Base Hospital"},{"$f":"'All hospitals'!C73","v":"Taree"},{"$f":"'All hospitals'!E73","v":"02 6592 9244"},{"$f":"'All hospitals'!F73","v":"02 6592 9014"},{"$f":"'All hospitals'!AM73","v":0},{"$f":"'All hospitals'!AN73","v":" -"}]
[null,{"$f":"'All hospitals'!B74","v":"Manilla Hospital"},{"$f":"'All hospitals'!C74","v":"Manilla"},{"$f":"'All hospitals'!E74","v":"02 6785 4000"},{"$f":"'All hospitals'!F74","v":"02 6785 4000"},{"$f":"'All hospitals'!AM74","v":0},{"$f":"'All hospitals'!AN74","v":" -"}]
[null,{"$f":"'All hospitals'!B75","v":"Merriwa Multi Purpose Service (Stock data TBC)"},{"$f":"'All hospitals'!C75","v":"Merriwa"},{"$f":"'All hospitals'!E75","v":"02 6532 5000"},{"$f":"'All hospitals'!F75","v":"02 6532 5000"},{"$f":"'All hospitals'!AM75","v":0},{"$f":"'All hospitals'!AN75","v":" -"}]
[null,{"$f":"'All hospitals'!B76","v":"Moree Hospital "},{"$f":"'All hospitals'!C76","v":"Moree"},{"$f":"'All hospitals'!E76","v":"02 6757 0031"},{"$f":"'All hospitals'!F76","v":"02 6757 0031"},{"$f":"'All hospitals'!AM76","v":0},{"$f":"'All hospitals'!AN76","v":"-"}]
[null,{"$f":"'All hospitals'!B77","v":"Muswellbrook Hospital (Stock data TBC)"},{"$f":"'All hospitals'!C77","v":"Muswellbrook"},{"$f":"'All hospitals'!E77","v":"02 6542 2000"},{"$f":"'All hospitals'!F77","v":"02 6542 2000"},{"$f":"'All hospitals'!AM77","v":0},{"$f":"'All hospitals'!AN77","v":" -"}]
[null,{"$f":"'All hospitals'!B78","v":"Narrabri Hospital"},{"$f":"'All hospitals'!C78","v":"Narrabri"},{"$f":"'All hospitals'!E78","v":"02 6799 2800"},{"$f":"'All hospitals'!F78","v":"02 6799 2105"},{"$f":"'All hospitals'!AM78","v":0},{"$f":"'All hospitals'!AN78","v":"-"}]
[null,{"$f":"'All hospitals'!B79","v":"Quirindi Hospital"},{"$f":"'All hospitals'!C79","v":"Quirindi"},{"$f":"'All hospitals'!E79","v":"02 6746 0200"},{"$f":"'All hospitals'!F79","v":"02 6746 0200"},{"$f":"'All hospitals'!AM79","v":0},{"$f":"'All hospitals'!AN79","v":" -"}]
[null,{"$f":"'All hospitals'!B80","v":"Scott Memorial Hospital (Stock data TBC)"},{"$f":"'All hospitals'!C80","v":"Scone"},{"$f":"'All hospitals'!E80","v":"02 6540 2100"},{"$f":"'All hospitals'!F80","v":"02 6540 2100"},{"$f":"'All hospitals'!AM80","v":0},{"$f":"'All hospitals'!AN80","v":" -"}]
[null,{"$f":"'All hospitals'!B81","v":"Singleton District Hospital (Stock data TBC)"},{"$f":"'All hospitals'!C81","v":"Singleton"},{"$f":"'All hospitals'!E81","v":"02 6571 9222"},{"$f":"'All hospitals'!F81","v":"02 6571 9222"},{"$f":"'All hospitals'!AM81","v":0},{"$f":"'All hospitals'!AN81","v":" -"}]
[null,{"$f":"'All hospitals'!B82","v":"Tamworth Rural Referral Hospital "},{"$f":"'All hospitals'!C82","v":"Tamworth"},{"$f":"'All hospitals'!E82","v":"02 6727 7370 "},{"$f":"'All hospitals'!F82","v":"02 6767 7700"},{"$f":"'All hospitals'!AM82","v":0},{"$f":"'All hospitals'!AN82","v":"-"}]
[null,{"$f":"'All hospitals'!B83","v":"Tenterfield/Prince Albert Hospital "},{"$f":"'All hospitals'!C83","v":"Tenterfield"},{"$f":"'All hospitals'!E83","v":"02 6739 5200"},{"$f":"'All hospitals'!F83","v":"02 6739 5200"},{"$f":"'All hospitals'!AM83","v":0},{"$f":"'All hospitals'!AN83","v":" -"}]
[null,{"$f":"'All hospitals'!B84","v":"The Maitland Hospital"},{"$f":"'All hospitals'!C84","v":"Maitland"},{"$f":"'All hospitals'!E84","v":"02 4939 2226"},{"$f":"'All hospitals'!F84","v":"02 4939 2000"},{"$f":"'All hospitals'!AM84","v":0},{"$f":"'All hospitals'!AN84","v":" -"}]
[null,{"$f":"'All hospitals'!B85","v":"Tingha Multi Purpose Service NO STOCKS HELD"},{"$f":"'All hospitals'!C85","v":"Tingha"},{"$f":"'All hospitals'!E85","v":"02 6723 3900"},{"$f":"'All hospitals'!F85","v":"02 6723 9000"},{"$f":"'All hospitals'!AM85","v":0},{"$f":"'All hospitals'!AN85","v":" -"}]
[null,{"$f":"'All hospitals'!B86","v":"Tomaree Community Hospital (Stock data TBC)"},{"$f":"'All hospitals'!C86","v":"Tomaree"},{"$f":"'All hospitals'!E86","v":"02 4923 2249"},{"$f":"'All hospitals'!F86","v":"02 4923 2000"},{"$f":"'All hospitals'!AM86","v":0},{"$f":"'All hospitals'!AN86","v":" -"}]
[null,{"$f":"'All hospitals'!B87","v":"Vegetable Creek Multipurpose Service"},{"$f":"'All hospitals'!C87","v":"Emmaville"},{"$f":"'All hospitals'!E87","v":"02 6734  7900"},{"$f":"'All hospitals'!F87","v":"02 6734 7900"},{"$f":"'All hospitals'!AM87","v":0},{"$f":"'All hospitals'!AN87","v":" -"}]
[null,{"$f":"'All hospitals'!B88","v":"Walcha Multi Purpose Service "},{"$f":"'All hospitals'!C88","v":"Walcha"},{"$f":"'All hospitals'!E88","v":"02 6777 4200"},{"$f":"'All hospitals'!F88","v":"02 6777 4200"},{"$f":"'All hospitals'!AM88","v":0},{"$f":"'All hospitals'!AN88","v":" -"}]
[null,{"$f":"'All hospitals'!B89","v":"Warialda Multi Purpose Service "},{"$f":"'All hospitals'!C89","v":"Warialda"},{"$f":"'All hospitals'!E89","v":"02 6728 9000"},{"$f":"'All hospitals'!F89","v":"0428 753 175"},{"$f":"'All hospitals'!AM89","v":0},{"$f":"'All hospitals'!AN89","v":"-"}]
[null,{"$f":"'All hospitals'!B90","v":"Wee Waa Community Hospital"},{"$f":"'All hospitals'!C90","v":"Wee Waa"},{"$f":"'All hospitals'!E90","v":"02 6795 0400"},{"$f":"'All hospitals'!F90","v":"02 6795 0400"},{"$f":"'All hospitals'!AM90","v":0},{"$f":"'All hospitals'!AN90","v":"-"}]
[null,{"$f":"'All hospitals'!B91","v":"Werris Creek Multi Purpose Service NO STOCKS HELD"},{"$f":"'All hospitals'!C91","v":"Werris Creek"},{"$f":"'All hospitals'!E91","v":"02 6768 6600"},{"$f":"'All hospitals'!F91","v":"02 6768 6600"},{"$f":"'All hospitals'!AM91","v":0},{"$f":"'All hospitals'!AN91","v":"-"}]
[null,{"$f":"'All hospitals'!B92","v":"Westpac Rescue Helicopter Service"},{"$f":"'All hospitals'!C92","v":"Belmont Helicopter Base"},{"$f":"'All hospitals'!E92","v":"02 4952 0000"},{"$f":"'All hospitals'!F92","v":"02 4952 0055"},{"$f":"'All hospitals'!AM92","v":0},{"$f":"'All hospitals'!AN92","v":" -"}]
[null,{"$f":"'All hospitals'!B93","v":"Wilson Memorial Hospital - Murrurundi (Stock data TBC)"},{"$f":"'All hospitals'!C93","v":"Murrurundi"},{"$f":"'All hospitals'!E93","v":"02 6546 9000"},{"$f":"'All hospitals'!F93","v":"02 6546 9000"},{"$f":"'All hospitals'!AM93","v":0},{"$f":"'All hospitals'!AN93","v":" -"}]
[null,{"$f":"'All hospitals'!B94","v":"-"},{"$f":"'All hospitals'!C94","v":"-"},{"$f":"'All hospitals'!E94","v":"-"},null,{"$f":"'All hospitals'!AM94","v":"-"},{"$f":"'All hospitals'!AN94","v":"-"}]
[null,{"$f":"'All hospitals'!B95","v":"ILLAWARRA SHOALHAVEN LHD"}]
[null,{"$f":"'All hospitals'!B96","v":"Bulli Hospital NO STOCKS HELD"},{"$f":"'All hospitals'!C96","v":"Bulli"},{"$f":"'All hospitals'!E96","v":"02 4284 4344"},{"$f":"'All hospitals'!F96","v":"02 4222 5000 (request Wollongong Hospital on-call pharmacist)"},{"$f":"'All hospitals'!AM96","v":0},{"$f":"'All hospitals'!AN96","v":" -"}]
[null,{"$f":"'All hospitals'!B97","v":"Coledale Hospital NO STOCKS HELD"},{"$f":"'All hospitals'!C97","v":"Thirroul"},{"$f":"'All hospitals'!E97","v":"02 4267 0111"},{"$f":"'All hospitals'!F97","v":"02 4222 5000 (request Wollongong Hospital on-call pharmacist)"},{"$f":"'All hospitals'!AM97","v":" -"},{"$f":"'All hospitals'!AN97","v":" -"}]
[null,{"$f":"'All hospitals'!B98","v":"David Berry Hospital NO STOCKS HELD"},{"$f":"'All hospitals'!C98","v":"Berry"},{"$f":"'All hospitals'!E98","v":"02 4464 1001"},{"$f":"'All hospitals'!F98","v":" -"},{"$f":"'All hospitals'!AM98","v":" -"},{"$f":"'All hospitals'!AN98","v":" -"}]
[null,{"$f":"'All hospitals'!B99","v":"Kiama Hospital & Community Health Service NO STOCKS HELD"},{"$f":"'All hospitals'!C99","v":"Kiama"},{"$f":"'All hospitals'!E99","v":"02 4233 1033"},{"$f":"'All hospitals'!F99","v":" -"},{"$f":"'All hospitals'!AM99","v":" -"},{"$f":"'All hospitals'!AN99","v":" -"}]
[null,{"$f":"'All hospitals'!B100","v":"Milton Ulladulla Hospital"},{"$f":"'All hospitals'!C100","v":"Milton"},{"$f":"'All hospitals'!E100","v":"02 4454 9100"},{"$f":"'All hospitals'!F100","v":"02 4454 9133 (ED)"},{"$f":"'All hospitals'!AM100","v":0},{"$f":"'All hospitals'!AN100","v":" -"}]
[null,{"$f":"'All hospitals'!B274","v":0},{"$f":"'All hospitals'!C274","v":0},{"$f":"'All hospitals'!E274","v":0},{"$f":"'All hospitals'!F274","v":0},{"$f":"'All hospitals'!AM274","v":0},{"$f":"'All hospitals'!AN274","v":0}]
[null,{"$f":"'All hospitals'!B102","v":"Port Kembla Hospital - NO STOCKS HELD"},{"$f":"'All hospitals'!C102","v":"Warrawong"},{"$f":"'All hospitals'!E102","v":"02 4223 8000"},{"$f":"'All hospitals'!F102","v":"02 4222 5000 (request Wollongong Hospital on-call pharmacist)"},{"$f":"'All hospitals'!AM102","v":" -"},{"$f":"'All hospitals'!AN102","v":" -"}]
[null,{"$f":"'All hospitals'!B103","v":"Shellharbour Hospital"},{"$f":"'All hospitals'!C103","v":"Mt Warrigal"},{"$f":"'All hospitals'!E103","v":"02 4295 2516"},{"$f":"'All hospitals'!F103","v":"02 4295 2500 (switch) - ask to page ADON"},{"$f":"'All hospitals'!AM103","v":0},{"$f":"'All hospitals'!AN103","v":" -"}]
[null,{"$f":"'All hospitals'!B104","v":"Shoalhaven Hospital "},{"$f":"'All hospitals'!C104","v":"Nowra"},{"$f":"'All hospitals'!E104","v":"02 4423 9734"},{"$f":"'All hospitals'!F104","v":"02 4423 9738/ 0427400177 (after hours patient flow manager)"},{"$f":"'All hospitals'!AM104","v":0},{"$f":"'All hospitals'!AN104","v":" -"}]
[null,{"$f":"'All hospitals'!B105","v":"Wollongong Hospital"},{"$f":"'All hospitals'!C105","v":"Wollongong "},{"$f":"'All hospitals'!E105","v":"02 4222 5340"},{"$f":"'All hospitals'!F105","v":"02 4222 5000"},{"$f":"'All hospitals'!AM105","v":0},{"$f":"'All hospitals'!AN105","v":" -"}]
[null,{"$f":"'All hospitals'!B106","v":"-"},{"$f":"'All hospitals'!C106","v":"-"},{"$f":"'All hospitals'!E106","v":"-"},{"$f":"'All hospitals'!F106","v":"-"},{"$f":"'All hospitals'!AM106","v":"-"},{"$f":"'All hospitals'!AN106","v":"-"}]
[null,{"$f":"'All hospitals'!B107","v":"MID NORTH COAST LHD"}]
[null,{"$f":"'All hospitals'!B108","v":"Bellingen River District Hospital "},{"$f":"'All hospitals'!C108","v":"Bellingen"},{"$f":"'All hospitals'!E108","v":"02 6659 5800"},{"$f":"'All hospitals'!F108","v":"02 6656 7324"},{"$f":"'All hospitals'!AM108","v":0},{"$f":"'All hospitals'!AN108","v":" -"}]
[null,{"$f":"'All hospitals'!B109","v":"Coffs Harbour Health Campus "},{"$f":"'All hospitals'!C109","v":"Coffs Harbour"},{"$f":"'All hospitals'!E109","v":"02 6656 7000"},{"$f":"'All hospitals'!F109","v":"02 6656 7324"},{"$f":"'All hospitals'!AM109","v":0},{"$f":"'All hospitals'!AN109","v":" -"}]
[null,{"$f":"'All hospitals'!B110","v":"Dorrigo Multi Purpose Service"},{"$f":"'All hospitals'!C110","v":"Dorrigo"},{"$f":"'All hospitals'!E110","v":"02 6692 7700"},{"$f":"'All hospitals'!F110","v":"02 6656 7324"},{"$f":"'All hospitals'!AM110","v":0},{"$f":"'All hospitals'!AN110","v":" -"}]
[null,{"$f":"'All hospitals'!B111","v":"Kempsey District Hospital"},{"$f":"'All hospitals'!C111","v":"Kempsey"},{"$f":"'All hospitals'!E111","v":"02 6561 2600"},{"$f":"'All hospitals'!F111","v":"02 5524 2000"},{"$f":"'All hospitals'!AM111","v":0},{"$f":"'All hospitals'!AN111","v":" -"}]
[null,{"$f":"'All hospitals'!B112","v":"Macksville District Hospital "},{"$f":"'All hospitals'!C112","v":"Macksville"},{"$f":"'All hospitals'!E112","v":"02 6568 0666"},{"$f":"'All hospitals'!F112","v":"02 6656 7324"},{"$f":"'All hospitals'!AM112","v":0},{"$f":"'All hospitals'!AN112","v":" -"}]
[null,{"$f":"'All hospitals'!B113","v":"Port Macquarie Base Hospital"},{"$f":"'All hospitals'!C113","v":"Port Macquarie"},{"$f":"'All hospitals'!E113","v":"02 5524 2206"},{"$f":"'All hospitals'!F113","v":"02 5524 2000"},{"$f":"'All hospitals'!AM113","v":0},{"$f":"'All hospitals'!AN113","v":" -"}]
[null,{"$f":"'All hospitals'!B114","v":"Wauchope Hospital (Stock data TBC)"},{"$f":"'All hospitals'!C114","v":"Wauchope"},{"$f":"'All hospitals'!E114","v":"02 5524 2206"},{"$f":"'All hospitals'!F114","v":"02 5524 2000"},{"$f":"'All hospitals'!AM114","v":0},{"$f":"'All hospitals'!AN114","v":" -"}]
[null,{"$f":"'All hospitals'!B115","v":"-"},{"$f":"'All hospitals'!C115","v":"-"},{"$f":"'All hospitals'!E115","v":"-"},{"$f":"'All hospitals'!F115","v":"-"},{"$f":"'All hospitals'!AM115","v":"-"},{"$f":"'All hospitals'!AN115","v":"-"}]
[null,{"$f":"'All hospitals'!B116","v":"MURRUMBIDGEE LHD"}]
[null,{"$f":"'All hospitals'!B117","v":"Barham Koondrook Health Service"},{"$f":"'All hospitals'!C117","v":"Barham"},{"$f":"'All hospitals'!E117","v":"03 5451 1000"},{"$f":"'All hospitals'!F117","v":"03 5451 1000"},{"$f":"'All hospitals'!AM117","v":0},{"$f":"'All hospitals'!AN117","v":" -"}]
[null,{"$f":"'All hospitals'!B118","v":"Batlow Adelong Multi Purpose Service"},{"$f":"'All hospitals'!C118","v":"Batlow"},{"$f":"'All hospitals'!E118","v":"02 6941 4333"},{"$f":"'All hospitals'!F118","v":"02 6941 4333"},{"$f":"'All hospitals'!AM118","v":0},{"$f":"'All hospitals'!AN118","v":" -"}]
[null,{"$f":"'All hospitals'!B119","v":"Berrigan Multi Purpose Service"},{"$f":"'All hospitals'!C119","v":"Berrigan"},{"$f":"'All hospitals'!E119","v":"03 5888 5300"},{"$f":"'All hospitals'!F119","v":"03 5888 5300"},{"$f":"'All hospitals'!AM119","v":0},{"$f":"'All hospitals'!AN119","v":" -"}]
[null,{"$f":"'All hospitals'!B120","v":"Boorowa Multi Purpose Service Hospital"},{"$f":"'All hospitals'!C120","v":"Boorowa"},{"$f":"'All hospitals'!E120","v":"02 6380 2100"},{"$f":"'All hospitals'!F120","v":"02 6380 2100"},{"$f":"'All hospitals'!AM120","v":0},{"$f":"'All hospitals'!AN120","v":" -"}]
[null,{"$f":"'All hospitals'!B121","v":"Coolamon-Ganmain Multi Purpose Service"},{"$f":"'All hospitals'!C121","v":"Coolamon"},{"$f":"'All hospitals'!E121","v":"02 6927 3303"},{"$f":"'All hospitals'!F121","v":"02 6927 3303"},{"$f":"'All hospitals'!AM121","v":0},{"$f":"'All hospitals'!AN121","v":" -"}]
[null,{"$f":"'All hospitals'!B122","v":"Cootamundra District Hospital"},{"$f":"'All hospitals'!C122","v":"Cootamundra"},{"$f":"'All hospitals'!E122","v":"02 6942 0444"},{"$f":"'All hospitals'!F122","v":"02 6942 0444"},{"$f":"'All hospitals'!AM122","v":0},{"$f":"'All hospitals'!AN122","v":" -"}]
[null,{"$f":"'All hospitals'!B123","v":"Corowa District Hospital"},{"$f":"'All hospitals'!C123","v":"Corowa"},{"$f":"'All hospitals'!E123","v":"02 6033 7555"},{"$f":"'All hospitals'!F123","v":"02 6033 7555"},{"$f":"'All hospitals'!AM123","v":0},{"$f":"'All hospitals'!AN123","v":" -"}]
[null,{"$f":"'All hospitals'!B124","v":"Culcairn Multi Purpose Service"},{"$f":"'All hospitals'!C124","v":"Culcairn"},{"$f":"'All hospitals'!E124","v":"02 6029 8203"},{"$f":"'All hospitals'!F124","v":"02 6029 8203"},{"$f":"'All hospitals'!AM124","v":0},{"$f":"'All hospitals'!AN124","v":" -"}]
[null,{"$f":"'All hospitals'!B125","v":"Deniliquin Hospital"},{"$f":"'All hospitals'!C125","v":"Deniliquin"},{"$f":"'All hospitals'!E125","v":"03 5882 2843"},{"$f":"'All hospitals'!F125","v":"03 5882 2834"},{"$f":"'All hospitals'!AM125","v":0},{"$f":"'All hospitals'!AN125","v":" -"}]
[null,{"$f":"'All hospitals'!B126","v":"Finley Hospital"},{"$f":"'All hospitals'!C126","v":"Finley"},{"$f":"'All hospitals'!E126","v":"03 5883 1133"},{"$f":"'All hospitals'!F126","v":"03 5883 1133"},{"$f":"'All hospitals'!AM126","v":0},{"$f":"'All hospitals'!AN126","v":" -"}]
[null,{"$f":"'All hospitals'!B127","v":"Griffith Base Hospital"},{"$f":"'All hospitals'!C127","v":"Griffith NSW"},{"$f":"'All hospitals'!E127","v":"02 6969 5550"},{"$f":"'All hospitals'!F127","v":"02 6969 5600"},{"$f":"'All hospitals'!AM127","v":0},{"$f":"'All hospitals'!AN127","v":" -"}]
[null,{"$f":"'All hospitals'!B128","v":"Gundagai Multi Purpose Service"},{"$f":"'All hospitals'!C128","v":"Gundagai"},{"$f":"'All hospitals'!E128","v":"02 6950 6300"},{"$f":"'All hospitals'!F128","v":"02 6950 6300"},{"$f":"'All hospitals'!AM128","v":0},{"$f":"'All hospitals'!AN128","v":" -"}]
[null,{"$f":"'All hospitals'!B129","v":"Hay Hospital"},{"$f":"'All hospitals'!C129","v":"Hay"},{"$f":"'All hospitals'!E129","v":"02 6990 8700"},{"$f":"'All hospitals'!F129","v":"02 6990 8700"},{"$f":"'All hospitals'!AM129","v":0},{"$f":"'All hospitals'!AN129","v":" -"}]
[null,{"$f":"'All hospitals'!B130","v":"Henty Multi Purpose Service"},{"$f":"'All hospitals'!C130","v":"Henty"},{"$f":"'All hospitals'!E130","v":"02 6929 4999"},{"$f":"'All hospitals'!F130","v":"02 6929 4999"},{"$f":"'All hospitals'!AM130","v":0},{"$f":"'All hospitals'!AN130","v":" -"}]
[null,{"$f":"'All hospitals'!B131","v":"Hillston Multi Purpose Service"},{"$f":"'All hospitals'!C131","v":"Hillston, NSW"},{"$f":"'All hospitals'!E131","v":"02 6961 7200"},{"$f":"'All hospitals'!F131","v":"02 6961 7200"},{"$f":"'All hospitals'!AM131","v":0},{"$f":"'All hospitals'!AN131","v":" -"}]
[null,{"$f":"'All hospitals'!B132","v":"Holbrook Hospital"},{"$f":"'All hospitals'!C132","v":"Holbrook"},{"$f":"'All hospitals'!E132","v":"02 6036 2522"},{"$f":"'All hospitals'!F132","v":"02 6036 2522"},{"$f":"'All hospitals'!AM132","v":0},{"$f":"'All hospitals'!AN132","v":" -"}]
[null,{"$f":"'All hospitals'!B133","v":"Jerilderie Multi Purpose Service"},{"$f":"'All hospitals'!C133","v":"Jerilderie"},{"$f":"'All hospitals'!E133","v":"03 5886 1300"},{"$f":"'All hospitals'!F133","v":"03 5886 1300"},{"$f":"'All hospitals'!AM133","v":0},{"$f":"'All hospitals'!AN133","v":" -"}]
[null,{"$f":"'All hospitals'!B134","v":"Junee Multi Purpose Service"},{"$f":"'All hospitals'!C134","v":"Junee"},{"$f":"'All hospitals'!E134","v":"02 6924 8200"},{"$f":"'All hospitals'!F134","v":"02 6924 8200"},{"$f":"'All hospitals'!AM134","v":0},{"$f":"'All hospitals'!AN134","v":" -"}]
[null,{"$f":"'All hospitals'!B135","v":"Lake Cargelligo Multi Purpose Service"},{"$f":"'All hospitals'!C135","v":"Lake Cargelligo"},{"$f":"'All hospitals'!E135","v":"02 6898 0200"},{"$f":"'All hospitals'!F135","v":"02 6898 0200"},{"$f":"'All hospitals'!AM135","v":0},{"$f":"'All hospitals'!AN135","v":" -"}]
[null,{"$f":"'All hospitals'!B136","v":"Leeton District Hospital"},{"$f":"'All hospitals'!C136","v":"Leeton"},{"$f":"'All hospitals'!E136","v":"02 6953 1111"},{"$f":"'All hospitals'!F136","v":"02 6953 1111"},{"$f":"'All hospitals'!AM136","v":0},{"$f":"'All hospitals'!AN136","v":" -"}]
[null,{"$f":"'All hospitals'!B137","v":"Lockhart Hospital"},{"$f":"'All hospitals'!C137","v":"Lockhart"},{"$f":"'All hospitals'!E137","v":"02 6930 7100"},{"$f":"'All hospitals'!F137","v":"02 6930 7100"},{"$f":"'All hospitals'!AM137","v":0},{"$f":"'All hospitals'!AN137","v":" -"}]
[null,{"$f":"'All hospitals'!B138","v":"Murrumburrah-Harden Hospital"},{"$f":"'All hospitals'!C138","v":"Harden"},{"$f":"'All hospitals'!E138","v":"02 6386 2200"},{"$f":"'All hospitals'!F138","v":"02 6386 2200"},{"$f":"'All hospitals'!AM138","v":0},{"$f":"'All hospitals'!AN138","v":" -"}]
[null,{"$f":"'All hospitals'!B139","v":"Narrandera District Hospital"},{"$f":"'All hospitals'!C139","v":"Narrandera"},{"$f":"'All hospitals'!E139","v":"02 6951 0200"},{"$f":"'All hospitals'!F139","v":"02 6951 0200"},{"$f":"'All hospitals'!AM139","v":0},{"$f":"'All hospitals'!AN139","v":" -"}]
[null,{"$f":"'All hospitals'!B140","v":"Temora District Hospital "},{"$f":"'All hospitals'!C140","v":"Temora"},{"$f":"'All hospitals'!E140","v":"02 6980 0200"},{"$f":"'All hospitals'!F140","v":"02 6980 0200"},{"$f":"'All hospitals'!AM140","v":0},{"$f":"'All hospitals'!AN140","v":" -"}]
[null,{"$f":"'All hospitals'!B141","v":"Tocumwal Hospital"},{"$f":"'All hospitals'!C141","v":"Tocumwal"},{"$f":"'All hospitals'!E141","v":"03 5874 2166"},{"$f":"'All hospitals'!F141","v":"03 5874 2166"},{"$f":"'All hospitals'!AM141","v":0},{"$f":"'All hospitals'!AN141","v":" -"}]
[null,{"$f":"'All hospitals'!B142","v":"Tumbarumba Multi Purpose Service"},{"$f":"'All hospitals'!C142","v":"Tumbarumba"},{"$f":"'All hospitals'!E142","v":"02 6948 9600"},{"$f":"'All hospitals'!F142","v":"02 6948 9600"},{"$f":"'All hospitals'!AM142","v":0},{"$f":"'All hospitals'!AN142","v":" -"}]
[null,{"$f":"'All hospitals'!B143","v":"Tumut District Hospital"},{"$f":"'All hospitals'!C143","v":"Tumut"},{"$f":"'All hospitals'!E143","v":"02 6947 0800"},{"$f":"'All hospitals'!F143","v":"02 6947 0800"},{"$f":"'All hospitals'!AM143","v":0},{"$f":"'All hospitals'!AN143","v":" -"}]
[null,{"$f":"'All hospitals'!B144","v":"Urana Multi Purpose Service"},{"$f":"'All hospitals'!C144","v":"Urana"},{"$f":"'All hospitals'!E144","v":"02 6920 8106"},{"$f":"'All hospitals'!F144","v":"02 6920 8106"},{"$f":"'All hospitals'!AM144","v":0},{"$f":"'All hospitals'!AN144","v":" -"}]
[null,{"$f":"'All hospitals'!B145","v":"Wagga Wagga Base Hospital "},{"$f":"'All hospitals'!C145","v":"Wagga Wagga"},{"$f":"'All hospitals'!E145","v":"02 5943 1000"},{"$f":"'All hospitals'!F145","v":"0429 306 566"},{"$f":"'All hospitals'!AM145","v":0},{"$f":"'All hospitals'!AN145","v":" -"}]
[null,{"$f":"'All hospitals'!B146","v":"Wyalong Hospital"},{"$f":"'All hospitals'!C146","v":"West Wyalong"},{"$f":"'All hospitals'!E146","v":"02 6979 0000"},{"$f":"'All hospitals'!F146","v":"02 6979 0000"},{"$f":"'All hospitals'!AM146","v":0},{"$f":"'All hospitals'!AN146","v":" -"}]
[null,{"$f":"'All hospitals'!B147","v":"Young District Hospital"},{"$f":"'All hospitals'!C147","v":"Young"},{"$f":"'All hospitals'!E147","v":"02 6382 8888"},{"$f":"'All hospitals'!F147","v":"02 6382 8888"},{"$f":"'All hospitals'!AM147","v":0},{"$f":"'All hospitals'!AN147","v":" -"}]
[null,{"$f":"'All hospitals'!B148","v":"-"},{"$f":"'All hospitals'!C148","v":"-"},{"$f":"'All hospitals'!E148","v":"-"},{"$f":"'All hospitals'!F148","v":"-"},{"$f":"'All hospitals'!AM148","v":"-"},{"$f":"'All hospitals'!AN148","v":"-"}]
[null,{"$f":"'All hospitals'!B149","v":"NEPEAN BLUE MOUNTAINS LHD & OTHER"}]
[null,{"$f":"'All hospitals'!B150","v":"Blue Mountains District Hospital "},{"$f":"'All hospitals'!C150","v":"Katoomba"},{"$f":"'All hospitals'!E150","v":"02 4784 6500"},{"$f":"'All hospitals'!F150","v":"0412 117 269"},{"$f":"'All hospitals'!AM150","v":0},{"$f":"'All hospitals'!AN150","v":" -"}]
[null,{"$f":"'All hospitals'!B151","v":"Hawkesbury District Health Service"},{"$f":"'All hospitals'!C151","v":"Windsor"},{"$f":"'All hospitals'!E151","v":"02 4560 5529"},{"$f":"'All hospitals'!F151","v":"02 4560 5555 (Ask for AHNM)"},{"$f":"'All hospitals'!AM151","v":0},{"$f":"'All hospitals'!AN151","v":" -"}]
[null,{"$f":"'All hospitals'!B152","v":"Lithgow Hospital"},{"$f":"'All hospitals'!C152","v":"Lithgow"},{"$f":"'All hospitals'!E152","v":"02 6350 2370"},{"$f":"'All hospitals'!F152","v":"02 6350 2300 (switch)"},{"$f":"'All hospitals'!AM152","v":0},{"$f":"'All hospitals'!AN152","v":" -"}]
[null,{"$f":"'All hospitals'!B153","v":"Nepean Hospital "},{"$f":"'All hospitals'!C153","v":"Penrith"},{"$f":"'All hospitals'!E153","v":"02 4734 2256"},{"$f":"'All hospitals'!F153","v":" 0412 235 766"},{"$f":"'All hospitals'!AM153","v":0},{"$f":"'All hospitals'!AN153","v":" -"}]
[null,{"$f":"'All hospitals'!B154","v":"-"},{"$f":"'All hospitals'!C154","v":"-"},{"$f":"'All hospitals'!E154","v":"-"},{"$f":"'All hospitals'!F154","v":"-"},{"$f":"'All hospitals'!AM154","v":"-"},{"$f":"'All hospitals'!AN154","v":"-"}]
[null,{"$f":"'All hospitals'!B155","v":"NORTHERN NSW LHD"}]
[null,{"$f":"'All hospitals'!B156","v":"Ballina Hospital "},{"$f":"'All hospitals'!C156","v":"Ballina"},{"$f":"'All hospitals'!E156","v":"02 6620 6400"},{"$f":"'All hospitals'!F156","v":"02 6620 6202"},{"$f":"'All hospitals'!AM156","v":0},{"$f":"'All hospitals'!AN156","v":" -"}]
[null,{"$f":"'All hospitals'!B157","v":"Bonalbo Hospital "},{"$f":"'All hospitals'!C157","v":"Bonalbo"},{"$f":"'All hospitals'!E157","v":"02 6665 4100"},{"$f":"'All hospitals'!F157","v":"02 6665 4100"},{"$f":"'All hospitals'!AM157","v":0},{"$f":"'All hospitals'!AN157","v":" -"}]
[null,{"$f":"'All hospitals'!B158","v":"Byron Central Hospital (Stock data TBC)"},{"$f":"'All hospitals'!C158","v":"Byron Bay"},{"$f":"'All hospitals'!E158","v":"02 6639 9400"},{"$f":"'All hospitals'!F158","v":"02 6639 9400"},{"$f":"'All hospitals'!AM158","v":0},{"$f":"'All hospitals'!AN158","v":" -"}]
[null,{"$f":"'All hospitals'!B159","v":"Casino Hospital"},{"$f":"'All hospitals'!C159","v":"Casino"},{"$f":"'All hospitals'!E159","v":"02 6660 0642"},{"$f":"'All hospitals'!F159","v":"02 6660 0642"},{"$f":"'All hospitals'!AM159","v":0},{"$f":"'All hospitals'!AN159","v":" -"}]
[null,{"$f":"'All hospitals'!B160","v":"Grafton Base Hospital (Stock data TBC)"},{"$f":"'All hospitals'!C160","v":"Grafton"},{"$f":"'All hospitals'!E160","v":"02 6640 2222"},{"$f":"'All hospitals'!F160","v":"02 6640 2299    "},{"$f":"'All hospitals'!AM160","v":2},{"$f":"'All hospitals'!AN160","v":"ED  "}]
[null,{"$f":"'All hospitals'!B161","v":"Kyogle Multi Purpose Service"},{"$f":"'All hospitals'!C161","v":"Kyogle"},{"$f":"'All hospitals'!E161","v":"02 6630 0400"},{"$f":"'All hospitals'!F161","v":"02 6630 0400"},{"$f":"'All hospitals'!AM161","v":0},{"$f":"'All hospitals'!AN161","v":" -"}]
[null,{"$f":"'All hospitals'!B162","v":"Lismore Base Hospital "},{"$f":"'All hospitals'!C162","v":"Lismore"},{"$f":"'All hospitals'!E162","v":"02 6624 0200"},{"$f":"'All hospitals'!F162","v":"02 6624 0200"},{"$f":"'All hospitals'!AM162","v":2},{"$f":"'All hospitals'!AN162","v":"ED resus"}]
[null,{"$f":"'All hospitals'!B163","v":"Maclean District Hospital (Stock data TBC)"},{"$f":"'All hospitals'!C163","v":"Maclean"},{"$f":"'All hospitals'!E163","v":"02 6640 0111"},{"$f":"'All hospitals'!F163","v":"02 6640 0111"},{"$f":"'All hospitals'!AM163","v":0},{"$f":"'All hospitals'!AN163","v":" -"}]
[null,{"$f":"'All hospitals'!B164","v":"Murwillumbah District Hospital (Stock data TBC)"},{"$f":"'All hospitals'!C164","v":"Murwillumbah"},{"$f":"'All hospitals'!E164","v":"02 6672 0237"},{"$f":"'All hospitals'!F164","v":"02 6672 0230"},{"$f":"'All hospitals'!AM164","v":0},{"$f":"'All hospitals'!AN164","v":" -"}]
[null,{"$f":"'All hospitals'!B165","v":"Nimbin Multi Purpose Service"},{"$f":"'All hospitals'!C165","v":"Nimbin"},{"$f":"'All hospitals'!E165","v":"02 6689 1400"},{"$f":"'All hospitals'!F165","v":"02 6689 1400"},{"$f":"'All hospitals'!AM165","v":0},{"$f":"'All hospitals'!AN165","v":" -"}]
[null,{"$f":"'All hospitals'!B166","v":"The Tweed Hospital"},{"$f":"'All hospitals'!C166","v":"Tweed Heads"},{"$f":"'All hospitals'!E166","v":"07 5506 7420"},{"$f":"'All hospitals'!F166","v":"07 5506 7667"},{"$f":"'All hospitals'!AM166","v":0},{"$f":"'All hospitals'!AN166","v":" -"}]
[null,{"$f":"'All hospitals'!B167","v":"Urbenville Multi Purpose Service "},{"$f":"'All hospitals'!C167","v":"Urbenville"},{"$f":"'All hospitals'!E167","v":"02 66341600"},{"$f":"'All hospitals'!F167","v":"02 66341600"},{"$f":"'All hospitals'!AM167","v":0},{"$f":"'All hospitals'!AN167","v":" -"}]
[null,{"$f":"'All hospitals'!B168","v":"-"},{"$f":"'All hospitals'!C168","v":"-"},{"$f":"'All hospitals'!E168","v":"-"},{"$f":"'All hospitals'!F168","v":"-"},{"$f":"'All hospitals'!AM168","v":"-"},{"$f":"'All hospitals'!AN168","v":"-"}]
[null,{"$f":"'All hospitals'!B169","v":"NORTHERN SYDNEY LHD & OTHER"}]
[null,{"$f":"'All hospitals'!B170","v":"Hornsby Hospital"},{"$f":"'All hospitals'!C170","v":"Hornsby"},{"$f":"'All hospitals'!E170","v":"02 9485 6455"},{"$f":"'All hospitals'!F170","v":"02 9485 6600 (ED)"},{"$f":"'All hospitals'!AM170","v":0},{"$f":"'All hospitals'!AN170","v":" -"}]
[null,{"$f":"'All hospitals'!B172","v":"Manly Hospital (closed 30th Oct 2018 - See Northern Beaches Health Service)"},{"$f":"'All hospitals'!C172","v":"-"},{"$f":"'All hospitals'!E172","v":"-"},{"$f":"'All hospitals'!F172","v":" -"},{"$f":"'All hospitals'!AM172","v":" -"},{"$f":"'All hospitals'!AN172","v":" -"}]
[null,{"$f":"'All hospitals'!B173","v":"Mona Vale Hospital (Subacute hospital overseen by Hornsby Hospital; some antivenoms available on imprest)"},{"$f":"'All hospitals'!C173","v":"Mona Vale "},{"$f":"'All hospitals'!E173","v":"02 9998 6040"},{"$f":"'All hospitals'!F173","v":"02 9998 6300"},{"$f":"'All hospitals'!AM173","v":0},{"$f":"'All hospitals'!AN173","v":" -"}]
[null,{"$f":"'All hospitals'!B174","v":"Northern Beaches Health Service (replaces Manly Hospital) "},{"$f":"'All hospitals'!C174","v":"Frenchs Forest"},{"$f":"'All hospitals'!E174","v":"02 9105 5000"},{"$f":"'All hospitals'!F174","v":"0490 124 164"},{"$f":"'All hospitals'!AM174","v":0},{"$f":"'All hospitals'!AN174","v":" -"}]
[null,{"$f":"'All hospitals'!B175","v":"Royal North Shore Hospital"},{"$f":"'All hospitals'!C175","v":"St Leonards"},{"$f":"'All hospitals'!E175","v":"02 9463 1140"},{"$f":"'All hospitals'!F175","v":"02 9926 7111 On-call pharmacist via switchboard"},{"$f":"'All hospitals'!AM175","v":2},{"$f":"'All hospitals'!AN175","v":"ED Resus Room"}]
[null,{"$f":"'All hospitals'!B176","v":"Ryde Hospital"},{"$f":"'All hospitals'!C176","v":"Eastwood"},{"$f":"'All hospitals'!E176","v":"02 9858 7888"},{"$f":"'All hospitals'!F176","v":"Oncall Pharmacist (0472 809 062) AHNM (0402 990 158)"},{"$f":"'All hospitals'!AM176","v":0},{"$f":"'All hospitals'!AN176","v":" -"}]
[null,{"$f":"'All hospitals'!B171","v":0},{"$f":"'All hospitals'!C171","v":0},{"$f":"'All hospitals'!E171","v":0},{"$f":"'All hospitals'!F171","v":0},{"$f":"'All hospitals'!AM171","v":0},{"$f":"'All hospitals'!AN171","v":0}]
[null,{"$f":"'All hospitals'!B177","v":"-"},{"$f":"'All hospitals'!C177","v":"-"},{"$f":"'All hospitals'!E177","v":"-"},{"$f":"'All hospitals'!F177","v":"-"},{"$f":"'All hospitals'!AM177","v":"-"},{"$f":"'All hospitals'!AN177","v":"-"}]
[null,{"$f":"'All hospitals'!B178","v":"SOUTH EASTERN SYDNEY LHD"}]
[null,{"$f":"'All hospitals'!B179","v":"Calvary Hospital  (Stock data TBC)"},{"$f":"'All hospitals'!C179","v":"Kogarah"},{"$f":"'All hospitals'!E179","v":"-"},{"$f":"'All hospitals'!F179","v":"-"},{"$f":"'All hospitals'!AM179","v":"-"},{"$f":"'All hospitals'!AN179","v":"-"}]
[null,{"$f":"'All hospitals'!B180","v":"Prince of Wales Hospital "},{"$f":"'All hospitals'!C180","v":"Randwick, Sydney"},{"$f":"'All hospitals'!E180","v":"02 9382 2222"},{"$f":"'All hospitals'!F180","v":"oncall pharmacist via switchboard 02 9382 2222 "},{"$f":"'All hospitals'!AM180","v":0},{"$f":"'All hospitals'!AN180","v":" -"}]
[null,{"$f":"'All hospitals'!B181","v":"Royal Hospital for Women NO STOCKS HELD"},{"$f":"'All hospitals'!C181","v":"Sydney"},{"$f":"'All hospitals'!E181","v":"02 9382 6716"},{"$f":"'All hospitals'!F181","v":"02 9382 2222 on call pharmacist"},{"$f":"'All hospitals'!AM181","v":0},{"$f":"'All hospitals'!AN181","v":" -"}]
[null,{"$f":"'All hospitals'!B182","v":"St George Hospital"},{"$f":"'All hospitals'!C182","v":"Kogarah"},{"$f":"'All hospitals'!E182","v":"02 9113 3055"},{"$f":"'All hospitals'!F182","v":"Page AHNM via switchboard 02 9113 1111"},{"$f":"'All hospitals'!AM182","v":0},{"$f":"'All hospitals'!AN182","v":" -"}]
[null,{"$f":"'All hospitals'!B183","v":"Sydney Hospital and Sydney Eye Hospital"},{"$f":"'All hospitals'!C183","v":"Sydney"},{"$f":"'All hospitals'!E183","v":"02 9382 7379"},{"$f":"'All hospitals'!F183","v":"02 9382 7111  ask for Emergency Department"},{"$f":"'All hospitals'!AM183","v":0},{"$f":"'All hospitals'!AN183","v":" -"}]
[null,{"$f":"'All hospitals'!B184","v":"The Sutherland Hospital"},{"$f":"'All hospitals'!C184","v":"Sydney"},{"$f":"'All hospitals'!E184","v":"02 9540 7466 OR 02 9540 7467"},{"$f":"'All hospitals'!F184","v":"02 9540 7111"},{"$f":"'All hospitals'!AM184","v":0},{"$f":"'All hospitals'!AN184","v":" -"}]
[null,{"$f":"'All hospitals'!B185","v":"-"},{"$f":"'All hospitals'!C185","v":"-"},{"$f":"'All hospitals'!E185","v":"-"},{"$f":"'All hospitals'!F185","v":"-"},{"$f":"'All hospitals'!AM185","v":"-"},{"$f":"'All hospitals'!AN185","v":"-"}]
[null,{"$f":"'All hospitals'!B186","v":"SOUTH WESTERN SYDNEY LHD"}]
[null,{"$f":"'All hospitals'!B187","v":"Bankstown-Lidcombe Hospital"},{"$f":"'All hospitals'!C187","v":"Sydney"},{"$f":"'All hospitals'!E187","v":"02 9722 8000"},{"$f":"'All hospitals'!F187","v":"02 9722 8000"},{"$f":"'All hospitals'!AM187","v":0},{"$f":"'All hospitals'!AN187","v":" -"}]
[null,{"$f":"'All hospitals'!B188","v":"Bowral District Hospital"},{"$f":"'All hospitals'!C188","v":"Bowral"},{"$f":"'All hospitals'!E188","v":"02 4861 0274"},{"$f":"'All hospitals'!F188","v":"02 4861 0199"},{"$f":"'All hospitals'!AM188","v":0},{"$f":"'All hospitals'!AN188","v":" -"}]
[null,{"$f":"'All hospitals'!B189","v":"Camden Hospital "},{"$f":"'All hospitals'!C189","v":"Sydney"},{"$f":"'All hospitals'!E189","v":"02 4634 3000"},{"$f":"'All hospitals'!F189","v":"0408 662 394"},{"$f":"'All hospitals'!AM189","v":0},{"$f":"'All hospitals'!AN189","v":" -"}]
[null,{"$f":"'All hospitals'!B190","v":"Campbelltown Hospital "},{"$f":"'All hospitals'!C190","v":"Sydney"},{"$f":"'All hospitals'!E190","v":"02 4634 3000"},{"$f":"'All hospitals'!F190","v":"0408 662 394"},{"$f":"'All hospitals'!AM190","v":0},{"$f":"'All hospitals'!AN190","v":" -"}]
[null,{"$f":"'All hospitals'!B191","v":"Fairfield Hospital"},{"$f":"'All hospitals'!C191","v":"Fairfield"},{"$f":"'All hospitals'!E191","v":"02 9616 8322"},{"$f":"'All hospitals'!F191","v":"02 9616 8111"},{"$f":"'All hospitals'!AM191","v":0},{"$f":"'All hospitals'!AN191","v":" -"}]
[null,{"$f":"'All hospitals'!B192","v":"Liverpool Hospital"},{"$f":"'All hospitals'!C192","v":"Sydney"},{"$f":"'All hospitals'!E192","v":"02 8738 3000"},{"$f":"'All hospitals'!F192","v":"02 8738 3000"},{"$f":"'All hospitals'!AM192","v":0},{"$f":"'All hospitals'!AN192","v":" -"}]
[null,{"$f":"'All hospitals'!B193","v":"-"},{"$f":"'All hospitals'!C193","v":"-"},{"$f":"'All hospitals'!E193","v":"-"},{"$f":"'All hospitals'!F193","v":"-"},{"$f":"'All hospitals'!AM193","v":"-"},{"$f":"'All hospitals'!AN193","v":"-"}]
[null,{"$f":"'All hospitals'!B194","v":"SOUTHERN NSW"},null,null,null,{"$f":"'All hospitals'!AM194","v":0},{"$f":"'All hospitals'!AN194","v":0}]
[null,{"$f":"'All hospitals'!B195","v":"Bateman's Bay District Hospital "},{"$f":"'All hospitals'!C195","v":"Bateman's Bay"},{"$f":"'All hospitals'!E195","v":"02 4475 1500"},{"$f":"'All hospitals'!F195","v":"0419 421 411"},{"$f":"'All hospitals'!AM195","v":0},{"$f":"'All hospitals'!AN195","v":" -"}]
[null,{"$f":"'All hospitals'!B196","v":"South East Regional Hospital (SERH / Bega District Hospital)"},{"$f":"'All hospitals'!C196","v":"Bega"},{"$f":"'All hospitals'!E196","v":"02 6492 9111"},{"$f":"'All hospitals'!F196","v":"0419 421 411"},{"$f":"'All hospitals'!AM196","v":0},{"$f":"'All hospitals'!AN196","v":" -"}]
[null,{"$f":"'All hospitals'!B197","v":"Bombala Hospital "},{"$f":"'All hospitals'!C197","v":"Bombala"},{"$f":"'All hospitals'!E197","v":"02 6458 5777"},{"$f":"'All hospitals'!F197","v":"0419 421 411"},{"$f":"'All hospitals'!AM197","v":0},{"$f":"'All hospitals'!AN197","v":" -"}]
[null,{"$f":"'All hospitals'!B198","v":"Braidwood Hospital "},{"$f":"'All hospitals'!C198","v":"Braidwood"},{"$f":"'All hospitals'!E198","v":"02 4842 2566"},{"$f":"'All hospitals'!F198","v":"0419 421 411"},{"$f":"'All hospitals'!AM198","v":0},{"$f":"'All hospitals'!AN198","v":" -"}]
[null,{"$f":"'All hospitals'!B199","v":"Cooma District Hospital "},{"$f":"'All hospitals'!C199","v":"Cooma"},{"$f":"'All hospitals'!E199","v":"02 6455 3222"},{"$f":"'All hospitals'!F199","v":"0419 421 411"},{"$f":"'All hospitals'!AM199","v":0},{"$f":"'All hospitals'!AN199","v":" -"}]
[null,{"$f":"'All hospitals'!B200","v":"Crookwell District Hospital "},{"$f":"'All hospitals'!C200","v":"Crookwell NSW"},{"$f":"'All hospitals'!E200","v":"02 4832 1300"},{"$f":"'All hospitals'!F200","v":"0419 421 411"},{"$f":"'All hospitals'!AM200","v":0},{"$f":"'All hospitals'!AN200","v":" -"}]
[null,{"$f":"'All hospitals'!B201","v":"Delegate Hospital "},{"$f":"'All hospitals'!C201","v":"Delegate"},{"$f":"'All hospitals'!E201","v":"02 6459 8000"},{"$f":"'All hospitals'!F201","v":"0419 421 411"},{"$f":"'All hospitals'!AM201","v":0},{"$f":"'All hospitals'!AN201","v":" -"}]
[null,{"$f":"'All hospitals'!B202","v":"Goulburn Base Hospital "},{"$f":"'All hospitals'!C202","v":"Goulburn"},{"$f":"'All hospitals'!E202","v":"02 4827 3111"},{"$f":"'All hospitals'!F202","v":"02 4827 3111"},{"$f":"'All hospitals'!AM202","v":0},{"$f":"'All hospitals'!AN202","v":" -"}]
[null,{"$f":"'All hospitals'!B203","v":"Moruya District Hospital "},{"$f":"'All hospitals'!C203","v":"Moruya"},{"$f":"'All hospitals'!E203","v":"02 4474 2666"},{"$f":"'All hospitals'!F203","v":"0419 421 411"},{"$f":"'All hospitals'!AM203","v":0},{"$f":"'All hospitals'!AN203","v":" -"}]
[null,{"$f":"'All hospitals'!B204","v":"Pambula District Hospital "},{"$f":"'All hospitals'!C204","v":"Pambula"},{"$f":"'All hospitals'!E204","v":"02 6495 8200"},{"$f":"'All hospitals'!F204","v":"0419 421 411"},{"$f":"'All hospitals'!AM204","v":0},{"$f":"'All hospitals'!AN204","v":" -"}]
[null,{"$f":"'All hospitals'!B205","v":"Queanbeyan Hospital "},{"$f":"'All hospitals'!C205","v":"Queanbeyan"},{"$f":"'All hospitals'!E205","v":"02 6150 7000"},{"$f":"'All hospitals'!F205","v":"0419 421 411"},{"$f":"'All hospitals'!AM205","v":0},{"$f":"'All hospitals'!AN205","v":" -"}]
[null,{"$f":"'All hospitals'!B206","v":"Yass District Hospital "},{"$f":"'All hospitals'!C206","v":"Yass"},{"$f":"'All hospitals'!E206","v":"02 6220 2000"},{"$f":"'All hospitals'!F206","v":"0419 421 411"},{"$f":"'All hospitals'!AM206","v":0},{"$f":"'All hospitals'!AN206","v":" -"}]
[null,{"$f":"'All hospitals'!B207","v":"-"},{"$f":"'All hospitals'!C207","v":"-"},{"$f":"'All hospitals'!E207","v":"-"},{"$f":"'All hospitals'!F207","v":"-"},{"$f":"'All hospitals'!AM207","v":"-"},{"$f":"'All hospitals'!AN207","v":"-"}]
[null,{"$f":"'All hospitals'!B208","v":"ST VINCENT'S HEALTH"}]
[null,{"$f":"'All hospitals'!B209","v":"St Vincent's Hospital"},{"$f":"'All hospitals'!C209","v":"Darlinghurst"},{"$f":"'All hospitals'!E209","v":"02 8282 2125"},{"$f":"'All hospitals'!F209","v":"02 8382 1111 (on call pharmacist via switchboard)"},{"$f":"'All hospitals'!AM209","v":0},{"$f":"'All hospitals'!AN209","v":" -"}]
[null,{"$f":"'All hospitals'!B210","v":"-"},{"$f":"'All hospitals'!C210","v":"-"},{"$f":"'All hospitals'!E210","v":"-"},{"$f":"'All hospitals'!F210","v":"-"},{"$f":"'All hospitals'!AM210","v":"-"},{"$f":"'All hospitals'!AN210","v":"-"}]
[null,{"$f":"'All hospitals'!B211","v":"SYDNEY LHD"}]
[null,{"$f":"'All hospitals'!B212","v":"Balmain Hospital (No ED services) NO STOCKS HELD"},{"$f":"'All hospitals'!C212","v":"Balmain"},{"$f":"'All hospitals'!E212","v":"02 9395 2111"},{"$f":"'All hospitals'!F212","v":" -"},{"$f":"'All hospitals'!AM212","v":" -"},{"$f":"'All hospitals'!AN212","v":" -"}]
[null,{"$f":"'All hospitals'!B213","v":"Canterbury Hospital "},{"$f":"'All hospitals'!C213","v":"Campsie"},{"$f":"'All hospitals'!E213","v":"02 9787 0219"},{"$f":"'All hospitals'!F213","v":"02 9787 0000"},{"$f":"'All hospitals'!AM213","v":0},{"$f":"'All hospitals'!AN213","v":" -"}]
[null,{"$f":"'All hospitals'!B214","v":"Concord Hospital"},{"$f":"'All hospitals'!C214","v":"Concord"},{"$f":"'All hospitals'!E214","v":"02 9767 6214"},{"$f":"'All hospitals'!F214","v":"02 9767 5000"},{"$f":"'All hospitals'!AM214","v":0},{"$f":"'All hospitals'!AN214","v":" -"}]
[null,{"$f":"'All hospitals'!B215","v":"Royal Prince Alfred Hospital"},{"$f":"'All hospitals'!C215","v":"Camperdown"},{"$f":"'All hospitals'!E215","v":"02 9515 6111"},{"$f":"'All hospitals'!F215","v":"02 9515 6111"},{"$f":"'All hospitals'!AM215","v":0},{"$f":"'All hospitals'!AN215","v":" -"}]
[null,{"$f":"'All hospitals'!B216","v":"-"},{"$f":"'All hospitals'!C216","v":"-"},{"$f":"'All hospitals'!E216","v":"-"},{"$f":"'All hospitals'!F216","v":"-"},{"$f":"'All hospitals'!AM216","v":"-"},{"$f":"'All hospitals'!AN216","v":"-"}]
[null,{"$f":"'All hospitals'!B217","v":"SYDNEY CHILDREN'S HOSPITALS NETWORK"}]
[null,{"$f":"'All hospitals'!B218","v":"Sydney Children's Hospital Randwick (SCH) (see also stocks kept at Prince of Wales (adjacent hospital))"},{"$f":"'All hospitals'!C218","v":"Randwick"},{"$f":"'All hospitals'!E218","v":"02 9382 1111"},{"$f":"'All hospitals'!F218","v":"029382 2222  Pharmacist on call "},{"$f":"'All hospitals'!AM218","v":" -"},{"$f":"'All hospitals'!AN218","v":" -"}]
[null,{"$f":"'All hospitals'!B219","v":"The Children's Hospital Westmead (CHW)"},{"$f":"'All hospitals'!C219","v":"Westmead"},{"$f":"'All hospitals'!E219","v":"02 9845 0000"},{"$f":"'All hospitals'!F219","v":"02 9845 0000 (on call pharmacist via switchboard)"},{"$f":"'All hospitals'!AM219","v":0},{"$f":"'All hospitals'!AN219","v":" -"}]
[null,{"$f":"'All hospitals'!B220","v":" Newborn & Paediatric Emergency Transport Service (NETS)"},{"$f":"'All hospitals'!C220","v":"Bankstown Aerodrome"},{"$f":"'All hospitals'!E220","v":1300362730},{"$f":"'All hospitals'!F220","v":1300362730},{"$f":"'All hospitals'!AM220","v":"-"},{"$f":"'All hospitals'!AN220","v":"-"}]
[null,{"$f":"'All hospitals'!B221","v":"-"},{"$f":"'All hospitals'!C221","v":"-"},{"$f":"'All hospitals'!E221","v":"-"},{"$f":"'All hospitals'!F221","v":"-"},{"$f":"'All hospitals'!AM221","v":"-"},{"$f":"'All hospitals'!AN221","v":"-"}]
[null,{"$f":"'All hospitals'!B222","v":"WESTERN NSW LHD"}]
[null,{"$f":"'All hospitals'!B223","v":"Baradine Multi Purpose Service"},{"$f":"'All hospitals'!C223","v":"Baradine, NSW"},{"$f":"'All hospitals'!E223","v":"02 6843 1605"},{"$f":"'All hospitals'!F223","v":"02 6843 4100"},{"$f":"'All hospitals'!AM223","v":0},{"$f":"'All hospitals'!AN223","v":" -"}]
[null,{"$f":"'All hospitals'!B224","v":"Bathurst Hospital"},{"$f":"'All hospitals'!C224","v":"Bathurst"},{"$f":"'All hospitals'!E224","v":"02 6330 5304"},{"$f":"'All hospitals'!F224","v":"02 6330 5308"},{"$f":"'All hospitals'!AM224","v":0},{"$f":"'All hospitals'!AN224","v":" -"}]
[null,{"$f":"'All hospitals'!B225","v":"Blayney Multi Purpose Service"},{"$f":"'All hospitals'!C225","v":"Blayney"},{"$f":"'All hospitals'!E225","v":"02 6368 9029 "},{"$f":"'All hospitals'!F225","v":"02 6368 9029 "},{"$f":"'All hospitals'!AM225","v":0},{"$f":"'All hospitals'!AN225","v":" -"}]
[null,{"$f":"'All hospitals'!B226","v":"Bourke Multi Purpose Service "},{"$f":"'All hospitals'!C226","v":"Bourke"},{"$f":"'All hospitals'!E226","v":"02 6870 8888"},{"$f":"'All hospitals'!F226","v":"02 6870 8888"},{"$f":"'All hospitals'!AM226","v":0},{"$f":"'All hospitals'!AN226","v":" -"}]
[null,{"$f":"'All hospitals'!B227","v":"Brewarrina Multi Purpose Service "},{"$f":"'All hospitals'!C227","v":"Brewarrina"},{"$f":"'All hospitals'!E227","v":"02 6830 5000"},{"$f":"'All hospitals'!F227","v":"02 6830 5000"},{"$f":"'All hospitals'!AM227","v":0},{"$f":"'All hospitals'!AN227","v":" -"}]
[null,{"$f":"'All hospitals'!B228","v":"Canowindra Soldiers Memorial Hospital (Stock data TBC)"},{"$f":"'All hospitals'!C228","v":"Canowindra"},{"$f":"'All hospitals'!E228","v":"02 6364 4300"},{"$f":"'All hospitals'!F228","v":"02 6340 3033"},{"$f":"'All hospitals'!AM228","v":0},{"$f":"'All hospitals'!AN228","v":" -"}]
[null,{"$f":"'All hospitals'!B229","v":"Cobar District Hospital (Stock data TBC)"},{"$f":"'All hospitals'!C229","v":"Cobar"},{"$f":"'All hospitals'!E229","v":"02 6836 2406"},{"$f":"'All hospitals'!F229","v":"02 6830 2111"},{"$f":"'All hospitals'!AM229","v":0},{"$f":"'All hospitals'!AN229","v":" -"}]
[null,{"$f":"'All hospitals'!B230","v":"Collarenebri Multi Purpose Service "},{"$f":"'All hospitals'!C230","v":"Collarenebri"},{"$f":"'All hospitals'!E230","v":"02 6756 4800"},{"$f":"'All hospitals'!F230","v":"02 6756 4800"},{"$f":"'All hospitals'!AM230","v":0},{"$f":"'All hospitals'!AN230","v":" -"}]
[null,{"$f":"'All hospitals'!B231","v":"Condobolin District Hospital"},{"$f":"'All hospitals'!C231","v":"Condobolin"},{"$f":"'All hospitals'!E231","v":"02 6890 1500"},{"$f":"'All hospitals'!F231","v":"02 6890 1500"},{"$f":"'All hospitals'!AM231","v":0},{"$f":"'All hospitals'!AN231","v":" -"}]
[null,{"$f":"'All hospitals'!B232","v":"Coolah Multi Purpose Service (Stock data TBC)"},{"$f":"'All hospitals'!C232","v":"Coolah"},{"$f":"'All hospitals'!E232","v":"02 6377 9100"},{"$f":"'All hospitals'!F232","v":"02 6377 9100"},{"$f":"'All hospitals'!AM232","v":0},{"$f":"'All hospitals'!AN232","v":" -"}]
[null,{"$f":"'All hospitals'!B233","v":"Coonabarabran District Hospital"},{"$f":"'All hospitals'!C233","v":"Coonabarabran"},{"$f":"'All hospitals'!E233","v":"02 6849 1600"},{"$f":"'All hospitals'!F233","v":"02 6849 1600"},{"$f":"'All hospitals'!AM233","v":0},{"$f":"'All hospitals'!AN233","v":" -"}]
[null,{"$f":"'All hospitals'!B234","v":"Coonamble Multi Purpose Service (Stock data TBC)"},{"$f":"'All hospitals'!C234","v":"Coonamble"},{"$f":"'All hospitals'!E234","v":"02 6827 1100"},{"$f":"'All hospitals'!F234","v":"02 6827 1100"},{"$f":"'All hospitals'!AM234","v":0},{"$f":"'All hospitals'!AN234","v":" -"}]
[null,{"$f":"'All hospitals'!B235","v":"Cowra Hospital (Stock data TBC)"},{"$f":"'All hospitals'!C235","v":"Cowra"},{"$f":"'All hospitals'!E235","v":"02 6340 9000"},{"$f":"'All hospitals'!F235","v":"02 6340 9000"},{"$f":"'All hospitals'!AM235","v":0},{"$f":"'All hospitals'!AN235","v":" -"}]
[null,{"$f":"'All hospitals'!B236","v":"Cudal Health Service NO STOCKS HELD"},{"$f":"'All hospitals'!C236","v":"Cudal"},{"$f":"'All hospitals'!E236","v":"02 6392 3400"},{"$f":"'All hospitals'!F236","v":" -"},{"$f":"'All hospitals'!AM236","v":0},{"$f":"'All hospitals'!AN236","v":" -"}]
[null,{"$f":"'All hospitals'!B237","v":"Dubbo Base Hospital"},{"$f":"'All hospitals'!C237","v":"Dubbo"},{"$f":"'All hospitals'!E237","v":"02 6809 8150"},{"$f":"'All hospitals'!F237","v":"02 6809 6809"},{"$f":"'All hospitals'!AM237","v":0},{"$f":"'All hospitals'!AN237","v":" -"}]
[null,{"$f":"'All hospitals'!B238","v":"Dunedoo Multi Purpose Service (Stock data TBC)"},{"$f":"'All hospitals'!C238","v":"Dunedoo"},{"$f":"'All hospitals'!E238","v":"02 6375 1408"},{"$f":"'All hospitals'!F238","v":"02 6370 3000"},{"$f":"'All hospitals'!AM238","v":0},{"$f":"'All hospitals'!AN238","v":" -"}]
[null,{"$f":"'All hospitals'!B239","v":"Eugowra Multi Purpose Service (Stock data TBC)"},{"$f":"'All hospitals'!C239","v":"Eugowra"},{"$f":"'All hospitals'!E239","v":"02 6850 4000"},{"$f":"'All hospitals'!F239","v":"02 6850 4000"},{"$f":"'All hospitals'!AM239","v":0},{"$f":"'All hospitals'!AN239","v":" -"}]
[null,{"$f":"'All hospitals'!B240","v":"Forbes District Hospital "},{"$f":"'All hospitals'!C240","v":"Forbes"},{"$f":"'All hospitals'!E240","v":"02 6850 7100"},{"$f":"'All hospitals'!F240","v":"02 6850 7100"},{"$f":"'All hospitals'!AM240","v":0},{"$f":"'All hospitals'!AN240","v":" -"}]
[null,{"$f":"'All hospitals'!B241","v":"Gilgandra Multi Purpose Service (Stock data TBC)"},{"$f":"'All hospitals'!C241","v":"Gilgandra"},{"$f":"'All hospitals'!E241","v":"02 6880 5900"},{"$f":"'All hospitals'!F241","v":"02 6880 5900"},{"$f":"'All hospitals'!AM241","v":0},{"$f":"'All hospitals'!AN241","v":" -"}]
[null,{"$f":"'All hospitals'!B242","v":"Goodooga Health Service "},{"$f":"'All hospitals'!C242","v":"Goodooga"},{"$f":"'All hospitals'!E242","v":"02 6829 5600"},{"$f":"'All hospitals'!F242","v":" - "},{"$f":"'All hospitals'!AM242","v":0},{"$f":"'All hospitals'!AN242","v":" -"}]
[null,{"$f":"'All hospitals'!B243","v":"Grenfell Multi Purpose Service (Stock data TBC)"},{"$f":"'All hospitals'!C243","v":"Grenfell"},{"$f":"'All hospitals'!E243","v":"02 6349 1700"},{"$f":"'All hospitals'!F243","v":"02 6349 1700"},{"$f":"'All hospitals'!AM243","v":0},{"$f":"'All hospitals'!AN243","v":" -"}]
[null,{"$f":"'All hospitals'!B244","v":"Gulargambone NO STOCKS HELD"},{"$f":"'All hospitals'!C244","v":"Gulargambone"},{"$f":"'All hospitals'!E244","v":"02 6825 1201"},{"$f":"'All hospitals'!F244","v":"-"},{"$f":"'All hospitals'!AM244","v":0},{"$f":"'All hospitals'!AN244","v":" -"}]
[null,{"$f":"'All hospitals'!B245","v":"Gulgong Health Service "},{"$f":"'All hospitals'!C245","v":"Gulgong"},{"$f":"'All hospitals'!E245","v":"02 6374 3400"},{"$f":"'All hospitals'!F245","v":"02 6374 1200"},{"$f":"'All hospitals'!AM245","v":0},{"$f":"'All hospitals'!AN245","v":" -"}]
[null,{"$f":"'All hospitals'!B246","v":"Lightning Ridge Multi Purpose Service "},{"$f":"'All hospitals'!C246","v":"Lightning Ridge"},{"$f":"'All hospitals'!E246","v":"02 6820 5700"},{"$f":"'All hospitals'!F246","v":"02 6820 5700"},{"$f":"'All hospitals'!AM246","v":0},{"$f":"'All hospitals'!AN246","v":" -"}]
[null,{"$f":"'All hospitals'!B247","v":"Molong Hospital (Stock data TBC)"},{"$f":"'All hospitals'!C247","v":"Molong"},{"$f":"'All hospitals'!E247","v":"02 6392 3300"},{"$f":"'All hospitals'!F247","v":" -"},{"$f":"'All hospitals'!AM247","v":0},{"$f":"'All hospitals'!AN247","v":" -"}]
[null,{"$f":"'All hospitals'!B248","v":"Mudgee Hospital "},{"$f":"'All hospitals'!C248","v":"Mudgee"},{"$f":"'All hospitals'!E248","v":"02 6371 9751"},{"$f":"'All hospitals'!F248","v":"02 6371 9700"},{"$f":"'All hospitals'!AM248","v":0},{"$f":"'All hospitals'!AN248","v":" -"}]
[null,{"$f":"'All hospitals'!B249","v":"Narromine Health Service "},{"$f":"'All hospitals'!C249","v":"Narromine"},{"$f":"'All hospitals'!E249","v":"02 6889 9600"},{"$f":"'All hospitals'!F249","v":"02 6889 9600"},{"$f":"'All hospitals'!AM249","v":0},{"$f":"'All hospitals'!AN249","v":" -"}]
[null,{"$f":"'All hospitals'!B250","v":"Nyngan Multi Purpose Service (Stock data TBC)"},{"$f":"'All hospitals'!C250","v":"Nyngan"},{"$f":"'All hospitals'!E250","v":"02 6832 1707"},{"$f":"'All hospitals'!F250","v":"02 6835 1700"},{"$f":"'All hospitals'!AM250","v":0},{"$f":"'All hospitals'!AN250","v":" -"}]
[null,{"$f":"'All hospitals'!B251","v":"Oberon Multi Purpose Service"},{"$f":"'All hospitals'!C251","v":"Oberon"},{"$f":"'All hospitals'!E251","v":"02 6336 7200"},{"$f":"'All hospitals'!F251","v":"02 6336 7200"},{"$f":"'All hospitals'!AM251","v":0},{"$f":"'All hospitals'!AN251","v":" -"}]
[null,{"$f":"'All hospitals'!B252","v":"Orange Health Service "},{"$f":"'All hospitals'!C252","v":"Orange"},{"$f":"'All hospitals'!E252","v":"02 6369 3740"},{"$f":"'All hospitals'!F252","v":"02 6369 3222"},{"$f":"'All hospitals'!AM252","v":0},{"$f":"'All hospitals'!AN252","v":" -"}]
[null,{"$f":"'All hospitals'!B253","v":"Parkes District Hospital "},{"$f":"'All hospitals'!C253","v":"Parkes"},{"$f":"'All hospitals'!E253","v":"02 6861 2400"},{"$f":"'All hospitals'!F253","v":"02 6861 2440"},{"$f":"'All hospitals'!AM253","v":0},{"$f":"'All hospitals'!AN253","v":" -"}]
[null,{"$f":"'All hospitals'!B254","v":"Peak Hill Multi Purpose Service "},{"$f":"'All hospitals'!C254","v":"Peak Hill"},{"$f":"'All hospitals'!E254","v":"02 6869 5200"},{"$f":"'All hospitals'!F254","v":"02 6869 5200"},{"$f":"'All hospitals'!AM254","v":0},{"$f":"'All hospitals'!AN254","v":" -"}]
[null,{"$f":"'All hospitals'!B255","v":"Rylstone Multi Purpose Service "},{"$f":"'All hospitals'!C255","v":"Rylstone"},{"$f":"'All hospitals'!E255","v":"02 6357 6100"},{"$f":"'All hospitals'!F255","v":"02 6357 6100"},{"$f":"'All hospitals'!AM255","v":0},{"$f":"'All hospitals'!AN255","v":" -"}]
[null,{"$f":"'All hospitals'!B256","v":"Tottenham Multi Purpose Service "},{"$f":"'All hospitals'!C256","v":"Tottenham"},{"$f":"'All hospitals'!E256","v":"02 6891  6200"},{"$f":"'All hospitals'!F256","v":"02 6891  6200"},{"$f":"'All hospitals'!AM256","v":0},{"$f":"'All hospitals'!AN256","v":" -"}]
[null,{"$f":"'All hospitals'!B257","v":"Trangie Multi Purpose Service (Stock data TBC)"},{"$f":"'All hospitals'!C257","v":"Trangie"},{"$f":"'All hospitals'!E257","v":" -"},{"$f":"'All hospitals'!F257","v":"02 6880 8200"},{"$f":"'All hospitals'!AM257","v":0},{"$f":"'All hospitals'!AN257","v":" -"}]
[null,{"$f":"'All hospitals'!B258","v":"Trundle Multi Purpose Service "},{"$f":"'All hospitals'!C258","v":"Trundle"},{"$f":"'All hospitals'!E258","v":"02 6892 1900"},{"$f":"'All hospitals'!F258","v":"02 6892 1900"},{"$f":"'All hospitals'!AM258","v":0},{"$f":"'All hospitals'!AN258","v":" -"}]
[null,{"$f":"'All hospitals'!B259","v":"Tullamore Multi Purpose Service "},{"$f":"'All hospitals'!C259","v":"Tullamore"},{"$f":"'All hospitals'!E259","v":"02 6892 6400"},{"$f":"'All hospitals'!F259","v":"02 6892 6400"},{"$f":"'All hospitals'!AM259","v":0},{"$f":"'All hospitals'!AN259","v":" -"}]
[null,{"$f":"'All hospitals'!B260","v":"Walgett District Hospital "},{"$f":"'All hospitals'!C260","v":"Walgett"},{"$f":"'All hospitals'!E260","v":"02 6817 9400"},{"$f":"'All hospitals'!F260","v":"02 6817 9400"},{"$f":"'All hospitals'!AM260","v":0},{"$f":"'All hospitals'!AN260","v":" -"}]
[null,{"$f":"'All hospitals'!B261","v":"Wanaaring Health Service NO STOCKS HELD"},{"$f":"'All hospitals'!C261","v":"Wanaaring"},{"$f":"'All hospitals'!E261","v":"02 6874 7721"},{"$f":"'All hospitals'!F261","v":"02 6874 7721"},{"$f":"'All hospitals'!AM261","v":0},{"$f":"'All hospitals'!AN261","v":" -"}]
[null,{"$f":"'All hospitals'!B262","v":"Warren Multi Purpose Service (Stock data TBC)"},{"$f":"'All hospitals'!C262","v":"Warren"},{"$f":"'All hospitals'!E262","v":"02 6847 4303"},{"$f":"'All hospitals'!F262","v":"02 6847 5400"},{"$f":"'All hospitals'!AM262","v":0},{"$f":"'All hospitals'!AN262","v":" -"}]
[null,{"$f":"'All hospitals'!B263","v":"Wellington Health Service"},{"$f":"'All hospitals'!C263","v":"Wellington"},{"$f":"'All hospitals'!E263","v":"02 6840 7200"},{"$f":"'All hospitals'!F263","v":"02 6840 8200"},{"$f":"'All hospitals'!AM263","v":0},{"$f":"'All hospitals'!AN263","v":" -"}]
[null,{"$f":"'All hospitals'!B264","v":"-"},{"$f":"'All hospitals'!C264","v":"-"},{"$f":"'All hospitals'!E264","v":"-"},{"$f":"'All hospitals'!F264","v":"-"},{"$f":"'All hospitals'!AM264","v":"-"},{"$f":"'All hospitals'!AN264","v":"-"}]
[null,{"$f":"'All hospitals'!B265","v":"WESTERN SYDNEY LHD & OTHER"}]
[null,{"$f":"'All hospitals'!B266","v":"Auburn Hospital"},{"$f":"'All hospitals'!C266","v":"Auburn"},{"$f":"'All hospitals'!E266","v":"02 8759 3302"},{"$f":"'All hospitals'!F266","v":"02 8759 3000"},{"$f":"'All hospitals'!AM266","v":0},{"$f":"'All hospitals'!AN266","v":" -"}]
[null,{"$f":"'All hospitals'!B267","v":"Blacktown Hospital "},{"$f":"'All hospitals'!C267","v":"Blacktown"},{"$f":"'All hospitals'!E267","v":"02 9881 8142"},{"$f":"'All hospitals'!F267","v":"02 9881 8000 (afterhours nurse manager via switch)"},{"$f":"'All hospitals'!AM267","v":0},{"$f":"'All hospitals'!AN267","v":" -"}]
[null,{"$f":"'All hospitals'!B268","v":"Mount Druitt Hospital "},{"$f":"'All hospitals'!C268","v":"Mount Druitt NSW"},{"$f":"'All hospitals'!E268","v":"02 9881 1581"},{"$f":"'All hospitals'!F268","v":"02 9881 1555  (afterhours nurse manager via switch)"},{"$f":"'All hospitals'!AM268","v":0},{"$f":"'All hospitals'!AN268","v":" -"}]
[null,{"$f":"'All hospitals'!B269","v":"Westmead Hospital "},{"$f":"'All hospitals'!C269","v":"Westmead"},{"$f":"'All hospitals'!E269","v":"02 8890 5555"},{"$f":"'All hospitals'!F269","v":"02 8890 5555 (on call pharmacist via switch)"},{"$f":"'All hospitals'!AM269","v":0},{"$f":"'All hospitals'!AN269","v":" -"}]
[null,{"$f":"'All hospitals'!B270","v":"-"},{"$f":"'All hospitals'!C270","v":"-"},{"$f":"'All hospitals'!E270","v":"-"},{"$f":"'All hospitals'!F270","v":"-"},{"$f":"'All hospitals'!AM270","v":"-"},{"$f":"'All hospitals'!AN270","v":"-"}]
[null,{"$f":"'All hospitals'!B271","v":"PRIVATE HOSPITALS & OTHER"}]
[null,{"$f":"'All hospitals'!B272","v":"Macquarie University Hospital NO STOCKS HELD"},{"$f":"'All hospitals'!C272","v":"North Ryde"},{"$f":"'All hospitals'!E272","v":"02 98875500"},{"$f":"'All hospitals'!F272","v":"NA"},{"$f":"'All hospitals'!AM272","v":0},{"$f":"'All hospitals'!AN272","v":"-"}]
[null,{"$f":"'All hospitals'!B273","v":"Norwest Private Hospital (Stock data TBC)"},{"$f":"'All hospitals'!C273","v":"Bella Vista"},{"$f":"'All hospitals'!E273","v":"02 8882 8555"},{"$f":"'All hospitals'!F273","v":"02 8882 8555"},{"$f":"'All hospitals'!AM273","v":0},{"$f":"'All hospitals'!AN273","v":"-"},null,"Back to Index","Back to 'All hospitals' tab"]

{"sheet":"Sea snake","index":11,"n_rows":253,"n_cols":10,"rows_kept":253,"cut":false,"hidden":false,"merged":[[196,1,196,3],[201,1,201,3],[244,1,244,3],[157,1,157,3],[165,1,165,3],[173,1,173,3],[187,1,187,3],[190,1,190,3],[86,1,86,3],[95,1,95,3],[128,1,128,3],[134,1,134,3],[148,1,148,3],[14,1,14,3],[18,1,18,3],[22,1,22,3],[34,1,34,3],[74,1,74,3],[8,6,9,6],[10,1,10,3],[3,1,3,6],[0,1,0,6],[2,1,2,6],[4,1,4,6],[6,1,6,4],[6,5,7,6],[7,1,9,1],[7,2,9,2],[7,3,9,3],[7,4,9,4],[8,5,9,5]]}
[null,{"$f":"'All hospitals'!$B$1","v":"Last modified: 14/01/2021"}]
[]
[null,{"$f":"'All hospitals'!$AO$28","v":"SEA SNAKE "}]
[null,"OTHER ANTIVENOM"]
[null,null,null,null,null,null,null,null,"Back to Index","Back to 'All hospitals' tab"]
[]
[null,"HOSPITAL DETAILS",null,null,null,"AVAILABILITY"]
[null,"Hospital name:\n\"Stock data TBC\" indicates that the hospital has not provided an update to the stockholding data.                                            ","Town/city","Phone number (business hours)","Phone number (after hours)"]
[null,null,null,null,null,"Number of vials","Location"]
[]
[null,{"$f":"'All hospitals'!B31","v":"ACT"},null,null,null,null,null,null,"Click to jump to LHD or network"]
[null,{"$f":"'All hospitals'!B32","v":"Calvary Public Hospital "},{"$f":"'All hospitals'!C32","v":"Canberra"},{"$f":"'All hospitals'!E32","v":"02 6201 6265 "},{"$f":"'All hospitals'!F32","v":"0413 611 319"},{"$f":"'All hospitals'!AO32","v":0},{"$f":"'All hospitals'!AP32","v":" -"},null,"ACT"]
[null,{"$f":"'All hospitals'!B33","v":"The Canberra Hospital"},{"$f":"'All hospitals'!C33","v":"Canberra"},{"$f":"'All hospitals'!E33","v":"02 5124 0000"},{"$f":"'All hospitals'!F33","v":"0401 710 831"},{"$f":"'All hospitals'!AO33","v":0},{"$f":"'All hospitals'!AP33","v":" -"},null,"ALBURY WODONGA HEALTH"]
[null,{"$f":"'All hospitals'!B34","v":"-"},{"$f":"'All hospitals'!C34","v":"-"},{"$f":"'All hospitals'!E34","v":"-"},null,{"$f":"'All hospitals'!AO34","v":"-"},{"$f":"'All hospitals'!AP34","v":"-"},null,"CENTRAL COAST LHD"]
[null,{"$f":"'All hospitals'!B35","v":"ALBURY WODONGA HEALTH"},null,null,null,null,null,null,"FAR WEST LHD"]
[null,{"$f":"'All hospitals'!B36","v":"Albury Hospital"},{"$f":"'All hospitals'!C36","v":"Albury"},{"$f":"'All hospitals'!E36","v":"02 6058 4665"},{"$f":"'All hospitals'!F36","v":"02 6058 4444"},{"$f":"'All hospitals'!AO36","v":0},{"$f":"'All hospitals'!AP36","v":" -"},null,"HUNTER NEW ENGLAND LHD"]
[null,{"$f":"'All hospitals'!B37","v":"Wodonga Hospital"},{"$f":"'All hospitals'!C37","v":"Wodonga"},{"$f":"'All hospitals'!E37","v":"02 6051 7485"},{"$f":"'All hospitals'!F37","v":"02 6051 7111"},{"$f":"'All hospitals'!AO37","v":0},{"$f":"'All hospitals'!AP37","v":" -"},null,"ILLAWARRA SHOALHAVEN LHD"]
[null,{"$f":"'All hospitals'!B38","v":"-"},{"$f":"'All hospitals'!C38","v":"-"},{"$f":"'All hospitals'!E38","v":"-"},null,{"$f":"'All hospitals'!AO38","v":"-"},{"$f":"'All hospitals'!AP38","v":"-"},null,"MID NORTH COAST LHD"]
[null,"CENTRAL COAST LHD",null,null,null,null,null,null,"MURRUMBIDGEE LHD"]
[null,{"$f":"'All hospitals'!B40","v":"Gosford Hospital"},{"$f":"'All hospitals'!C40","v":"Gosford "},{"$f":"'All hospitals'!E40","v":"02 4320 2111"},{"$f":"'All hospitals'!F40","v":"02 4320 2111 (page on-call pharmacist)"},{"$f":"'All hospitals'!AO40","v":0},{"$f":"'All hospitals'!AP40","v":" -"},null,"NEPEAN BLUE MOUNTAINS LHD"]
[null,{"$f":"'All hospitals'!B41","v":"Wyong Hospital"},{"$f":"'All hospitals'!C41","v":"Wyong"},{"$f":"'All hospitals'!E41","v":"02 4394 7930"},{"$f":"'All hospitals'!F41","v":"02 4394 8000 (page on-call pharmacist)"},{"$f":"'All hospitals'!AO41","v":0},{"$f":"'All hospitals'!AP41","v":" -"},null,"NORTHERN NSW LHD"]
[null,{"$f":"'All hospitals'!B42","v":"-"},{"$f":"'All hospitals'!C42","v":"-"},{"$f":"'All hospitals'!E42","v":"-"},null,{"$f":"'All hospitals'!AO42","v":"-"},{"$f":"'All hospitals'!AP42","v":"-"},null,"NORTHERN SYDNEY LHD"]
[null,{"$f":"'All hospitals'!B43","v":"FAR WEST LHD"},null,null,null,null,null,null,"SOUTH EASTERN SYDNEY LHD"]
[null,{"$f":"'All hospitals'!B44","v":"Balranald Multi Purpose Service "},{"$f":"'All hospitals'!C44","v":"Balranald"},{"$f":"'All hospitals'!E44","v":"03 5071 9800"},{"$f":"'All hospitals'!F44","v":"03 5071 9800"},{"$f":"'All hospitals'!AO44","v":0},{"$f":"'All hospitals'!AP44","v":" -"},null,"SOUTH WESTERN SYDNEY LHD"]
[null,{"$f":"'All hospitals'!B45","v":"Broken Hill Health Service"},{"$f":"'All hospitals'!C45","v":"Broken Hill"},{"$f":"'All hospitals'!E45","v":"08 8080 1466  "},{"$f":"'All hospitals'!F45","v":"08 8080 1333 "},{"$f":"'All hospitals'!AO45","v":0},{"$f":"'All hospitals'!AP45","v":" -"},null,"SOUTHERN NSW"]
[null,{"$f":"'All hospitals'!B46","v":"Dareton Primary Health Service (No ED services)"},{"$f":"'All hospitals'!C46","v":"Dareton"},{"$f":"'All hospitals'!E46","v":"03 5021 7200"},{"$f":"'All hospitals'!F46","v":"BH only"},{"$f":"'All hospitals'!AO46","v":0},{"$f":"'All hospitals'!AP46","v":" -"},null,"ST VINCENT'S HEALTH"]
[null,{"$f":"'All hospitals'!B47","v":"Ivanhoe Health Service"},{"$f":"'All hospitals'!C47","v":"Ivanhoe"},{"$f":"'All hospitals'!E47","v":"02 6990 2200"},{"$f":"'All hospitals'!F47","v":"02 6990 2200"},{"$f":"'All hospitals'!AO47","v":0},{"$f":"'All hospitals'!AP47","v":" -"},null,"SYDNEY LHD"]
[null,{"$f":"'All hospitals'!B48","v":"Menindee Health Service "},{"$f":"'All hospitals'!C48","v":"Menindee"},{"$f":"'All hospitals'!E48","v":"08 8091 4209"},{"$f":"'All hospitals'!F48","v":"08 8091 4209"},{"$f":"'All hospitals'!AO48","v":0},{"$f":"'All hospitals'!AP48","v":" -"},null,"SYDNEY CHILDREN'S HOSPITALS NETWORK"]
[null,{"$f":"'All hospitals'!B49","v":"Royal Flying Doctor Service Broken Hill"},{"$f":"'All hospitals'!C49","v":"Broken Hill"},{"$f":"'All hospitals'!E49","v":"08 8080 3780"},{"$f":"'All hospitals'!F49","v":"0437 370 702"},{"$f":"'All hospitals'!AO49","v":0},{"$f":"'All hospitals'!AP49","v":" -"},null,"WESTERN NSW LHD"]
[null,{"$f":"'All hospitals'!B50","v":"Tibooburra Health Service"},{"$f":"'All hospitals'!C50","v":"Tibooburra"},{"$f":"'All hospitals'!E50","v":"08 8091 3302 "},{"$f":"'All hospitals'!F50","v":"08 8091 3302"},{"$f":"'All hospitals'!AO50","v":0},{"$f":"'All hospitals'!AP50","v":" -"},null,"WESTERN SYDNEY LHD & OTHER"]
[null,{"$f":"'All hospitals'!B51","v":"Wentworth District Hospital (No ED services)"},{"$f":"'All hospitals'!C51","v":"Wentworth"},{"$f":"'All hospitals'!E51","v":"03 5027 2345"},{"$f":"'All hospitals'!F51","v":"03 5027 2345"},{"$f":"'All hospitals'!AO51","v":0},{"$f":"'All hospitals'!AP51","v":" -"},null,"PRIVATE HOSPITALS & OTHER"]
[null,{"$f":"'All hospitals'!B52","v":"White Cliffs Health Service"},{"$f":"'All hospitals'!C52","v":"White Cliffs"},{"$f":"'All hospitals'!E52","v":"08 8091 6605 "},{"$f":"'All hospitals'!F52","v":"08 80916605"},{"$f":"'All hospitals'!AO52","v":0},{"$f":"'All hospitals'!AP52","v":" -"}]
[null,{"$f":"'All hospitals'!B53","v":"Wilcannia Multi Purpose Service"},{"$f":"'All hospitals'!C53","v":"Wilcannia"},{"$f":"'All hospitals'!E53","v":"08 8083 8777"},{"$f":"'All hospitals'!F53","v":"08 8083 8777"},{"$f":"'All hospitals'!AO53","v":0},{"$f":"'All hospitals'!AP53","v":" -"}]
[null,{"$f":"'All hospitals'!B54","v":"-"},{"$f":"'All hospitals'!C54","v":"-"},{"$f":"'All hospitals'!D54","v":"-"},{"$f":"'All hospitals'!E54","v":"-"},{"$f":"'All hospitals'!AO54","v":"-"},{"$f":"'All hospitals'!AP54","v":"-"}]
[null,{"$f":"'All hospitals'!B55","v":"HUNTER NEW ENGLAND LHD"}]
[null,{"$f":"'All hospitals'!B56","v":"Armidale Rural Referral Hospital"},{"$f":"'All hospitals'!C56","v":"Armidale"},{"$f":"'All hospitals'!E56","v":"02 6776 9500"},{"$f":"'All hospitals'!F56","v":"02 6776 9500     "},{"$f":"'All hospitals'!AO56","v":0},{"$f":"'All hospitals'!AP56","v":" -"}]
[null,{"$f":"'All hospitals'!B57","v":"Barraba Multi Purpose Service"},{"$f":"'All hospitals'!C57","v":"Barraba"},{"$f":"'All hospitals'!E57","v":"02 6782 2500"},{"$f":"'All hospitals'!F57","v":"02 6782 2522"},{"$f":"'All hospitals'!AO57","v":0},{"$f":"'All hospitals'!AP57","v":" -"}]
[null,{"$f":"'All hospitals'!B58","v":"Belmont Hospital "},{"$f":"'All hospitals'!C58","v":"Belmont"},{"$f":"'All hospitals'!E58","v":"02 4923 2249"},{"$f":"'All hospitals'!F58","v":"02 4923 2000"},{"$f":"'All hospitals'!AO58","v":0},{"$f":"'All hospitals'!AP58","v":" -"}]
[null,{"$f":"'All hospitals'!B59","v":"Bingara Multi Purpose Service"},{"$f":"'All hospitals'!C59","v":"Bingara"},{"$f":"'All hospitals'!E59","v":"02 6728 0100"},{"$f":"'All hospitals'!F59","v":"02 6728 0100"},{"$f":"'All hospitals'!AO59","v":0},{"$f":"'All hospitals'!AP59","v":" -"}]
[null,{"$f":"'All hospitals'!B60","v":"Boggabri Multi Purpose Service"},{"$f":"'All hospitals'!C60","v":"Boggabri"},{"$f":"'All hospitals'!E60","v":"02 6749 7000"},{"$f":"'All hospitals'!F60","v":"02 67497000"},{"$f":"'All hospitals'!AO60","v":0},{"$f":"'All hospitals'!AP60","v":" -"}]
[null,{"$f":"'All hospitals'!B61","v":"Bulahdelah Hospital NO STOCKS HELD"},{"$f":"'All hospitals'!C61","v":"Bulahdelah"},{"$f":"'All hospitals'!E61","v":"02 4987 9900"},{"$f":"'All hospitals'!F61","v":"02 4987 9900"},{"$f":"'All hospitals'!AO61","v":0},{"$f":"'All hospitals'!AP61","v":" -"}]
[null,{"$f":"'All hospitals'!B62","v":"Calvary Mater Hospital Newcastle "},{"$f":"'All hospitals'!C62","v":"Newcastle"},{"$f":"'All hospitals'!E62","v":"02 4921 1211"},{"$f":"'All hospitals'!F62","v":"02 4921 1211"},{"$f":"'All hospitals'!AO62","v":0},{"$f":"'All hospitals'!AP62","v":" -"}]
[null,{"$f":"'All hospitals'!B63","v":"Cessnock District Hospital"},{"$f":"'All hospitals'!C63","v":"Cessnock"},{"$f":"'All hospitals'!E63","v":"02 4991 0555(hospital)\n02 4991 0456(pharmacy)"},{"$f":"'All hospitals'!F63","v":"0438 212 862"},{"$f":"'All hospitals'!AO63","v":0},{"$f":"'All hospitals'!AP63","v":" -"}]
[null,{"$f":"'All hospitals'!B64","v":"Denman Multi Purpose Service (Stock data TBC)"},{"$f":"'All hospitals'!C64","v":"Denman"},{"$f":"'All hospitals'!E64","v":"02 6547 3999"},{"$f":"'All hospitals'!F64","v":"02 6547 3905 "},{"$f":"'All hospitals'!AO64","v":0},{"$f":"'All hospitals'!AP64","v":" -"}]
[null,{"$f":"'All hospitals'!B65","v":"Dungog Community Hospital"},{"$f":"'All hospitals'!C65","v":"Dungog"},{"$f":"'All hospitals'!E65","v":"02 4939 2226"},{"$f":"'All hospitals'!F65","v":"02 4992 1266"},{"$f":"'All hospitals'!AO65","v":0},{"$f":"'All hospitals'!AP65","v":" -"}]
[null,{"$f":"'All hospitals'!B66","v":"Glen Innes District Hospital "},{"$f":"'All hospitals'!C66","v":"Glen Innes"},{"$f":"'All hospitals'!E66","v":"02 6739 0200"},{"$f":"'All hospitals'!F66","v":"02 6739 0200"},{"$f":"'All hospitals'!AO66","v":0},{"$f":"'All hospitals'!AP66","v":" -"}]
[null,{"$f":"'All hospitals'!B67","v":"Gloucester Soldiers Memorial Hospital (Stock data TBC)"},{"$f":"'All hospitals'!C67","v":"Gloucester"},{"$f":"'All hospitals'!E67","v":"02 6538 5000"},{"$f":"'All hospitals'!F67","v":"02 6538 5000"},{"$f":"'All hospitals'!AO67","v":0},{"$f":"'All hospitals'!AP67","v":" -"}]
[null,{"$f":"'All hospitals'!B68","v":"Gunnedah Hospital"},{"$f":"'All hospitals'!C68","v":"Gunnedah"},{"$f":"'All hospitals'!E68","v":"02 6741 8000"},{"$f":"'All hospitals'!F68","v":"02 6741 8031"},{"$f":"'All hospitals'!AO68","v":0},{"$f":"'All hospitals'!AP68","v":"-"}]
[null,{"$f":"'All hospitals'!B69","v":"Guyra Multi Purpose Service "},{"$f":"'All hospitals'!C69","v":"Guyra"},{"$f":"'All hospitals'!E69","v":"02 6738 4000"},{"$f":"'All hospitals'!F69","v":"02 6738 4000"},{"$f":"'All hospitals'!AO69","v":0},{"$f":"'All hospitals'!AP69","v":" -"}]
[null,{"$f":"'All hospitals'!B70","v":"Inverell Hospital "},{"$f":"'All hospitals'!C70","v":"Inverell"},{"$f":"'All hospitals'!E70","v":"02 6721 9500"},{"$f":"'All hospitals'!F70","v":"02 6721 9540"},{"$f":"'All hospitals'!AO70","v":0},{"$f":"'All hospitals'!AP70","v":" -"}]
[null,{"$f":"'All hospitals'!B71","v":"John Hunter Hospital "},{"$f":"'All hospitals'!C71","v":"Newcastle"},{"$f":"'All hospitals'!E71","v":"02 4921 3635"},{"$f":"'All hospitals'!F71","v":"0408 263 586"},{"$f":"'All hospitals'!AO71","v":0},{"$f":"'All hospitals'!AP71","v":"-"}]
[null,{"$f":"'All hospitals'!B72","v":"Kurri Kurri Hospital"},{"$f":"'All hospitals'!C72","v":"Kurri Kurri"},{"$f":"'All hospitals'!E72","v":"02 4936 3234"},{"$f":"'All hospitals'!F72","v":"02 4936 3200"},{"$f":"'All hospitals'!AO72","v":0},{"$f":"'All hospitals'!AP72","v":" -"}]
[null,{"$f":"'All hospitals'!B73","v":"Manning Base Hospital"},{"$f":"'All hospitals'!C73","v":"Taree"},{"$f":"'All hospitals'!E73","v":"02 6592 9244"},{"$f":"'All hospitals'!F73","v":"02 6592 9014"},{"$f":"'All hospitals'!AO73","v":0},{"$f":"'All hospitals'!AP73","v":" -"}]
[null,{"$f":"'All hospitals'!B74","v":"Manilla Hospital"},{"$f":"'All hospitals'!C74","v":"Manilla"},{"$f":"'All hospitals'!E74","v":"02 6785 4000"},{"$f":"'All hospitals'!F74","v":"02 6785 4000"},{"$f":"'All hospitals'!AO74","v":0},{"$f":"'All hospitals'!AP74","v":" -"}]
[null,{"$f":"'All hospitals'!B75","v":"Merriwa Multi Purpose Service (Stock data TBC)"},{"$f":"'All hospitals'!C75","v":"Merriwa"},{"$f":"'All hospitals'!E75","v":"02 6532 5000"},{"$f":"'All hospitals'!F75","v":"02 6532 5000"},{"$f":"'All hospitals'!AO75","v":0},{"$f":"'All hospitals'!AP75","v":" -"}]
[null,{"$f":"'All hospitals'!B76","v":"Moree Hospital "},{"$f":"'All hospitals'!C76","v":"Moree"},{"$f":"'All hospitals'!E76","v":"02 6757 0031"},{"$f":"'All hospitals'!F76","v":"02 6757 0031"},{"$f":"'All hospitals'!AO76","v":0},{"$f":"'All hospitals'!AP76","v":"-"}]
[null,{"$f":"'All hospitals'!B77","v":"Muswellbrook Hospital (Stock data TBC)"},{"$f":"'All hospitals'!C77","v":"Muswellbrook"},{"$f":"'All hospitals'!E77","v":"02 6542 2000"},{"$f":"'All hospitals'!F77","v":"02 6542 2000"},{"$f":"'All hospitals'!AO77","v":0},{"$f":"'All hospitals'!AP77","v":" -"}]
[null,{"$f":"'All hospitals'!B78","v":"Narrabri Hospital"},{"$f":"'All hospitals'!C78","v":"Narrabri"},{"$f":"'All hospitals'!E78","v":"02 6799 2800"},{"$f":"'All hospitals'!F78","v":"02 6799 2105"},{"$f":"'All hospitals'!AO78","v":0},{"$f":"'All hospitals'!AP78","v":"-"}]
[null,{"$f":"'All hospitals'!B79","v":"Quirindi Hospital"},{"$f":"'All hospitals'!C79","v":"Quirindi"},{"$f":"'All hospitals'!E79","v":"02 6746 0200"},{"$f":"'All hospitals'!F79","v":"02 6746 0200"},{"$f":"'All hospitals'!AO79","v":0},{"$f":"'All hospitals'!AP79","v":" -"}]
[null,{"$f":"'All hospitals'!B80","v":"Scott Memorial Hospital (Stock data TBC)"},{"$f":"'All hospitals'!C80","v":"Scone"},{"$f":"'All hospitals'!E80","v":"02 6540 2100"},{"$f":"'All hospitals'!F80","v":"02 6540 2100"},{"$f":"'All hospitals'!AO80","v":0},{"$f":"'All hospitals'!AP80","v":" -"}]
[null,{"$f":"'All hospitals'!B81","v":"Singleton District Hospital (Stock data TBC)"},{"$f":"'All hospitals'!C81","v":"Singleton"},{"$f":"'All hospitals'!E81","v":"02 6571 9222"},{"$f":"'All hospitals'!F81","v":"02 6571 9222"},{"$f":"'All hospitals'!AO81","v":0},{"$f":"'All hospitals'!AP81","v":" -"}]
[null,{"$f":"'All hospitals'!B82","v":"Tamworth Rural Referral Hospital "},{"$f":"'All hospitals'!C82","v":"Tamworth"},{"$f":"'All hospitals'!E82","v":"02 6727 7370 "},{"$f":"'All hospitals'!F82","v":"02 6767 7700"},{"$f":"'All hospitals'!AO82","v":0},{"$f":"'All hospitals'!AP82","v":"-"}]
[null,{"$f":"'All hospitals'!B83","v":"Tenterfield/Prince Albert Hospital "},{"$f":"'All hospitals'!C83","v":"Tenterfield"},{"$f":"'All hospitals'!E83","v":"02 6739 5200"},{"$f":"'All hospitals'!F83","v":"02 6739 5200"},{"$f":"'All hospitals'!AO83","v":0},{"$f":"'All hospitals'!AP83","v":" -"}]
[null,{"$f":"'All hospitals'!B84","v":"The Maitland Hospital"},{"$f":"'All hospitals'!C84","v":"Maitland"},{"$f":"'All hospitals'!E84","v":"02 4939 2226"},{"$f":"'All hospitals'!F84","v":"02 4939 2000"},{"$f":"'All hospitals'!AO84","v":0},{"$f":"'All hospitals'!AP84","v":" -"}]
[null,{"$f":"'All hospitals'!B85","v":"Tingha Multi Purpose Service NO STOCKS HELD"},{"$f":"'All hospitals'!C85","v":"Tingha"},{"$f":"'All hospitals'!E85","v":"02 6723 3900"},{"$f":"'All hospitals'!F85","v":"02 6723 9000"},{"$f":"'All hospitals'!AO85","v":0},{"$f":"'All hospitals'!AP85","v":" -"}]
[null,{"$f":"'All hospitals'!B86","v":"Tomaree Community Hospital (Stock data TBC)"},{"$f":"'All hospitals'!C86","v":"Tomaree"},{"$f":"'All hospitals'!E86","v":"02 4923 2249"},{"$f":"'All hospitals'!F86","v":"02 4923 2000"},{"$f":"'All hospitals'!AO86","v":0},{"$f":"'All hospitals'!AP86","v":" -"}]
[null,{"$f":"'All hospitals'!B87","v":"Vegetable Creek Multipurpose Service"},{"$f":"'All hospitals'!C87","v":"Emmaville"},{"$f":"'All hospitals'!E87","v":"02 6734  7900"},{"$f":"'All hospitals'!F87","v":"02 6734 7900"},{"$f":"'All hospitals'!AO87","v":0},{"$f":"'All hospitals'!AP87","v":" -"}]
[null,{"$f":"'All hospitals'!B88","v":"Walcha Multi Purpose Service "},{"$f":"'All hospitals'!C88","v":"Walcha"},{"$f":"'All hospitals'!E88","v":"02 6777 4200"},{"$f":"'All hospitals'!F88","v":"02 6777 4200"},{"$f":"'All hospitals'!AO88","v":0},{"$f":"'All hospitals'!AP88","v":" -"}]
[null,{"$f":"'All hospitals'!B89","v":"Warialda Multi Purpose Service "},{"$f":"'All hospitals'!C89","v":"Warialda"},{"$f":"'All hospitals'!E89","v":"02 6728 9000"},{"$f":"'All hospitals'!F89","v":"0428 753 175"},{"$f":"'All hospitals'!AO89","v":0},{"$f":"'All hospitals'!AP89","v":"-"}]
[null,{"$f":"'All hospitals'!B90","v":"Wee Waa Community Hospital"},{"$f":"'All hospitals'!C90","v":"Wee Waa"},{"$f":"'All hospitals'!E90","v":"02 6795 0400"},{"$f":"'All hospitals'!F90","v":"02 6795 0400"},{"$f":"'All hospitals'!AO90","v":0},{"$f":"'All hospitals'!AP90","v":"-"}]
[null,{"$f":"'All hospitals'!B91","v":"Werris Creek Multi Purpose Service NO STOCKS HELD"},{"$f":"'All hospitals'!C91","v":"Werris Creek"},{"$f":"'All hospitals'!E91","v":"02 6768 6600"},{"$f":"'All hospitals'!F91","v":"02 6768 6600"},{"$f":"'All hospitals'!AO91","v":0},{"$f":"'All hospitals'!AP91","v":"-"}]
[null,{"$f":"'All hospitals'!B92","v":"Westpac Rescue Helicopter Service"},{"$f":"'All hospitals'!C92","v":"Belmont Helicopter Base"},{"$f":"'All hospitals'!E92","v":"02 4952 0000"},{"$f":"'All hospitals'!F92","v":"02 4952 0055"},{"$f":"'All hospitals'!AO92","v":0},{"$f":"'All hospitals'!AP92","v":" -"}]
[null,{"$f":"'All hospitals'!B93","v":"Wilson Memorial Hospital - Murrurundi (Stock data TBC)"},{"$f":"'All hospitals'!C93","v":"Murrurundi"},{"$f":"'All hospitals'!E93","v":"02 6546 9000"},{"$f":"'All hospitals'!F93","v":"02 6546 9000"},{"$f":"'All hospitals'!AO93","v":0},{"$f":"'All hospitals'!AP93","v":" -"}]
[null,{"$f":"'All hospitals'!B94","v":"-"},{"$f":"'All hospitals'!C94","v":"-"},{"$f":"'All hospitals'!E94","v":"-"},null,{"$f":"'All hospitals'!AO94","v":"-"},{"$f":"'All hospitals'!AP94","v":"-"}]
[null,{"$f":"'All hospitals'!B95","v":"ILLAWARRA SHOALHAVEN LHD"}]
[null,{"$f":"'All hospitals'!B96","v":"Bulli Hospital NO STOCKS HELD"},{"$f":"'All hospitals'!C96","v":"Bulli"},{"$f":"'All hospitals'!E96","v":"02 4284 4344"},{"$f":"'All hospitals'!F96","v":"02 4222 5000 (request Wollongong Hospital on-call pharmacist)"},{"$f":"'All hospitals'!AO96","v":0},{"$f":"'All hospitals'!AP96","v":" -"}]
[null,{"$f":"'All hospitals'!B97","v":"Coledale Hospital NO STOCKS HELD"},{"$f":"'All hospitals'!C97","v":"Thirroul"},{"$f":"'All hospitals'!E97","v":"02 4267 0111"},{"$f":"'All hospitals'!F97","v":"02 4222 5000 (request Wollongong Hospital on-call pharmacist)"},{"$f":"'All hospitals'!AO97","v":" -"},{"$f":"'All hospitals'!AP97","v":" -"}]
[null,{"$f":"'All hospitals'!B98","v":"David Berry Hospital NO STOCKS HELD"},{"$f":"'All hospitals'!C98","v":"Berry"},{"$f":"'All hospitals'!E98","v":"02 4464 1001"},{"$f":"'All hospitals'!F98","v":" -"},{"$f":"'All hospitals'!AO98","v":" -"},{"$f":"'All hospitals'!AP98","v":" -"}]
[null,{"$f":"'All hospitals'!B99","v":"Kiama Hospital & Community Health Service NO STOCKS HELD"},{"$f":"'All hospitals'!C99","v":"Kiama"},{"$f":"'All hospitals'!E99","v":"02 4233 1033"},{"$f":"'All hospitals'!F99","v":" -"},{"$f":"'All hospitals'!AO99","v":" -"},{"$f":"'All hospitals'!AP99","v":" -"}]
[null,{"$f":"'All hospitals'!B100","v":"Milton Ulladulla Hospital"},{"$f":"'All hospitals'!C100","v":"Milton"},{"$f":"'All hospitals'!E100","v":"02 4454 9100"},{"$f":"'All hospitals'!F100","v":"02 4454 9133 (ED)"},{"$f":"'All hospitals'!AO100","v":0},{"$f":"'All hospitals'!AP100","v":" -"}]
[null,{"$f":"'All hospitals'!B274","v":0},{"$f":"'All hospitals'!C274","v":0},{"$f":"'All hospitals'!E274","v":0},{"$f":"'All hospitals'!F274","v":0},{"$f":"'All hospitals'!AO274","v":0},{"$f":"'All hospitals'!AP274","v":0}]
[null,{"$f":"'All hospitals'!B102","v":"Port Kembla Hospital - NO STOCKS HELD"},{"$f":"'All hospitals'!C102","v":"Warrawong"},{"$f":"'All hospitals'!E102","v":"02 4223 8000"},{"$f":"'All hospitals'!F102","v":"02 4222 5000 (request Wollongong Hospital on-call pharmacist)"},{"$f":"'All hospitals'!AO102","v":" -"},{"$f":"'All hospitals'!AP102","v":" -"}]
[null,{"$f":"'All hospitals'!B103","v":"Shellharbour Hospital"},{"$f":"'All hospitals'!C103","v":"Mt Warrigal"},{"$f":"'All hospitals'!E103","v":"02 4295 2516"},{"$f":"'All hospitals'!F103","v":"02 4295 2500 (switch) - ask to page ADON"},{"$f":"'All hospitals'!AO103","v":0},{"$f":"'All hospitals'!AP103","v":" -"}]
[null,{"$f":"'All hospitals'!B104","v":"Shoalhaven Hospital "},{"$f":"'All hospitals'!C104","v":"Nowra"},{"$f":"'All hospitals'!E104","v":"02 4423 9734"},{"$f":"'All hospitals'!F104","v":"02 4423 9738/ 0427400177 (after hours patient flow manager)"},{"$f":"'All hospitals'!AO104","v":0},{"$f":"'All hospitals'!AP104","v":" -"}]
[null,{"$f":"'All hospitals'!B105","v":"Wollongong Hospital"},{"$f":"'All hospitals'!C105","v":"Wollongong "},{"$f":"'All hospitals'!E105","v":"02 4222 5340"},{"$f":"'All hospitals'!F105","v":"02 4222 5000"},{"$f":"'All hospitals'!AO105","v":0},{"$f":"'All hospitals'!AP105","v":" -"}]
[null,{"$f":"'All hospitals'!B106","v":"-"},{"$f":"'All hospitals'!C106","v":"-"},{"$f":"'All hospitals'!E106","v":"-"},{"$f":"'All hospitals'!F106","v":"-"},{"$f":"'All hospitals'!AO106","v":"-"},{"$f":"'All hospitals'!AP106","v":"-"}]
[null,{"$f":"'All hospitals'!B107","v":"MID NORTH COAST LHD"}]
[null,{"$f":"'All hospitals'!B108","v":"Bellingen River District Hospital "},{"$f":"'All hospitals'!C108","v":"Bellingen"},{"$f":"'All hospitals'!E108","v":"02 6659 5800"},{"$f":"'All hospitals'!F108","v":"02 6656 7324"},{"$f":"'All hospitals'!AO108","v":0},{"$f":"'All hospitals'!AP108","v":" -"}]
[null,{"$f":"'All hospitals'!B109","v":"Coffs Harbour Health Campus "},{"$f":"'All hospitals'!C109","v":"Coffs Harbour"},{"$f":"'All hospitals'!E109","v":"02 6656 7000"},{"$f":"'All hospitals'!F109","v":"02 6656 7324"},{"$f":"'All hospitals'!AO109","v":1},{"$f":"'All hospitals'!AP109","v":"ED Resus Fridge"}]
[null,{"$f":"'All hospitals'!B110","v":"Dorrigo Multi Purpose Service"},{"$f":"'All hospitals'!C110","v":"Dorrigo"},{"$f":"'All hospitals'!E110","v":"02 6692 7700"},{"$f":"'All hospitals'!F110","v":"02 6656 7324"},{"$f":"'All hospitals'!AO110","v":0},{"$f":"'All hospitals'!AP110","v":" -"}]
[null,{"$f":"'All hospitals'!B111","v":"Kempsey District Hospital"},{"$f":"'All hospitals'!C111","v":"Kempsey"},{"$f":"'All hospitals'!E111","v":"02 6561 2600"},{"$f":"'All hospitals'!F111","v":"02 5524 2000"},{"$f":"'All hospitals'!AO111","v":0},{"$f":"'All hospitals'!AP111","v":" -"}]
[null,{"$f":"'All hospitals'!B112","v":"Macksville District Hospital "},{"$f":"'All hospitals'!C112","v":"Macksville"},{"$f":"'All hospitals'!E112","v":"02 6568 0666"},{"$f":"'All hospitals'!F112","v":"02 6656 7324"},{"$f":"'All hospitals'!AO112","v":0},{"$f":"'All hospitals'!AP112","v":" -"}]
[null,{"$f":"'All hospitals'!B113","v":"Port Macquarie Base Hospital"},{"$f":"'All hospitals'!C113","v":"Port Macquarie"},{"$f":"'All hospitals'!E113","v":"02 5524 2206"},{"$f":"'All hospitals'!F113","v":"02 5524 2000"},{"$f":"'All hospitals'!AO113","v":0},{"$f":"'All hospitals'!AP113","v":" -"}]
[null,{"$f":"'All hospitals'!B114","v":"Wauchope Hospital (Stock data TBC)"},{"$f":"'All hospitals'!C114","v":"Wauchope"},{"$f":"'All hospitals'!E114","v":"02 5524 2206"},{"$f":"'All hospitals'!F114","v":"02 5524 2000"},{"$f":"'All hospitals'!AO114","v":0},{"$f":"'All hospitals'!AP114","v":" -"}]
[null,{"$f":"'All hospitals'!B115","v":"-"},{"$f":"'All hospitals'!C115","v":"-"},{"$f":"'All hospitals'!E115","v":"-"},{"$f":"'All hospitals'!F115","v":"-"},{"$f":"'All hospitals'!AO115","v":"-"},{"$f":"'All hospitals'!AP115","v":"-"}]
[null,{"$f":"'All hospitals'!B116","v":"MURRUMBIDGEE LHD"}]
[null,{"$f":"'All hospitals'!B117","v":"Barham Koondrook Health Service"},{"$f":"'All hospitals'!C117","v":"Barham"},{"$f":"'All hospitals'!E117","v":"03 5451 1000"},{"$f":"'All hospitals'!F117","v":"03 5451 1000"},{"$f":"'All hospitals'!AO117","v":0},{"$f":"'All hospitals'!AP117","v":" -"}]
[null,{"$f":"'All hospitals'!B118","v":"Batlow Adelong Multi Purpose Service"},{"$f":"'All hospitals'!C118","v":"Batlow"},{"$f":"'All hospitals'!E118","v":"02 6941 4333"},{"$f":"'All hospitals'!F118","v":"02 6941 4333"},{"$f":"'All hospitals'!AO118","v":0},{"$f":"'All hospitals'!AP118","v":" -"}]
[null,{"$f":"'All hospitals'!B119","v":"Berrigan Multi Purpose Service"},{"$f":"'All hospitals'!C119","v":"Berrigan"},{"$f":"'All hospitals'!E119","v":"03 5888 5300"},{"$f":"'All hospitals'!F119","v":"03 5888 5300"},{"$f":"'All hospitals'!AO119","v":0},{"$f":"'All hospitals'!AP119","v":" -"}]
[null,{"$f":"'All hospitals'!B120","v":"Boorowa Multi Purpose Service Hospital"},{"$f":"'All hospitals'!C120","v":"Boorowa"},{"$f":"'All hospitals'!E120","v":"02 6380 2100"},{"$f":"'All hospitals'!F120","v":"02 6380 2100"},{"$f":"'All hospitals'!AO120","v":0},{"$f":"'All hospitals'!AP120","v":" -"}]
[null,{"$f":"'All hospitals'!B121","v":"Coolamon-Ganmain Multi Purpose Service"},{"$f":"'All hospitals'!C121","v":"Coolamon"},{"$f":"'All hospitals'!E121","v":"02 6927 3303"},{"$f":"'All hospitals'!F121","v":"02 6927 3303"},{"$f":"'All hospitals'!AO121","v":0},{"$f":"'All hospitals'!AP121","v":" -"}]
[null,{"$f":"'All hospitals'!B122","v":"Cootamundra District Hospital"},{"$f":"'All hospitals'!C122","v":"Cootamundra"},{"$f":"'All hospitals'!E122","v":"02 6942 0444"},{"$f":"'All hospitals'!F122","v":"02 6942 0444"},{"$f":"'All hospitals'!AO122","v":0},{"$f":"'All hospitals'!AP122","v":" -"}]
[null,{"$f":"'All hospitals'!B123","v":"Corowa District Hospital"},{"$f":"'All hospitals'!C123","v":"Corowa"},{"$f":"'All hospitals'!E123","v":"02 6033 7555"},{"$f":"'All hospitals'!F123","v":"02 6033 7555"},{"$f":"'All hospitals'!AO123","v":0},{"$f":"'All hospitals'!AP123","v":" -"}]
[null,{"$f":"'All hospitals'!B124","v":"Culcairn Multi Purpose Service"},{"$f":"'All hospitals'!C124","v":"Culcairn"},{"$f":"'All hospitals'!E124","v":"02 6029 8203"},{"$f":"'All hospitals'!F124","v":"02 6029 8203"},{"$f":"'All hospitals'!AO124","v":0},{"$f":"'All hospitals'!AP124","v":" -"}]
[null,{"$f":"'All hospitals'!B125","v":"Deniliquin Hospital"},{"$f":"'All hospitals'!C125","v":"Deniliquin"},{"$f":"'All hospitals'!E125","v":"03 5882 2843"},{"$f":"'All hospitals'!F125","v":"03 5882 2834"},{"$f":"'All hospitals'!AO125","v":0},{"$f":"'All hospitals'!AP125","v":" -"}]
[null,{"$f":"'All hospitals'!B126","v":"Finley Hospital"},{"$f":"'All hospitals'!C126","v":"Finley"},{"$f":"'All hospitals'!E126","v":"03 5883 1133"},{"$f":"'All hospitals'!F126","v":"03 5883 1133"},{"$f":"'All hospitals'!AO126","v":0},{"$f":"'All hospitals'!AP126","v":" -"}]
[null,{"$f":"'All hospitals'!B127","v":"Griffith Base Hospital"},{"$f":"'All hospitals'!C127","v":"Griffith NSW"},{"$f":"'All hospitals'!E127","v":"02 6969 5550"},{"$f":"'All hospitals'!F127","v":"02 6969 5600"},{"$f":"'All hospitals'!AO127","v":0},{"$f":"'All hospitals'!AP127","v":" -"}]
[null,{"$f":"'All hospitals'!B128","v":"Gundagai Multi Purpose Service"},{"$f":"'All hospitals'!C128","v":"Gundagai"},{"$f":"'All hospitals'!E128","v":"02 6950 6300"},{"$f":"'All hospitals'!F128","v":"02 6950 6300"},{"$f":"'All hospitals'!AO128","v":0},{"$f":"'All hospitals'!AP128","v":" -"}]
[null,{"$f":"'All hospitals'!B129","v":"Hay Hospital"},{"$f":"'All hospitals'!C129","v":"Hay"},{"$f":"'All hospitals'!E129","v":"02 6990 8700"},{"$f":"'All hospitals'!F129","v":"02 6990 8700"},{"$f":"'All hospitals'!AO129","v":0},{"$f":"'All hospitals'!AP129","v":" -"}]
[null,{"$f":"'All hospitals'!B130","v":"Henty Multi Purpose Service"},{"$f":"'All hospitals'!C130","v":"Henty"},{"$f":"'All hospitals'!E130","v":"02 6929 4999"},{"$f":"'All hospitals'!F130","v":"02 6929 4999"},{"$f":"'All hospitals'!AO130","v":0},{"$f":"'All hospitals'!AP130","v":" -"}]
[null,{"$f":"'All hospitals'!B131","v":"Hillston Multi Purpose Service"},{"$f":"'All hospitals'!C131","v":"Hillston, NSW"},{"$f":"'All hospitals'!E131","v":"02 6961 7200"},{"$f":"'All hospitals'!F131","v":"02 6961 7200"},{"$f":"'All hospitals'!AO131","v":0},{"$f":"'All hospitals'!AP131","v":" -"}]
[null,{"$f":"'All hospitals'!B132","v":"Holbrook Hospital"},{"$f":"'All hospitals'!C132","v":"Holbrook"},{"$f":"'All hospitals'!E132","v":"02 6036 2522"},{"$f":"'All hospitals'!F132","v":"02 6036 2522"},{"$f":"'All hospitals'!AO132","v":0},{"$f":"'All hospitals'!AP132","v":" -"}]
[null,{"$f":"'All hospitals'!B133","v":"Jerilderie Multi Purpose Service"},{"$f":"'All hospitals'!C133","v":"Jerilderie"},{"$f":"'All hospitals'!E133","v":"03 5886 1300"},{"$f":"'All hospitals'!F133","v":"03 5886 1300"},{"$f":"'All hospitals'!AO133","v":0},{"$f":"'All hospitals'!AP133","v":" -"}]
[null,{"$f":"'All hospitals'!B134","v":"Junee Multi Purpose Service"},{"$f":"'All hospitals'!C134","v":"Junee"},{"$f":"'All hospitals'!E134","v":"02 6924 8200"},{"$f":"'All hospitals'!F134","v":"02 6924 8200"},{"$f":"'All hospitals'!AO134","v":0},{"$f":"'All hospitals'!AP134","v":" -"}]
[null,{"$f":"'All hospitals'!B135","v":"Lake Cargelligo Multi Purpose Service"},{"$f":"'All hospitals'!C135","v":"Lake Cargelligo"},{"$f":"'All hospitals'!E135","v":"02 6898 0200"},{"$f":"'All hospitals'!F135","v":"02 6898 0200"},{"$f":"'All hospitals'!AO135","v":0},{"$f":"'All hospitals'!AP135","v":" -"}]
[null,{"$f":"'All hospitals'!B136","v":"Leeton District Hospital"},{"$f":"'All hospitals'!C136","v":"Leeton"},{"$f":"'All hospitals'!E136","v":"02 6953 1111"},{"$f":"'All hospitals'!F136","v":"02 6953 1111"},{"$f":"'All hospitals'!AO136","v":0},{"$f":"'All hospitals'!AP136","v":" -"}]
[null,{"$f":"'All hospitals'!B137","v":"Lockhart Hospital"},{"$f":"'All hospitals'!C137","v":"Lockhart"},{"$f":"'All hospitals'!E137","v":"02 6930 7100"},{"$f":"'All hospitals'!F137","v":"02 6930 7100"},{"$f":"'All hospitals'!AO137","v":0},{"$f":"'All hospitals'!AP137","v":" -"}]
[null,{"$f":"'All hospitals'!B138","v":"Murrumburrah-Harden Hospital"},{"$f":"'All hospitals'!C138","v":"Harden"},{"$f":"'All hospitals'!E138","v":"02 6386 2200"},{"$f":"'All hospitals'!F138","v":"02 6386 2200"},{"$f":"'All hospitals'!AO138","v":0},{"$f":"'All hospitals'!AP138","v":" -"}]
[null,{"$f":"'All hospitals'!B139","v":"Narrandera District Hospital"},{"$f":"'All hospitals'!C139","v":"Narrandera"},{"$f":"'All hospitals'!E139","v":"02 6951 0200"},{"$f":"'All hospitals'!F139","v":"02 6951 0200"},{"$f":"'All hospitals'!AO139","v":0},{"$f":"'All hospitals'!AP139","v":" -"}]
[null,{"$f":"'All hospitals'!B140","v":"Temora District Hospital "},{"$f":"'All hospitals'!C140","v":"Temora"},{"$f":"'All hospitals'!E140","v":"02 6980 0200"},{"$f":"'All hospitals'!F140","v":"02 6980 0200"},{"$f":"'All hospitals'!AO140","v":0},{"$f":"'All hospitals'!AP140","v":" -"}]
[null,{"$f":"'All hospitals'!B141","v":"Tocumwal Hospital"},{"$f":"'All hospitals'!C141","v":"Tocumwal"},{"$f":"'All hospitals'!E141","v":"03 5874 2166"},{"$f":"'All hospitals'!F141","v":"03 5874 2166"},{"$f":"'All hospitals'!AO141","v":0},{"$f":"'All hospitals'!AP141","v":" -"}]
[null,{"$f":"'All hospitals'!B142","v":"Tumbarumba Multi Purpose Service"},{"$f":"'All hospitals'!C142","v":"Tumbarumba"},{"$f":"'All hospitals'!E142","v":"02 6948 9600"},{"$f":"'All hospitals'!F142","v":"02 6948 9600"},{"$f":"'All hospitals'!AO142","v":0},{"$f":"'All hospitals'!AP142","v":" -"}]
[null,{"$f":"'All hospitals'!B143","v":"Tumut District Hospital"},{"$f":"'All hospitals'!C143","v":"Tumut"},{"$f":"'All hospitals'!E143","v":"02 6947 0800"},{"$f":"'All hospitals'!F143","v":"02 6947 0800"},{"$f":"'All hospitals'!AO143","v":0},{"$f":"'All hospitals'!AP143","v":" -"}]
[null,{"$f":"'All hospitals'!B144","v":"Urana Multi Purpose Service"},{"$f":"'All hospitals'!C144","v":"Urana"},{"$f":"'All hospitals'!E144","v":"02 6920 8106"},{"$f":"'All hospitals'!F144","v":"02 6920 8106"},{"$f":"'All hospitals'!AO144","v":0},{"$f":"'All hospitals'!AP144","v":" -"}]
[null,{"$f":"'All hospitals'!B145","v":"Wagga Wagga Base Hospital "},{"$f":"'All hospitals'!C145","v":"Wagga Wagga"},{"$f":"'All hospitals'!E145","v":"02 5943 1000"},{"$f":"'All hospitals'!F145","v":"0429 306 566"},{"$f":"'All hospitals'!AO145","v":0},{"$f":"'All hospitals'!AP145","v":" -"}]
[null,{"$f":"'All hospitals'!B146","v":"Wyalong Hospital"},{"$f":"'All hospitals'!C146","v":"West Wyalong"},{"$f":"'All hospitals'!E146","v":"02 6979 0000"},{"$f":"'All hospitals'!F146","v":"02 6979 0000"},{"$f":"'All hospitals'!AO146","v":0},{"$f":"'All hospitals'!AP146","v":" -"}]
[null,{"$f":"'All hospitals'!B147","v":"Young District Hospital"},{"$f":"'All hospitals'!C147","v":"Young"},{"$f":"'All hospitals'!E147","v":"02 6382 8888"},{"$f":"'All hospitals'!F147","v":"02 6382 8888"},{"$f":"'All hospitals'!AO147","v":0},{"$f":"'All hospitals'!AP147","v":" -"}]
[null,{"$f":"'All hospitals'!B148","v":"-"},{"$f":"'All hospitals'!C148","v":"-"},{"$f":"'All hospitals'!E148","v":"-"},{"$f":"'All hospitals'!F148","v":"-"},{"$f":"'All hospitals'!AO148","v":"-"},{"$f":"'All hospitals'!AP148","v":"-"}]
[null,{"$f":"'All hospitals'!B149","v":"NEPEAN BLUE MOUNTAINS LHD & OTHER"}]
[null,{"$f":"'All hospitals'!B150","v":"Blue Mountains District Hospital "},{"$f":"'All hospitals'!C150","v":"Katoomba"},{"$f":"'All hospitals'!E150","v":"02 4784 6500"},{"$f":"'All hospitals'!F150","v":"0412 117 269"},{"$f":"'All hospitals'!AO150","v":0},{"$f":"'All hospitals'!AP150","v":" -"}]
[null,{"$f":"'All hospitals'!B151","v":"Hawkesbury District Health Service"},{"$f":"'All hospitals'!C151","v":"Windsor"},{"$f":"'All hospitals'!E151","v":"02 4560 5529"},{"$f":"'All hospitals'!F151","v":"02 4560 5555 (Ask for AHNM)"},{"$f":"'All hospitals'!AO151","v":0},{"$f":"'All hospitals'!AP151","v":" -"}]
[null,{"$f":"'All hospitals'!B152","v":"Lithgow Hospital"},{"$f":"'All hospitals'!C152","v":"Lithgow"},{"$f":"'All hospitals'!E152","v":"02 6350 2370"},{"$f":"'All hospitals'!F152","v":"02 6350 2300 (switch)"},{"$f":"'All hospitals'!AO152","v":0},{"$f":"'All hospitals'!AP152","v":" -"}]
[null,{"$f":"'All hospitals'!B153","v":"Nepean Hospital "},{"$f":"'All hospitals'!C153","v":"Penrith"},{"$f":"'All hospitals'!E153","v":"02 4734 2256"},{"$f":"'All hospitals'!F153","v":" 0412 235 766"},{"$f":"'All hospitals'!AO153","v":0},{"$f":"'All hospitals'!AP153","v":" -"}]
[null,{"$f":"'All hospitals'!B154","v":"-"},{"$f":"'All hospitals'!C154","v":"-"},{"$f":"'All hospitals'!E154","v":"-"},{"$f":"'All hospitals'!F154","v":"-"},{"$f":"'All hospitals'!AO154","v":"-"},{"$f":"'All hospitals'!AP154","v":"-"}]
[null,{"$f":"'All hospitals'!B155","v":"NORTHERN NSW LHD"}]
[null,{"$f":"'All hospitals'!B156","v":"Ballina Hospital "},{"$f":"'All hospitals'!C156","v":"Ballina"},{"$f":"'All hospitals'!E156","v":"02 6620 6400"},{"$f":"'All hospitals'!F156","v":"02 6620 6202"},{"$f":"'All hospitals'!AO156","v":0},{"$f":"'All hospitals'!AP156","v":" -"}]
[null,{"$f":"'All hospitals'!B157","v":"Bonalbo Hospital "},{"$f":"'All hospitals'!C157","v":"Bonalbo"},{"$f":"'All hospitals'!E157","v":"02 6665 4100"},{"$f":"'All hospitals'!F157","v":"02 6665 4100"},{"$f":"'All hospitals'!AO157","v":0},{"$f":"'All hospitals'!AP157","v":" -"}]
[null,{"$f":"'All hospitals'!B158","v":"Byron Central Hospital (Stock data TBC)"},{"$f":"'All hospitals'!C158","v":"Byron Bay"},{"$f":"'All hospitals'!E158","v":"02 6639 9400"},{"$f":"'All hospitals'!F158","v":"02 6639 9400"},{"$f":"'All hospitals'!AO158","v":0},{"$f":"'All hospitals'!AP158","v":" -"}]
[null,{"$f":"'All hospitals'!B159","v":"Casino Hospital"},{"$f":"'All hospitals'!C159","v":"Casino"},{"$f":"'All hospitals'!E159","v":"02 6660 0642"},{"$f":"'All hospitals'!F159","v":"02 6660 0642"},{"$f":"'All hospitals'!AO159","v":0},{"$f":"'All hospitals'!AP159","v":" -"}]
[null,{"$f":"'All hospitals'!B160","v":"Grafton Base Hospital (Stock data TBC)"},{"$f":"'All hospitals'!C160","v":"Grafton"},{"$f":"'All hospitals'!E160","v":"02 6640 2222"},{"$f":"'All hospitals'!F160","v":"02 6640 2299    "},{"$f":"'All hospitals'!AO160","v":0},{"$f":"'All hospitals'!AP160","v":" -"}]
[null,{"$f":"'All hospitals'!B161","v":"Kyogle Multi Purpose Service"},{"$f":"'All hospitals'!C161","v":"Kyogle"},{"$f":"'All hospitals'!E161","v":"02 6630 0400"},{"$f":"'All hospitals'!F161","v":"02 6630 0400"},{"$f":"'All hospitals'!AO161","v":0},{"$f":"'All hospitals'!AP161","v":" -"}]
[null,{"$f":"'All hospitals'!B162","v":"Lismore Base Hospital "},{"$f":"'All hospitals'!C162","v":"Lismore"},{"$f":"'All hospitals'!E162","v":"02 6624 0200"},{"$f":"'All hospitals'!F162","v":"02 6624 0200"},{"$f":"'All hospitals'!AO162","v":1},{"$f":"'All hospitals'!AP162","v":"ED resus"}]
[null,{"$f":"'All hospitals'!B163","v":"Maclean District Hospital (Stock data TBC)"},{"$f":"'All hospitals'!C163","v":"Maclean"},{"$f":"'All hospitals'!E163","v":"02 6640 0111"},{"$f":"'All hospitals'!F163","v":"02 6640 0111"},{"$f":"'All hospitals'!AO163","v":0},{"$f":"'All hospitals'!AP163","v":" -"}]
[null,{"$f":"'All hospitals'!B164","v":"Murwillumbah District Hospital (Stock data TBC)"},{"$f":"'All hospitals'!C164","v":"Murwillumbah"},{"$f":"'All hospitals'!E164","v":"02 6672 0237"},{"$f":"'All hospitals'!F164","v":"02 6672 0230"},{"$f":"'All hospitals'!AO164","v":0},{"$f":"'All hospitals'!AP164","v":" -"}]
[null,{"$f":"'All hospitals'!B165","v":"Nimbin Multi Purpose Service"},{"$f":"'All hospitals'!C165","v":"Nimbin"},{"$f":"'All hospitals'!E165","v":"02 6689 1400"},{"$f":"'All hospitals'!F165","v":"02 6689 1400"},{"$f":"'All hospitals'!AO165","v":0},{"$f":"'All hospitals'!AP165","v":" -"}]
[null,{"$f":"'All hospitals'!B166","v":"The Tweed Hospital"},{"$f":"'All hospitals'!C166","v":"Tweed Heads"},{"$f":"'All hospitals'!E166","v":"07 5506 7420"},{"$f":"'All hospitals'!F166","v":"07 5506 7667"},{"$f":"'All hospitals'!AO166","v":0},{"$f":"'All hospitals'!AP166","v":" -"}]
[null,{"$f":"'All hospitals'!B167","v":"Urbenville Multi Purpose Service "},{"$f":"'All hospitals'!C167","v":"Urbenville"},{"$f":"'All hospitals'!E167","v":"02 66341600"},{"$f":"'All hospitals'!F167","v":"02 66341600"},{"$f":"'All hospitals'!AO167","v":0},{"$f":"'All hospitals'!AP167","v":" -"}]
[null,{"$f":"'All hospitals'!B168","v":"-"},{"$f":"'All hospitals'!C168","v":"-"},{"$f":"'All hospitals'!E168","v":"-"},{"$f":"'All hospitals'!F168","v":"-"},{"$f":"'All hospitals'!AO168","v":"-"},{"$f":"'All hospitals'!AP168","v":"-"}]
[null,{"$f":"'All hospitals'!B169","v":"NORTHERN SYDNEY LHD & OTHER"}]
[null,{"$f":"'All hospitals'!B170","v":"Hornsby Hospital"},{"$f":"'All hospitals'!C170","v":"Hornsby"},{"$f":"'All hospitals'!E170","v":"02 9485 6455"},{"$f":"'All hospitals'!F170","v":"02 9485 6600 (ED)"},{"$f":"'All hospitals'!AO170","v":0},{"$f":"'All hospitals'!AP170","v":" -"}]
[null,{"$f":"'All hospitals'!B172","v":"Manly Hospital (closed 30th Oct 2018 - See Northern Beaches Health Service)"},{"$f":"'All hospitals'!C172","v":"-"},{"$f":"'All hospitals'!E172","v":"-"},{"$f":"'All hospitals'!F172","v":" -"},{"$f":"'All hospitals'!AO172","v":" -"},{"$f":"'All hospitals'!AP172","v":" -"}]
[null,{"$f":"'All hospitals'!B173","v":"Mona Vale Hospital (Subacute hospital overseen by Hornsby Hospital; some antivenoms available on imprest)"},{"$f":"'All hospitals'!C173","v":"Mona Vale "},{"$f":"'All hospitals'!E173","v":"02 9998 6040"},{"$f":"'All hospitals'!F173","v":"02 9998 6300"},{"$f":"'All hospitals'!AO173","v":0},{"$f":"'All hospitals'!AP173","v":" -"}]
[null,{"$f":"'All hospitals'!B174","v":"Northern Beaches Health Service (replaces Manly Hospital) "},{"$f":"'All hospitals'!C174","v":"Frenchs Forest"},{"$f":"'All hospitals'!E174","v":"02 9105 5000"},{"$f":"'All hospitals'!F174","v":"0490 124 164"},{"$f":"'All hospitals'!AO174","v":0},{"$f":"'All hospitals'!AP174","v":" -"}]
[null,{"$f":"'All hospitals'!B175","v":"Royal North Shore Hospital"},{"$f":"'All hospitals'!C175","v":"St Leonards"},{"$f":"'All hospitals'!E175","v":"02 9463 1140"},{"$f":"'All hospitals'!F175","v":"02 9926 7111 On-call pharmacist via switchboard"},{"$f":"'All hospitals'!AO175","v":0},{"$f":"'All hospitals'!AP175","v":" -"}]
[null,{"$f":"'All hospitals'!B176","v":"Ryde Hospital"},{"$f":"'All hospitals'!C176","v":"Eastwood"},{"$f":"'All hospitals'!E176","v":"02 9858 7888"},{"$f":"'All hospitals'!F176","v":"Oncall Pharmacist (0472 809 062) AHNM (0402 990 158)"},{"$f":"'All hospitals'!AO176","v":0},{"$f":"'All hospitals'!AP176","v":" -"}]
[null,{"$f":"'All hospitals'!B171","v":0},{"$f":"'All hospitals'!C171","v":0},{"$f":"'All hospitals'!E171","v":0},{"$f":"'All hospitals'!F171","v":0},{"$f":"'All hospitals'!AO171","v":0},{"$f":"'All hospitals'!AP171","v":0}]
[null,{"$f":"'All hospitals'!B177","v":"-"},{"$f":"'All hospitals'!C177","v":"-"},{"$f":"'All hospitals'!E177","v":"-"},{"$f":"'All hospitals'!F177","v":"-"},{"$f":"'All hospitals'!AO177","v":"-"},{"$f":"'All hospitals'!AP177","v":"-"}]
[null,{"$f":"'All hospitals'!B178","v":"SOUTH EASTERN SYDNEY LHD"}]
[null,{"$f":"'All hospitals'!B179","v":"Calvary Hospital  (Stock data TBC)"},{"$f":"'All hospitals'!C179","v":"Kogarah"},{"$f":"'All hospitals'!E179","v":"-"},{"$f":"'All hospitals'!F179","v":"-"},{"$f":"'All hospitals'!AO179","v":"-"},{"$f":"'All hospitals'!AP179","v":"-"}]
[null,{"$f":"'All hospitals'!B180","v":"Prince of Wales Hospital "},{"$f":"'All hospitals'!C180","v":"Randwick, Sydney"},{"$f":"'All hospitals'!E180","v":"02 9382 2222"},{"$f":"'All hospitals'!F180","v":"oncall pharmacist via switchboard 02 9382 2222 "},{"$f":"'All hospitals'!AO180","v":"1\n3"},{"$f":"'All hospitals'!AP180","v":"ED\nPharmacy "}]
[null,{"$f":"'All hospitals'!B181","v":"Royal Hospital for Women NO STOCKS HELD"},{"$f":"'All hospitals'!C181","v":"Sydney"},{"$f":"'All hospitals'!E181","v":"02 9382 6716"},{"$f":"'All hospitals'!F181","v":"02 9382 2222 on call pharmacist"},{"$f":"'All hospitals'!AO181","v":0},{"$f":"'All hospitals'!AP181","v":" -"}]
[null,{"$f":"'All hospitals'!B182","v":"St George Hospital"},{"$f":"'All hospitals'!C182","v":"Kogarah"},{"$f":"'All hospitals'!E182","v":"02 9113 3055"},{"$f":"'All hospitals'!F182","v":"Page AHNM via switchboard 02 9113 1111"},{"$f":"'All hospitals'!AO182","v":0},{"$f":"'All hospitals'!AP182","v":" -"}]
[null,{"$f":"'All hospitals'!B183","v":"Sydney Hospital and Sydney Eye Hospital"},{"$f":"'All hospitals'!C183","v":"Sydney"},{"$f":"'All hospitals'!E183","v":"02 9382 7379"},{"$f":"'All hospitals'!F183","v":"02 9382 7111  ask for Emergency Department"},{"$f":"'All hospitals'!AO183","v":0},{"$f":"'All hospitals'!AP183","v":" -"}]
[null,{"$f":"'All hospitals'!B184","v":"The Sutherland Hospital"},{"$f":"'All hospitals'!C184","v":"Sydney"},{"$f":"'All hospitals'!E184","v":"02 9540 7466 OR 02 9540 7467"},{"$f":"'All hospitals'!F184","v":"02 9540 7111"},{"$f":"'All hospitals'!AO184","v":0},{"$f":"'All hospitals'!AP184","v":" -"}]
[null,{"$f":"'All hospitals'!B185","v":"-"},{"$f":"'All hospitals'!C185","v":"-"},{"$f":"'All hospitals'!E185","v":"-"},{"$f":"'All hospitals'!F185","v":"-"},{"$f":"'All hospitals'!AO185","v":"-"},{"$f":"'All hospitals'!AP185","v":"-"}]
[null,{"$f":"'All hospitals'!B186","v":"SOUTH WESTERN SYDNEY LHD"}]
[null,{"$f":"'All hospitals'!B187","v":"Bankstown-Lidcombe Hospital"},{"$f":"'All hospitals'!C187","v":"Sydney"},{"$f":"'All hospitals'!E187","v":"02 9722 8000"},{"$f":"'All hospitals'!F187","v":"02 9722 8000"},{"$f":"'All hospitals'!AO187","v":0},{"$f":"'All hospitals'!AP187","v":" -"}]
[null,{"$f":"'All hospitals'!B188","v":"Bowral District Hospital"},{"$f":"'All hospitals'!C188","v":"Bowral"},{"$f":"'All hospitals'!E188","v":"02 4861 0274"},{"$f":"'All hospitals'!F188","v":"02 4861 0199"},{"$f":"'All hospitals'!AO188","v":0},{"$f":"'All hospitals'!AP188","v":" -"}]
[null,{"$f":"'All hospitals'!B189","v":"Camden Hospital "},{"$f":"'All hospitals'!C189","v":"Sydney"},{"$f":"'All hospitals'!E189","v":"02 4634 3000"},{"$f":"'All hospitals'!F189","v":"0408 662 394"},{"$f":"'All hospitals'!AO189","v":0},{"$f":"'All hospitals'!AP189","v":" -"}]
[null,{"$f":"'All hospitals'!B190","v":"Campbelltown Hospital "},{"$f":"'All hospitals'!C190","v":"Sydney"},{"$f":"'All hospitals'!E190","v":"02 4634 3000"},{"$f":"'All hospitals'!F190","v":"0408 662 394"},{"$f":"'All hospitals'!AO190","v":0},{"$f":"'All hospitals'!AP190","v":" -"}]
[null,{"$f":"'All hospitals'!B191","v":"Fairfield Hospital"},{"$f":"'All hospitals'!C191","v":"Fairfield"},{"$f":"'All hospitals'!E191","v":"02 9616 8322"},{"$f":"'All hospitals'!F191","v":"02 9616 8111"},{"$f":"'All hospitals'!AO191","v":0},{"$f":"'All hospitals'!AP191","v":" -"}]
[null,{"$f":"'All hospitals'!B192","v":"Liverpool Hospital"},{"$f":"'All hospitals'!C192","v":"Sydney"},{"$f":"'All hospitals'!E192","v":"02 8738 3000"},{"$f":"'All hospitals'!F192","v":"02 8738 3000"},{"$f":"'All hospitals'!AO192","v":0},{"$f":"'All hospitals'!AP192","v":" -"}]
[null,{"$f":"'All hospitals'!B193","v":"-"},{"$f":"'All hospitals'!C193","v":"-"},{"$f":"'All hospitals'!E193","v":"-"},{"$f":"'All hospitals'!F193","v":"-"},{"$f":"'All hospitals'!AO193","v":"-"},{"$f":"'All hospitals'!AP193","v":"-"}]
[null,{"$f":"'All hospitals'!B194","v":"SOUTHERN NSW"}]
[null,{"$f":"'All hospitals'!B195","v":"Bateman's Bay District Hospital "},{"$f":"'All hospitals'!C195","v":"Bateman's Bay"},{"$f":"'All hospitals'!E195","v":"02 4475 1500"},{"$f":"'All hospitals'!F195","v":"0419 421 411"},{"$f":"'All hospitals'!AO195","v":0},{"$f":"'All hospitals'!AP195","v":" -"}]
[null,{"$f":"'All hospitals'!B196","v":"South East Regional Hospital (SERH / Bega District Hospital)"},{"$f":"'All hospitals'!C196","v":"Bega"},{"$f":"'All hospitals'!E196","v":"02 6492 9111"},{"$f":"'All hospitals'!F196","v":"0419 421 411"},{"$f":"'All hospitals'!AO196","v":0},{"$f":"'All hospitals'!AP196","v":" -"}]
[null,{"$f":"'All hospitals'!B197","v":"Bombala Hospital "},{"$f":"'All hospitals'!C197","v":"Bombala"},{"$f":"'All hospitals'!E197","v":"02 6458 5777"},{"$f":"'All hospitals'!F197","v":"0419 421 411"},{"$f":"'All hospitals'!AO197","v":0},{"$f":"'All hospitals'!AP197","v":" -"}]
[null,{"$f":"'All hospitals'!B198","v":"Braidwood Hospital "},{"$f":"'All hospitals'!C198","v":"Braidwood"},{"$f":"'All hospitals'!E198","v":"02 4842 2566"},{"$f":"'All hospitals'!F198","v":"0419 421 411"},{"$f":"'All hospitals'!AO198","v":0},{"$f":"'All hospitals'!AP198","v":" -"}]
[null,{"$f":"'All hospitals'!B199","v":"Cooma District Hospital "},{"$f":"'All hospitals'!C199","v":"Cooma"},{"$f":"'All hospitals'!E199","v":"02 6455 3222"},{"$f":"'All hospitals'!F199","v":"0419 421 411"},{"$f":"'All hospitals'!AO199","v":0},{"$f":"'All hospitals'!AP199","v":" -"}]
[null,{"$f":"'All hospitals'!B200","v":"Crookwell District Hospital "},{"$f":"'All hospitals'!C200","v":"Crookwell NSW"},{"$f":"'All hospitals'!E200","v":"02 4832 1300"},{"$f":"'All hospitals'!F200","v":"0419 421 411"},{"$f":"'All hospitals'!AO200","v":0},{"$f":"'All hospitals'!AP200","v":" -"}]
[null,{"$f":"'All hospitals'!B201","v":"Delegate Hospital "},{"$f":"'All hospitals'!C201","v":"Delegate"},{"$f":"'All hospitals'!E201","v":"02 6459 8000"},{"$f":"'All hospitals'!F201","v":"0419 421 411"},{"$f":"'All hospitals'!AO201","v":0},{"$f":"'All hospitals'!AP201","v":" -"}]
[null,{"$f":"'All hospitals'!B202","v":"Goulburn Base Hospital "},{"$f":"'All hospitals'!C202","v":"Goulburn"},{"$f":"'All hospitals'!E202","v":"02 4827 3111"},{"$f":"'All hospitals'!F202","v":"02 4827 3111"},{"$f":"'All hospitals'!AO202","v":0},{"$f":"'All hospitals'!AP202","v":" -"}]
[null,{"$f":"'All hospitals'!B203","v":"Moruya District Hospital "},{"$f":"'All hospitals'!C203","v":"Moruya"},{"$f":"'All hospitals'!E203","v":"02 4474 2666"},{"$f":"'All hospitals'!F203","v":"0419 421 411"},{"$f":"'All hospitals'!AO203","v":0},{"$f":"'All hospitals'!AP203","v":" -"}]
[null,{"$f":"'All hospitals'!B204","v":"Pambula District Hospital "},{"$f":"'All hospitals'!C204","v":"Pambula"},{"$f":"'All hospitals'!E204","v":"02 6495 8200"},{"$f":"'All hospitals'!F204","v":"0419 421 411"},{"$f":"'All hospitals'!AO204","v":0},{"$f":"'All hospitals'!AP204","v":" -"}]
[null,{"$f":"'All hospitals'!B205","v":"Queanbeyan Hospital "},{"$f":"'All hospitals'!C205","v":"Queanbeyan"},{"$f":"'All hospitals'!E205","v":"02 6150 7000"},{"$f":"'All hospitals'!F205","v":"0419 421 411"},{"$f":"'All hospitals'!AO205","v":0},{"$f":"'All hospitals'!AP205","v":" -"}]
[null,{"$f":"'All hospitals'!B206","v":"Yass District Hospital "},{"$f":"'All hospitals'!C206","v":"Yass"},{"$f":"'All hospitals'!E206","v":"02 6220 2000"},{"$f":"'All hospitals'!F206","v":"0419 421 411"},{"$f":"'All hospitals'!AO206","v":0},{"$f":"'All hospitals'!AP206","v":" -"}]
[null,{"$f":"'All hospitals'!B207","v":"-"},{"$f":"'All hospitals'!C207","v":"-"},{"$f":"'All hospitals'!E207","v":"-"},{"$f":"'All hospitals'!F207","v":"-"},{"$f":"'All hospitals'!AO207","v":"-"},{"$f":"'All hospitals'!AP207","v":"-"}]
[null,{"$f":"'All hospitals'!B208","v":"ST VINCENT'S HEALTH"}]
[null,{"$f":"'All hospitals'!B209","v":"St Vincent's Hospital"},{"$f":"'All hospitals'!C209","v":"Darlinghurst"},{"$f":"'All hospitals'!E209","v":"02 8282 2125"},{"$f":"'All hospitals'!F209","v":"02 8382 1111 (on call pharmacist via switchboard)"},{"$f":"'All hospitals'!AO209","v":0},{"$f":"'All hospitals'!AP209","v":" -"}]
[null,{"$f":"'All hospitals'!B210","v":"-"},{"$f":"'All hospitals'!C210","v":"-"},{"$f":"'All hospitals'!E210","v":"-"},{"$f":"'All hospitals'!F210","v":"-"},{"$f":"'All hospitals'!AO210","v":"-"},{"$f":"'All hospitals'!AP210","v":"-"}]
[null,{"$f":"'All hospitals'!B211","v":"SYDNEY LHD"}]
[null,{"$f":"'All hospitals'!B212","v":"Balmain Hospital (No ED services) NO STOCKS HELD"},{"$f":"'All hospitals'!C212","v":"Balmain"},{"$f":"'All hospitals'!E212","v":"02 9395 2111"},{"$f":"'All hospitals'!F212","v":" -"},{"$f":"'All hospitals'!AO212","v":" -"},{"$f":"'All hospitals'!AP212","v":" -"}]
[null,{"$f":"'All hospitals'!B213","v":"Canterbury Hospital "},{"$f":"'All hospitals'!C213","v":"Campsie"},{"$f":"'All hospitals'!E213","v":"02 9787 0219"},{"$f":"'All hospitals'!F213","v":"02 9787 0000"},{"$f":"'All hospitals'!AO213","v":0},{"$f":"'All hospitals'!AP213","v":" -"}]
[null,{"$f":"'All hospitals'!B214","v":"Concord Hospital"},{"$f":"'All hospitals'!C214","v":"Concord"},{"$f":"'All hospitals'!E214","v":"02 9767 6214"},{"$f":"'All hospitals'!F214","v":"02 9767 5000"},{"$f":"'All hospitals'!AO214","v":0},{"$f":"'All hospitals'!AP214","v":" -"}]
[null,{"$f":"'All hospitals'!B215","v":"Royal Prince Alfred Hospital"},{"$f":"'All hospitals'!C215","v":"Camperdown"},{"$f":"'All hospitals'!E215","v":"02 9515 6111"},{"$f":"'All hospitals'!F215","v":"02 9515 6111"},{"$f":"'All hospitals'!AO215","v":0},{"$f":"'All hospitals'!AP215","v":" -"}]
[null,{"$f":"'All hospitals'!B216","v":"-"},{"$f":"'All hospitals'!C216","v":"-"},{"$f":"'All hospitals'!E216","v":"-"},{"$f":"'All hospitals'!F216","v":"-"},{"$f":"'All hospitals'!AO216","v":"-"},{"$f":"'All hospitals'!AP216","v":"-"}]
[null,{"$f":"'All hospitals'!B217","v":"SYDNEY CHILDREN'S HOSPITALS NETWORK"}]
[null,{"$f":"'All hospitals'!B218","v":"Sydney Children's Hospital Randwick (SCH) (see also stocks kept at Prince of Wales (adjacent hospital))"},{"$f":"'All hospitals'!C218","v":"Randwick"},{"$f":"'All hospitals'!E218","v":"02 9382 1111"},{"$f":"'All hospitals'!F218","v":"029382 2222  Pharmacist on call "},{"$f":"'All hospitals'!AO218","v":1},{"$f":"'All hospitals'!AP218","v":"Paediatric afterhours drug room"}]
[null,{"$f":"'All hospitals'!B219","v":"The Children's Hospital Westmead (CHW)"},{"$f":"'All hospitals'!C219","v":"Westmead"},{"$f":"'All hospitals'!E219","v":"02 9845 0000"},{"$f":"'All hospitals'!F219","v":"02 9845 0000 (on call pharmacist via switchboard)"},{"$f":"'All hospitals'!AO219","v":0},{"$f":"'All hospitals'!AP219","v":"-"}]
[null,{"$f":"'All hospitals'!B220","v":" Newborn & Paediatric Emergency Transport Service (NETS)"},{"$f":"'All hospitals'!C220","v":"Bankstown Aerodrome"},{"$f":"'All hospitals'!E220","v":1300362730},{"$f":"'All hospitals'!F220","v":1300362730},{"$f":"'All hospitals'!AO220","v":"-"},{"$f":"'All hospitals'!AP220","v":"-"}]
[null,{"$f":"'All hospitals'!B221","v":"-"},{"$f":"'All hospitals'!C221","v":"-"},{"$f":"'All hospitals'!E221","v":"-"},{"$f":"'All hospitals'!F221","v":"-"},{"$f":"'All hospitals'!AO221","v":"-"},{"$f":"'All hospitals'!AP221","v":"-"}]
[null,{"$f":"'All hospitals'!B222","v":"WESTERN NSW LHD"}]
[null,{"$f":"'All hospitals'!B223","v":"Baradine Multi Purpose Service"},{"$f":"'All hospitals'!C223","v":"Baradine, NSW"},{"$f":"'All hospitals'!E223","v":"02 6843 1605"},{"$f":"'All hospitals'!F223","v":"02 6843 4100"},{"$f":"'All hospitals'!AO223","v":0},{"$f":"'All hospitals'!AP223","v":" -"}]
[null,{"$f":"'All hospitals'!B224","v":"Bathurst Hospital"},{"$f":"'All hospitals'!C224","v":"Bathurst"},{"$f":"'All hospitals'!E224","v":"02 6330 5304"},{"$f":"'All hospitals'!F224","v":"02 6330 5308"},{"$f":"'All hospitals'!AO224","v":0},{"$f":"'All hospitals'!AP224","v":" -"}]
[null,{"$f":"'All hospitals'!B225","v":"Blayney Multi Purpose Service"},{"$f":"'All hospitals'!C225","v":"Blayney"},{"$f":"'All hospitals'!E225","v":"02 6368 9029 "},{"$f":"'All hospitals'!F225","v":"02 6368 9029 "},{"$f":"'All hospitals'!AO225","v":0},{"$f":"'All hospitals'!AP225","v":" -"}]
[null,{"$f":"'All hospitals'!B226","v":"Bourke Multi Purpose Service "},{"$f":"'All hospitals'!C226","v":"Bourke"},{"$f":"'All hospitals'!E226","v":"02 6870 8888"},{"$f":"'All hospitals'!F226","v":"02 6870 8888"},{"$f":"'All hospitals'!AO226","v":0},{"$f":"'All hospitals'!AP226","v":" -"}]
[null,{"$f":"'All hospitals'!B227","v":"Brewarrina Multi Purpose Service "},{"$f":"'All hospitals'!C227","v":"Brewarrina"},{"$f":"'All hospitals'!E227","v":"02 6830 5000"},{"$f":"'All hospitals'!F227","v":"02 6830 5000"},{"$f":"'All hospitals'!AO227","v":0},{"$f":"'All hospitals'!AP227","v":" -"}]
[null,{"$f":"'All hospitals'!B228","v":"Canowindra Soldiers Memorial Hospital (Stock data TBC)"},{"$f":"'All hospitals'!C228","v":"Canowindra"},{"$f":"'All hospitals'!E228","v":"02 6364 4300"},{"$f":"'All hospitals'!F228","v":"02 6340 3033"},{"$f":"'All hospitals'!AO228","v":0},{"$f":"'All hospitals'!AP228","v":" -"}]
[null,{"$f":"'All hospitals'!B229","v":"Cobar District Hospital (Stock data TBC)"},{"$f":"'All hospitals'!C229","v":"Cobar"},{"$f":"'All hospitals'!E229","v":"02 6836 2406"},{"$f":"'All hospitals'!F229","v":"02 6830 2111"},{"$f":"'All hospitals'!AO229","v":0},{"$f":"'All hospitals'!AP229","v":" -"}]
[null,{"$f":"'All hospitals'!B230","v":"Collarenebri Multi Purpose Service "},{"$f":"'All hospitals'!C230","v":"Collarenebri"},{"$f":"'All hospitals'!E230","v":"02 6756 4800"},{"$f":"'All hospitals'!F230","v":"02 6756 4800"},{"$f":"'All hospitals'!AO230","v":0},{"$f":"'All hospitals'!AP230","v":" -"}]
[null,{"$f":"'All hospitals'!B231","v":"Condobolin District Hospital"},{"$f":"'All hospitals'!C231","v":"Condobolin"},{"$f":"'All hospitals'!E231","v":"02 6890 1500"},{"$f":"'All hospitals'!F231","v":"02 6890 1500"},{"$f":"'All hospitals'!AO231","v":0},{"$f":"'All hospitals'!AP231","v":" -"}]
[null,{"$f":"'All hospitals'!B232","v":"Coolah Multi Purpose Service (Stock data TBC)"},{"$f":"'All hospitals'!C232","v":"Coolah"},{"$f":"'All hospitals'!E232","v":"02 6377 9100"},{"$f":"'All hospitals'!F232","v":"02 6377 9100"},{"$f":"'All hospitals'!AO232","v":0},{"$f":"'All hospitals'!AP232","v":" -"}]
[null,{"$f":"'All hospitals'!B233","v":"Coonabarabran District Hospital"},{"$f":"'All hospitals'!C233","v":"Coonabarabran"},{"$f":"'All hospitals'!E233","v":"02 6849 1600"},{"$f":"'All hospitals'!F233","v":"02 6849 1600"},{"$f":"'All hospitals'!AO233","v":0},{"$f":"'All hospitals'!AP233","v":" -"}]
[null,{"$f":"'All hospitals'!B234","v":"Coonamble Multi Purpose Service (Stock data TBC)"},{"$f":"'All hospitals'!C234","v":"Coonamble"},{"$f":"'All hospitals'!E234","v":"02 6827 1100"},{"$f":"'All hospitals'!F234","v":"02 6827 1100"},{"$f":"'All hospitals'!AO234","v":0},{"$f":"'All hospitals'!AP234","v":" -"}]
[null,{"$f":"'All hospitals'!B235","v":"Cowra Hospital (Stock data TBC)"},{"$f":"'All hospitals'!C235","v":"Cowra"},{"$f":"'All hospitals'!E235","v":"02 6340 9000"},{"$f":"'All hospitals'!F235","v":"02 6340 9000"},{"$f":"'All hospitals'!AO235","v":0},{"$f":"'All hospitals'!AP235","v":" -"}]
[null,{"$f":"'All hospitals'!B236","v":"Cudal Health Service NO STOCKS HELD"},{"$f":"'All hospitals'!C236","v":"Cudal"},{"$f":"'All hospitals'!E236","v":"02 6392 3400"},{"$f":"'All hospitals'!F236","v":" -"},{"$f":"'All hospitals'!AO236","v":0},{"$f":"'All hospitals'!AP236","v":" -"}]
[null,{"$f":"'All hospitals'!B237","v":"Dubbo Base Hospital"},{"$f":"'All hospitals'!C237","v":"Dubbo"},{"$f":"'All hospitals'!E237","v":"02 6809 8150"},{"$f":"'All hospitals'!F237","v":"02 6809 6809"},{"$f":"'All hospitals'!AO237","v":0},{"$f":"'All hospitals'!AP237","v":" -"}]
[null,{"$f":"'All hospitals'!B238","v":"Dunedoo Multi Purpose Service (Stock data TBC)"},{"$f":"'All hospitals'!C238","v":"Dunedoo"},{"$f":"'All hospitals'!E238","v":"02 6375 1408"},{"$f":"'All hospitals'!F238","v":"02 6370 3000"},{"$f":"'All hospitals'!AO238","v":0},{"$f":"'All hospitals'!AP238","v":" -"}]
[null,{"$f":"'All hospitals'!B239","v":"Eugowra Multi Purpose Service (Stock data TBC)"},{"$f":"'All hospitals'!C239","v":"Eugowra"},{"$f":"'All hospitals'!E239","v":"02 6850 4000"},{"$f":"'All hospitals'!F239","v":"02 6850 4000"},{"$f":"'All hospitals'!AO239","v":0},{"$f":"'All hospitals'!AP239","v":" -"}]
[null,{"$f":"'All hospitals'!B240","v":"Forbes District Hospital "},{"$f":"'All hospitals'!C240","v":"Forbes"},{"$f":"'All hospitals'!E240","v":"02 6850 7100"},{"$f":"'All hospitals'!F240","v":"02 6850 7100"},{"$f":"'All hospitals'!AO240","v":0},{"$f":"'All hospitals'!AP240","v":" -"}]
[null,{"$f":"'All hospitals'!B241","v":"Gilgandra Multi Purpose Service (Stock data TBC)"},{"$f":"'All hospitals'!C241","v":"Gilgandra"},{"$f":"'All hospitals'!E241","v":"02 6880 5900"},{"$f":"'All hospitals'!F241","v":"02 6880 5900"},{"$f":"'All hospitals'!AO241","v":0},{"$f":"'All hospitals'!AP241","v":" -"}]
[null,{"$f":"'All hospitals'!B242","v":"Goodooga Health Service "},{"$f":"'All hospitals'!C242","v":"Goodooga"},{"$f":"'All hospitals'!E242","v":"02 6829 5600"},{"$f":"'All hospitals'!F242","v":" - "},{"$f":"'All hospitals'!AO242","v":0},{"$f":"'All hospitals'!AP242","v":" -"}]
[null,{"$f":"'All hospitals'!B243","v":"Grenfell Multi Purpose Service (Stock data TBC)"},{"$f":"'All hospitals'!C243","v":"Grenfell"},{"$f":"'All hospitals'!E243","v":"02 6349 1700"},{"$f":"'All hospitals'!F243","v":"02 6349 1700"},{"$f":"'All hospitals'!AO243","v":0},{"$f":"'All hospitals'!AP243","v":" -"}]
[null,{"$f":"'All hospitals'!B244","v":"Gulargambone NO STOCKS HELD"},{"$f":"'All hospitals'!C244","v":"Gulargambone"},{"$f":"'All hospitals'!E244","v":"02 6825 1201"},{"$f":"'All hospitals'!F244","v":"-"},{"$f":"'All hospitals'!AO244","v":0},{"$f":"'All hospitals'!AP244","v":" -"}]
[null,{"$f":"'All hospitals'!B245","v":"Gulgong Health Service "},{"$f":"'All hospitals'!C245","v":"Gulgong"},{"$f":"'All hospitals'!E245","v":"02 6374 3400"},{"$f":"'All hospitals'!F245","v":"02 6374 1200"},{"$f":"'All hospitals'!AO245","v":0},{"$f":"'All hospitals'!AP245","v":" -"}]
[null,{"$f":"'All hospitals'!B246","v":"Lightning Ridge Multi Purpose Service "},{"$f":"'All hospitals'!C246","v":"Lightning Ridge"},{"$f":"'All hospitals'!E246","v":"02 6820 5700"},{"$f":"'All hospitals'!F246","v":"02 6820 5700"},{"$f":"'All hospitals'!AO246","v":0},{"$f":"'All hospitals'!AP246","v":" -"}]
[null,{"$f":"'All hospitals'!B247","v":"Molong Hospital (Stock data TBC)"},{"$f":"'All hospitals'!C247","v":"Molong"},{"$f":"'All hospitals'!E247","v":"02 6392 3300"},{"$f":"'All hospitals'!F247","v":" -"},{"$f":"'All hospitals'!AO247","v":0},{"$f":"'All hospitals'!AP247","v":" -"}]
[null,{"$f":"'All hospitals'!B248","v":"Mudgee Hospital "},{"$f":"'All hospitals'!C248","v":"Mudgee"},{"$f":"'All hospitals'!E248","v":"02 6371 9751"},{"$f":"'All hospitals'!F248","v":"02 6371 9700"},{"$f":"'All hospitals'!AO248","v":0},{"$f":"'All hospitals'!AP248","v":" -"}]
[null,{"$f":"'All hospitals'!B249","v":"Narromine Health Service "},{"$f":"'All hospitals'!C249","v":"Narromine"},{"$f":"'All hospitals'!E249","v":"02 6889 9600"},{"$f":"'All hospitals'!F249","v":"02 6889 9600"},{"$f":"'All hospitals'!AO249","v":0},{"$f":"'All hospitals'!AP249","v":" -"}]
[null,{"$f":"'All hospitals'!B250","v":"Nyngan Multi Purpose Service (Stock data TBC)"},{"$f":"'All hospitals'!C250","v":"Nyngan"},{"$f":"'All hospitals'!E250","v":"02 6832 1707"},{"$f":"'All hospitals'!F250","v":"02 6835 1700"},{"$f":"'All hospitals'!AO250","v":0},{"$f":"'All hospitals'!AP250","v":" -"}]
[null,{"$f":"'All hospitals'!B251","v":"Oberon Multi Purpose Service"},{"$f":"'All hospitals'!C251","v":"Oberon"},{"$f":"'All hospitals'!E251","v":"02 6336 7200"},{"$f":"'All hospitals'!F251","v":"02 6336 7200"},{"$f":"'All hospitals'!AO251","v":0},{"$f":"'All hospitals'!AP251","v":" -"}]
[null,{"$f":"'All hospitals'!B252","v":"Orange Health Service "},{"$f":"'All hospitals'!C252","v":"Orange"},{"$f":"'All hospitals'!E252","v":"02 6369 3740"},{"$f":"'All hospitals'!F252","v":"02 6369 3222"},{"$f":"'All hospitals'!AO252","v":0},{"$f":"'All hospitals'!AP252","v":" -"}]
[null,{"$f":"'All hospitals'!B253","v":"Parkes District Hospital "},{"$f":"'All hospitals'!C253","v":"Parkes"},{"$f":"'All hospitals'!E253","v":"02 6861 2400"},{"$f":"'All hospitals'!F253","v":"02 6861 2440"},{"$f":"'All hospitals'!AO253","v":0},{"$f":"'All hospitals'!AP253","v":" -"}]
[null,{"$f":"'All hospitals'!B254","v":"Peak Hill Multi Purpose Service "},{"$f":"'All hospitals'!C254","v":"Peak Hill"},{"$f":"'All hospitals'!E254","v":"02 6869 5200"},{"$f":"'All hospitals'!F254","v":"02 6869 5200"},{"$f":"'All hospitals'!AO254","v":0},{"$f":"'All hospitals'!AP254","v":" -"}]
[null,{"$f":"'All hospitals'!B255","v":"Rylstone Multi Purpose Service "},{"$f":"'All hospitals'!C255","v":"Rylstone"},{"$f":"'All hospitals'!E255","v":"02 6357 6100"},{"$f":"'All hospitals'!F255","v":"02 6357 6100"},{"$f":"'All hospitals'!AO255","v":0},{"$f":"'All hospitals'!AP255","v":" -"}]
[null,{"$f":"'All hospitals'!B256","v":"Tottenham Multi Purpose Service "},{"$f":"'All hospitals'!C256","v":"Tottenham"},{"$f":"'All hospitals'!E256","v":"02 6891  6200"},{"$f":"'All hospitals'!F256","v":"02 6891  6200"},{"$f":"'All hospitals'!AO256","v":0},{"$f":"'All hospitals'!AP256","v":" -"}]
[null,{"$f":"'All hospitals'!B257","v":"Trangie Multi Purpose Service (Stock data TBC)"},{"$f":"'All hospitals'!C257","v":"Trangie"},{"$f":"'All hospitals'!E257","v":" -"},{"$f":"'All hospitals'!F257","v":"02 6880 8200"},{"$f":"'All hospitals'!AO257","v":0},{"$f":"'All hospitals'!AP257","v":" -"}]
[null,{"$f":"'All hospitals'!B258","v":"Trundle Multi Purpose Service "},{"$f":"'All hospitals'!C258","v":"Trundle"},{"$f":"'All hospitals'!E258","v":"02 6892 1900"},{"$f":"'All hospitals'!F258","v":"02 6892 1900"},{"$f":"'All hospitals'!AO258","v":0},{"$f":"'All hospitals'!AP258","v":" -"}]
[null,{"$f":"'All hospitals'!B259","v":"Tullamore Multi Purpose Service "},{"$f":"'All hospitals'!C259","v":"Tullamore"},{"$f":"'All hospitals'!E259","v":"02 6892 6400"},{"$f":"'All hospitals'!F259","v":"02 6892 6400"},{"$f":"'All hospitals'!AO259","v":0},{"$f":"'All hospitals'!AP259","v":" -"}]
[null,{"$f":"'All hospitals'!B260","v":"Walgett District Hospital "},{"$f":"'All hospitals'!C260","v":"Walgett"},{"$f":"'All hospitals'!E260","v":"02 6817 9400"},{"$f":"'All hospitals'!F260","v":"02 6817 9400"},{"$f":"'All hospitals'!AO260","v":0},{"$f":"'All hospitals'!AP260","v":" -"}]
[null,{"$f":"'All hospitals'!B261","v":"Wanaaring Health Service NO STOCKS HELD"},{"$f":"'All hospitals'!C261","v":"Wanaaring"},{"$f":"'All hospitals'!E261","v":"02 6874 7721"},{"$f":"'All hospitals'!F261","v":"02 6874 7721"},{"$f":"'All hospitals'!AO261","v":0},{"$f":"'All hospitals'!AP261","v":" -"}]
[null,{"$f":"'All hospitals'!B262","v":"Warren Multi Purpose Service (Stock data TBC)"},{"$f":"'All hospitals'!C262","v":"Warren"},{"$f":"'All hospitals'!E262","v":"02 6847 4303"},{"$f":"'All hospitals'!F262","v":"02 6847 5400"},{"$f":"'All hospitals'!AO262","v":0},{"$f":"'All hospitals'!AP262","v":" -"}]
[null,{"$f":"'All hospitals'!B263","v":"Wellington Health Service"},{"$f":"'All hospitals'!C263","v":"Wellington"},{"$f":"'All hospitals'!E263","v":"02 6840 7200"},{"$f":"'All hospitals'!F263","v":"02 6840 8200"},{"$f":"'All hospitals'!AO263","v":0},{"$f":"'All hospitals'!AP263","v":" -"}]
[null,{"$f":"'All hospitals'!B264","v":"-"},{"$f":"'All hospitals'!C264","v":"-"},{"$f":"'All hospitals'!E264","v":"-"},{"$f":"'All hospitals'!F264","v":"-"},{"$f":"'All hospitals'!AO264","v":"-"},{"$f":"'All hospitals'!AP264","v":"-"}]
[null,{"$f":"'All hospitals'!B265","v":"WESTERN SYDNEY LHD & OTHER"}]
[null,{"$f":"'All hospitals'!B266","v":"Auburn Hospital"},{"$f":"'All hospitals'!C266","v":"Auburn"},{"$f":"'All hospitals'!E266","v":"02 8759 3302"},{"$f":"'All hospitals'!F266","v":"02 8759 3000"},{"$f":"'All hospitals'!AO266","v":0},{"$f":"'All hospitals'!AP266","v":" -"}]
[null,{"$f":"'All hospitals'!B267","v":"Blacktown Hospital "},{"$f":"'All hospitals'!C267","v":"Blacktown"},{"$f":"'All hospitals'!E267","v":"02 9881 8142"},{"$f":"'All hospitals'!F267","v":"02 9881 8000 (afterhours nurse manager via switch)"},{"$f":"'All hospitals'!AO267","v":0},{"$f":"'All hospitals'!AP267","v":" -"}]
[null,{"$f":"'All hospitals'!B268","v":"Mount Druitt Hospital "},{"$f":"'All hospitals'!C268","v":"Mount Druitt NSW"},{"$f":"'All hospitals'!E268","v":"02 9881 1581"},{"$f":"'All hospitals'!F268","v":"02 9881 1555  (afterhours nurse manager via switch)"},{"$f":"'All hospitals'!AO268","v":0},{"$f":"'All hospitals'!AP268","v":" -"}]
[null,{"$f":"'All hospitals'!B269","v":"Westmead Hospital "},{"$f":"'All hospitals'!C269","v":"Westmead"},{"$f":"'All hospitals'!E269","v":"02 8890 5555"},{"$f":"'All hospitals'!F269","v":"02 8890 5555 (on call pharmacist via switch)"},{"$f":"'All hospitals'!AO269","v":0},{"$f":"'All hospitals'!AP269","v":" -"}]
[null,{"$f":"'All hospitals'!B270","v":"-"},{"$f":"'All hospitals'!C270","v":"-"},{"$f":"'All hospitals'!E270","v":"-"},{"$f":"'All hospitals'!F270","v":"-"},{"$f":"'All hospitals'!AO270","v":"-"},{"$f":"'All hospitals'!AP270","v":"-"}]
[null,{"$f":"'All hospitals'!B271","v":"PRIVATE HOSPITALS & OTHER"}]
[null,{"$f":"'All hospitals'!B272","v":"Macquarie University Hospital NO STOCKS HELD"},{"$f":"'All hospitals'!C272","v":"North Ryde"},{"$f":"'All hospitals'!E272","v":"02 98875500"},{"$f":"'All hospitals'!F272","v":"NA"},{"$f":"'All hospitals'!AO272","v":0},{"$f":"'All hospitals'!AP272","v":"-"}]
[null,{"$f":"'All hospitals'!B273","v":"Norwest Private Hospital (Stock data TBC)"},{"$f":"'All hospitals'!C273","v":"Bella Vista"},{"$f":"'All hospitals'!E273","v":"02 8882 8555"},{"$f":"'All hospitals'!F273","v":"02 8882 8555"},{"$f":"'All hospitals'!AO273","v":0},{"$f":"'All hospitals'!AP273","v":"-"},null,"Back to Index","Back to 'All hospitals' tab"]

{"sheet":"Stone fish","index":12,"n_rows":253,"n_cols":10,"rows_kept":253,"cut":false,"hidden":false,"merged":[[196,1,196,3],[201,1,201,3],[244,1,244,3],[157,1,157,3],[165,1,165,3],[173,1,173,3],[187,1,187,3],[190,1,190,3],[86,1,86,3],[95,1,95,3],[128,1,128,3],[134,1,134,3],[148,1,148,3],[14,1,14,3],[18,1,18,3],[22,1,22,3],[34,1,34,3],[74,1,74,3],[0,1,0,6],[3,1,3,6],[8,6,9,6],[10,1,10,3],[6,5,7,6],[2,1,2,6],[4,1,4,6],[6,1,6,4],[7,1,9,1],[7,2,9,2],[7,3,9,3],[7,4,9,4],[8,5,9,5]]}
[null,{"$f":"'All hospitals'!$B$1","v":"Last modified: 14/01/2021"}]
[]
[null,{"$f":"'All hospitals'!$AQ$28","v":"STONE FISH"}]
[null,"OTHER ANTIVENOM"]
[null,null,null,null,null,null,null,null,"Back to Index","Back to 'All hospitals' tab"]
[]
[null,"HOSPITAL DETAILS",null,null,null,"AVAILABILITY"]
[null,"Hospital name:\n\"Stock data TBC\" indicates that the hospital has not provided an update to the stockholding data.                                            ","Town/city","Phone number (business hours)","Phone number (after hours)"]
[null,null,null,null,null,"Number of vials","Location"]
[]
[null,{"$f":"'All hospitals'!B31","v":"ACT"},null,null,null,null,null,null,"Click to jump to LHD or network"]
[null,{"$f":"'All hospitals'!B32","v":"Calvary Public Hospital "},{"$f":"'All hospitals'!C32","v":"Canberra"},{"$f":"'All hospitals'!E32","v":"02 6201 6265 "},{"$f":"'All hospitals'!F32","v":"0413 611 319"},{"$f":"'All hospitals'!AQ32","v":0},{"$f":"'All hospitals'!AR32","v":" -"},null,"ACT"]
[null,{"$f":"'All hospitals'!B33","v":"The Canberra Hospital"},{"$f":"'All hospitals'!C33","v":"Canberra"},{"$f":"'All hospitals'!E33","v":"02 5124 0000"},{"$f":"'All hospitals'!F33","v":"0401 710 831"},{"$f":"'All hospitals'!AQ33","v":0},{"$f":"'All hospitals'!AR33","v":" -"},null,"ALBURY WODONGA HEALTH"]
[null,{"$f":"'All hospitals'!B34","v":"-"},{"$f":"'All hospitals'!C34","v":"-"},{"$f":"'All hospitals'!E34","v":"-"},null,{"$f":"'All hospitals'!AQ34","v":"-"},{"$f":"'All hospitals'!AR34","v":"-"},null,"CENTRAL COAST LHD"]
[null,{"$f":"'All hospitals'!B35","v":"ALBURY WODONGA HEALTH"},null,null,null,null,null,null,"FAR WEST LHD"]
[null,{"$f":"'All hospitals'!B36","v":"Albury Hospital"},{"$f":"'All hospitals'!C36","v":"Albury"},{"$f":"'All hospitals'!E36","v":"02 6058 4665"},{"$f":"'All hospitals'!F36","v":"02 6058 4444"},{"$f":"'All hospitals'!AQ36","v":0},{"$f":"'All hospitals'!AR36","v":" -"},null,"HUNTER NEW ENGLAND LHD"]
[null,{"$f":"'All hospitals'!B37","v":"Wodonga Hospital"},{"$f":"'All hospitals'!C37","v":"Wodonga"},{"$f":"'All hospitals'!E37","v":"02 6051 7485"},{"$f":"'All hospitals'!F37","v":"02 6051 7111"},{"$f":"'All hospitals'!AQ37","v":0},{"$f":"'All hospitals'!AR37","v":" -"},null,"ILLAWARRA SHOALHAVEN LHD"]
[null,{"$f":"'All hospitals'!B38","v":"-"},{"$f":"'All hospitals'!C38","v":"-"},{"$f":"'All hospitals'!E38","v":"-"},null,{"$f":"'All hospitals'!AQ38","v":"-"},{"$f":"'All hospitals'!AR38","v":"-"},null,"MID NORTH COAST LHD"]
[null,"CENTRAL COAST LHD",null,null,null,null,null,null,"MURRUMBIDGEE LHD"]
[null,{"$f":"'All hospitals'!B40","v":"Gosford Hospital"},{"$f":"'All hospitals'!C40","v":"Gosford "},{"$f":"'All hospitals'!E40","v":"02 4320 2111"},{"$f":"'All hospitals'!F40","v":"02 4320 2111 (page on-call pharmacist)"},{"$f":"'All hospitals'!AQ40","v":0},{"$f":"'All hospitals'!AR40","v":" -"},null,"NEPEAN BLUE MOUNTAINS LHD"]
[null,{"$f":"'All hospitals'!B41","v":"Wyong Hospital"},{"$f":"'All hospitals'!C41","v":"Wyong"},{"$f":"'All hospitals'!E41","v":"02 4394 7930"},{"$f":"'All hospitals'!F41","v":"02 4394 8000 (page on-call pharmacist)"},{"$f":"'All hospitals'!AQ41","v":0},{"$f":"'All hospitals'!AR41","v":" -"},null,"NORTHERN NSW LHD"]
[null,{"$f":"'All hospitals'!B42","v":"-"},{"$f":"'All hospitals'!C42","v":"-"},{"$f":"'All hospitals'!E42","v":"-"},null,{"$f":"'All hospitals'!AQ42","v":"-"},{"$f":"'All hospitals'!AR42","v":"-"},null,"NORTHERN SYDNEY LHD"]
[null,{"$f":"'All hospitals'!B43","v":"FAR WEST LHD"},null,null,null,null,null,null,"SOUTH EASTERN SYDNEY LHD"]
[null,{"$f":"'All hospitals'!B44","v":"Balranald Multi Purpose Service "},{"$f":"'All hospitals'!C44","v":"Balranald"},{"$f":"'All hospitals'!E44","v":"03 5071 9800"},{"$f":"'All hospitals'!F44","v":"03 5071 9800"},{"$f":"'All hospitals'!AQ44","v":0},{"$f":"'All hospitals'!AR44","v":" -"},null,"SOUTH WESTERN SYDNEY LHD"]
[null,{"$f":"'All hospitals'!B45","v":"Broken Hill Health Service"},{"$f":"'All hospitals'!C45","v":"Broken Hill"},{"$f":"'All hospitals'!E45","v":"08 8080 1466  "},{"$f":"'All hospitals'!F45","v":"08 8080 1333 "},{"$f":"'All hospitals'!AQ45","v":0},{"$f":"'All hospitals'!AR45","v":" -"},null,"SOUTHERN NSW"]
[null,{"$f":"'All hospitals'!B46","v":"Dareton Primary Health Service (No ED services)"},{"$f":"'All hospitals'!C46","v":"Dareton"},{"$f":"'All hospitals'!E46","v":"03 5021 7200"},{"$f":"'All hospitals'!F46","v":"BH only"},{"$f":"'All hospitals'!AQ46","v":0},{"$f":"'All hospitals'!AR46","v":" -"},null,"ST VINCENT'S HEALTH"]
[null,{"$f":"'All hospitals'!B47","v":"Ivanhoe Health Service"},{"$f":"'All hospitals'!C47","v":"Ivanhoe"},{"$f":"'All hospitals'!E47","v":"02 6990 2200"},{"$f":"'All hospitals'!F47","v":"02 6990 2200"},{"$f":"'All hospitals'!AQ47","v":0},{"$f":"'All hospitals'!AR47","v":" -"},null,"SYDNEY LHD"]
[null,{"$f":"'All hospitals'!B48","v":"Menindee Health Service "},{"$f":"'All hospitals'!C48","v":"Menindee"},{"$f":"'All hospitals'!E48","v":"08 8091 4209"},{"$f":"'All hospitals'!F48","v":"08 8091 4209"},{"$f":"'All hospitals'!AQ48","v":0},{"$f":"'All hospitals'!AR48","v":" -"},null,"SYDNEY CHILDREN'S HOSPITALS NETWORK"]
[null,{"$f":"'All hospitals'!B49","v":"Royal Flying Doctor Service Broken Hill"},{"$f":"'All hospitals'!C49","v":"Broken Hill"},{"$f":"'All hospitals'!E49","v":"08 8080 3780"},{"$f":"'All hospitals'!F49","v":"0437 370 702"},{"$f":"'All hospitals'!AQ49","v":0},{"$f":"'All hospitals'!AR49","v":" -"},null,"WESTERN NSW LHD"]
[null,{"$f":"'All hospitals'!B50","v":"Tibooburra Health Service"},{"$f":"'All hospitals'!C50","v":"Tibooburra"},{"$f":"'All hospitals'!E50","v":"08 8091 3302 "},{"$f":"'All hospitals'!F50","v":"08 8091 3302"},{"$f":"'All hospitals'!AQ50","v":0},{"$f":"'All hospitals'!AR50","v":" -"},null,"WESTERN SYDNEY LHD & OTHER"]
[null,{"$f":"'All hospitals'!B51","v":"Wentworth District Hospital (No ED services)"},{"$f":"'All hospitals'!C51","v":"Wentworth"},{"$f":"'All hospitals'!E51","v":"03 5027 2345"},{"$f":"'All hospitals'!F51","v":"03 5027 2345"},{"$f":"'All hospitals'!AQ51","v":0},{"$f":"'All hospitals'!AR51","v":" -"},null,"PRIVATE HOSPITALS & OTHER"]
[null,{"$f":"'All hospitals'!B52","v":"White Cliffs Health Service"},{"$f":"'All hospitals'!C52","v":"White Cliffs"},{"$f":"'All hospitals'!E52","v":"08 8091 6605 "},{"$f":"'All hospitals'!F52","v":"08 80916605"},{"$f":"'All hospitals'!AQ52","v":0},{"$f":"'All hospitals'!AR52","v":" -"}]
[null,{"$f":"'All hospitals'!B53","v":"Wilcannia Multi Purpose Service"},{"$f":"'All hospitals'!C53","v":"Wilcannia"},{"$f":"'All hospitals'!E53","v":"08 8083 8777"},{"$f":"'All hospitals'!F53","v":"08 8083 8777"},{"$f":"'All hospitals'!AQ53","v":0},{"$f":"'All hospitals'!AR53","v":" -"}]
[null,{"$f":"'All hospitals'!B54","v":"-"},{"$f":"'All hospitals'!C54","v":"-"},{"$f":"'All hospitals'!D54","v":"-"},{"$f":"'All hospitals'!E54","v":"-"},{"$f":"'All hospitals'!AQ54","v":"-"},{"$f":"'All hospitals'!AR54","v":"-"}]
[null,{"$f":"'All hospitals'!B55","v":"HUNTER NEW ENGLAND LHD"}]
[null,{"$f":"'All hospitals'!B56","v":"Armidale Rural Referral Hospital"},{"$f":"'All hospitals'!C56","v":"Armidale"},{"$f":"'All hospitals'!E56","v":"02 6776 9500"},{"$f":"'All hospitals'!F56","v":"02 6776 9500     "},{"$f":"'All hospitals'!AQ56","v":0},{"$f":"'All hospitals'!AR56","v":" -"}]
[null,{"$f":"'All hospitals'!B57","v":"Barraba Multi Purpose Service"},{"$f":"'All hospitals'!C57","v":"Barraba"},{"$f":"'All hospitals'!E57","v":"02 6782 2500"},{"$f":"'All hospitals'!F57","v":"02 6782 2522"},{"$f":"'All hospitals'!AQ57","v":0},{"$f":"'All hospitals'!AR57","v":" -"}]
[null,{"$f":"'All hospitals'!B58","v":"Belmont Hospital "},{"$f":"'All hospitals'!C58","v":"Belmont"},{"$f":"'All hospitals'!E58","v":"02 4923 2249"},{"$f":"'All hospitals'!F58","v":"02 4923 2000"},{"$f":"'All hospitals'!AQ58","v":0},{"$f":"'All hospitals'!AR58","v":" -"}]
[null,{"$f":"'All hospitals'!B59","v":"Bingara Multi Purpose Service"},{"$f":"'All hospitals'!C59","v":"Bingara"},{"$f":"'All hospitals'!E59","v":"02 6728 0100"},{"$f":"'All hospitals'!F59","v":"02 6728 0100"},{"$f":"'All hospitals'!AQ59","v":0},{"$f":"'All hospitals'!AR59","v":" -"}]
[null,{"$f":"'All hospitals'!B60","v":"Boggabri Multi Purpose Service"},{"$f":"'All hospitals'!C60","v":"Boggabri"},{"$f":"'All hospitals'!E60","v":"02 6749 7000"},{"$f":"'All hospitals'!F60","v":"02 67497000"},{"$f":"'All hospitals'!AQ60","v":0},{"$f":"'All hospitals'!AR60","v":" -"}]
[null,{"$f":"'All hospitals'!B61","v":"Bulahdelah Hospital NO STOCKS HELD"},{"$f":"'All hospitals'!C61","v":"Bulahdelah"},{"$f":"'All hospitals'!E61","v":"02 4987 9900"},{"$f":"'All hospitals'!F61","v":"02 4987 9900"},{"$f":"'All hospitals'!AQ61","v":0},{"$f":"'All hospitals'!AR61","v":" -"}]
[null,{"$f":"'All hospitals'!B62","v":"Calvary Mater Hospital Newcastle "},{"$f":"'All hospitals'!C62","v":"Newcastle"},{"$f":"'All hospitals'!E62","v":"02 4921 1211"},{"$f":"'All hospitals'!F62","v":"02 4921 1211"},{"$f":"'All hospitals'!AQ62","v":0},{"$f":"'All hospitals'!AR62","v":" -"}]
[null,{"$f":"'All hospitals'!B63","v":"Cessnock District Hospital"},{"$f":"'All hospitals'!C63","v":"Cessnock"},{"$f":"'All hospitals'!E63","v":"02 4991 0555(hospital)\n02 4991 0456(pharmacy)"},{"$f":"'All hospitals'!F63","v":"0438 212 862"},{"$f":"'All hospitals'!AQ63","v":0},{"$f":"'All hospitals'!AR63","v":" -"}]
[null,{"$f":"'All hospitals'!B64","v":"Denman Multi Purpose Service (Stock data TBC)"},{"$f":"'All hospitals'!C64","v":"Denman"},{"$f":"'All hospitals'!E64","v":"02 6547 3999"},{"$f":"'All hospitals'!F64","v":"02 6547 3905 "},{"$f":"'All hospitals'!AQ64","v":0},{"$f":"'All hospitals'!AR64","v":" -"}]
[null,{"$f":"'All hospitals'!B65","v":"Dungog Community Hospital"},{"$f":"'All hospitals'!C65","v":"Dungog"},{"$f":"'All hospitals'!E65","v":"02 4939 2226"},{"$f":"'All hospitals'!F65","v":"02 4992 1266"},{"$f":"'All hospitals'!AQ65","v":0},{"$f":"'All hospitals'!AR65","v":" -"}]
[null,{"$f":"'All hospitals'!B66","v":"Glen Innes District Hospital "},{"$f":"'All hospitals'!C66","v":"Glen Innes"},{"$f":"'All hospitals'!E66","v":"02 6739 0200"},{"$f":"'All hospitals'!F66","v":"02 6739 0200"},{"$f":"'All hospitals'!AQ66","v":0},{"$f":"'All hospitals'!AR66","v":" -"}]
[null,{"$f":"'All hospitals'!B67","v":"Gloucester Soldiers Memorial Hospital (Stock data TBC)"},{"$f":"'All hospitals'!C67","v":"Gloucester"},{"$f":"'All hospitals'!E67","v":"02 6538 5000"},{"$f":"'All hospitals'!F67","v":"02 6538 5000"},{"$f":"'All hospitals'!AQ67","v":0},{"$f":"'All hospitals'!AR67","v":" -"}]
[null,{"$f":"'All hospitals'!B68","v":"Gunnedah Hospital"},{"$f":"'All hospitals'!C68","v":"Gunnedah"},{"$f":"'All hospitals'!E68","v":"02 6741 8000"},{"$f":"'All hospitals'!F68","v":"02 6741 8031"},{"$f":"'All hospitals'!AQ68","v":0},{"$f":"'All hospitals'!AR68","v":"-"}]
[null,{"$f":"'All hospitals'!B69","v":"Guyra Multi Purpose Service "},{"$f":"'All hospitals'!C69","v":"Guyra"},{"$f":"'All hospitals'!E69","v":"02 6738 4000"},{"$f":"'All hospitals'!F69","v":"02 6738 4000"},{"$f":"'All hospitals'!AQ69","v":0},{"$f":"'All hospitals'!AR69","v":" -"}]
[null,{"$f":"'All hospitals'!B70","v":"Inverell Hospital "},{"$f":"'All hospitals'!C70","v":"Inverell"},{"$f":"'All hospitals'!E70","v":"02 6721 9500"},{"$f":"'All hospitals'!F70","v":"02 6721 9540"},{"$f":"'All hospitals'!AQ70","v":0},{"$f":"'All hospitals'!AR70","v":" -"}]
[null,{"$f":"'All hospitals'!B71","v":"John Hunter Hospital "},{"$f":"'All hospitals'!C71","v":"Newcastle"},{"$f":"'All hospitals'!E71","v":"02 4921 3635"},{"$f":"'All hospitals'!F71","v":"0408 263 586"},{"$f":"'All hospitals'!AQ71","v":0},{"$f":"'All hospitals'!AR71","v":"-"}]
[null,{"$f":"'All hospitals'!B72","v":"Kurri Kurri Hospital"},{"$f":"'All hospitals'!C72","v":"Kurri Kurri"},{"$f":"'All hospitals'!E72","v":"02 4936 3234"},{"$f":"'All hospitals'!F72","v":"02 4936 3200"},{"$f":"'All hospitals'!AQ72","v":0},{"$f":"'All hospitals'!AR72","v":" -"}]
[null,{"$f":"'All hospitals'!B73","v":"Manning Base Hospital"},{"$f":"'All hospitals'!C73","v":"Taree"},{"$f":"'All hospitals'!E73","v":"02 6592 9244"},{"$f":"'All hospitals'!F73","v":"02 6592 9014"},{"$f":"'All hospitals'!AQ73","v":0},{"$f":"'All hospitals'!AR73","v":" -"}]
[null,{"$f":"'All hospitals'!B74","v":"Manilla Hospital"},{"$f":"'All hospitals'!C74","v":"Manilla"},{"$f":"'All hospitals'!E74","v":"02 6785 4000"},{"$f":"'All hospitals'!F74","v":"02 6785 4000"},{"$f":"'All hospitals'!AQ74","v":0},{"$f":"'All hospitals'!AR74","v":" -"}]
[null,{"$f":"'All hospitals'!B75","v":"Merriwa Multi Purpose Service (Stock data TBC)"},{"$f":"'All hospitals'!C75","v":"Merriwa"},{"$f":"'All hospitals'!E75","v":"02 6532 5000"},{"$f":"'All hospitals'!F75","v":"02 6532 5000"},{"$f":"'All hospitals'!AQ75","v":0},{"$f":"'All hospitals'!AR75","v":" -"}]
[null,{"$f":"'All hospitals'!B76","v":"Moree Hospital "},{"$f":"'All hospitals'!C76","v":"Moree"},{"$f":"'All hospitals'!E76","v":"02 6757 0031"},{"$f":"'All hospitals'!F76","v":"02 6757 0031"},{"$f":"'All hospitals'!AQ76","v":0},{"$f":"'All hospitals'!AR76","v":"-"}]
[null,{"$f":"'All hospitals'!B77","v":"Muswellbrook Hospital (Stock data TBC)"},{"$f":"'All hospitals'!C77","v":"Muswellbrook"},{"$f":"'All hospitals'!E77","v":"02 6542 2000"},{"$f":"'All hospitals'!F77","v":"02 6542 2000"},{"$f":"'All hospitals'!AQ77","v":0},{"$f":"'All hospitals'!AR77","v":" -"}]
[null,{"$f":"'All hospitals'!B78","v":"Narrabri Hospital"},{"$f":"'All hospitals'!C78","v":"Narrabri"},{"$f":"'All hospitals'!E78","v":"02 6799 2800"},{"$f":"'All hospitals'!F78","v":"02 6799 2105"},{"$f":"'All hospitals'!AQ78","v":0},{"$f":"'All hospitals'!AR78","v":"-"}]
[null,{"$f":"'All hospitals'!B79","v":"Quirindi Hospital"},{"$f":"'All hospitals'!C79","v":"Quirindi"},{"$f":"'All hospitals'!E79","v":"02 6746 0200"},{"$f":"'All hospitals'!F79","v":"02 6746 0200"},{"$f":"'All hospitals'!AQ79","v":0},{"$f":"'All hospitals'!AR79","v":" -"}]
[null,{"$f":"'All hospitals'!B80","v":"Scott Memorial Hospital (Stock data TBC)"},{"$f":"'All hospitals'!C80","v":"Scone"},{"$f":"'All hospitals'!E80","v":"02 6540 2100"},{"$f":"'All hospitals'!F80","v":"02 6540 2100"},{"$f":"'All hospitals'!AQ80","v":0},{"$f":"'All hospitals'!AR80","v":" -"}]
[null,{"$f":"'All hospitals'!B81","v":"Singleton District Hospital (Stock data TBC)"},{"$f":"'All hospitals'!C81","v":"Singleton"},{"$f":"'All hospitals'!E81","v":"02 6571 9222"},{"$f":"'All hospitals'!F81","v":"02 6571 9222"},{"$f":"'All hospitals'!AQ81","v":0},{"$f":"'All hospitals'!AR81","v":" -"}]
[null,{"$f":"'All hospitals'!B82","v":"Tamworth Rural Referral Hospital "},{"$f":"'All hospitals'!C82","v":"Tamworth"},{"$f":"'All hospitals'!E82","v":"02 6727 7370 "},{"$f":"'All hospitals'!F82","v":"02 6767 7700"},{"$f":"'All hospitals'!AQ82","v":0},{"$f":"'All hospitals'!AR82","v":"-"}]
[null,{"$f":"'All hospitals'!B83","v":"Tenterfield/Prince Albert Hospital "},{"$f":"'All hospitals'!C83","v":"Tenterfield"},{"$f":"'All hospitals'!E83","v":"02 6739 5200"},{"$f":"'All hospitals'!F83","v":"02 6739 5200"},{"$f":"'All hospitals'!AQ83","v":0},{"$f":"'All hospitals'!AR83","v":" -"}]
[null,{"$f":"'All hospitals'!B84","v":"The Maitland Hospital"},{"$f":"'All hospitals'!C84","v":"Maitland"},{"$f":"'All hospitals'!E84","v":"02 4939 2226"},{"$f":"'All hospitals'!F84","v":"02 4939 2000"},{"$f":"'All hospitals'!AQ84","v":0},{"$f":"'All hospitals'!AR84","v":" -"}]
[null,{"$f":"'All hospitals'!B85","v":"Tingha Multi Purpose Service NO STOCKS HELD"},{"$f":"'All hospitals'!C85","v":"Tingha"},{"$f":"'All hospitals'!E85","v":"02 6723 3900"},{"$f":"'All hospitals'!F85","v":"02 6723 9000"},{"$f":"'All hospitals'!AQ85","v":0},{"$f":"'All hospitals'!AR85","v":" -"}]
[null,{"$f":"'All hospitals'!B86","v":"Tomaree Community Hospital (Stock data TBC)"},{"$f":"'All hospitals'!C86","v":"Tomaree"},{"$f":"'All hospitals'!E86","v":"02 4923 2249"},{"$f":"'All hospitals'!F86","v":"02 4923 2000"},{"$f":"'All hospitals'!AQ86","v":0},{"$f":"'All hospitals'!AR86","v":" -"}]
[null,{"$f":"'All hospitals'!B87","v":"Vegetable Creek Multipurpose Service"},{"$f":"'All hospitals'!C87","v":"Emmaville"},{"$f":"'All hospitals'!E87","v":"02 6734  7900"},{"$f":"'All hospitals'!F87","v":"02 6734 7900"},{"$f":"'All hospitals'!AQ87","v":0},{"$f":"'All hospitals'!AR87","v":" -"}]
[null,{"$f":"'All hospitals'!B88","v":"Walcha Multi Purpose Service "},{"$f":"'All hospitals'!C88","v":"Walcha"},{"$f":"'All hospitals'!E88","v":"02 6777 4200"},{"$f":"'All hospitals'!F88","v":"02 6777 4200"},{"$f":"'All hospitals'!AQ88","v":0},{"$f":"'All hospitals'!AR88","v":" -"}]
[null,{"$f":"'All hospitals'!B89","v":"Warialda Multi Purpose Service "},{"$f":"'All hospitals'!C89","v":"Warialda"},{"$f":"'All hospitals'!E89","v":"02 6728 9000"},{"$f":"'All hospitals'!F89","v":"0428 753 175"},{"$f":"'All hospitals'!AQ89","v":0},{"$f":"'All hospitals'!AR89","v":"-"}]
[null,{"$f":"'All hospitals'!B90","v":"Wee Waa Community Hospital"},{"$f":"'All hospitals'!C90","v":"Wee Waa"},{"$f":"'All hospitals'!E90","v":"02 6795 0400"},{"$f":"'All hospitals'!F90","v":"02 6795 0400"},{"$f":"'All hospitals'!AQ90","v":0},{"$f":"'All hospitals'!AR90","v":"-"}]
[null,{"$f":"'All hospitals'!B91","v":"Werris Creek Multi Purpose Service NO STOCKS HELD"},{"$f":"'All hospitals'!C91","v":"Werris Creek"},{"$f":"'All hospitals'!E91","v":"02 6768 6600"},{"$f":"'All hospitals'!F91","v":"02 6768 6600"},{"$f":"'All hospitals'!AQ91","v":0},{"$f":"'All hospitals'!AR91","v":" -"}]
[null,{"$f":"'All hospitals'!B92","v":"Westpac Rescue Helicopter Service"},{"$f":"'All hospitals'!C92","v":"Belmont Helicopter Base"},{"$f":"'All hospitals'!E92","v":"02 4952 0000"},{"$f":"'All hospitals'!F92","v":"02 4952 0055"},{"$f":"'All hospitals'!AQ92","v":0},{"$f":"'All hospitals'!AR92","v":" -"}]
[null,{"$f":"'All hospitals'!B93","v":"Wilson Memorial Hospital - Murrurundi (Stock data TBC)"},{"$f":"'All hospitals'!C93","v":"Murrurundi"},{"$f":"'All hospitals'!E93","v":"02 6546 9000"},{"$f":"'All hospitals'!F93","v":"02 6546 9000"},{"$f":"'All hospitals'!AQ93","v":0},{"$f":"'All hospitals'!AR93","v":" -"}]
[null,{"$f":"'All hospitals'!B94","v":"-"},{"$f":"'All hospitals'!C94","v":"-"},{"$f":"'All hospitals'!E94","v":"-"},null,{"$f":"'All hospitals'!AQ94","v":"-"},{"$f":"'All hospitals'!AR94","v":"-"}]
[null,{"$f":"'All hospitals'!B95","v":"ILLAWARRA SHOALHAVEN LHD"}]
[null,{"$f":"'All hospitals'!B96","v":"Bulli Hospital NO STOCKS HELD"},{"$f":"'All hospitals'!C96","v":"Bulli"},{"$f":"'All hospitals'!E96","v":"02 4284 4344"},{"$f":"'All hospitals'!F96","v":"02 4222 5000 (request Wollongong Hospital on-call pharmacist)"},{"$f":"'All hospitals'!AQ96","v":0},{"$f":"'All hospitals'!AR96","v":" -"}]
[null,{"$f":"'All hospitals'!B97","v":"Coledale Hospital NO STOCKS HELD"},{"$f":"'All hospitals'!C97","v":"Thirroul"},{"$f":"'All hospitals'!E97","v":"02 4267 0111"},{"$f":"'All hospitals'!F97","v":"02 4222 5000 (request Wollongong Hospital on-call pharmacist)"},{"$f":"'All hospitals'!AQ97","v":" -"},{"$f":"'All hospitals'!AR97","v":" -"}]
[null,{"$f":"'All hospitals'!B98","v":"David Berry Hospital NO STOCKS HELD"},{"$f":"'All hospitals'!C98","v":"Berry"},{"$f":"'All hospitals'!E98","v":"02 4464 1001"},{"$f":"'All hospitals'!F98","v":" -"},{"$f":"'All hospitals'!AQ98","v":" -"},{"$f":"'All hospitals'!AR98","v":" -"}]
[null,{"$f":"'All hospitals'!B99","v":"Kiama Hospital & Community Health Service NO STOCKS HELD"},{"$f":"'All hospitals'!C99","v":"Kiama"},{"$f":"'All hospitals'!E99","v":"02 4233 1033"},{"$f":"'All hospitals'!F99","v":" -"},{"$f":"'All hospitals'!AQ99","v":" -"},{"$f":"'All hospitals'!AR99","v":" -"}]
[null,{"$f":"'All hospitals'!B100","v":"Milton Ulladulla Hospital"},{"$f":"'All hospitals'!C100","v":"Milton"},{"$f":"'All hospitals'!E100","v":"02 4454 9100"},{"$f":"'All hospitals'!F100","v":"02 4454 9133 (ED)"},{"$f":"'All hospitals'!AQ100","v":0},{"$f":"'All hospitals'!AR100","v":" -"}]
[null,{"$f":"'All hospitals'!B274","v":0},{"$f":"'All hospitals'!C274","v":0},{"$f":"'All hospitals'!E274","v":0},{"$f":"'All hospitals'!F274","v":0},{"$f":"'All hospitals'!AQ274","v":0},{"$f":"'All hospitals'!AR274","v":0}]
[null,{"$f":"'All hospitals'!B102","v":"Port Kembla Hospital - NO STOCKS HELD"},{"$f":"'All hospitals'!C102","v":"Warrawong"},{"$f":"'All hospitals'!E102","v":"02 4223 8000"},{"$f":"'All hospitals'!F102","v":"02 4222 5000 (request Wollongong Hospital on-call pharmacist)"},{"$f":"'All hospitals'!AQ102","v":" -"},{"$f":"'All hospitals'!AR102","v":" -"}]
[null,{"$f":"'All hospitals'!B103","v":"Shellharbour Hospital"},{"$f":"'All hospitals'!C103","v":"Mt Warrigal"},{"$f":"'All hospitals'!E103","v":"02 4295 2516"},{"$f":"'All hospitals'!F103","v":"02 4295 2500 (switch) - ask to page ADON"},{"$f":"'All hospitals'!AQ103","v":0},{"$f":"'All hospitals'!AR103","v":" -"}]
[null,{"$f":"'All hospitals'!B104","v":"Shoalhaven Hospital "},{"$f":"'All hospitals'!C104","v":"Nowra"},{"$f":"'All hospitals'!E104","v":"02 4423 9734"},{"$f":"'All hospitals'!F104","v":"02 4423 9738/ 0427400177 (after hours patient flow manager)"},{"$f":"'All hospitals'!AQ104","v":0},{"$f":"'All hospitals'!AR104","v":" -"}]
[null,{"$f":"'All hospitals'!B105","v":"Wollongong Hospital"},{"$f":"'All hospitals'!C105","v":"Wollongong "},{"$f":"'All hospitals'!E105","v":"02 4222 5340"},{"$f":"'All hospitals'!F105","v":"02 4222 5000"},{"$f":"'All hospitals'!AQ105","v":0},{"$f":"'All hospitals'!AR105","v":" -"}]
[null,{"$f":"'All hospitals'!B106","v":"-"},{"$f":"'All hospitals'!C106","v":"-"},{"$f":"'All hospitals'!E106","v":"-"},{"$f":"'All hospitals'!F106","v":"-"},{"$f":"'All hospitals'!AQ106","v":"-"},{"$f":"'All hospitals'!AR106","v":"-"}]
[null,{"$f":"'All hospitals'!B107","v":"MID NORTH COAST LHD"}]
[null,{"$f":"'All hospitals'!B108","v":"Bellingen River District Hospital "},{"$f":"'All hospitals'!C108","v":"Bellingen"},{"$f":"'All hospitals'!E108","v":"02 6659 5800"},{"$f":"'All hospitals'!F108","v":"02 6656 7324"},{"$f":"'All hospitals'!AQ108","v":0},{"$f":"'All hospitals'!AR108","v":" -"}]
[null,{"$f":"'All hospitals'!B109","v":"Coffs Harbour Health Campus "},{"$f":"'All hospitals'!C109","v":"Coffs Harbour"},{"$f":"'All hospitals'!E109","v":"02 6656 7000"},{"$f":"'All hospitals'!F109","v":"02 6656 7324"},{"$f":"'All hospitals'!AQ109","v":2},{"$f":"'All hospitals'!AR109","v":"ED Resus Fridge"}]
[null,{"$f":"'All hospitals'!B110","v":"Dorrigo Multi Purpose Service"},{"$f":"'All hospitals'!C110","v":"Dorrigo"},{"$f":"'All hospitals'!E110","v":"02 6692 7700"},{"$f":"'All hospitals'!F110","v":"02 6656 7324"},{"$f":"'All hospitals'!AQ110","v":0},{"$f":"'All hospitals'!AR110","v":" -"}]
[null,{"$f":"'All hospitals'!B111","v":"Kempsey District Hospital"},{"$f":"'All hospitals'!C111","v":"Kempsey"},{"$f":"'All hospitals'!E111","v":"02 6561 2600"},{"$f":"'All hospitals'!F111","v":"02 5524 2000"},{"$f":"'All hospitals'!AQ111","v":0},{"$f":"'All hospitals'!AR111","v":" -"}]
[null,{"$f":"'All hospitals'!B112","v":"Macksville District Hospital "},{"$f":"'All hospitals'!C112","v":"Macksville"},{"$f":"'All hospitals'!E112","v":"02 6568 0666"},{"$f":"'All hospitals'!F112","v":"02 6656 7324"},{"$f":"'All hospitals'!AQ112","v":0},{"$f":"'All hospitals'!AR112","v":" -"}]
[null,{"$f":"'All hospitals'!B113","v":"Port Macquarie Base Hospital"},{"$f":"'All hospitals'!C113","v":"Port Macquarie"},{"$f":"'All hospitals'!E113","v":"02 5524 2206"},{"$f":"'All hospitals'!F113","v":"02 5524 2000"},{"$f":"'All hospitals'!AQ113","v":0},{"$f":"'All hospitals'!AR113","v":" -"}]
[null,{"$f":"'All hospitals'!B114","v":"Wauchope Hospital (Stock data TBC)"},{"$f":"'All hospitals'!C114","v":"Wauchope"},{"$f":"'All hospitals'!E114","v":"02 5524 2206"},{"$f":"'All hospitals'!F114","v":"02 5524 2000"},{"$f":"'All hospitals'!AQ114","v":0},{"$f":"'All hospitals'!AR114","v":" -"}]
[null,{"$f":"'All hospitals'!B115","v":"-"},{"$f":"'All hospitals'!C115","v":"-"},{"$f":"'All hospitals'!E115","v":"-"},{"$f":"'All hospitals'!F115","v":"-"},{"$f":"'All hospitals'!AQ115","v":"-"},{"$f":"'All hospitals'!AR115","v":"-"}]
[null,{"$f":"'All hospitals'!B116","v":"MURRUMBIDGEE LHD"}]
[null,{"$f":"'All hospitals'!B117","v":"Barham Koondrook Health Service"},{"$f":"'All hospitals'!C117","v":"Barham"},{"$f":"'All hospitals'!E117","v":"03 5451 1000"},{"$f":"'All hospitals'!F117","v":"03 5451 1000"},{"$f":"'All hospitals'!AQ117","v":0},{"$f":"'All hospitals'!AR117","v":" -"}]
[null,{"$f":"'All hospitals'!B118","v":"Batlow Adelong Multi Purpose Service"},{"$f":"'All hospitals'!C118","v":"Batlow"},{"$f":"'All hospitals'!E118","v":"02 6941 4333"},{"$f":"'All hospitals'!F118","v":"02 6941 4333"},{"$f":"'All hospitals'!AQ118","v":0},{"$f":"'All hospitals'!AR118","v":" -"}]
[null,{"$f":"'All hospitals'!B119","v":"Berrigan Multi Purpose Service"},{"$f":"'All hospitals'!C119","v":"Berrigan"},{"$f":"'All hospitals'!E119","v":"03 5888 5300"},{"$f":"'All hospitals'!F119","v":"03 5888 5300"},{"$f":"'All hospitals'!AQ119","v":0},{"$f":"'All hospitals'!AR119","v":" -"}]
[null,{"$f":"'All hospitals'!B120","v":"Boorowa Multi Purpose Service Hospital"},{"$f":"'All hospitals'!C120","v":"Boorowa"},{"$f":"'All hospitals'!E120","v":"02 6380 2100"},{"$f":"'All hospitals'!F120","v":"02 6380 2100"},{"$f":"'All hospitals'!AQ120","v":0},{"$f":"'All hospitals'!AR120","v":" -"}]
[null,{"$f":"'All hospitals'!B121","v":"Coolamon-Ganmain Multi Purpose Service"},{"$f":"'All hospitals'!C121","v":"Coolamon"},{"$f":"'All hospitals'!E121","v":"02 6927 3303"},{"$f":"'All hospitals'!F121","v":"02 6927 3303"},{"$f":"'All hospitals'!AQ121","v":0},{"$f":"'All hospitals'!AR121","v":" -"}]
[null,{"$f":"'All hospitals'!B122","v":"Cootamundra District Hospital"},{"$f":"'All hospitals'!C122","v":"Cootamundra"},{"$f":"'All hospitals'!E122","v":"02 6942 0444"},{"$f":"'All hospitals'!F122","v":"02 6942 0444"},{"$f":"'All hospitals'!AQ122","v":0},{"$f":"'All hospitals'!AR122","v":" -"}]
[null,{"$f":"'All hospitals'!B123","v":"Corowa District Hospital"},{"$f":"'All hospitals'!C123","v":"Corowa"},{"$f":"'All hospitals'!E123","v":"02 6033 7555"},{"$f":"'All hospitals'!F123","v":"02 6033 7555"},{"$f":"'All hospitals'!AQ123","v":0},{"$f":"'All hospitals'!AR123","v":" -"}]
[null,{"$f":"'All hospitals'!B124","v":"Culcairn Multi Purpose Service"},{"$f":"'All hospitals'!C124","v":"Culcairn"},{"$f":"'All hospitals'!E124","v":"02 6029 8203"},{"$f":"'All hospitals'!F124","v":"02 6029 8203"},{"$f":"'All hospitals'!AQ124","v":0},{"$f":"'All hospitals'!AR124","v":" -"}]
[null,{"$f":"'All hospitals'!B125","v":"Deniliquin Hospital"},{"$f":"'All hospitals'!C125","v":"Deniliquin"},{"$f":"'All hospitals'!E125","v":"03 5882 2843"},{"$f":"'All hospitals'!F125","v":"03 5882 2834"},{"$f":"'All hospitals'!AQ125","v":0},{"$f":"'All hospitals'!AR125","v":" -"}]
[null,{"$f":"'All hospitals'!B126","v":"Finley Hospital"},{"$f":"'All hospitals'!C126","v":"Finley"},{"$f":"'All hospitals'!E126","v":"03 5883 1133"},{"$f":"'All hospitals'!F126","v":"03 5883 1133"},{"$f":"'All hospitals'!AQ126","v":0},{"$f":"'All hospitals'!AR126","v":" -"}]
[null,{"$f":"'All hospitals'!B127","v":"Griffith Base Hospital"},{"$f":"'All hospitals'!C127","v":"Griffith NSW"},{"$f":"'All hospitals'!E127","v":"02 6969 5550"},{"$f":"'All hospitals'!F127","v":"02 6969 5600"},{"$f":"'All hospitals'!AQ127","v":0},{"$f":"'All hospitals'!AR127","v":" -"}]
[null,{"$f":"'All hospitals'!B128","v":"Gundagai Multi Purpose Service"},{"$f":"'All hospitals'!C128","v":"Gundagai"},{"$f":"'All hospitals'!E128","v":"02 6950 6300"},{"$f":"'All hospitals'!F128","v":"02 6950 6300"},{"$f":"'All hospitals'!AQ128","v":0},{"$f":"'All hospitals'!AR128","v":" -"}]
[null,{"$f":"'All hospitals'!B129","v":"Hay Hospital"},{"$f":"'All hospitals'!C129","v":"Hay"},{"$f":"'All hospitals'!E129","v":"02 6990 8700"},{"$f":"'All hospitals'!F129","v":"02 6990 8700"},{"$f":"'All hospitals'!AQ129","v":0},{"$f":"'All hospitals'!AR129","v":" -"}]
[null,{"$f":"'All hospitals'!B130","v":"Henty Multi Purpose Service"},{"$f":"'All hospitals'!C130","v":"Henty"},{"$f":"'All hospitals'!E130","v":"02 6929 4999"},{"$f":"'All hospitals'!F130","v":"02 6929 4999"},{"$f":"'All hospitals'!AQ130","v":0},{"$f":"'All hospitals'!AR130","v":" -"}]
[null,{"$f":"'All hospitals'!B131","v":"Hillston Multi Purpose Service"},{"$f":"'All hospitals'!C131","v":"Hillston, NSW"},{"$f":"'All hospitals'!E131","v":"02 6961 7200"},{"$f":"'All hospitals'!F131","v":"02 6961 7200"},{"$f":"'All hospitals'!AQ131","v":0},{"$f":"'All hospitals'!AR131","v":" -"}]
[null,{"$f":"'All hospitals'!B132","v":"Holbrook Hospital"},{"$f":"'All hospitals'!C132","v":"Holbrook"},{"$f":"'All hospitals'!E132","v":"02 6036 2522"},{"$f":"'All hospitals'!F132","v":"02 6036 2522"},{"$f":"'All hospitals'!AQ132","v":0},{"$f":"'All hospitals'!AR132","v":" -"}]
[null,{"$f":"'All hospitals'!B133","v":"Jerilderie Multi Purpose Service"},{"$f":"'All hospitals'!C133","v":"Jerilderie"},{"$f":"'All hospitals'!E133","v":"03 5886 1300"},{"$f":"'All hospitals'!F133","v":"03 5886 1300"},{"$f":"'All hospitals'!AQ133","v":0},{"$f":"'All hospitals'!AR133","v":" -"}]
[null,{"$f":"'All hospitals'!B134","v":"Junee Multi Purpose Service"},{"$f":"'All hospitals'!C134","v":"Junee"},{"$f":"'All hospitals'!E134","v":"02 6924 8200"},{"$f":"'All hospitals'!F134","v":"02 6924 8200"},{"$f":"'All hospitals'!AQ134","v":0},{"$f":"'All hospitals'!AR134","v":" -"}]
[null,{"$f":"'All hospitals'!B135","v":"Lake Cargelligo Multi Purpose Service"},{"$f":"'All hospitals'!C135","v":"Lake Cargelligo"},{"$f":"'All hospitals'!E135","v":"02 6898 0200"},{"$f":"'All hospitals'!F135","v":"02 6898 0200"},{"$f":"'All hospitals'!AQ135","v":0},{"$f":"'All hospitals'!AR135","v":" -"}]
[null,{"$f":"'All hospitals'!B136","v":"Leeton District Hospital"},{"$f":"'All hospitals'!C136","v":"Leeton"},{"$f":"'All hospitals'!E136","v":"02 6953 1111"},{"$f":"'All hospitals'!F136","v":"02 6953 1111"},{"$f":"'All hospitals'!AQ136","v":0},{"$f":"'All hospitals'!AR136","v":" -"}]
[null,{"$f":"'All hospitals'!B137","v":"Lockhart Hospital"},{"$f":"'All hospitals'!C137","v":"Lockhart"},{"$f":"'All hospitals'!E137","v":"02 6930 7100"},{"$f":"'All hospitals'!F137","v":"02 6930 7100"},{"$f":"'All hospitals'!AQ137","v":0},{"$f":"'All hospitals'!AR137","v":" -"}]
[null,{"$f":"'All hospitals'!B138","v":"Murrumburrah-Harden Hospital"},{"$f":"'All hospitals'!C138","v":"Harden"},{"$f":"'All hospitals'!E138","v":"02 6386 2200"},{"$f":"'All hospitals'!F138","v":"02 6386 2200"},{"$f":"'All hospitals'!AQ138","v":0},{"$f":"'All hospitals'!AR138","v":" -"}]
[null,{"$f":"'All hospitals'!B139","v":"Narrandera District Hospital"},{"$f":"'All hospitals'!C139","v":"Narrandera"},{"$f":"'All hospitals'!E139","v":"02 6951 0200"},{"$f":"'All hospitals'!F139","v":"02 6951 0200"},{"$f":"'All hospitals'!AQ139","v":0},{"$f":"'All hospitals'!AR139","v":" -"}]
[null,{"$f":"'All hospitals'!B140","v":"Temora District Hospital "},{"$f":"'All hospitals'!C140","v":"Temora"},{"$f":"'All hospitals'!E140","v":"02 6980 0200"},{"$f":"'All hospitals'!F140","v":"02 6980 0200"},{"$f":"'All hospitals'!AQ140","v":0},{"$f":"'All hospitals'!AR140","v":" -"}]
[null,{"$f":"'All hospitals'!B141","v":"Tocumwal Hospital"},{"$f":"'All hospitals'!C141","v":"Tocumwal"},{"$f":"'All hospitals'!E141","v":"03 5874 2166"},{"$f":"'All hospitals'!F141","v":"03 5874 2166"},{"$f":"'All hospitals'!AQ141","v":0},{"$f":"'All hospitals'!AR141","v":" -"}]
[null,{"$f":"'All hospitals'!B142","v":"Tumbarumba Multi Purpose Service"},{"$f":"'All hospitals'!C142","v":"Tumbarumba"},{"$f":"'All hospitals'!E142","v":"02 6948 9600"},{"$f":"'All hospitals'!F142","v":"02 6948 9600"},{"$f":"'All hospitals'!AQ142","v":0},{"$f":"'All hospitals'!AR142","v":" -"}]
[null,{"$f":"'All hospitals'!B143","v":"Tumut District Hospital"},{"$f":"'All hospitals'!C143","v":"Tumut"},{"$f":"'All hospitals'!E143","v":"02 6947 0800"},{"$f":"'All hospitals'!F143","v":"02 6947 0800"},{"$f":"'All hospitals'!AQ143","v":0},{"$f":"'All hospitals'!AR143","v":" -"}]
[null,{"$f":"'All hospitals'!B144","v":"Urana Multi Purpose Service"},{"$f":"'All hospitals'!C144","v":"Urana"},{"$f":"'All hospitals'!E144","v":"02 6920 8106"},{"$f":"'All hospitals'!F144","v":"02 6920 8106"},{"$f":"'All hospitals'!AQ144","v":0},{"$f":"'All hospitals'!AR144","v":" -"}]
[null,{"$f":"'All hospitals'!B145","v":"Wagga Wagga Base Hospital "},{"$f":"'All hospitals'!C145","v":"Wagga Wagga"},{"$f":"'All hospitals'!E145","v":"02 5943 1000"},{"$f":"'All hospitals'!F145","v":"0429 306 566"},{"$f":"'All hospitals'!AQ145","v":0},{"$f":"'All hospitals'!AR145","v":" -"}]
[null,{"$f":"'All hospitals'!B146","v":"Wyalong Hospital"},{"$f":"'All hospitals'!C146","v":"West Wyalong"},{"$f":"'All hospitals'!E146","v":"02 6979 0000"},{"$f":"'All hospitals'!F146","v":"02 6979 0000"},{"$f":"'All hospitals'!AQ146","v":0},{"$f":"'All hospitals'!AR146","v":" -"}]
[null,{"$f":"'All hospitals'!B147","v":"Young District Hospital"},{"$f":"'All hospitals'!C147","v":"Young"},{"$f":"'All hospitals'!E147","v":"02 6382 8888"},{"$f":"'All hospitals'!F147","v":"02 6382 8888"},{"$f":"'All hospitals'!AQ147","v":0},{"$f":"'All hospitals'!AR147","v":" -"}]
[null,{"$f":"'All hospitals'!B148","v":"-"},{"$f":"'All hospitals'!C148","v":"-"},{"$f":"'All hospitals'!E148","v":"-"},{"$f":"'All hospitals'!F148","v":"-"},{"$f":"'All hospitals'!AQ148","v":"-"},{"$f":"'All hospitals'!AR148","v":"-"}]
[null,{"$f":"'All hospitals'!B149","v":"NEPEAN BLUE MOUNTAINS LHD & OTHER"}]
[null,{"$f":"'All hospitals'!B150","v":"Blue Mountains District Hospital "},{"$f":"'All hospitals'!C150","v":"Katoomba"},{"$f":"'All hospitals'!E150","v":"02 4784 6500"},{"$f":"'All hospitals'!F150","v":"0412 117 269"},{"$f":"'All hospitals'!AQ150","v":0},{"$f":"'All hospitals'!AR150","v":" -"}]
[null,{"$f":"'All hospitals'!B151","v":"Hawkesbury District Health Service"},{"$f":"'All hospitals'!C151","v":"Windsor"},{"$f":"'All hospitals'!E151","v":"02 4560 5529"},{"$f":"'All hospitals'!F151","v":"02 4560 5555 (Ask for AHNM)"},{"$f":"'All hospitals'!AQ151","v":0},{"$f":"'All hospitals'!AR151","v":" -"}]
[null,{"$f":"'All hospitals'!B152","v":"Lithgow Hospital"},{"$f":"'All hospitals'!C152","v":"Lithgow"},{"$f":"'All hospitals'!E152","v":"02 6350 2370"},{"$f":"'All hospitals'!F152","v":"02 6350 2300 (switch)"},{"$f":"'All hospitals'!AQ152","v":0},{"$f":"'All hospitals'!AR152","v":" -"}]
[null,{"$f":"'All hospitals'!B153","v":"Nepean Hospital "},{"$f":"'All hospitals'!C153","v":"Penrith"},{"$f":"'All hospitals'!E153","v":"02 4734 2256"},{"$f":"'All hospitals'!F153","v":" 0412 235 766"},{"$f":"'All hospitals'!AQ153","v":0},{"$f":"'All hospitals'!AR153","v":" -"}]
[null,{"$f":"'All hospitals'!B154","v":"-"},{"$f":"'All hospitals'!C154","v":"-"},{"$f":"'All hospitals'!E154","v":"-"},{"$f":"'All hospitals'!F154","v":"-"},{"$f":"'All hospitals'!AQ154","v":"-"},{"$f":"'All hospitals'!AR154","v":"-"}]
[null,{"$f":"'All hospitals'!B155","v":"NORTHERN NSW LHD"}]
[null,{"$f":"'All hospitals'!B156","v":"Ballina Hospital "},{"$f":"'All hospitals'!C156","v":"Ballina"},{"$f":"'All hospitals'!E156","v":"02 6620 6400"},{"$f":"'All hospitals'!F156","v":"02 6620 6202"},{"$f":"'All hospitals'!AQ156","v":0},{"$f":"'All hospitals'!AR156","v":" -"}]
[null,{"$f":"'All hospitals'!B157","v":"Bonalbo Hospital "},{"$f":"'All hospitals'!C157","v":"Bonalbo"},{"$f":"'All hospitals'!E157","v":"02 6665 4100"},{"$f":"'All hospitals'!F157","v":"02 6665 4100"},{"$f":"'All hospitals'!AQ157","v":0},{"$f":"'All hospitals'!AR157","v":" -"}]
[null,{"$f":"'All hospitals'!B158","v":"Byron Central Hospital (Stock data TBC)"},{"$f":"'All hospitals'!C158","v":"Byron Bay"},{"$f":"'All hospitals'!E158","v":"02 6639 9400"},{"$f":"'All hospitals'!F158","v":"02 6639 9400"},{"$f":"'All hospitals'!AQ158","v":0},{"$f":"'All hospitals'!AR158","v":" -"}]
[null,{"$f":"'All hospitals'!B159","v":"Casino Hospital"},{"$f":"'All hospitals'!C159","v":"Casino"},{"$f":"'All hospitals'!E159","v":"02 6660 0642"},{"$f":"'All hospitals'!F159","v":"02 6660 0642"},{"$f":"'All hospitals'!AQ159","v":0},{"$f":"'All hospitals'!AR159","v":" -"}]
[null,{"$f":"'All hospitals'!B160","v":"Grafton Base Hospital (Stock data TBC)"},{"$f":"'All hospitals'!C160","v":"Grafton"},{"$f":"'All hospitals'!E160","v":"02 6640 2222"},{"$f":"'All hospitals'!F160","v":"02 6640 2299    "},{"$f":"'All hospitals'!AQ160","v":0},{"$f":"'All hospitals'!AR160","v":" -"}]
[null,{"$f":"'All hospitals'!B161","v":"Kyogle Multi Purpose Service"},{"$f":"'All hospitals'!C161","v":"Kyogle"},{"$f":"'All hospitals'!E161","v":"02 6630 0400"},{"$f":"'All hospitals'!F161","v":"02 6630 0400"},{"$f":"'All hospitals'!AQ161","v":0},{"$f":"'All hospitals'!AR161","v":" -"}]
[null,{"$f":"'All hospitals'!B162","v":"Lismore Base Hospital "},{"$f":"'All hospitals'!C162","v":"Lismore"},{"$f":"'All hospitals'!E162","v":"02 6624 0200"},{"$f":"'All hospitals'!F162","v":"02 6624 0200"},{"$f":"'All hospitals'!AQ162","v":1},{"$f":"'All hospitals'!AR162","v":"ED resus"}]
[null,{"$f":"'All hospitals'!B163","v":"Maclean District Hospital (Stock data TBC)"},{"$f":"'All hospitals'!C163","v":"Maclean"},{"$f":"'All hospitals'!E163","v":"02 6640 0111"},{"$f":"'All hospitals'!F163","v":"02 6640 0111"},{"$f":"'All hospitals'!AQ163","v":0},{"$f":"'All hospitals'!AR163","v":" -"}]
[null,{"$f":"'All hospitals'!B164","v":"Murwillumbah District Hospital (Stock data TBC)"},{"$f":"'All hospitals'!C164","v":"Murwillumbah"},{"$f":"'All hospitals'!E164","v":"02 6672 0237"},{"$f":"'All hospitals'!F164","v":"02 6672 0230"},{"$f":"'All hospitals'!AQ164","v":0},{"$f":"'All hospitals'!AR164","v":" -"}]
[null,{"$f":"'All hospitals'!B165","v":"Nimbin Multi Purpose Service"},{"$f":"'All hospitals'!C165","v":"Nimbin"},{"$f":"'All hospitals'!E165","v":"02 6689 1400"},{"$f":"'All hospitals'!F165","v":"02 6689 1400"},{"$f":"'All hospitals'!AQ165","v":0},{"$f":"'All hospitals'!AR165","v":" -"}]
[null,{"$f":"'All hospitals'!B166","v":"The Tweed Hospital"},{"$f":"'All hospitals'!C166","v":"Tweed Heads"},{"$f":"'All hospitals'!E166","v":"07 5506 7420"},{"$f":"'All hospitals'!F166","v":"07 5506 7667"},{"$f":"'All hospitals'!AQ166","v":2},{"$f":"'All hospitals'!AR166","v":"ED Pyxis fridge"}]
[null,{"$f":"'All hospitals'!B167","v":"Urbenville Multi Purpose Service "},{"$f":"'All hospitals'!C167","v":"Urbenville"},{"$f":"'All hospitals'!E167","v":"02 66341600"},{"$f":"'All hospitals'!F167","v":"02 66341600"},{"$f":"'All hospitals'!AQ167","v":0},{"$f":"'All hospitals'!AR167","v":" -"}]
[null,{"$f":"'All hospitals'!B168","v":"-"},{"$f":"'All hospitals'!C168","v":"-"},{"$f":"'All hospitals'!E168","v":"-"},{"$f":"'All hospitals'!F168","v":"-"},{"$f":"'All hospitals'!AQ168","v":"-"},{"$f":"'All hospitals'!AR168","v":"-"}]
[null,{"$f":"'All hospitals'!B169","v":"NORTHERN SYDNEY LHD & OTHER"}]
[null,{"$f":"'All hospitals'!B170","v":"Hornsby Hospital"},{"$f":"'All hospitals'!C170","v":"Hornsby"},{"$f":"'All hospitals'!E170","v":"02 9485 6455"},{"$f":"'All hospitals'!F170","v":"02 9485 6600 (ED)"},{"$f":"'All hospitals'!AQ170","v":0},{"$f":"'All hospitals'!AR170","v":" -"}]
[null,{"$f":"'All hospitals'!B172","v":"Manly Hospital (closed 30th Oct 2018 - See Northern Beaches Health Service)"},{"$f":"'All hospitals'!C172","v":"-"},{"$f":"'All hospitals'!E172","v":"-"},{"$f":"'All hospitals'!F172","v":" -"},{"$f":"'All hospitals'!AQ172","v":" -"},{"$f":"'All hospitals'!AR172","v":" -"}]
[null,{"$f":"'All hospitals'!B173","v":"Mona Vale Hospital (Subacute hospital overseen by Hornsby Hospital; some antivenoms available on imprest)"},{"$f":"'All hospitals'!C173","v":"Mona Vale "},{"$f":"'All hospitals'!E173","v":"02 9998 6040"},{"$f":"'All hospitals'!F173","v":"02 9998 6300"},{"$f":"'All hospitals'!AQ173","v":0},{"$f":"'All hospitals'!AR173","v":" -"}]
[null,{"$f":"'All hospitals'!B174","v":"Northern Beaches Health Service (replaces Manly Hospital) "},{"$f":"'All hospitals'!C174","v":"Frenchs Forest"},{"$f":"'All hospitals'!E174","v":"02 9105 5000"},{"$f":"'All hospitals'!F174","v":"0490 124 164"},{"$f":"'All hospitals'!AQ174","v":0},{"$f":"'All hospitals'!AR174","v":" -"}]
[null,{"$f":"'All hospitals'!B175","v":"Royal North Shore Hospital"},{"$f":"'All hospitals'!C175","v":"St Leonards"},{"$f":"'All hospitals'!E175","v":"02 9463 1140"},{"$f":"'All hospitals'!F175","v":"02 9926 7111 On-call pharmacist via switchboard"},{"$f":"'All hospitals'!AQ175","v":4},{"$f":"'All hospitals'!AR175","v":"ED Resus Room"}]
[null,{"$f":"'All hospitals'!B176","v":"Ryde Hospital"},{"$f":"'All hospitals'!C176","v":"Eastwood"},{"$f":"'All hospitals'!E176","v":"02 9858 7888"},{"$f":"'All hospitals'!F176","v":"Oncall Pharmacist (0472 809 062) AHNM (0402 990 158)"},{"$f":"'All hospitals'!AQ176","v":0},{"$f":"'All hospitals'!AR176","v":" -"}]
[null,{"$f":"'All hospitals'!B171","v":0},{"$f":"'All hospitals'!C171","v":0},{"$f":"'All hospitals'!E171","v":0},{"$f":"'All hospitals'!F171","v":0},{"$f":"'All hospitals'!AQ171","v":0},{"$f":"'All hospitals'!AR171","v":0}]
[null,{"$f":"'All hospitals'!B177","v":"-"},{"$f":"'All hospitals'!C177","v":"-"},{"$f":"'All hospitals'!E177","v":"-"},{"$f":"'All hospitals'!F177","v":"-"},{"$f":"'All hospitals'!AQ177","v":"-"},{"$f":"'All hospitals'!AR177","v":"-"}]
[null,{"$f":"'All hospitals'!B178","v":"SOUTH EASTERN SYDNEY LHD"}]
[null,{"$f":"'All hospitals'!B179","v":"Calvary Hospital  (Stock data TBC)"},{"$f":"'All hospitals'!C179","v":"Kogarah"},{"$f":"'All hospitals'!E179","v":"-"},{"$f":"'All hospitals'!F179","v":"-"},{"$f":"'All hospitals'!AQ179","v":"-"},{"$f":"'All hospitals'!AR179","v":"-"}]
[null,{"$f":"'All hospitals'!B180","v":"Prince of Wales Hospital "},{"$f":"'All hospitals'!C180","v":"Randwick, Sydney"},{"$f":"'All hospitals'!E180","v":"02 9382 2222"},{"$f":"'All hospitals'!F180","v":"oncall pharmacist via switchboard 02 9382 2222 "},{"$f":"'All hospitals'!AQ180","v":0},{"$f":"'All hospitals'!AR180","v":" -"}]
[null,{"$f":"'All hospitals'!B181","v":"Royal Hospital for Women NO STOCKS HELD"},{"$f":"'All hospitals'!C181","v":"Sydney"},{"$f":"'All hospitals'!E181","v":"02 9382 6716"},{"$f":"'All hospitals'!F181","v":"02 9382 2222 on call pharmacist"},{"$f":"'All hospitals'!AQ181","v":0},{"$f":"'All hospitals'!AR181","v":" -"}]
[null,{"$f":"'All hospitals'!B182","v":"St George Hospital"},{"$f":"'All hospitals'!C182","v":"Kogarah"},{"$f":"'All hospitals'!E182","v":"02 9113 3055"},{"$f":"'All hospitals'!F182","v":"Page AHNM via switchboard 02 9113 1111"},{"$f":"'All hospitals'!AQ182","v":0},{"$f":"'All hospitals'!AR182","v":" -"}]
[null,{"$f":"'All hospitals'!B183","v":"Sydney Hospital and Sydney Eye Hospital"},{"$f":"'All hospitals'!C183","v":"Sydney"},{"$f":"'All hospitals'!E183","v":"02 9382 7379"},{"$f":"'All hospitals'!F183","v":"02 9382 7111  ask for Emergency Department"},{"$f":"'All hospitals'!AQ183","v":0},{"$f":"'All hospitals'!AR183","v":" -"}]
[null,{"$f":"'All hospitals'!B184","v":"The Sutherland Hospital"},{"$f":"'All hospitals'!C184","v":"Sydney"},{"$f":"'All hospitals'!E184","v":"02 9540 7466 OR 02 9540 7467"},{"$f":"'All hospitals'!F184","v":"02 9540 7111"},{"$f":"'All hospitals'!AQ184","v":0},{"$f":"'All hospitals'!AR184","v":" -"}]
[null,{"$f":"'All hospitals'!B185","v":"-"},{"$f":"'All hospitals'!C185","v":"-"},{"$f":"'All hospitals'!E185","v":"-"},{"$f":"'All hospitals'!F185","v":"-"},{"$f":"'All hospitals'!AQ185","v":"-"},{"$f":"'All hospitals'!AR185","v":"-"}]
[null,{"$f":"'All hospitals'!B186","v":"SOUTH WESTERN SYDNEY LHD"}]
[null,{"$f":"'All hospitals'!B187","v":"Bankstown-Lidcombe Hospital"},{"$f":"'All hospitals'!C187","v":"Sydney"},{"$f":"'All hospitals'!E187","v":"02 9722 8000"},{"$f":"'All hospitals'!F187","v":"02 9722 8000"},{"$f":"'All hospitals'!AQ187","v":0},{"$f":"'All hospitals'!AR187","v":" -"}]
[null,{"$f":"'All hospitals'!B188","v":"Bowral District Hospital"},{"$f":"'All hospitals'!C188","v":"Bowral"},{"$f":"'All hospitals'!E188","v":"02 4861 0274"},{"$f":"'All hospitals'!F188","v":"02 4861 0199"},{"$f":"'All hospitals'!AQ188","v":0},{"$f":"'All hospitals'!AR188","v":" -"}]
[null,{"$f":"'All hospitals'!B189","v":"Camden Hospital "},{"$f":"'All hospitals'!C189","v":"Sydney"},{"$f":"'All hospitals'!E189","v":"02 4634 3000"},{"$f":"'All hospitals'!F189","v":"0408 662 394"},{"$f":"'All hospitals'!AQ189","v":0},{"$f":"'All hospitals'!AR189","v":" -"}]
[null,{"$f":"'All hospitals'!B190","v":"Campbelltown Hospital "},{"$f":"'All hospitals'!C190","v":"Sydney"},{"$f":"'All hospitals'!E190","v":"02 4634 3000"},{"$f":"'All hospitals'!F190","v":"0408 662 394"},{"$f":"'All hospitals'!AQ190","v":0},{"$f":"'All hospitals'!AR190","v":" -"}]
[null,{"$f":"'All hospitals'!B191","v":"Fairfield Hospital"},{"$f":"'All hospitals'!C191","v":"Fairfield"},{"$f":"'All hospitals'!E191","v":"02 9616 8322"},{"$f":"'All hospitals'!F191","v":"02 9616 8111"},{"$f":"'All hospitals'!AQ191","v":0},{"$f":"'All hospitals'!AR191","v":" -"}]
[null,{"$f":"'All hospitals'!B192","v":"Liverpool Hospital"},{"$f":"'All hospitals'!C192","v":"Sydney"},{"$f":"'All hospitals'!E192","v":"02 8738 3000"},{"$f":"'All hospitals'!F192","v":"02 8738 3000"},{"$f":"'All hospitals'!AQ192","v":0},{"$f":"'All hospitals'!AR192","v":" -"}]
[null,{"$f":"'All hospitals'!B193","v":"-"},{"$f":"'All hospitals'!C193","v":"-"},{"$f":"'All hospitals'!E193","v":"-"},{"$f":"'All hospitals'!F193","v":"-"},{"$f":"'All hospitals'!AQ193","v":"-"},{"$f":"'All hospitals'!AR193","v":"-"}]
[null,{"$f":"'All hospitals'!B194","v":"SOUTHERN NSW"}]
[null,{"$f":"'All hospitals'!B195","v":"Bateman's Bay District Hospital "},{"$f":"'All hospitals'!C195","v":"Bateman's Bay"},{"$f":"'All hospitals'!E195","v":"02 4475 1500"},{"$f":"'All hospitals'!F195","v":"0419 421 411"},{"$f":"'All hospitals'!AQ195","v":0},{"$f":"'All hospitals'!AR195","v":" -"}]
[null,{"$f":"'All hospitals'!B196","v":"South East Regional Hospital (SERH / Bega District Hospital)"},{"$f":"'All hospitals'!C196","v":"Bega"},{"$f":"'All hospitals'!E196","v":"02 6492 9111"},{"$f":"'All hospitals'!F196","v":"0419 421 411"},{"$f":"'All hospitals'!AQ196","v":0},{"$f":"'All hospitals'!AR196","v":" -"}]
[null,{"$f":"'All hospitals'!B197","v":"Bombala Hospital "},{"$f":"'All hospitals'!C197","v":"Bombala"},{"$f":"'All hospitals'!E197","v":"02 6458 5777"},{"$f":"'All hospitals'!F197","v":"0419 421 411"},{"$f":"'All hospitals'!AQ197","v":0},{"$f":"'All hospitals'!AR197","v":" -"}]
[null,{"$f":"'All hospitals'!B198","v":"Braidwood Hospital "},{"$f":"'All hospitals'!C198","v":"Braidwood"},{"$f":"'All hospitals'!E198","v":"02 4842 2566"},{"$f":"'All hospitals'!F198","v":"0419 421 411"},{"$f":"'All hospitals'!AQ198","v":0},{"$f":"'All hospitals'!AR198","v":" -"}]
[null,{"$f":"'All hospitals'!B199","v":"Cooma District Hospital "},{"$f":"'All hospitals'!C199","v":"Cooma"},{"$f":"'All hospitals'!E199","v":"02 6455 3222"},{"$f":"'All hospitals'!F199","v":"0419 421 411"},{"$f":"'All hospitals'!AQ199","v":0},{"$f":"'All hospitals'!AR199","v":" -"}]
[null,{"$f":"'All hospitals'!B200","v":"Crookwell District Hospital "},{"$f":"'All hospitals'!C200","v":"Crookwell NSW"},{"$f":"'All hospitals'!E200","v":"02 4832 1300"},{"$f":"'All hospitals'!F200","v":"0419 421 411"},{"$f":"'All hospitals'!AQ200","v":0},{"$f":"'All hospitals'!AR200","v":" -"}]
[null,{"$f":"'All hospitals'!B201","v":"Delegate Hospital "},{"$f":"'All hospitals'!C201","v":"Delegate"},{"$f":"'All hospitals'!E201","v":"02 6459 8000"},{"$f":"'All hospitals'!F201","v":"0419 421 411"},{"$f":"'All hospitals'!AQ201","v":0},{"$f":"'All hospitals'!AR201","v":" -"}]
[null,{"$f":"'All hospitals'!B202","v":"Goulburn Base Hospital "},{"$f":"'All hospitals'!C202","v":"Goulburn"},{"$f":"'All hospitals'!E202","v":"02 4827 3111"},{"$f":"'All hospitals'!F202","v":"02 4827 3111"},{"$f":"'All hospitals'!AQ202","v":0},{"$f":"'All hospitals'!AR202","v":" -"}]
[null,{"$f":"'All hospitals'!B203","v":"Moruya District Hospital "},{"$f":"'All hospitals'!C203","v":"Moruya"},{"$f":"'All hospitals'!E203","v":"02 4474 2666"},{"$f":"'All hospitals'!F203","v":"0419 421 411"},{"$f":"'All hospitals'!AQ203","v":0},{"$f":"'All hospitals'!AR203","v":" -"}]
[null,{"$f":"'All hospitals'!B204","v":"Pambula District Hospital "},{"$f":"'All hospitals'!C204","v":"Pambula"},{"$f":"'All hospitals'!E204","v":"02 6495 8200"},{"$f":"'All hospitals'!F204","v":"0419 421 411"},{"$f":"'All hospitals'!AQ204","v":0},{"$f":"'All hospitals'!AR204","v":" -"}]
[null,{"$f":"'All hospitals'!B205","v":"Queanbeyan Hospital "},{"$f":"'All hospitals'!C205","v":"Queanbeyan"},{"$f":"'All hospitals'!E205","v":"02 6150 7000"},{"$f":"'All hospitals'!F205","v":"0419 421 411"},{"$f":"'All hospitals'!AQ205","v":0},{"$f":"'All hospitals'!AR205","v":" -"}]
[null,{"$f":"'All hospitals'!B206","v":"Yass District Hospital "},{"$f":"'All hospitals'!C206","v":"Yass"},{"$f":"'All hospitals'!E206","v":"02 6220 2000"},{"$f":"'All hospitals'!F206","v":"0419 421 411"},{"$f":"'All hospitals'!AQ206","v":0},{"$f":"'All hospitals'!AR206","v":" -"}]
[null,{"$f":"'All hospitals'!B207","v":"-"},{"$f":"'All hospitals'!C207","v":"-"},{"$f":"'All hospitals'!E207","v":"-"},{"$f":"'All hospitals'!F207","v":"-"},{"$f":"'All hospitals'!AQ207","v":"-"},{"$f":"'All hospitals'!AR207","v":"-"}]
[null,{"$f":"'All hospitals'!B208","v":"ST VINCENT'S HEALTH"}]
[null,{"$f":"'All hospitals'!B209","v":"St Vincent's Hospital"},{"$f":"'All hospitals'!C209","v":"Darlinghurst"},{"$f":"'All hospitals'!E209","v":"02 8282 2125"},{"$f":"'All hospitals'!F209","v":"02 8382 1111 (on call pharmacist via switchboard)"},{"$f":"'All hospitals'!AQ209","v":0},{"$f":"'All hospitals'!AR209","v":" -"}]
[null,{"$f":"'All hospitals'!B210","v":"-"},{"$f":"'All hospitals'!C210","v":"-"},{"$f":"'All hospitals'!E210","v":"-"},{"$f":"'All hospitals'!F210","v":"-"},{"$f":"'All hospitals'!AQ210","v":"-"},{"$f":"'All hospitals'!AR210","v":"-"}]
[null,{"$f":"'All hospitals'!B211","v":"SYDNEY LHD"}]
[null,{"$f":"'All hospitals'!B212","v":"Balmain Hospital (No ED services) NO STOCKS HELD"},{"$f":"'All hospitals'!C212","v":"Balmain"},{"$f":"'All hospitals'!E212","v":"02 9395 2111"},{"$f":"'All hospitals'!F212","v":" -"},{"$f":"'All hospitals'!AQ212","v":" -"},{"$f":"'All hospitals'!AR212","v":" -"}]
[null,{"$f":"'All hospitals'!B213","v":"Canterbury Hospital "},{"$f":"'All hospitals'!C213","v":"Campsie"},{"$f":"'All hospitals'!E213","v":"02 9787 0219"},{"$f":"'All hospitals'!F213","v":"02 9787 0000"},{"$f":"'All hospitals'!AQ213","v":0},{"$f":"'All hospitals'!AR213","v":" -"}]
[null,{"$f":"'All hospitals'!B214","v":"Concord Hospital"},{"$f":"'All hospitals'!C214","v":"Concord"},{"$f":"'All hospitals'!E214","v":"02 9767 6214"},{"$f":"'All hospitals'!F214","v":"02 9767 5000"},{"$f":"'All hospitals'!AQ214","v":0},{"$f":"'All hospitals'!AR214","v":" -"}]
[null,{"$f":"'All hospitals'!B215","v":"Royal Prince Alfred Hospital"},{"$f":"'All hospitals'!C215","v":"Camperdown"},{"$f":"'All hospitals'!E215","v":"02 9515 6111"},{"$f":"'All hospitals'!F215","v":"02 9515 6111"},{"$f":"'All hospitals'!AQ215","v":0},{"$f":"'All hospitals'!AR215","v":" -"}]
[null,{"$f":"'All hospitals'!B216","v":"-"},{"$f":"'All hospitals'!C216","v":"-"},{"$f":"'All hospitals'!E216","v":"-"},{"$f":"'All hospitals'!F216","v":"-"},{"$f":"'All hospitals'!AQ216","v":"-"},{"$f":"'All hospitals'!AR216","v":"-"}]
[null,{"$f":"'All hospitals'!B217","v":"SYDNEY CHILDREN'S HOSPITALS NETWORK"}]
[null,{"$f":"'All hospitals'!B218","v":"Sydney Children's Hospital Randwick (SCH) (see also stocks kept at Prince of Wales (adjacent hospital))"},{"$f":"'All hospitals'!C218","v":"Randwick"},{"$f":"'All hospitals'!E218","v":"02 9382 1111"},{"$f":"'All hospitals'!F218","v":"029382 2222  Pharmacist on call "},{"$f":"'All hospitals'!AQ218","v":" -"},{"$f":"'All hospitals'!AR218","v":" -"}]
[null,{"$f":"'All hospitals'!B219","v":"The Children's Hospital Westmead (CHW)"},{"$f":"'All hospitals'!C219","v":"Westmead"},{"$f":"'All hospitals'!E219","v":"02 9845 0000"},{"$f":"'All hospitals'!F219","v":"02 9845 0000 (on call pharmacist via switchboard)"},{"$f":"'All hospitals'!AQ219","v":0},{"$f":"'All hospitals'!AR219","v":" -"}]
[null,{"$f":"'All hospitals'!B220","v":" Newborn & Paediatric Emergency Transport Service (NETS)"},{"$f":"'All hospitals'!C220","v":"Bankstown Aerodrome"},{"$f":"'All hospitals'!E220","v":1300362730},{"$f":"'All hospitals'!F220","v":1300362730},{"$f":"'All hospitals'!AQ220","v":"-"},{"$f":"'All hospitals'!AR220","v":"-"}]
[null,{"$f":"'All hospitals'!B221","v":"-"},{"$f":"'All hospitals'!C221","v":"-"},{"$f":"'All hospitals'!E221","v":"-"},{"$f":"'All hospitals'!F221","v":"-"},{"$f":"'All hospitals'!AQ221","v":"-"},{"$f":"'All hospitals'!AR221","v":"-"}]
[null,{"$f":"'All hospitals'!B222","v":"WESTERN NSW LHD"}]
[null,{"$f":"'All hospitals'!B223","v":"Baradine Multi Purpose Service"},{"$f":"'All hospitals'!C223","v":"Baradine, NSW"},{"$f":"'All hospitals'!E223","v":"02 6843 1605"},{"$f":"'All hospitals'!F223","v":"02 6843 4100"},{"$f":"'All hospitals'!AQ223","v":0},{"$f":"'All hospitals'!AR223","v":" -"}]
[null,{"$f":"'All hospitals'!B224","v":"Bathurst Hospital"},{"$f":"'All hospitals'!C224","v":"Bathurst"},{"$f":"'All hospitals'!E224","v":"02 6330 5304"},{"$f":"'All hospitals'!F224","v":"02 6330 5308"},{"$f":"'All hospitals'!AQ224","v":0},{"$f":"'All hospitals'!AR224","v":" -"}]
[null,{"$f":"'All hospitals'!B225","v":"Blayney Multi Purpose Service"},{"$f":"'All hospitals'!C225","v":"Blayney"},{"$f":"'All hospitals'!E225","v":"02 6368 9029 "},{"$f":"'All hospitals'!F225","v":"02 6368 9029 "},{"$f":"'All hospitals'!AQ225","v":0},{"$f":"'All hospitals'!AR225","v":" -"}]
[null,{"$f":"'All hospitals'!B226","v":"Bourke Multi Purpose Service "},{"$f":"'All hospitals'!C226","v":"Bourke"},{"$f":"'All hospitals'!E226","v":"02 6870 8888"},{"$f":"'All hospitals'!F226","v":"02 6870 8888"},{"$f":"'All hospitals'!AQ226","v":0},{"$f":"'All hospitals'!AR226","v":" -"}]
[null,{"$f":"'All hospitals'!B227","v":"Brewarrina Multi Purpose Service "},{"$f":"'All hospitals'!C227","v":"Brewarrina"},{"$f":"'All hospitals'!E227","v":"02 6830 5000"},{"$f":"'All hospitals'!F227","v":"02 6830 5000"},{"$f":"'All hospitals'!AQ227","v":0},{"$f":"'All hospitals'!AR227","v":" -"}]
[null,{"$f":"'All hospitals'!B228","v":"Canowindra Soldiers Memorial Hospital (Stock data TBC)"},{"$f":"'All hospitals'!C228","v":"Canowindra"},{"$f":"'All hospitals'!E228","v":"02 6364 4300"},{"$f":"'All hospitals'!F228","v":"02 6340 3033"},{"$f":"'All hospitals'!AQ228","v":0},{"$f":"'All hospitals'!AR228","v":" -"}]
[null,{"$f":"'All hospitals'!B229","v":"Cobar District Hospital (Stock data TBC)"},{"$f":"'All hospitals'!C229","v":"Cobar"},{"$f":"'All hospitals'!E229","v":"02 6836 2406"},{"$f":"'All hospitals'!F229","v":"02 6830 2111"},{"$f":"'All hospitals'!AQ229","v":0},{"$f":"'All hospitals'!AR229","v":" -"}]
[null,{"$f":"'All hospitals'!B230","v":"Collarenebri Multi Purpose Service "},{"$f":"'All hospitals'!C230","v":"Collarenebri"},{"$f":"'All hospitals'!E230","v":"02 6756 4800"},{"$f":"'All hospitals'!F230","v":"02 6756 4800"},{"$f":"'All hospitals'!AQ230","v":0},{"$f":"'All hospitals'!AR230","v":" -"}]
[null,{"$f":"'All hospitals'!B231","v":"Condobolin District Hospital"},{"$f":"'All hospitals'!C231","v":"Condobolin"},{"$f":"'All hospitals'!E231","v":"02 6890 1500"},{"$f":"'All hospitals'!F231","v":"02 6890 1500"},{"$f":"'All hospitals'!AQ231","v":0},{"$f":"'All hospitals'!AR231","v":" -"}]
[null,{"$f":"'All hospitals'!B232","v":"Coolah Multi Purpose Service (Stock data TBC)"},{"$f":"'All hospitals'!C232","v":"Coolah"},{"$f":"'All hospitals'!E232","v":"02 6377 9100"},{"$f":"'All hospitals'!F232","v":"02 6377 9100"},{"$f":"'All hospitals'!AQ232","v":0},{"$f":"'All hospitals'!AR232","v":" -"}]
[null,{"$f":"'All hospitals'!B233","v":"Coonabarabran District Hospital"},{"$f":"'All hospitals'!C233","v":"Coonabarabran"},{"$f":"'All hospitals'!E233","v":"02 6849 1600"},{"$f":"'All hospitals'!F233","v":"02 6849 1600"},{"$f":"'All hospitals'!AQ233","v":0},{"$f":"'All hospitals'!AR233","v":" -"}]
[null,{"$f":"'All hospitals'!B234","v":"Coonamble Multi Purpose Service (Stock data TBC)"},{"$f":"'All hospitals'!C234","v":"Coonamble"},{"$f":"'All hospitals'!E234","v":"02 6827 1100"},{"$f":"'All hospitals'!F234","v":"02 6827 1100"},{"$f":"'All hospitals'!AQ234","v":0},{"$f":"'All hospitals'!AR234","v":" -"}]
[null,{"$f":"'All hospitals'!B235","v":"Cowra Hospital (Stock data TBC)"},{"$f":"'All hospitals'!C235","v":"Cowra"},{"$f":"'All hospitals'!E235","v":"02 6340 9000"},{"$f":"'All hospitals'!F235","v":"02 6340 9000"},{"$f":"'All hospitals'!AQ235","v":0},{"$f":"'All hospitals'!AR235","v":" -"}]
[null,{"$f":"'All hospitals'!B236","v":"Cudal Health Service NO STOCKS HELD"},{"$f":"'All hospitals'!C236","v":"Cudal"},{"$f":"'All hospitals'!E236","v":"02 6392 3400"},{"$f":"'All hospitals'!F236","v":" -"},{"$f":"'All hospitals'!AQ236","v":0},{"$f":"'All hospitals'!AR236","v":" -"}]
[null,{"$f":"'All hospitals'!B237","v":"Dubbo Base Hospital"},{"$f":"'All hospitals'!C237","v":"Dubbo"},{"$f":"'All hospitals'!E237","v":"02 6809 8150"},{"$f":"'All hospitals'!F237","v":"02 6809 6809"},{"$f":"'All hospitals'!AQ237","v":0},{"$f":"'All hospitals'!AR237","v":" -"}]
[null,{"$f":"'All hospitals'!B238","v":"Dunedoo Multi Purpose Service (Stock data TBC)"},{"$f":"'All hospitals'!C238","v":"Dunedoo"},{"$f":"'All hospitals'!E238","v":"02 6375 1408"},{"$f":"'All hospitals'!F238","v":"02 6370 3000"},{"$f":"'All hospitals'!AQ238","v":0},{"$f":"'All hospitals'!AR238","v":" -"}]
[null,{"$f":"'All hospitals'!B239","v":"Eugowra Multi Purpose Service (Stock data TBC)"},{"$f":"'All hospitals'!C239","v":"Eugowra"},{"$f":"'All hospitals'!E239","v":"02 6850 4000"},{"$f":"'All hospitals'!F239","v":"02 6850 4000"},{"$f":"'All hospitals'!AQ239","v":0},{"$f":"'All hospitals'!AR239","v":" -"}]
[null,{"$f":"'All hospitals'!B240","v":"Forbes District Hospital "},{"$f":"'All hospitals'!C240","v":"Forbes"},{"$f":"'All hospitals'!E240","v":"02 6850 7100"},{"$f":"'All hospitals'!F240","v":"02 6850 7100"},{"$f":"'All hospitals'!AQ240","v":0},{"$f":"'All hospitals'!AR240","v":" -"}]
[null,{"$f":"'All hospitals'!B241","v":"Gilgandra Multi Purpose Service (Stock data TBC)"},{"$f":"'All hospitals'!C241","v":"Gilgandra"},{"$f":"'All hospitals'!E241","v":"02 6880 5900"},{"$f":"'All hospitals'!F241","v":"02 6880 5900"},{"$f":"'All hospitals'!AQ241","v":0},{"$f":"'All hospitals'!AR241","v":" -"}]
[null,{"$f":"'All hospitals'!B242","v":"Goodooga Health Service "},{"$f":"'All hospitals'!C242","v":"Goodooga"},{"$f":"'All hospitals'!E242","v":"02 6829 5600"},{"$f":"'All hospitals'!F242","v":" - "},{"$f":"'All hospitals'!AQ242","v":0},{"$f":"'All hospitals'!AR242","v":" -"}]
[null,{"$f":"'All hospitals'!B243","v":"Grenfell Multi Purpose Service (Stock data TBC)"},{"$f":"'All hospitals'!C243","v":"Grenfell"},{"$f":"'All hospitals'!E243","v":"02 6349 1700"},{"$f":"'All hospitals'!F243","v":"02 6349 1700"},{"$f":"'All hospitals'!AQ243","v":0},{"$f":"'All hospitals'!AR243","v":" -"}]
[null,{"$f":"'All hospitals'!B244","v":"Gulargambone NO STOCKS HELD"},{"$f":"'All hospitals'!C244","v":"Gulargambone"},{"$f":"'All hospitals'!E244","v":"02 6825 1201"},{"$f":"'All hospitals'!F244","v":"-"},{"$f":"'All hospitals'!AQ244","v":0},{"$f":"'All hospitals'!AR244","v":" -"}]
[null,{"$f":"'All hospitals'!B245","v":"Gulgong Health Service "},{"$f":"'All hospitals'!C245","v":"Gulgong"},{"$f":"'All hospitals'!E245","v":"02 6374 3400"},{"$f":"'All hospitals'!F245","v":"02 6374 1200"},{"$f":"'All hospitals'!AQ245","v":0},{"$f":"'All hospitals'!AR245","v":" -"}]
[null,{"$f":"'All hospitals'!B246","v":"Lightning Ridge Multi Purpose Service "},{"$f":"'All hospitals'!C246","v":"Lightning Ridge"},{"$f":"'All hospitals'!E246","v":"02 6820 5700"},{"$f":"'All hospitals'!F246","v":"02 6820 5700"},{"$f":"'All hospitals'!AQ246","v":0},{"$f":"'All hospitals'!AR246","v":" -"}]
[null,{"$f":"'All hospitals'!B247","v":"Molong Hospital (Stock data TBC)"},{"$f":"'All hospitals'!C247","v":"Molong"},{"$f":"'All hospitals'!E247","v":"02 6392 3300"},{"$f":"'All hospitals'!F247","v":" -"},{"$f":"'All hospitals'!AQ247","v":0},{"$f":"'All hospitals'!AR247","v":" -"}]
[null,{"$f":"'All hospitals'!B248","v":"Mudgee Hospital "},{"$f":"'All hospitals'!C248","v":"Mudgee"},{"$f":"'All hospitals'!E248","v":"02 6371 9751"},{"$f":"'All hospitals'!F248","v":"02 6371 9700"},{"$f":"'All hospitals'!AQ248","v":0},{"$f":"'All hospitals'!AR248","v":" -"}]
[null,{"$f":"'All hospitals'!B249","v":"Narromine Health Service "},{"$f":"'All hospitals'!C249","v":"Narromine"},{"$f":"'All hospitals'!E249","v":"02 6889 9600"},{"$f":"'All hospitals'!F249","v":"02 6889 9600"},{"$f":"'All hospitals'!AQ249","v":0},{"$f":"'All hospitals'!AR249","v":" -"}]
[null,{"$f":"'All hospitals'!B250","v":"Nyngan Multi Purpose Service (Stock data TBC)"},{"$f":"'All hospitals'!C250","v":"Nyngan"},{"$f":"'All hospitals'!E250","v":"02 6832 1707"},{"$f":"'All hospitals'!F250","v":"02 6835 1700"},{"$f":"'All hospitals'!AQ250","v":0},{"$f":"'All hospitals'!AR250","v":" -"}]
[null,{"$f":"'All hospitals'!B251","v":"Oberon Multi Purpose Service"},{"$f":"'All hospitals'!C251","v":"Oberon"},{"$f":"'All hospitals'!E251","v":"02 6336 7200"},{"$f":"'All hospitals'!F251","v":"02 6336 7200"},{"$f":"'All hospitals'!AQ251","v":0},{"$f":"'All hospitals'!AR251","v":" -"}]
[null,{"$f":"'All hospitals'!B252","v":"Orange Health Service "},{"$f":"'All hospitals'!C252","v":"Orange"},{"$f":"'All hospitals'!E252","v":"02 6369 3740"},{"$f":"'All hospitals'!F252","v":"02 6369 3222"},{"$f":"'All hospitals'!AQ252","v":0},{"$f":"'All hospitals'!AR252","v":" -"}]
[null,{"$f":"'All hospitals'!B253","v":"Parkes District Hospital "},{"$f":"'All hospitals'!C253","v":"Parkes"},{"$f":"'All hospitals'!E253","v":"02 6861 2400"},{"$f":"'All hospitals'!F253","v":"02 6861 2440"},{"$f":"'All hospitals'!AQ253","v":0},{"$f":"'All hospitals'!AR253","v":" -"}]
[null,{"$f":"'All hospitals'!B254","v":"Peak Hill Multi Purpose Service "},{"$f":"'All hospitals'!C254","v":"Peak Hill"},{"$f":"'All hospitals'!E254","v":"02 6869 5200"},{"$f":"'All hospitals'!F254","v":"02 6869 5200"},{"$f":"'All hospitals'!AQ254","v":0},{"$f":"'All hospitals'!AR254","v":" -"}]
[null,{"$f":"'All hospitals'!B255","v":"Rylstone Multi Purpose Service "},{"$f":"'All hospitals'!C255","v":"Rylstone"},{"$f":"'All hospitals'!E255","v":"02 6357 6100"},{"$f":"'All hospitals'!F255","v":"02 6357 6100"},{"$f":"'All hospitals'!AQ255","v":0},{"$f":"'All hospitals'!AR255","v":" -"}]
[null,{"$f":"'All hospitals'!B256","v":"Tottenham Multi Purpose Service "},{"$f":"'All hospitals'!C256","v":"Tottenham"},{"$f":"'All hospitals'!E256","v":"02 6891  6200"},{"$f":"'All hospitals'!F256","v":"02 6891  6200"},{"$f":"'All hospitals'!AQ256","v":0},{"$f":"'All hospitals'!AR256","v":" -"}]
[null,{"$f":"'All hospitals'!B257","v":"Trangie Multi Purpose Service (Stock data TBC)"},{"$f":"'All hospitals'!C257","v":"Trangie"},{"$f":"'All hospitals'!E257","v":" -"},{"$f":"'All hospitals'!F257","v":"02 6880 8200"},{"$f":"'All hospitals'!AQ257","v":0},{"$f":"'All hospitals'!AR257","v":" -"}]
[null,{"$f":"'All hospitals'!B258","v":"Trundle Multi Purpose Service "},{"$f":"'All hospitals'!C258","v":"Trundle"},{"$f":"'All hospitals'!E258","v":"02 6892 1900"},{"$f":"'All hospitals'!F258","v":"02 6892 1900"},{"$f":"'All hospitals'!AQ258","v":0},{"$f":"'All hospitals'!AR258","v":" -"}]
[null,{"$f":"'All hospitals'!B259","v":"Tullamore Multi Purpose Service "},{"$f":"'All hospitals'!C259","v":"Tullamore"},{"$f":"'All hospitals'!E259","v":"02 6892 6400"},{"$f":"'All hospitals'!F259","v":"02 6892 6400"},{"$f":"'All hospitals'!AQ259","v":0},{"$f":"'All hospitals'!AR259","v":" -"}]
[null,{"$f":"'All hospitals'!B260","v":"Walgett District Hospital "},{"$f":"'All hospitals'!C260","v":"Walgett"},{"$f":"'All hospitals'!E260","v":"02 6817 9400"},{"$f":"'All hospitals'!F260","v":"02 6817 9400"},{"$f":"'All hospitals'!AQ260","v":0},{"$f":"'All hospitals'!AR260","v":" -"}]
[null,{"$f":"'All hospitals'!B261","v":"Wanaaring Health Service NO STOCKS HELD"},{"$f":"'All hospitals'!C261","v":"Wanaaring"},{"$f":"'All hospitals'!E261","v":"02 6874 7721"},{"$f":"'All hospitals'!F261","v":"02 6874 7721"},{"$f":"'All hospitals'!AQ261","v":0},{"$f":"'All hospitals'!AR261","v":" -"}]
[null,{"$f":"'All hospitals'!B262","v":"Warren Multi Purpose Service (Stock data TBC)"},{"$f":"'All hospitals'!C262","v":"Warren"},{"$f":"'All hospitals'!E262","v":"02 6847 4303"},{"$f":"'All hospitals'!F262","v":"02 6847 5400"},{"$f":"'All hospitals'!AQ262","v":0},{"$f":"'All hospitals'!AR262","v":" -"}]
[null,{"$f":"'All hospitals'!B263","v":"Wellington Health Service"},{"$f":"'All hospitals'!C263","v":"Wellington"},{"$f":"'All hospitals'!E263","v":"02 6840 7200"},{"$f":"'All hospitals'!F263","v":"02 6840 8200"},{"$f":"'All hospitals'!AQ263","v":0},{"$f":"'All hospitals'!AR263","v":" -"}]
[null,{"$f":"'All hospitals'!B264","v":"-"},{"$f":"'All hospitals'!C264","v":"-"},{"$f":"'All hospitals'!E264","v":"-"},{"$f":"'All hospitals'!F264","v":"-"},{"$f":"'All hospitals'!AQ264","v":"-"},{"$f":"'All hospitals'!AR264","v":"-"}]
[null,{"$f":"'All hospitals'!B265","v":"WESTERN SYDNEY LHD & OTHER"}]
[null,{"$f":"'All hospitals'!B266","v":"Auburn Hospital"},{"$f":"'All hospitals'!C266","v":"Auburn"},{"$f":"'All hospitals'!E266","v":"02 8759 3302"},{"$f":"'All hospitals'!F266","v":"02 8759 3000"},{"$f":"'All hospitals'!AQ266","v":0},{"$f":"'All hospitals'!AR266","v":" -"}]
[null,{"$f":"'All hospitals'!B267","v":"Blacktown Hospital "},{"$f":"'All hospitals'!C267","v":"Blacktown"},{"$f":"'All hospitals'!E267","v":"02 9881 8142"},{"$f":"'All hospitals'!F267","v":"02 9881 8000 (afterhours nurse manager via switch)"},{"$f":"'All hospitals'!AQ267","v":0},{"$f":"'All hospitals'!AR267","v":" -"}]
[null,{"$f":"'All hospitals'!B268","v":"Mount Druitt Hospital "},{"$f":"'All hospitals'!C268","v":"Mount Druitt NSW"},{"$f":"'All hospitals'!E268","v":"02 9881 1581"},{"$f":"'All hospitals'!F268","v":"02 9881 1555  (afterhours nurse manager via switch)"},{"$f":"'All hospitals'!AQ268","v":0},{"$f":"'All hospitals'!AR268","v":" -"}]
[null,{"$f":"'All hospitals'!B269","v":"Westmead Hospital "},{"$f":"'All hospitals'!C269","v":"Westmead"},{"$f":"'All hospitals'!E269","v":"02 8890 5555"},{"$f":"'All hospitals'!F269","v":"02 8890 5555 (on call pharmacist via switch)"},{"$f":"'All hospitals'!AQ269","v":0},{"$f":"'All hospitals'!AR269","v":" -"}]
[null,{"$f":"'All hospitals'!B270","v":"-"},{"$f":"'All hospitals'!C270","v":"-"},{"$f":"'All hospitals'!E270","v":"-"},{"$f":"'All hospitals'!F270","v":"-"},{"$f":"'All hospitals'!AQ270","v":"-"},{"$f":"'All hospitals'!AR270","v":"-"}]
[null,{"$f":"'All hospitals'!B271","v":"PRIVATE HOSPITALS & OTHER"}]
[null,{"$f":"'All hospitals'!B272","v":"Macquarie University Hospital NO STOCKS HELD"},{"$f":"'All hospitals'!C272","v":"North Ryde"},{"$f":"'All hospitals'!E272","v":"02 98875500"},{"$f":"'All hospitals'!F272","v":"NA"},{"$f":"'All hospitals'!AQ272","v":0},{"$f":"'All hospitals'!AR272","v":"-"}]
[null,{"$f":"'All hospitals'!B273","v":"Norwest Private Hospital (Stock data TBC)"},{"$f":"'All hospitals'!C273","v":"Bella Vista"},{"$f":"'All hospitals'!E273","v":"02 8882 8555"},{"$f":"'All hospitals'!F273","v":"02 8882 8555"},{"$f":"'All hospitals'!AQ273","v":0},{"$f":"'All hospitals'!AR273","v":"-"},null,"Back to Index","Back to 'All hospitals' tab"]